{"text_format":"1","workbook":"xlsx","n_sheets":10,"sheets":["Equipes","32eme","16eme","8eme","quart","demi","finale","Liste Sociétés","Aide","Jeux"],"not_rendered":{"charts":0,"images":0,"macros":1,"external_links":0,"defined_names":7,"comments":0,"pivot_tables":0},"unopened":[],"bounds":{"document_bytes":16777216,"sheet_cells":100000,"rows_first":2000,"rows_last":500,"rows_between":2000,"halvings":0,"cell_chars":16384,"cell_head_chars":4096},"cells_cut":0,"cells_raw":0,"read":"whole","date_system":"1900"}

{"sheet":"Equipes","index":0,"n_rows":67,"n_cols":18,"rows_kept":67,"cut":false,"hidden":false,"merged":[[10,10,10,11]]}
[null,"NOM DU CONCOURS => ",null,null,null,null,null,null,null,null,{"$f":"IF(L12=\"X\",8,IF(L13=\"X\",16,IF(L14=\"X\",32,IF(L15=\"X\",64))))","v":false},{"$f":"sociétés","v":0},{"$f":"COUNTIF(M4:M67,\".\")","v":0}]
[null,null,null,null,null,null,null,null,null,null,{"$f":"IF(L12=\"X\",COUNTIF(B4:B11,\"\"),IF(L13=\"X\",COUNTIF(B4:B19,\"\"),IF(L14=\"X\",COUNTIF(B4:B35,\"\"),IF(L15=\"X\",COUNTIF(B4:B67,\"\"),\"\"))))","v":""}]
["N° équipe","Nom équipe","Société","Résultat 32ème de finale","Résultat 16ème de finale","Résultat 8ème de finale","Résultat quart de finale","Résultat demi-finale","Résultat finale","Classe ment"]
[1,null,null,null,{"$f":"IF(AND(B4<>\"\",'16eme'!$K$1<>0),IF(ISERROR(VLOOKUP(A4,'16eme'!B:J,1,FALSE)),\"\",IF(VLOOKUP(A4,'16eme'!B:J,9,FALSE)<>\"\",IF(VLOOKUP(A4,'16eme'!B:J,9,FALSE)>0,\"G\",\"P\"),\"\"))&IF(ISERROR(VLOOKUP(A4,'16eme'!F:J,1,FALSE)),\"\",IF(VLOOKUP(A4,'16eme'!F:J,5,FALSE)<>\"\",IF(VLOOKUP(A4,'16eme'!F:J,5,FALSE)>0,\"P\",\"G\"),\"\")),\"\")","v":""},{"$f":"IF(AND(B4<>\"\",'8eme'!$K$1<>0),IF(ISERROR(VLOOKUP(A4,'8eme'!B:J,1,FALSE)),\"\",IF(VLOOKUP(A4,'8eme'!B:J,9,FALSE)<>\"\",IF(VLOOKUP(A4,'8eme'!B:J,9,FALSE)>0,\"G\",\"P\"),\"\"))&IF(ISERROR(VLOOKUP(A4,'8eme'!F:J,1,FALSE)),\"\",IF(VLOOKUP(A4,'8eme'!F:J,5,FALSE)<>\"\",IF(VLOOKUP(A4,'8eme'!F:J,5,FALSE)>0,\"P\",\"G\"),\"\")),\"\")","v":""},{"$f":"IF(AND(B4<>\"\",quart!$K$1<>0),IF(ISERROR(VLOOKUP(A4,quart!B:J,1,FALSE)),\"\",IF(VLOOKUP(A4,quart!B:J,9,FALSE)<>\"\",IF(VLOOKUP(A4,quart!B:J,9,FALSE)>0,\"G\",\"P\"),\"\"))&IF(ISERROR(VLOOKUP(A4,quart!F:J,1,FALSE)),\"\",IF(VLOOKUP(A4,quart!F:J,5,FALSE)<>\"\",IF(VLOOKUP(A4,quart!F:J,5,FALSE)>0,\"P\",\"G\"),\"\")),\"\")","v":""},{"$f":"IF(AND(B4<>\"\",demi!$K$1<>0),IF(ISERROR(VLOOKUP(A4,demi!B:J,1,FALSE)),\"\",IF(VLOOKUP(A4,demi!B:J,9,FALSE)<>\"\",IF(VLOOKUP(A4,demi!B:J,9,FALSE)>0,\"G\",\"P\"),\"\"))&IF(ISERROR(VLOOKUP(A4,demi!F:J,1,FALSE)),\"\",IF(VLOOKUP(A4,demi!F:J,5,FALSE)<>\"\",IF(VLOOKUP(A4,demi!F:J,5,FALSE)>0,\"P\",\"G\"),\"\")),\"\")","v":""},{"$f":"IF(AND(B4<>\"\",finale!$K$1<>0),IF(ISERROR(VLOOKUP(A4,finale!B:J,1,FALSE)),\"\",IF(VLOOKUP(A4,finale!B:J,9,FALSE)<>\"\",IF(VLOOKUP(A4,finale!B:J,9,FALSE)>0,\"G\",\"P\"),\"\"))&IF(ISERROR(VLOOKUP(A4,finale!F:J,1,FALSE)),\"\",IF(VLOOKUP(A4,finale!F:J,5,FALSE)<>\"\",IF(VLOOKUP(A4,finale!F:J,5,FALSE)>0,\"P\",\"G\"),\"\")),\"\")","v":""},{"$f":"IF(finale!$K$1<>0,IF(I4=\"G\",\"1er\",IF(I4=\"P\",\"2eme\",IF(H4=\"P\",\"3/4eme\",IF(G4=\"P\",\"5 à 8eme\",\"\")))),\"\")","v":""},null,null,null,{"$f":"IF(ISERROR(VLOOKUP(A4,'32eme'!B$3:M$34,12,FALSE)),IF(ISERROR(VLOOKUP(A4,'32eme'!F$3:M$34,8,FALSE)),\"\",VLOOKUP(A4,'32eme'!F$3:M$34,8,FALSE)),VLOOKUP(A4,'32eme'!B$3:M$34,12,FALSE))","v":""},{"$f":"IF(ISERROR(VLOOKUP(A4,'16eme'!B$3:M$18,12,FALSE)),IF(ISERROR(VLOOKUP(A4,'16eme'!F$3:M$18,8,FALSE)),\"\",VLOOKUP(A4,'16eme'!F$3:M$18,8,FALSE)),VLOOKUP(A4,'16eme'!B$3:M$18,12,FALSE))","v":""},{"$f":"IF(ISERROR(VLOOKUP(A4,'8eme'!B$3:M$10,12,FALSE)),IF(ISERROR(VLOOKUP(A4,'8eme'!F$3:M$10,8,FALSE)),\"\",VLOOKUP(A4,'8eme'!F$3:M$10,8,FALSE)),VLOOKUP(A4,'8eme'!B$3:M$10,12,FALSE))","v":""},{"$f":"IF(ISERROR(VLOOKUP(A4,quart!B$3:M$6,12,FALSE)),IF(ISERROR(VLOOKUP(A4,quart!F$3:M$6,8,FALSE)),\"\",VLOOKUP(A4,quart!F$3:M$6,8,FALSE)),VLOOKUP(A4,quart!B$3:M$6,12,FALSE))","v":""},{"$f":"IF(ISERROR(VLOOKUP(A4,demi!B$3:M$4,12,FALSE)),IF(ISERROR(VLOOKUP(A4,demi!F$3:M$4,8,FALSE)),\"\",VLOOKUP(A4,demi!F$3:M$4,8,FALSE)),VLOOKUP(A4,demi!B$3:M$4,12,FALSE))","v":""}]
[2,null,null,null,{"$f":"IF(AND(B5<>\"\",'16eme'!$K$1<>0),IF(ISERROR(VLOOKUP(A5,'16eme'!B:J,1,FALSE)),\"\",IF(VLOOKUP(A5,'16eme'!B:J,9,FALSE)<>\"\",IF(VLOOKUP(A5,'16eme'!B:J,9,FALSE)>0,\"G\",\"P\"),\"\"))&IF(ISERROR(VLOOKUP(A5,'16eme'!F:J,1,FALSE)),\"\",IF(VLOOKUP(A5,'16eme'!F:J,5,FALSE)<>\"\",IF(VLOOKUP(A5,'16eme'!F:J,5,FALSE)>0,\"P\",\"G\"),\"\")),\"\")","v":""},{"$f":"IF(AND(B5<>\"\",'8eme'!$K$1<>0),IF(ISERROR(VLOOKUP(A5,'8eme'!B:J,1,FALSE)),\"\",IF(VLOOKUP(A5,'8eme'!B:J,9,FALSE)<>\"\",IF(VLOOKUP(A5,'8eme'!B:J,9,FALSE)>0,\"G\",\"P\"),\"\"))&IF(ISERROR(VLOOKUP(A5,'8eme'!F:J,1,FALSE)),\"\",IF(VLOOKUP(A5,'8eme'!F:J,5,FALSE)<>\"\",IF(VLOOKUP(A5,'8eme'!F:J,5,FALSE)>0,\"P\",\"G\"),\"\")),\"\")","v":""},{"$f":"IF(AND(B5<>\"\",quart!$K$1<>0),IF(ISERROR(VLOOKUP(A5,quart!B:J,1,FALSE)),\"\",IF(VLOOKUP(A5,quart!B:J,9,FALSE)<>\"\",IF(VLOOKUP(A5,quart!B:J,9,FALSE)>0,\"G\",\"P\"),\"\"))&IF(ISERROR(VLOOKUP(A5,quart!F:J,1,FALSE)),\"\",IF(VLOOKUP(A5,quart!F:J,5,FALSE)<>\"\",IF(VLOOKUP(A5,quart!F:J,5,FALSE)>0,\"P\",\"G\"),\"\")),\"\")","v":""},{"$f":"IF(AND(B5<>\"\",demi!$K$1<>0),IF(ISERROR(VLOOKUP(A5,demi!B:J,1,FALSE)),\"\",IF(VLOOKUP(A5,demi!B:J,9,FALSE)<>\"\",IF(VLOOKUP(A5,demi!B:J,9,FALSE)>0,\"G\",\"P\"),\"\"))&IF(ISERROR(VLOOKUP(A5,demi!F:J,1,FALSE)),\"\",IF(VLOOKUP(A5,demi!F:J,5,FALSE)<>\"\",IF(VLOOKUP(A5,demi!F:J,5,FALSE)>0,\"P\",\"G\"),\"\")),\"\")","v":""},{"$f":"IF(AND(B5<>\"\",finale!$K$1<>0),IF(ISERROR(VLOOKUP(A5,finale!B:J,1,FALSE)),\"\",IF(VLOOKUP(A5,finale!B:J,9,FALSE)<>\"\",IF(VLOOKUP(A5,finale!B:J,9,FALSE)>0,\"G\",\"P\"),\"\"))&IF(ISERROR(VLOOKUP(A5,finale!F:J,1,FALSE)),\"\",IF(VLOOKUP(A5,finale!F:J,5,FALSE)<>\"\",IF(VLOOKUP(A5,finale!F:J,5,FALSE)>0,\"P\",\"G\"),\"\")),\"\")","v":""},{"$f":"IF(finale!$K$1<>0,IF(I5=\"G\",\"1er\",IF(I5=\"P\",\"2eme\",IF(H5=\"P\",\"3/4eme\",IF(G5=\"P\",\"5 à 8eme\",\"\")))),\"\")","v":""},null,null,null,{"$f":"IF(ISERROR(VLOOKUP(A5,'32eme'!B$3:M$34,12,FALSE)),IF(ISERROR(VLOOKUP(A5,'32eme'!F$3:M$34,8,FALSE)),\"\",VLOOKUP(A5,'32eme'!F$3:M$34,8,FALSE)),VLOOKUP(A5,'32eme'!B$3:M$34,12,FALSE))","v":""},{"$f":"IF(ISERROR(VLOOKUP(A5,'16eme'!B$3:M$18,12,FALSE)),IF(ISERROR(VLOOKUP(A5,'16eme'!F$3:M$18,8,FALSE)),\"\",VLOOKUP(A5,'16eme'!F$3:M$18,8,FALSE)),VLOOKUP(A5,'16eme'!B$3:M$18,12,FALSE))","v":""},{"$f":"IF(ISERROR(VLOOKUP(A5,'8eme'!B$3:M$10,12,FALSE)),IF(ISERROR(VLOOKUP(A5,'8eme'!F$3:M$10,8,FALSE)),\"\",VLOOKUP(A5,'8eme'!F$3:M$10,8,FALSE)),VLOOKUP(A5,'8eme'!B$3:M$10,12,FALSE))","v":""},{"$f":"IF(ISERROR(VLOOKUP(A5,quart!B$3:M$6,12,FALSE)),IF(ISERROR(VLOOKUP(A5,quart!F$3:M$6,8,FALSE)),\"\",VLOOKUP(A5,quart!F$3:M$6,8,FALSE)),VLOOKUP(A5,quart!B$3:M$6,12,FALSE))","v":""},{"$f":"IF(ISERROR(VLOOKUP(A5,demi!B$3:M$4,12,FALSE)),IF(ISERROR(VLOOKUP(A5,demi!F$3:M$4,8,FALSE)),\"\",VLOOKUP(A5,demi!F$3:M$4,8,FALSE)),VLOOKUP(A5,demi!B$3:M$4,12,FALSE))","v":""}]
[3,null,null,null,{"$f":"IF(AND(B6<>\"\",'16eme'!$K$1<>0),IF(ISERROR(VLOOKUP(A6,'16eme'!B:J,1,FALSE)),\"\",IF(VLOOKUP(A6,'16eme'!B:J,9,FALSE)<>\"\",IF(VLOOKUP(A6,'16eme'!B:J,9,FALSE)>0,\"G\",\"P\"),\"\"))&IF(ISERROR(VLOOKUP(A6,'16eme'!F:J,1,FALSE)),\"\",IF(VLOOKUP(A6,'16eme'!F:J,5,FALSE)<>\"\",IF(VLOOKUP(A6,'16eme'!F:J,5,FALSE)>0,\"P\",\"G\"),\"\")),\"\")","v":""},{"$f":"IF(AND(B6<>\"\",'8eme'!$K$1<>0),IF(ISERROR(VLOOKUP(A6,'8eme'!B:J,1,FALSE)),\"\",IF(VLOOKUP(A6,'8eme'!B:J,9,FALSE)<>\"\",IF(VLOOKUP(A6,'8eme'!B:J,9,FALSE)>0,\"G\",\"P\"),\"\"))&IF(ISERROR(VLOOKUP(A6,'8eme'!F:J,1,FALSE)),\"\",IF(VLOOKUP(A6,'8eme'!F:J,5,FALSE)<>\"\",IF(VLOOKUP(A6,'8eme'!F:J,5,FALSE)>0,\"P\",\"G\"),\"\")),\"\")","v":""},{"$f":"IF(AND(B6<>\"\",quart!$K$1<>0),IF(ISERROR(VLOOKUP(A6,quart!B:J,1,FALSE)),\"\",IF(VLOOKUP(A6,quart!B:J,9,FALSE)<>\"\",IF(VLOOKUP(A6,quart!B:J,9,FALSE)>0,\"G\",\"P\"),\"\"))&IF(ISERROR(VLOOKUP(A6,quart!F:J,1,FALSE)),\"\",IF(VLOOKUP(A6,quart!F:J,5,FALSE)<>\"\",IF(VLOOKUP(A6,quart!F:J,5,FALSE)>0,\"P\",\"G\"),\"\")),\"\")","v":""},{"$f":"IF(AND(B6<>\"\",demi!$K$1<>0),IF(ISERROR(VLOOKUP(A6,demi!B:J,1,FALSE)),\"\",IF(VLOOKUP(A6,demi!B:J,9,FALSE)<>\"\",IF(VLOOKUP(A6,demi!B:J,9,FALSE)>0,\"G\",\"P\"),\"\"))&IF(ISERROR(VLOOKUP(A6,demi!F:J,1,FALSE)),\"\",IF(VLOOKUP(A6,demi!F:J,5,FALSE)<>\"\",IF(VLOOKUP(A6,demi!F:J,5,FALSE)>0,\"P\",\"G\"),\"\")),\"\")","v":""},{"$f":"IF(AND(B6<>\"\",finale!$K$1<>0),IF(ISERROR(VLOOKUP(A6,finale!B:J,1,FALSE)),\"\",IF(VLOOKUP(A6,finale!B:J,9,FALSE)<>\"\",IF(VLOOKUP(A6,finale!B:J,9,FALSE)>0,\"G\",\"P\"),\"\"))&IF(ISERROR(VLOOKUP(A6,finale!F:J,1,FALSE)),\"\",IF(VLOOKUP(A6,finale!F:J,5,FALSE)<>\"\",IF(VLOOKUP(A6,finale!F:J,5,FALSE)>0,\"P\",\"G\"),\"\")),\"\")","v":""},{"$f":"IF(finale!$K$1<>0,IF(I6=\"G\",\"1er\",IF(I6=\"P\",\"2eme\",IF(H6=\"P\",\"3/4eme\",IF(G6=\"P\",\"5 à 8eme\",\"\")))),\"\")","v":""},null,null,null,{"$f":"IF(ISERROR(VLOOKUP(A6,'32eme'!B$3:M$34,12,FALSE)),IF(ISERROR(VLOOKUP(A6,'32eme'!F$3:M$34,8,FALSE)),\"\",VLOOKUP(A6,'32eme'!F$3:M$34,8,FALSE)),VLOOKUP(A6,'32eme'!B$3:M$34,12,FALSE))","v":""},{"$f":"IF(ISERROR(VLOOKUP(A6,'16eme'!B$3:M$18,12,FALSE)),IF(ISERROR(VLOOKUP(A6,'16eme'!F$3:M$18,8,FALSE)),\"\",VLOOKUP(A6,'16eme'!F$3:M$18,8,FALSE)),VLOOKUP(A6,'16eme'!B$3:M$18,12,FALSE))","v":""},{"$f":"IF(ISERROR(VLOOKUP(A6,'8eme'!B$3:M$10,12,FALSE)),IF(ISERROR(VLOOKUP(A6,'8eme'!F$3:M$10,8,FALSE)),\"\",VLOOKUP(A6,'8eme'!F$3:M$10,8,FALSE)),VLOOKUP(A6,'8eme'!B$3:M$10,12,FALSE))","v":""},{"$f":"IF(ISERROR(VLOOKUP(A6,quart!B$3:M$6,12,FALSE)),IF(ISERROR(VLOOKUP(A6,quart!F$3:M$6,8,FALSE)),\"\",VLOOKUP(A6,quart!F$3:M$6,8,FALSE)),VLOOKUP(A6,quart!B$3:M$6,12,FALSE))","v":""},{"$f":"IF(ISERROR(VLOOKUP(A6,demi!B$3:M$4,12,FALSE)),IF(ISERROR(VLOOKUP(A6,demi!F$3:M$4,8,FALSE)),\"\",VLOOKUP(A6,demi!F$3:M$4,8,FALSE)),VLOOKUP(A6,demi!B$3:M$4,12,FALSE))","v":""}]
[4,null,null,null,{"$f":"IF(AND(B7<>\"\",'16eme'!$K$1<>0),IF(ISERROR(VLOOKUP(A7,'16eme'!B:J,1,FALSE)),\"\",IF(VLOOKUP(A7,'16eme'!B:J,9,FALSE)<>\"\",IF(VLOOKUP(A7,'16eme'!B:J,9,FALSE)>0,\"G\",\"P\"),\"\"))&IF(ISERROR(VLOOKUP(A7,'16eme'!F:J,1,FALSE)),\"\",IF(VLOOKUP(A7,'16eme'!F:J,5,FALSE)<>\"\",IF(VLOOKUP(A7,'16eme'!F:J,5,FALSE)>0,\"P\",\"G\"),\"\")),\"\")","v":""},{"$f":"IF(AND(B7<>\"\",'8eme'!$K$1<>0),IF(ISERROR(VLOOKUP(A7,'8eme'!B:J,1,FALSE)),\"\",IF(VLOOKUP(A7,'8eme'!B:J,9,FALSE)<>\"\",IF(VLOOKUP(A7,'8eme'!B:J,9,FALSE)>0,\"G\",\"P\"),\"\"))&IF(ISERROR(VLOOKUP(A7,'8eme'!F:J,1,FALSE)),\"\",IF(VLOOKUP(A7,'8eme'!F:J,5,FALSE)<>\"\",IF(VLOOKUP(A7,'8eme'!F:J,5,FALSE)>0,\"P\",\"G\"),\"\")),\"\")","v":""},{"$f":"IF(AND(B7<>\"\",quart!$K$1<>0),IF(ISERROR(VLOOKUP(A7,quart!B:J,1,FALSE)),\"\",IF(VLOOKUP(A7,quart!B:J,9,FALSE)<>\"\",IF(VLOOKUP(A7,quart!B:J,9,FALSE)>0,\"G\",\"P\"),\"\"))&IF(ISERROR(VLOOKUP(A7,quart!F:J,1,FALSE)),\"\",IF(VLOOKUP(A7,quart!F:J,5,FALSE)<>\"\",IF(VLOOKUP(A7,quart!F:J,5,FALSE)>0,\"P\",\"G\"),\"\")),\"\")","v":""},{"$f":"IF(AND(B7<>\"\",demi!$K$1<>0),IF(ISERROR(VLOOKUP(A7,demi!B:J,1,FALSE)),\"\",IF(VLOOKUP(A7,demi!B:J,9,FALSE)<>\"\",IF(VLOOKUP(A7,demi!B:J,9,FALSE)>0,\"G\",\"P\"),\"\"))&IF(ISERROR(VLOOKUP(A7,demi!F:J,1,FALSE)),\"\",IF(VLOOKUP(A7,demi!F:J,5,FALSE)<>\"\",IF(VLOOKUP(A7,demi!F:J,5,FALSE)>0,\"P\",\"G\"),\"\")),\"\")","v":""},{"$f":"IF(AND(B7<>\"\",finale!$K$1<>0),IF(ISERROR(VLOOKUP(A7,finale!B:J,1,FALSE)),\"\",IF(VLOOKUP(A7,finale!B:J,9,FALSE)<>\"\",IF(VLOOKUP(A7,finale!B:J,9,FALSE)>0,\"G\",\"P\"),\"\"))&IF(ISERROR(VLOOKUP(A7,finale!F:J,1,FALSE)),\"\",IF(VLOOKUP(A7,finale!F:J,5,FALSE)<>\"\",IF(VLOOKUP(A7,finale!F:J,5,FALSE)>0,\"P\",\"G\"),\"\")),\"\")","v":""},{"$f":"IF(finale!$K$1<>0,IF(I7=\"G\",\"1er\",IF(I7=\"P\",\"2eme\",IF(H7=\"P\",\"3/4eme\",IF(G7=\"P\",\"5 à 8eme\",\"\")))),\"\")","v":""},null,null,null,{"$f":"IF(ISERROR(VLOOKUP(A7,'32eme'!B$3:M$34,12,FALSE)),IF(ISERROR(VLOOKUP(A7,'32eme'!F$3:M$34,8,FALSE)),\"\",VLOOKUP(A7,'32eme'!F$3:M$34,8,FALSE)),VLOOKUP(A7,'32eme'!B$3:M$34,12,FALSE))","v":""},{"$f":"IF(ISERROR(VLOOKUP(A7,'16eme'!B$3:M$18,12,FALSE)),IF(ISERROR(VLOOKUP(A7,'16eme'!F$3:M$18,8,FALSE)),\"\",VLOOKUP(A7,'16eme'!F$3:M$18,8,FALSE)),VLOOKUP(A7,'16eme'!B$3:M$18,12,FALSE))","v":""},{"$f":"IF(ISERROR(VLOOKUP(A7,'8eme'!B$3:M$10,12,FALSE)),IF(ISERROR(VLOOKUP(A7,'8eme'!F$3:M$10,8,FALSE)),\"\",VLOOKUP(A7,'8eme'!F$3:M$10,8,FALSE)),VLOOKUP(A7,'8eme'!B$3:M$10,12,FALSE))","v":""},{"$f":"IF(ISERROR(VLOOKUP(A7,quart!B$3:M$6,12,FALSE)),IF(ISERROR(VLOOKUP(A7,quart!F$3:M$6,8,FALSE)),\"\",VLOOKUP(A7,quart!F$3:M$6,8,FALSE)),VLOOKUP(A7,quart!B$3:M$6,12,FALSE))","v":""},{"$f":"IF(ISERROR(VLOOKUP(A7,demi!B$3:M$4,12,FALSE)),IF(ISERROR(VLOOKUP(A7,demi!F$3:M$4,8,FALSE)),\"\",VLOOKUP(A7,demi!F$3:M$4,8,FALSE)),VLOOKUP(A7,demi!B$3:M$4,12,FALSE))","v":""}]
[5,null,null,null,{"$f":"IF(AND(B8<>\"\",'16eme'!$K$1<>0),IF(ISERROR(VLOOKUP(A8,'16eme'!B:J,1,FALSE)),\"\",IF(VLOOKUP(A8,'16eme'!B:J,9,FALSE)<>\"\",IF(VLOOKUP(A8,'16eme'!B:J,9,FALSE)>0,\"G\",\"P\"),\"\"))&IF(ISERROR(VLOOKUP(A8,'16eme'!F:J,1,FALSE)),\"\",IF(VLOOKUP(A8,'16eme'!F:J,5,FALSE)<>\"\",IF(VLOOKUP(A8,'16eme'!F:J,5,FALSE)>0,\"P\",\"G\"),\"\")),\"\")","v":""},{"$f":"IF(AND(B8<>\"\",'8eme'!$K$1<>0),IF(ISERROR(VLOOKUP(A8,'8eme'!B:J,1,FALSE)),\"\",IF(VLOOKUP(A8,'8eme'!B:J,9,FALSE)<>\"\",IF(VLOOKUP(A8,'8eme'!B:J,9,FALSE)>0,\"G\",\"P\"),\"\"))&IF(ISERROR(VLOOKUP(A8,'8eme'!F:J,1,FALSE)),\"\",IF(VLOOKUP(A8,'8eme'!F:J,5,FALSE)<>\"\",IF(VLOOKUP(A8,'8eme'!F:J,5,FALSE)>0,\"P\",\"G\"),\"\")),\"\")","v":""},{"$f":"IF(AND(B8<>\"\",quart!$K$1<>0),IF(ISERROR(VLOOKUP(A8,quart!B:J,1,FALSE)),\"\",IF(VLOOKUP(A8,quart!B:J,9,FALSE)<>\"\",IF(VLOOKUP(A8,quart!B:J,9,FALSE)>0,\"G\",\"P\"),\"\"))&IF(ISERROR(VLOOKUP(A8,quart!F:J,1,FALSE)),\"\",IF(VLOOKUP(A8,quart!F:J,5,FALSE)<>\"\",IF(VLOOKUP(A8,quart!F:J,5,FALSE)>0,\"P\",\"G\"),\"\")),\"\")","v":""},{"$f":"IF(AND(B8<>\"\",demi!$K$1<>0),IF(ISERROR(VLOOKUP(A8,demi!B:J,1,FALSE)),\"\",IF(VLOOKUP(A8,demi!B:J,9,FALSE)<>\"\",IF(VLOOKUP(A8,demi!B:J,9,FALSE)>0,\"G\",\"P\"),\"\"))&IF(ISERROR(VLOOKUP(A8,demi!F:J,1,FALSE)),\"\",IF(VLOOKUP(A8,demi!F:J,5,FALSE)<>\"\",IF(VLOOKUP(A8,demi!F:J,5,FALSE)>0,\"P\",\"G\"),\"\")),\"\")","v":""},{"$f":"IF(AND(B8<>\"\",finale!$K$1<>0),IF(ISERROR(VLOOKUP(A8,finale!B:J,1,FALSE)),\"\",IF(VLOOKUP(A8,finale!B:J,9,FALSE)<>\"\",IF(VLOOKUP(A8,finale!B:J,9,FALSE)>0,\"G\",\"P\"),\"\"))&IF(ISERROR(VLOOKUP(A8,finale!F:J,1,FALSE)),\"\",IF(VLOOKUP(A8,finale!F:J,5,FALSE)<>\"\",IF(VLOOKUP(A8,finale!F:J,5,FALSE)>0,\"P\",\"G\"),\"\")),\"\")","v":""},{"$f":"IF(finale!$K$1<>0,IF(I8=\"G\",\"1er\",IF(I8=\"P\",\"2eme\",IF(H8=\"P\",\"3/4eme\",IF(G8=\"P\",\"5 à 8eme\",\"\")))),\"\")","v":""},null,null,null,{"$f":"IF(ISERROR(VLOOKUP(A8,'32eme'!B$3:M$34,12,FALSE)),IF(ISERROR(VLOOKUP(A8,'32eme'!F$3:M$34,8,FALSE)),\"\",VLOOKUP(A8,'32eme'!F$3:M$34,8,FALSE)),VLOOKUP(A8,'32eme'!B$3:M$34,12,FALSE))","v":""},{"$f":"IF(ISERROR(VLOOKUP(A8,'16eme'!B$3:M$18,12,FALSE)),IF(ISERROR(VLOOKUP(A8,'16eme'!F$3:M$18,8,FALSE)),\"\",VLOOKUP(A8,'16eme'!F$3:M$18,8,FALSE)),VLOOKUP(A8,'16eme'!B$3:M$18,12,FALSE))","v":""},{"$f":"IF(ISERROR(VLOOKUP(A8,'8eme'!B$3:M$10,12,FALSE)),IF(ISERROR(VLOOKUP(A8,'8eme'!F$3:M$10,8,FALSE)),\"\",VLOOKUP(A8,'8eme'!F$3:M$10,8,FALSE)),VLOOKUP(A8,'8eme'!B$3:M$10,12,FALSE))","v":""},{"$f":"IF(ISERROR(VLOOKUP(A8,quart!B$3:M$6,12,FALSE)),IF(ISERROR(VLOOKUP(A8,quart!F$3:M$6,8,FALSE)),\"\",VLOOKUP(A8,quart!F$3:M$6,8,FALSE)),VLOOKUP(A8,quart!B$3:M$6,12,FALSE))","v":""},{"$f":"IF(ISERROR(VLOOKUP(A8,demi!B$3:M$4,12,FALSE)),IF(ISERROR(VLOOKUP(A8,demi!F$3:M$4,8,FALSE)),\"\",VLOOKUP(A8,demi!F$3:M$4,8,FALSE)),VLOOKUP(A8,demi!B$3:M$4,12,FALSE))","v":""}]
[6,null,null,null,{"$f":"IF(AND(B9<>\"\",'16eme'!$K$1<>0),IF(ISERROR(VLOOKUP(A9,'16eme'!B:J,1,FALSE)),\"\",IF(VLOOKUP(A9,'16eme'!B:J,9,FALSE)<>\"\",IF(VLOOKUP(A9,'16eme'!B:J,9,FALSE)>0,\"G\",\"P\"),\"\"))&IF(ISERROR(VLOOKUP(A9,'16eme'!F:J,1,FALSE)),\"\",IF(VLOOKUP(A9,'16eme'!F:J,5,FALSE)<>\"\",IF(VLOOKUP(A9,'16eme'!F:J,5,FALSE)>0,\"P\",\"G\"),\"\")),\"\")","v":""},{"$f":"IF(AND(B9<>\"\",'8eme'!$K$1<>0),IF(ISERROR(VLOOKUP(A9,'8eme'!B:J,1,FALSE)),\"\",IF(VLOOKUP(A9,'8eme'!B:J,9,FALSE)<>\"\",IF(VLOOKUP(A9,'8eme'!B:J,9,FALSE)>0,\"G\",\"P\"),\"\"))&IF(ISERROR(VLOOKUP(A9,'8eme'!F:J,1,FALSE)),\"\",IF(VLOOKUP(A9,'8eme'!F:J,5,FALSE)<>\"\",IF(VLOOKUP(A9,'8eme'!F:J,5,FALSE)>0,\"P\",\"G\"),\"\")),\"\")","v":""},{"$f":"IF(AND(B9<>\"\",quart!$K$1<>0),IF(ISERROR(VLOOKUP(A9,quart!B:J,1,FALSE)),\"\",IF(VLOOKUP(A9,quart!B:J,9,FALSE)<>\"\",IF(VLOOKUP(A9,quart!B:J,9,FALSE)>0,\"G\",\"P\"),\"\"))&IF(ISERROR(VLOOKUP(A9,quart!F:J,1,FALSE)),\"\",IF(VLOOKUP(A9,quart!F:J,5,FALSE)<>\"\",IF(VLOOKUP(A9,quart!F:J,5,FALSE)>0,\"P\",\"G\"),\"\")),\"\")","v":""},{"$f":"IF(AND(B9<>\"\",demi!$K$1<>0),IF(ISERROR(VLOOKUP(A9,demi!B:J,1,FALSE)),\"\",IF(VLOOKUP(A9,demi!B:J,9,FALSE)<>\"\",IF(VLOOKUP(A9,demi!B:J,9,FALSE)>0,\"G\",\"P\"),\"\"))&IF(ISERROR(VLOOKUP(A9,demi!F:J,1,FALSE)),\"\",IF(VLOOKUP(A9,demi!F:J,5,FALSE)<>\"\",IF(VLOOKUP(A9,demi!F:J,5,FALSE)>0,\"P\",\"G\"),\"\")),\"\")","v":""},{"$f":"IF(AND(B9<>\"\",finale!$K$1<>0),IF(ISERROR(VLOOKUP(A9,finale!B:J,1,FALSE)),\"\",IF(VLOOKUP(A9,finale!B:J,9,FALSE)<>\"\",IF(VLOOKUP(A9,finale!B:J,9,FALSE)>0,\"G\",\"P\"),\"\"))&IF(ISERROR(VLOOKUP(A9,finale!F:J,1,FALSE)),\"\",IF(VLOOKUP(A9,finale!F:J,5,FALSE)<>\"\",IF(VLOOKUP(A9,finale!F:J,5,FALSE)>0,\"P\",\"G\"),\"\")),\"\")","v":""},{"$f":"IF(finale!$K$1<>0,IF(I9=\"G\",\"1er\",IF(I9=\"P\",\"2eme\",IF(H9=\"P\",\"3/4eme\",IF(G9=\"P\",\"5 à 8eme\",\"\")))),\"\")","v":""},null,null,null,{"$f":"IF(ISERROR(VLOOKUP(A9,'32eme'!B$3:M$34,12,FALSE)),IF(ISERROR(VLOOKUP(A9,'32eme'!F$3:M$34,8,FALSE)),\"\",VLOOKUP(A9,'32eme'!F$3:M$34,8,FALSE)),VLOOKUP(A9,'32eme'!B$3:M$34,12,FALSE))","v":""},{"$f":"IF(ISERROR(VLOOKUP(A9,'16eme'!B$3:M$18,12,FALSE)),IF(ISERROR(VLOOKUP(A9,'16eme'!F$3:M$18,8,FALSE)),\"\",VLOOKUP(A9,'16eme'!F$3:M$18,8,FALSE)),VLOOKUP(A9,'16eme'!B$3:M$18,12,FALSE))","v":""},{"$f":"IF(ISERROR(VLOOKUP(A9,'8eme'!B$3:M$10,12,FALSE)),IF(ISERROR(VLOOKUP(A9,'8eme'!F$3:M$10,8,FALSE)),\"\",VLOOKUP(A9,'8eme'!F$3:M$10,8,FALSE)),VLOOKUP(A9,'8eme'!B$3:M$10,12,FALSE))","v":""},{"$f":"IF(ISERROR(VLOOKUP(A9,quart!B$3:M$6,12,FALSE)),IF(ISERROR(VLOOKUP(A9,quart!F$3:M$6,8,FALSE)),\"\",VLOOKUP(A9,quart!F$3:M$6,8,FALSE)),VLOOKUP(A9,quart!B$3:M$6,12,FALSE))","v":""},{"$f":"IF(ISERROR(VLOOKUP(A9,demi!B$3:M$4,12,FALSE)),IF(ISERROR(VLOOKUP(A9,demi!F$3:M$4,8,FALSE)),\"\",VLOOKUP(A9,demi!F$3:M$4,8,FALSE)),VLOOKUP(A9,demi!B$3:M$4,12,FALSE))","v":""}]
[7,null,null,null,{"$f":"IF(AND(B10<>\"\",'16eme'!$K$1<>0),IF(ISERROR(VLOOKUP(A10,'16eme'!B:J,1,FALSE)),\"\",IF(VLOOKUP(A10,'16eme'!B:J,9,FALSE)<>\"\",IF(VLOOKUP(A10,'16eme'!B:J,9,FALSE)>0,\"G\",\"P\"),\"\"))&IF(ISERROR(VLOOKUP(A10,'16eme'!F:J,1,FALSE)),\"\",IF(VLOOKUP(A10,'16eme'!F:J,5,FALSE)<>\"\",IF(VLOOKUP(A10,'16eme'!F:J,5,FALSE)>0,\"P\",\"G\"),\"\")),\"\")","v":""},{"$f":"IF(AND(B10<>\"\",'8eme'!$K$1<>0),IF(ISERROR(VLOOKUP(A10,'8eme'!B:J,1,FALSE)),\"\",IF(VLOOKUP(A10,'8eme'!B:J,9,FALSE)<>\"\",IF(VLOOKUP(A10,'8eme'!B:J,9,FALSE)>0,\"G\",\"P\"),\"\"))&IF(ISERROR(VLOOKUP(A10,'8eme'!F:J,1,FALSE)),\"\",IF(VLOOKUP(A10,'8eme'!F:J,5,FALSE)<>\"\",IF(VLOOKUP(A10,'8eme'!F:J,5,FALSE)>0,\"P\",\"G\"),\"\")),\"\")","v":""},{"$f":"IF(AND(B10<>\"\",quart!$K$1<>0),IF(ISERROR(VLOOKUP(A10,quart!B:J,1,FALSE)),\"\",IF(VLOOKUP(A10,quart!B:J,9,FALSE)<>\"\",IF(VLOOKUP(A10,quart!B:J,9,FALSE)>0,\"G\",\"P\"),\"\"))&IF(ISERROR(VLOOKUP(A10,quart!F:J,1,FALSE)),\"\",IF(VLOOKUP(A10,quart!F:J,5,FALSE)<>\"\",IF(VLOOKUP(A10,quart!F:J,5,FALSE)>0,\"P\",\"G\"),\"\")),\"\")","v":""},{"$f":"IF(AND(B10<>\"\",demi!$K$1<>0),IF(ISERROR(VLOOKUP(A10,demi!B:J,1,FALSE)),\"\",IF(VLOOKUP(A10,demi!B:J,9,FALSE)<>\"\",IF(VLOOKUP(A10,demi!B:J,9,FALSE)>0,\"G\",\"P\"),\"\"))&IF(ISERROR(VLOOKUP(A10,demi!F:J,1,FALSE)),\"\",IF(VLOOKUP(A10,demi!F:J,5,FALSE)<>\"\",IF(VLOOKUP(A10,demi!F:J,5,FALSE)>0,\"P\",\"G\"),\"\")),\"\")","v":""},{"$f":"IF(AND(B10<>\"\",finale!$K$1<>0),IF(ISERROR(VLOOKUP(A10,finale!B:J,1,FALSE)),\"\",IF(VLOOKUP(A10,finale!B:J,9,FALSE)<>\"\",IF(VLOOKUP(A10,finale!B:J,9,FALSE)>0,\"G\",\"P\"),\"\"))&IF(ISERROR(VLOOKUP(A10,finale!F:J,1,FALSE)),\"\",IF(VLOOKUP(A10,finale!F:J,5,FALSE)<>\"\",IF(VLOOKUP(A10,finale!F:J,5,FALSE)>0,\"P\",\"G\"),\"\")),\"\")","v":""},{"$f":"IF(finale!$K$1<>0,IF(I10=\"G\",\"1er\",IF(I10=\"P\",\"2eme\",IF(H10=\"P\",\"3/4eme\",IF(G10=\"P\",\"5 à 8eme\",\"\")))),\"\")","v":""},null,null,null,{"$f":"IF(ISERROR(VLOOKUP(A10,'32eme'!B$3:M$34,12,FALSE)),IF(ISERROR(VLOOKUP(A10,'32eme'!F$3:M$34,8,FALSE)),\"\",VLOOKUP(A10,'32eme'!F$3:M$34,8,FALSE)),VLOOKUP(A10,'32eme'!B$3:M$34,12,FALSE))","v":""},{"$f":"IF(ISERROR(VLOOKUP(A10,'16eme'!B$3:M$18,12,FALSE)),IF(ISERROR(VLOOKUP(A10,'16eme'!F$3:M$18,8,FALSE)),\"\",VLOOKUP(A10,'16eme'!F$3:M$18,8,FALSE)),VLOOKUP(A10,'16eme'!B$3:M$18,12,FALSE))","v":""},{"$f":"IF(ISERROR(VLOOKUP(A10,'8eme'!B$3:M$10,12,FALSE)),IF(ISERROR(VLOOKUP(A10,'8eme'!F$3:M$10,8,FALSE)),\"\",VLOOKUP(A10,'8eme'!F$3:M$10,8,FALSE)),VLOOKUP(A10,'8eme'!B$3:M$10,12,FALSE))","v":""},{"$f":"IF(ISERROR(VLOOKUP(A10,quart!B$3:M$6,12,FALSE)),IF(ISERROR(VLOOKUP(A10,quart!F$3:M$6,8,FALSE)),\"\",VLOOKUP(A10,quart!F$3:M$6,8,FALSE)),VLOOKUP(A10,quart!B$3:M$6,12,FALSE))","v":""},{"$f":"IF(ISERROR(VLOOKUP(A10,demi!B$3:M$4,12,FALSE)),IF(ISERROR(VLOOKUP(A10,demi!F$3:M$4,8,FALSE)),\"\",VLOOKUP(A10,demi!F$3:M$4,8,FALSE)),VLOOKUP(A10,demi!B$3:M$4,12,FALSE))","v":""}]
[8,null,null,null,{"$f":"IF(AND(B11<>\"\",'16eme'!$K$1<>0),IF(ISERROR(VLOOKUP(A11,'16eme'!B:J,1,FALSE)),\"\",IF(VLOOKUP(A11,'16eme'!B:J,9,FALSE)<>\"\",IF(VLOOKUP(A11,'16eme'!B:J,9,FALSE)>0,\"G\",\"P\"),\"\"))&IF(ISERROR(VLOOKUP(A11,'16eme'!F:J,1,FALSE)),\"\",IF(VLOOKUP(A11,'16eme'!F:J,5,FALSE)<>\"\",IF(VLOOKUP(A11,'16eme'!F:J,5,FALSE)>0,\"P\",\"G\"),\"\")),\"\")","v":""},{"$f":"IF(AND(B11<>\"\",'8eme'!$K$1<>0),IF(ISERROR(VLOOKUP(A11,'8eme'!B:J,1,FALSE)),\"\",IF(VLOOKUP(A11,'8eme'!B:J,9,FALSE)<>\"\",IF(VLOOKUP(A11,'8eme'!B:J,9,FALSE)>0,\"G\",\"P\"),\"\"))&IF(ISERROR(VLOOKUP(A11,'8eme'!F:J,1,FALSE)),\"\",IF(VLOOKUP(A11,'8eme'!F:J,5,FALSE)<>\"\",IF(VLOOKUP(A11,'8eme'!F:J,5,FALSE)>0,\"P\",\"G\"),\"\")),\"\")","v":""},{"$f":"IF(AND(B11<>\"\",quart!$K$1<>0),IF(ISERROR(VLOOKUP(A11,quart!B:J,1,FALSE)),\"\",IF(VLOOKUP(A11,quart!B:J,9,FALSE)<>\"\",IF(VLOOKUP(A11,quart!B:J,9,FALSE)>0,\"G\",\"P\"),\"\"))&IF(ISERROR(VLOOKUP(A11,quart!F:J,1,FALSE)),\"\",IF(VLOOKUP(A11,quart!F:J,5,FALSE)<>\"\",IF(VLOOKUP(A11,quart!F:J,5,FALSE)>0,\"P\",\"G\"),\"\")),\"\")","v":""},{"$f":"IF(AND(B11<>\"\",demi!$K$1<>0),IF(ISERROR(VLOOKUP(A11,demi!B:J,1,FALSE)),\"\",IF(VLOOKUP(A11,demi!B:J,9,FALSE)<>\"\",IF(VLOOKUP(A11,demi!B:J,9,FALSE)>0,\"G\",\"P\"),\"\"))&IF(ISERROR(VLOOKUP(A11,demi!F:J,1,FALSE)),\"\",IF(VLOOKUP(A11,demi!F:J,5,FALSE)<>\"\",IF(VLOOKUP(A11,demi!F:J,5,FALSE)>0,\"P\",\"G\"),\"\")),\"\")","v":""},{"$f":"IF(AND(B11<>\"\",finale!$K$1<>0),IF(ISERROR(VLOOKUP(A11,finale!B:J,1,FALSE)),\"\",IF(VLOOKUP(A11,finale!B:J,9,FALSE)<>\"\",IF(VLOOKUP(A11,finale!B:J,9,FALSE)>0,\"G\",\"P\"),\"\"))&IF(ISERROR(VLOOKUP(A11,finale!F:J,1,FALSE)),\"\",IF(VLOOKUP(A11,finale!F:J,5,FALSE)<>\"\",IF(VLOOKUP(A11,finale!F:J,5,FALSE)>0,\"P\",\"G\"),\"\")),\"\")","v":""},{"$f":"IF(finale!$K$1<>0,IF(I11=\"G\",\"1er\",IF(I11=\"P\",\"2eme\",IF(H11=\"P\",\"3/4eme\",IF(G11=\"P\",\"5 à 8eme\",\"\")))),\"\")","v":""},"Type de concours",null,null,{"$f":"IF(ISERROR(VLOOKUP(A11,'32eme'!B$3:M$34,12,FALSE)),IF(ISERROR(VLOOKUP(A11,'32eme'!F$3:M$34,8,FALSE)),\"\",VLOOKUP(A11,'32eme'!F$3:M$34,8,FALSE)),VLOOKUP(A11,'32eme'!B$3:M$34,12,FALSE))","v":""},{"$f":"IF(ISERROR(VLOOKUP(A11,'16eme'!B$3:M$18,12,FALSE)),IF(ISERROR(VLOOKUP(A11,'16eme'!F$3:M$18,8,FALSE)),\"\",VLOOKUP(A11,'16eme'!F$3:M$18,8,FALSE)),VLOOKUP(A11,'16eme'!B$3:M$18,12,FALSE))","v":""},{"$f":"IF(ISERROR(VLOOKUP(A11,'8eme'!B$3:M$10,12,FALSE)),IF(ISERROR(VLOOKUP(A11,'8eme'!F$3:M$10,8,FALSE)),\"\",VLOOKUP(A11,'8eme'!F$3:M$10,8,FALSE)),VLOOKUP(A11,'8eme'!B$3:M$10,12,FALSE))","v":""},{"$f":"IF(ISERROR(VLOOKUP(A11,quart!B$3:M$6,12,FALSE)),IF(ISERROR(VLOOKUP(A11,quart!F$3:M$6,8,FALSE)),\"\",VLOOKUP(A11,quart!F$3:M$6,8,FALSE)),VLOOKUP(A11,quart!B$3:M$6,12,FALSE))","v":""},{"$f":"IF(ISERROR(VLOOKUP(A11,demi!B$3:M$4,12,FALSE)),IF(ISERROR(VLOOKUP(A11,demi!F$3:M$4,8,FALSE)),\"\",VLOOKUP(A11,demi!F$3:M$4,8,FALSE)),VLOOKUP(A11,demi!B$3:M$4,12,FALSE))","v":""}]
[9,null,null,null,{"$f":"IF(AND(B12<>\"\",'16eme'!$K$1<>0),IF(ISERROR(VLOOKUP(A12,'16eme'!B:J,1,FALSE)),\"\",IF(VLOOKUP(A12,'16eme'!B:J,9,FALSE)<>\"\",IF(VLOOKUP(A12,'16eme'!B:J,9,FALSE)>0,\"G\",\"P\"),\"\"))&IF(ISERROR(VLOOKUP(A12,'16eme'!F:J,1,FALSE)),\"\",IF(VLOOKUP(A12,'16eme'!F:J,5,FALSE)<>\"\",IF(VLOOKUP(A12,'16eme'!F:J,5,FALSE)>0,\"P\",\"G\"),\"\")),\"\")","v":""},{"$f":"IF(AND(B12<>\"\",'8eme'!$K$1<>0),IF(ISERROR(VLOOKUP(A12,'8eme'!B:J,1,FALSE)),\"\",IF(VLOOKUP(A12,'8eme'!B:J,9,FALSE)<>\"\",IF(VLOOKUP(A12,'8eme'!B:J,9,FALSE)>0,\"G\",\"P\"),\"\"))&IF(ISERROR(VLOOKUP(A12,'8eme'!F:J,1,FALSE)),\"\",IF(VLOOKUP(A12,'8eme'!F:J,5,FALSE)<>\"\",IF(VLOOKUP(A12,'8eme'!F:J,5,FALSE)>0,\"P\",\"G\"),\"\")),\"\")","v":""},{"$f":"IF(AND(B12<>\"\",quart!$K$1<>0),IF(ISERROR(VLOOKUP(A12,quart!B:J,1,FALSE)),\"\",IF(VLOOKUP(A12,quart!B:J,9,FALSE)<>\"\",IF(VLOOKUP(A12,quart!B:J,9,FALSE)>0,\"G\",\"P\"),\"\"))&IF(ISERROR(VLOOKUP(A12,quart!F:J,1,FALSE)),\"\",IF(VLOOKUP(A12,quart!F:J,5,FALSE)<>\"\",IF(VLOOKUP(A12,quart!F:J,5,FALSE)>0,\"P\",\"G\"),\"\")),\"\")","v":""},{"$f":"IF(AND(B12<>\"\",demi!$K$1<>0),IF(ISERROR(VLOOKUP(A12,demi!B:J,1,FALSE)),\"\",IF(VLOOKUP(A12,demi!B:J,9,FALSE)<>\"\",IF(VLOOKUP(A12,demi!B:J,9,FALSE)>0,\"G\",\"P\"),\"\"))&IF(ISERROR(VLOOKUP(A12,demi!F:J,1,FALSE)),\"\",IF(VLOOKUP(A12,demi!F:J,5,FALSE)<>\"\",IF(VLOOKUP(A12,demi!F:J,5,FALSE)>0,\"P\",\"G\"),\"\")),\"\")","v":""},{"$f":"IF(AND(B12<>\"\",finale!$K$1<>0),IF(ISERROR(VLOOKUP(A12,finale!B:J,1,FALSE)),\"\",IF(VLOOKUP(A12,finale!B:J,9,FALSE)<>\"\",IF(VLOOKUP(A12,finale!B:J,9,FALSE)>0,\"G\",\"P\"),\"\"))&IF(ISERROR(VLOOKUP(A12,finale!F:J,1,FALSE)),\"\",IF(VLOOKUP(A12,finale!F:J,5,FALSE)<>\"\",IF(VLOOKUP(A12,finale!F:J,5,FALSE)>0,\"P\",\"G\"),\"\")),\"\")","v":""},{"$f":"IF(finale!$K$1<>0,IF(I12=\"G\",\"1er\",IF(I12=\"P\",\"2eme\",IF(H12=\"P\",\"3/4eme\",IF(G12=\"P\",\"5 à 8eme\",\"\")))),\"\")","v":""},8,null,null,{"$f":"IF(ISERROR(VLOOKUP(A12,'32eme'!B$3:M$34,12,FALSE)),IF(ISERROR(VLOOKUP(A12,'32eme'!F$3:M$34,8,FALSE)),\"\",VLOOKUP(A12,'32eme'!F$3:M$34,8,FALSE)),VLOOKUP(A12,'32eme'!B$3:M$34,12,FALSE))","v":""},{"$f":"IF(ISERROR(VLOOKUP(A12,'16eme'!B$3:M$18,12,FALSE)),IF(ISERROR(VLOOKUP(A12,'16eme'!F$3:M$18,8,FALSE)),\"\",VLOOKUP(A12,'16eme'!F$3:M$18,8,FALSE)),VLOOKUP(A12,'16eme'!B$3:M$18,12,FALSE))","v":""},{"$f":"IF(ISERROR(VLOOKUP(A12,'8eme'!B$3:M$10,12,FALSE)),IF(ISERROR(VLOOKUP(A12,'8eme'!F$3:M$10,8,FALSE)),\"\",VLOOKUP(A12,'8eme'!F$3:M$10,8,FALSE)),VLOOKUP(A12,'8eme'!B$3:M$10,12,FALSE))","v":""},{"$f":"IF(ISERROR(VLOOKUP(A12,quart!B$3:M$6,12,FALSE)),IF(ISERROR(VLOOKUP(A12,quart!F$3:M$6,8,FALSE)),\"\",VLOOKUP(A12,quart!F$3:M$6,8,FALSE)),VLOOKUP(A12,quart!B$3:M$6,12,FALSE))","v":""},{"$f":"IF(ISERROR(VLOOKUP(A12,demi!B$3:M$4,12,FALSE)),IF(ISERROR(VLOOKUP(A12,demi!F$3:M$4,8,FALSE)),\"\",VLOOKUP(A12,demi!F$3:M$4,8,FALSE)),VLOOKUP(A12,demi!B$3:M$4,12,FALSE))","v":""}]
[10,null,null,null,{"$f":"IF(AND(B13<>\"\",'16eme'!$K$1<>0),IF(ISERROR(VLOOKUP(A13,'16eme'!B:J,1,FALSE)),\"\",IF(VLOOKUP(A13,'16eme'!B:J,9,FALSE)<>\"\",IF(VLOOKUP(A13,'16eme'!B:J,9,FALSE)>0,\"G\",\"P\"),\"\"))&IF(ISERROR(VLOOKUP(A13,'16eme'!F:J,1,FALSE)),\"\",IF(VLOOKUP(A13,'16eme'!F:J,5,FALSE)<>\"\",IF(VLOOKUP(A13,'16eme'!F:J,5,FALSE)>0,\"P\",\"G\"),\"\")),\"\")","v":""},{"$f":"IF(AND(B13<>\"\",'8eme'!$K$1<>0),IF(ISERROR(VLOOKUP(A13,'8eme'!B:J,1,FALSE)),\"\",IF(VLOOKUP(A13,'8eme'!B:J,9,FALSE)<>\"\",IF(VLOOKUP(A13,'8eme'!B:J,9,FALSE)>0,\"G\",\"P\"),\"\"))&IF(ISERROR(VLOOKUP(A13,'8eme'!F:J,1,FALSE)),\"\",IF(VLOOKUP(A13,'8eme'!F:J,5,FALSE)<>\"\",IF(VLOOKUP(A13,'8eme'!F:J,5,FALSE)>0,\"P\",\"G\"),\"\")),\"\")","v":""},{"$f":"IF(AND(B13<>\"\",quart!$K$1<>0),IF(ISERROR(VLOOKUP(A13,quart!B:J,1,FALSE)),\"\",IF(VLOOKUP(A13,quart!B:J,9,FALSE)<>\"\",IF(VLOOKUP(A13,quart!B:J,9,FALSE)>0,\"G\",\"P\"),\"\"))&IF(ISERROR(VLOOKUP(A13,quart!F:J,1,FALSE)),\"\",IF(VLOOKUP(A13,quart!F:J,5,FALSE)<>\"\",IF(VLOOKUP(A13,quart!F:J,5,FALSE)>0,\"P\",\"G\"),\"\")),\"\")","v":""},{"$f":"IF(AND(B13<>\"\",demi!$K$1<>0),IF(ISERROR(VLOOKUP(A13,demi!B:J,1,FALSE)),\"\",IF(VLOOKUP(A13,demi!B:J,9,FALSE)<>\"\",IF(VLOOKUP(A13,demi!B:J,9,FALSE)>0,\"G\",\"P\"),\"\"))&IF(ISERROR(VLOOKUP(A13,demi!F:J,1,FALSE)),\"\",IF(VLOOKUP(A13,demi!F:J,5,FALSE)<>\"\",IF(VLOOKUP(A13,demi!F:J,5,FALSE)>0,\"P\",\"G\"),\"\")),\"\")","v":""},{"$f":"IF(AND(B13<>\"\",finale!$K$1<>0),IF(ISERROR(VLOOKUP(A13,finale!B:J,1,FALSE)),\"\",IF(VLOOKUP(A13,finale!B:J,9,FALSE)<>\"\",IF(VLOOKUP(A13,finale!B:J,9,FALSE)>0,\"G\",\"P\"),\"\"))&IF(ISERROR(VLOOKUP(A13,finale!F:J,1,FALSE)),\"\",IF(VLOOKUP(A13,finale!F:J,5,FALSE)<>\"\",IF(VLOOKUP(A13,finale!F:J,5,FALSE)>0,\"P\",\"G\"),\"\")),\"\")","v":""},{"$f":"IF(finale!$K$1<>0,IF(I13=\"G\",\"1er\",IF(I13=\"P\",\"2eme\",IF(H13=\"P\",\"3/4eme\",IF(G13=\"P\",\"5 à 8eme\",\"\")))),\"\")","v":""},16,null,null,{"$f":"IF(ISERROR(VLOOKUP(A13,'32eme'!B$3:M$34,12,FALSE)),IF(ISERROR(VLOOKUP(A13,'32eme'!F$3:M$34,8,FALSE)),\"\",VLOOKUP(A13,'32eme'!F$3:M$34,8,FALSE)),VLOOKUP(A13,'32eme'!B$3:M$34,12,FALSE))","v":""},{"$f":"IF(ISERROR(VLOOKUP(A13,'16eme'!B$3:M$18,12,FALSE)),IF(ISERROR(VLOOKUP(A13,'16eme'!F$3:M$18,8,FALSE)),\"\",VLOOKUP(A13,'16eme'!F$3:M$18,8,FALSE)),VLOOKUP(A13,'16eme'!B$3:M$18,12,FALSE))","v":""},{"$f":"IF(ISERROR(VLOOKUP(A13,'8eme'!B$3:M$10,12,FALSE)),IF(ISERROR(VLOOKUP(A13,'8eme'!F$3:M$10,8,FALSE)),\"\",VLOOKUP(A13,'8eme'!F$3:M$10,8,FALSE)),VLOOKUP(A13,'8eme'!B$3:M$10,12,FALSE))","v":""},{"$f":"IF(ISERROR(VLOOKUP(A13,quart!B$3:M$6,12,FALSE)),IF(ISERROR(VLOOKUP(A13,quart!F$3:M$6,8,FALSE)),\"\",VLOOKUP(A13,quart!F$3:M$6,8,FALSE)),VLOOKUP(A13,quart!B$3:M$6,12,FALSE))","v":""},{"$f":"IF(ISERROR(VLOOKUP(A13,demi!B$3:M$4,12,FALSE)),IF(ISERROR(VLOOKUP(A13,demi!F$3:M$4,8,FALSE)),\"\",VLOOKUP(A13,demi!F$3:M$4,8,FALSE)),VLOOKUP(A13,demi!B$3:M$4,12,FALSE))","v":""}]
[11,null,null,null,{"$f":"IF(AND(B14<>\"\",'16eme'!$K$1<>0),IF(ISERROR(VLOOKUP(A14,'16eme'!B:J,1,FALSE)),\"\",IF(VLOOKUP(A14,'16eme'!B:J,9,FALSE)<>\"\",IF(VLOOKUP(A14,'16eme'!B:J,9,FALSE)>0,\"G\",\"P\"),\"\"))&IF(ISERROR(VLOOKUP(A14,'16eme'!F:J,1,FALSE)),\"\",IF(VLOOKUP(A14,'16eme'!F:J,5,FALSE)<>\"\",IF(VLOOKUP(A14,'16eme'!F:J,5,FALSE)>0,\"P\",\"G\"),\"\")),\"\")","v":""},{"$f":"IF(AND(B14<>\"\",'8eme'!$K$1<>0),IF(ISERROR(VLOOKUP(A14,'8eme'!B:J,1,FALSE)),\"\",IF(VLOOKUP(A14,'8eme'!B:J,9,FALSE)<>\"\",IF(VLOOKUP(A14,'8eme'!B:J,9,FALSE)>0,\"G\",\"P\"),\"\"))&IF(ISERROR(VLOOKUP(A14,'8eme'!F:J,1,FALSE)),\"\",IF(VLOOKUP(A14,'8eme'!F:J,5,FALSE)<>\"\",IF(VLOOKUP(A14,'8eme'!F:J,5,FALSE)>0,\"P\",\"G\"),\"\")),\"\")","v":""},{"$f":"IF(AND(B14<>\"\",quart!$K$1<>0),IF(ISERROR(VLOOKUP(A14,quart!B:J,1,FALSE)),\"\",IF(VLOOKUP(A14,quart!B:J,9,FALSE)<>\"\",IF(VLOOKUP(A14,quart!B:J,9,FALSE)>0,\"G\",\"P\"),\"\"))&IF(ISERROR(VLOOKUP(A14,quart!F:J,1,FALSE)),\"\",IF(VLOOKUP(A14,quart!F:J,5,FALSE)<>\"\",IF(VLOOKUP(A14,quart!F:J,5,FALSE)>0,\"P\",\"G\"),\"\")),\"\")","v":""},{"$f":"IF(AND(B14<>\"\",demi!$K$1<>0),IF(ISERROR(VLOOKUP(A14,demi!B:J,1,FALSE)),\"\",IF(VLOOKUP(A14,demi!B:J,9,FALSE)<>\"\",IF(VLOOKUP(A14,demi!B:J,9,FALSE)>0,\"G\",\"P\"),\"\"))&IF(ISERROR(VLOOKUP(A14,demi!F:J,1,FALSE)),\"\",IF(VLOOKUP(A14,demi!F:J,5,FALSE)<>\"\",IF(VLOOKUP(A14,demi!F:J,5,FALSE)>0,\"P\",\"G\"),\"\")),\"\")","v":""},{"$f":"IF(AND(B14<>\"\",finale!$K$1<>0),IF(ISERROR(VLOOKUP(A14,finale!B:J,1,FALSE)),\"\",IF(VLOOKUP(A14,finale!B:J,9,FALSE)<>\"\",IF(VLOOKUP(A14,finale!B:J,9,FALSE)>0,\"G\",\"P\"),\"\"))&IF(ISERROR(VLOOKUP(A14,finale!F:J,1,FALSE)),\"\",IF(VLOOKUP(A14,finale!F:J,5,FALSE)<>\"\",IF(VLOOKUP(A14,finale!F:J,5,FALSE)>0,\"P\",\"G\"),\"\")),\"\")","v":""},{"$f":"IF(finale!$K$1<>0,IF(I14=\"G\",\"1er\",IF(I14=\"P\",\"2eme\",IF(H14=\"P\",\"3/4eme\",IF(G14=\"P\",\"5 à 8eme\",\"\")))),\"\")","v":""},32,null,null,{"$f":"IF(ISERROR(VLOOKUP(A14,'32eme'!B$3:M$34,12,FALSE)),IF(ISERROR(VLOOKUP(A14,'32eme'!F$3:M$34,8,FALSE)),\"\",VLOOKUP(A14,'32eme'!F$3:M$34,8,FALSE)),VLOOKUP(A14,'32eme'!B$3:M$34,12,FALSE))","v":""},{"$f":"IF(ISERROR(VLOOKUP(A14,'16eme'!B$3:M$18,12,FALSE)),IF(ISERROR(VLOOKUP(A14,'16eme'!F$3:M$18,8,FALSE)),\"\",VLOOKUP(A14,'16eme'!F$3:M$18,8,FALSE)),VLOOKUP(A14,'16eme'!B$3:M$18,12,FALSE))","v":""},{"$f":"IF(ISERROR(VLOOKUP(A14,'8eme'!B$3:M$10,12,FALSE)),IF(ISERROR(VLOOKUP(A14,'8eme'!F$3:M$10,8,FALSE)),\"\",VLOOKUP(A14,'8eme'!F$3:M$10,8,FALSE)),VLOOKUP(A14,'8eme'!B$3:M$10,12,FALSE))","v":""},{"$f":"IF(ISERROR(VLOOKUP(A14,quart!B$3:M$6,12,FALSE)),IF(ISERROR(VLOOKUP(A14,quart!F$3:M$6,8,FALSE)),\"\",VLOOKUP(A14,quart!F$3:M$6,8,FALSE)),VLOOKUP(A14,quart!B$3:M$6,12,FALSE))","v":""},{"$f":"IF(ISERROR(VLOOKUP(A14,demi!B$3:M$4,12,FALSE)),IF(ISERROR(VLOOKUP(A14,demi!F$3:M$4,8,FALSE)),\"\",VLOOKUP(A14,demi!F$3:M$4,8,FALSE)),VLOOKUP(A14,demi!B$3:M$4,12,FALSE))","v":""}]
[12,null,null,null,{"$f":"IF(AND(B15<>\"\",'16eme'!$K$1<>0),IF(ISERROR(VLOOKUP(A15,'16eme'!B:J,1,FALSE)),\"\",IF(VLOOKUP(A15,'16eme'!B:J,9,FALSE)<>\"\",IF(VLOOKUP(A15,'16eme'!B:J,9,FALSE)>0,\"G\",\"P\"),\"\"))&IF(ISERROR(VLOOKUP(A15,'16eme'!F:J,1,FALSE)),\"\",IF(VLOOKUP(A15,'16eme'!F:J,5,FALSE)<>\"\",IF(VLOOKUP(A15,'16eme'!F:J,5,FALSE)>0,\"P\",\"G\"),\"\")),\"\")","v":""},{"$f":"IF(AND(B15<>\"\",'8eme'!$K$1<>0),IF(ISERROR(VLOOKUP(A15,'8eme'!B:J,1,FALSE)),\"\",IF(VLOOKUP(A15,'8eme'!B:J,9,FALSE)<>\"\",IF(VLOOKUP(A15,'8eme'!B:J,9,FALSE)>0,\"G\",\"P\"),\"\"))&IF(ISERROR(VLOOKUP(A15,'8eme'!F:J,1,FALSE)),\"\",IF(VLOOKUP(A15,'8eme'!F:J,5,FALSE)<>\"\",IF(VLOOKUP(A15,'8eme'!F:J,5,FALSE)>0,\"P\",\"G\"),\"\")),\"\")","v":""},{"$f":"IF(AND(B15<>\"\",quart!$K$1<>0),IF(ISERROR(VLOOKUP(A15,quart!B:J,1,FALSE)),\"\",IF(VLOOKUP(A15,quart!B:J,9,FALSE)<>\"\",IF(VLOOKUP(A15,quart!B:J,9,FALSE)>0,\"G\",\"P\"),\"\"))&IF(ISERROR(VLOOKUP(A15,quart!F:J,1,FALSE)),\"\",IF(VLOOKUP(A15,quart!F:J,5,FALSE)<>\"\",IF(VLOOKUP(A15,quart!F:J,5,FALSE)>0,\"P\",\"G\"),\"\")),\"\")","v":""},{"$f":"IF(AND(B15<>\"\",demi!$K$1<>0),IF(ISERROR(VLOOKUP(A15,demi!B:J,1,FALSE)),\"\",IF(VLOOKUP(A15,demi!B:J,9,FALSE)<>\"\",IF(VLOOKUP(A15,demi!B:J,9,FALSE)>0,\"G\",\"P\"),\"\"))&IF(ISERROR(VLOOKUP(A15,demi!F:J,1,FALSE)),\"\",IF(VLOOKUP(A15,demi!F:J,5,FALSE)<>\"\",IF(VLOOKUP(A15,demi!F:J,5,FALSE)>0,\"P\",\"G\"),\"\")),\"\")","v":""},{"$f":"IF(AND(B15<>\"\",finale!$K$1<>0),IF(ISERROR(VLOOKUP(A15,finale!B:J,1,FALSE)),\"\",IF(VLOOKUP(A15,finale!B:J,9,FALSE)<>\"\",IF(VLOOKUP(A15,finale!B:J,9,FALSE)>0,\"G\",\"P\"),\"\"))&IF(ISERROR(VLOOKUP(A15,finale!F:J,1,FALSE)),\"\",IF(VLOOKUP(A15,finale!F:J,5,FALSE)<>\"\",IF(VLOOKUP(A15,finale!F:J,5,FALSE)>0,\"P\",\"G\"),\"\")),\"\")","v":""},{"$f":"IF(finale!$K$1<>0,IF(I15=\"G\",\"1er\",IF(I15=\"P\",\"2eme\",IF(H15=\"P\",\"3/4eme\",IF(G15=\"P\",\"5 à 8eme\",\"\")))),\"\")","v":""},64,null,null,{"$f":"IF(ISERROR(VLOOKUP(A15,'32eme'!B$3:M$34,12,FALSE)),IF(ISERROR(VLOOKUP(A15,'32eme'!F$3:M$34,8,FALSE)),\"\",VLOOKUP(A15,'32eme'!F$3:M$34,8,FALSE)),VLOOKUP(A15,'32eme'!B$3:M$34,12,FALSE))","v":""},{"$f":"IF(ISERROR(VLOOKUP(A15,'16eme'!B$3:M$18,12,FALSE)),IF(ISERROR(VLOOKUP(A15,'16eme'!F$3:M$18,8,FALSE)),\"\",VLOOKUP(A15,'16eme'!F$3:M$18,8,FALSE)),VLOOKUP(A15,'16eme'!B$3:M$18,12,FALSE))","v":""},{"$f":"IF(ISERROR(VLOOKUP(A15,'8eme'!B$3:M$10,12,FALSE)),IF(ISERROR(VLOOKUP(A15,'8eme'!F$3:M$10,8,FALSE)),\"\",VLOOKUP(A15,'8eme'!F$3:M$10,8,FALSE)),VLOOKUP(A15,'8eme'!B$3:M$10,12,FALSE))","v":""},{"$f":"IF(ISERROR(VLOOKUP(A15,quart!B$3:M$6,12,FALSE)),IF(ISERROR(VLOOKUP(A15,quart!F$3:M$6,8,FALSE)),\"\",VLOOKUP(A15,quart!F$3:M$6,8,FALSE)),VLOOKUP(A15,quart!B$3:M$6,12,FALSE))","v":""},{"$f":"IF(ISERROR(VLOOKUP(A15,demi!B$3:M$4,12,FALSE)),IF(ISERROR(VLOOKUP(A15,demi!F$3:M$4,8,FALSE)),\"\",VLOOKUP(A15,demi!F$3:M$4,8,FALSE)),VLOOKUP(A15,demi!B$3:M$4,12,FALSE))","v":""}]
[13,null,null,null,{"$f":"IF(AND(B16<>\"\",'16eme'!$K$1<>0),IF(ISERROR(VLOOKUP(A16,'16eme'!B:J,1,FALSE)),\"\",IF(VLOOKUP(A16,'16eme'!B:J,9,FALSE)<>\"\",IF(VLOOKUP(A16,'16eme'!B:J,9,FALSE)>0,\"G\",\"P\"),\"\"))&IF(ISERROR(VLOOKUP(A16,'16eme'!F:J,1,FALSE)),\"\",IF(VLOOKUP(A16,'16eme'!F:J,5,FALSE)<>\"\",IF(VLOOKUP(A16,'16eme'!F:J,5,FALSE)>0,\"P\",\"G\"),\"\")),\"\")","v":""},{"$f":"IF(AND(B16<>\"\",'8eme'!$K$1<>0),IF(ISERROR(VLOOKUP(A16,'8eme'!B:J,1,FALSE)),\"\",IF(VLOOKUP(A16,'8eme'!B:J,9,FALSE)<>\"\",IF(VLOOKUP(A16,'8eme'!B:J,9,FALSE)>0,\"G\",\"P\"),\"\"))&IF(ISERROR(VLOOKUP(A16,'8eme'!F:J,1,FALSE)),\"\",IF(VLOOKUP(A16,'8eme'!F:J,5,FALSE)<>\"\",IF(VLOOKUP(A16,'8eme'!F:J,5,FALSE)>0,\"P\",\"G\"),\"\")),\"\")","v":""},{"$f":"IF(AND(B16<>\"\",quart!$K$1<>0),IF(ISERROR(VLOOKUP(A16,quart!B:J,1,FALSE)),\"\",IF(VLOOKUP(A16,quart!B:J,9,FALSE)<>\"\",IF(VLOOKUP(A16,quart!B:J,9,FALSE)>0,\"G\",\"P\"),\"\"))&IF(ISERROR(VLOOKUP(A16,quart!F:J,1,FALSE)),\"\",IF(VLOOKUP(A16,quart!F:J,5,FALSE)<>\"\",IF(VLOOKUP(A16,quart!F:J,5,FALSE)>0,\"P\",\"G\"),\"\")),\"\")","v":""},{"$f":"IF(AND(B16<>\"\",demi!$K$1<>0),IF(ISERROR(VLOOKUP(A16,demi!B:J,1,FALSE)),\"\",IF(VLOOKUP(A16,demi!B:J,9,FALSE)<>\"\",IF(VLOOKUP(A16,demi!B:J,9,FALSE)>0,\"G\",\"P\"),\"\"))&IF(ISERROR(VLOOKUP(A16,demi!F:J,1,FALSE)),\"\",IF(VLOOKUP(A16,demi!F:J,5,FALSE)<>\"\",IF(VLOOKUP(A16,demi!F:J,5,FALSE)>0,\"P\",\"G\"),\"\")),\"\")","v":""},{"$f":"IF(AND(B16<>\"\",finale!$K$1<>0),IF(ISERROR(VLOOKUP(A16,finale!B:J,1,FALSE)),\"\",IF(VLOOKUP(A16,finale!B:J,9,FALSE)<>\"\",IF(VLOOKUP(A16,finale!B:J,9,FALSE)>0,\"G\",\"P\"),\"\"))&IF(ISERROR(VLOOKUP(A16,finale!F:J,1,FALSE)),\"\",IF(VLOOKUP(A16,finale!F:J,5,FALSE)<>\"\",IF(VLOOKUP(A16,finale!F:J,5,FALSE)>0,\"P\",\"G\"),\"\")),\"\")","v":""},{"$f":"IF(finale!$K$1<>0,IF(I16=\"G\",\"1er\",IF(I16=\"P\",\"2eme\",IF(H16=\"P\",\"3/4eme\",IF(G16=\"P\",\"5 à 8eme\",\"\")))),\"\")","v":""},null,null,null,{"$f":"IF(ISERROR(VLOOKUP(A16,'32eme'!B$3:M$34,12,FALSE)),IF(ISERROR(VLOOKUP(A16,'32eme'!F$3:M$34,8,FALSE)),\"\",VLOOKUP(A16,'32eme'!F$3:M$34,8,FALSE)),VLOOKUP(A16,'32eme'!B$3:M$34,12,FALSE))","v":""},{"$f":"IF(ISERROR(VLOOKUP(A16,'16eme'!B$3:M$18,12,FALSE)),IF(ISERROR(VLOOKUP(A16,'16eme'!F$3:M$18,8,FALSE)),\"\",VLOOKUP(A16,'16eme'!F$3:M$18,8,FALSE)),VLOOKUP(A16,'16eme'!B$3:M$18,12,FALSE))","v":""},{"$f":"IF(ISERROR(VLOOKUP(A16,'8eme'!B$3:M$10,12,FALSE)),IF(ISERROR(VLOOKUP(A16,'8eme'!F$3:M$10,8,FALSE)),\"\",VLOOKUP(A16,'8eme'!F$3:M$10,8,FALSE)),VLOOKUP(A16,'8eme'!B$3:M$10,12,FALSE))","v":""},{"$f":"IF(ISERROR(VLOOKUP(A16,quart!B$3:M$6,12,FALSE)),IF(ISERROR(VLOOKUP(A16,quart!F$3:M$6,8,FALSE)),\"\",VLOOKUP(A16,quart!F$3:M$6,8,FALSE)),VLOOKUP(A16,quart!B$3:M$6,12,FALSE))","v":""},{"$f":"IF(ISERROR(VLOOKUP(A16,demi!B$3:M$4,12,FALSE)),IF(ISERROR(VLOOKUP(A16,demi!F$3:M$4,8,FALSE)),\"\",VLOOKUP(A16,demi!F$3:M$4,8,FALSE)),VLOOKUP(A16,demi!B$3:M$4,12,FALSE))","v":""}]
[14,null,null,null,{"$f":"IF(AND(B17<>\"\",'16eme'!$K$1<>0),IF(ISERROR(VLOOKUP(A17,'16eme'!B:J,1,FALSE)),\"\",IF(VLOOKUP(A17,'16eme'!B:J,9,FALSE)<>\"\",IF(VLOOKUP(A17,'16eme'!B:J,9,FALSE)>0,\"G\",\"P\"),\"\"))&IF(ISERROR(VLOOKUP(A17,'16eme'!F:J,1,FALSE)),\"\",IF(VLOOKUP(A17,'16eme'!F:J,5,FALSE)<>\"\",IF(VLOOKUP(A17,'16eme'!F:J,5,FALSE)>0,\"P\",\"G\"),\"\")),\"\")","v":""},{"$f":"IF(AND(B17<>\"\",'8eme'!$K$1<>0),IF(ISERROR(VLOOKUP(A17,'8eme'!B:J,1,FALSE)),\"\",IF(VLOOKUP(A17,'8eme'!B:J,9,FALSE)<>\"\",IF(VLOOKUP(A17,'8eme'!B:J,9,FALSE)>0,\"G\",\"P\"),\"\"))&IF(ISERROR(VLOOKUP(A17,'8eme'!F:J,1,FALSE)),\"\",IF(VLOOKUP(A17,'8eme'!F:J,5,FALSE)<>\"\",IF(VLOOKUP(A17,'8eme'!F:J,5,FALSE)>0,\"P\",\"G\"),\"\")),\"\")","v":""},{"$f":"IF(AND(B17<>\"\",quart!$K$1<>0),IF(ISERROR(VLOOKUP(A17,quart!B:J,1,FALSE)),\"\",IF(VLOOKUP(A17,quart!B:J,9,FALSE)<>\"\",IF(VLOOKUP(A17,quart!B:J,9,FALSE)>0,\"G\",\"P\"),\"\"))&IF(ISERROR(VLOOKUP(A17,quart!F:J,1,FALSE)),\"\",IF(VLOOKUP(A17,quart!F:J,5,FALSE)<>\"\",IF(VLOOKUP(A17,quart!F:J,5,FALSE)>0,\"P\",\"G\"),\"\")),\"\")","v":""},{"$f":"IF(AND(B17<>\"\",demi!$K$1<>0),IF(ISERROR(VLOOKUP(A17,demi!B:J,1,FALSE)),\"\",IF(VLOOKUP(A17,demi!B:J,9,FALSE)<>\"\",IF(VLOOKUP(A17,demi!B:J,9,FALSE)>0,\"G\",\"P\"),\"\"))&IF(ISERROR(VLOOKUP(A17,demi!F:J,1,FALSE)),\"\",IF(VLOOKUP(A17,demi!F:J,5,FALSE)<>\"\",IF(VLOOKUP(A17,demi!F:J,5,FALSE)>0,\"P\",\"G\"),\"\")),\"\")","v":""},{"$f":"IF(AND(B17<>\"\",finale!$K$1<>0),IF(ISERROR(VLOOKUP(A17,finale!B:J,1,FALSE)),\"\",IF(VLOOKUP(A17,finale!B:J,9,FALSE)<>\"\",IF(VLOOKUP(A17,finale!B:J,9,FALSE)>0,\"G\",\"P\"),\"\"))&IF(ISERROR(VLOOKUP(A17,finale!F:J,1,FALSE)),\"\",IF(VLOOKUP(A17,finale!F:J,5,FALSE)<>\"\",IF(VLOOKUP(A17,finale!F:J,5,FALSE)>0,\"P\",\"G\"),\"\")),\"\")","v":""},{"$f":"IF(finale!$K$1<>0,IF(I17=\"G\",\"1er\",IF(I17=\"P\",\"2eme\",IF(H17=\"P\",\"3/4eme\",IF(G17=\"P\",\"5 à 8eme\",\"\")))),\"\")","v":""},null,null,null,{"$f":"IF(ISERROR(VLOOKUP(A17,'32eme'!B$3:M$34,12,FALSE)),IF(ISERROR(VLOOKUP(A17,'32eme'!F$3:M$34,8,FALSE)),\"\",VLOOKUP(A17,'32eme'!F$3:M$34,8,FALSE)),VLOOKUP(A17,'32eme'!B$3:M$34,12,FALSE))","v":""},{"$f":"IF(ISERROR(VLOOKUP(A17,'16eme'!B$3:M$18,12,FALSE)),IF(ISERROR(VLOOKUP(A17,'16eme'!F$3:M$18,8,FALSE)),\"\",VLOOKUP(A17,'16eme'!F$3:M$18,8,FALSE)),VLOOKUP(A17,'16eme'!B$3:M$18,12,FALSE))","v":""},{"$f":"IF(ISERROR(VLOOKUP(A17,'8eme'!B$3:M$10,12,FALSE)),IF(ISERROR(VLOOKUP(A17,'8eme'!F$3:M$10,8,FALSE)),\"\",VLOOKUP(A17,'8eme'!F$3:M$10,8,FALSE)),VLOOKUP(A17,'8eme'!B$3:M$10,12,FALSE))","v":""},{"$f":"IF(ISERROR(VLOOKUP(A17,quart!B$3:M$6,12,FALSE)),IF(ISERROR(VLOOKUP(A17,quart!F$3:M$6,8,FALSE)),\"\",VLOOKUP(A17,quart!F$3:M$6,8,FALSE)),VLOOKUP(A17,quart!B$3:M$6,12,FALSE))","v":""},{"$f":"IF(ISERROR(VLOOKUP(A17,demi!B$3:M$4,12,FALSE)),IF(ISERROR(VLOOKUP(A17,demi!F$3:M$4,8,FALSE)),\"\",VLOOKUP(A17,demi!F$3:M$4,8,FALSE)),VLOOKUP(A17,demi!B$3:M$4,12,FALSE))","v":""}]
[15,null,null,null,{"$f":"IF(AND(B18<>\"\",'16eme'!$K$1<>0),IF(ISERROR(VLOOKUP(A18,'16eme'!B:J,1,FALSE)),\"\",IF(VLOOKUP(A18,'16eme'!B:J,9,FALSE)<>\"\",IF(VLOOKUP(A18,'16eme'!B:J,9,FALSE)>0,\"G\",\"P\"),\"\"))&IF(ISERROR(VLOOKUP(A18,'16eme'!F:J,1,FALSE)),\"\",IF(VLOOKUP(A18,'16eme'!F:J,5,FALSE)<>\"\",IF(VLOOKUP(A18,'16eme'!F:J,5,FALSE)>0,\"P\",\"G\"),\"\")),\"\")","v":""},{"$f":"IF(AND(B18<>\"\",'8eme'!$K$1<>0),IF(ISERROR(VLOOKUP(A18,'8eme'!B:J,1,FALSE)),\"\",IF(VLOOKUP(A18,'8eme'!B:J,9,FALSE)<>\"\",IF(VLOOKUP(A18,'8eme'!B:J,9,FALSE)>0,\"G\",\"P\"),\"\"))&IF(ISERROR(VLOOKUP(A18,'8eme'!F:J,1,FALSE)),\"\",IF(VLOOKUP(A18,'8eme'!F:J,5,FALSE)<>\"\",IF(VLOOKUP(A18,'8eme'!F:J,5,FALSE)>0,\"P\",\"G\"),\"\")),\"\")","v":""},{"$f":"IF(AND(B18<>\"\",quart!$K$1<>0),IF(ISERROR(VLOOKUP(A18,quart!B:J,1,FALSE)),\"\",IF(VLOOKUP(A18,quart!B:J,9,FALSE)<>\"\",IF(VLOOKUP(A18,quart!B:J,9,FALSE)>0,\"G\",\"P\"),\"\"))&IF(ISERROR(VLOOKUP(A18,quart!F:J,1,FALSE)),\"\",IF(VLOOKUP(A18,quart!F:J,5,FALSE)<>\"\",IF(VLOOKUP(A18,quart!F:J,5,FALSE)>0,\"P\",\"G\"),\"\")),\"\")","v":""},{"$f":"IF(AND(B18<>\"\",demi!$K$1<>0),IF(ISERROR(VLOOKUP(A18,demi!B:J,1,FALSE)),\"\",IF(VLOOKUP(A18,demi!B:J,9,FALSE)<>\"\",IF(VLOOKUP(A18,demi!B:J,9,FALSE)>0,\"G\",\"P\"),\"\"))&IF(ISERROR(VLOOKUP(A18,demi!F:J,1,FALSE)),\"\",IF(VLOOKUP(A18,demi!F:J,5,FALSE)<>\"\",IF(VLOOKUP(A18,demi!F:J,5,FALSE)>0,\"P\",\"G\"),\"\")),\"\")","v":""},{"$f":"IF(AND(B18<>\"\",finale!$K$1<>0),IF(ISERROR(VLOOKUP(A18,finale!B:J,1,FALSE)),\"\",IF(VLOOKUP(A18,finale!B:J,9,FALSE)<>\"\",IF(VLOOKUP(A18,finale!B:J,9,FALSE)>0,\"G\",\"P\"),\"\"))&IF(ISERROR(VLOOKUP(A18,finale!F:J,1,FALSE)),\"\",IF(VLOOKUP(A18,finale!F:J,5,FALSE)<>\"\",IF(VLOOKUP(A18,finale!F:J,5,FALSE)>0,\"P\",\"G\"),\"\")),\"\")","v":""},{"$f":"IF(finale!$K$1<>0,IF(I18=\"G\",\"1er\",IF(I18=\"P\",\"2eme\",IF(H18=\"P\",\"3/4eme\",IF(G18=\"P\",\"5 à 8eme\",\"\")))),\"\")","v":""},null,null,null,{"$f":"IF(ISERROR(VLOOKUP(A18,'32eme'!B$3:M$34,12,FALSE)),IF(ISERROR(VLOOKUP(A18,'32eme'!F$3:M$34,8,FALSE)),\"\",VLOOKUP(A18,'32eme'!F$3:M$34,8,FALSE)),VLOOKUP(A18,'32eme'!B$3:M$34,12,FALSE))","v":""},{"$f":"IF(ISERROR(VLOOKUP(A18,'16eme'!B$3:M$18,12,FALSE)),IF(ISERROR(VLOOKUP(A18,'16eme'!F$3:M$18,8,FALSE)),\"\",VLOOKUP(A18,'16eme'!F$3:M$18,8,FALSE)),VLOOKUP(A18,'16eme'!B$3:M$18,12,FALSE))","v":""},{"$f":"IF(ISERROR(VLOOKUP(A18,'8eme'!B$3:M$10,12,FALSE)),IF(ISERROR(VLOOKUP(A18,'8eme'!F$3:M$10,8,FALSE)),\"\",VLOOKUP(A18,'8eme'!F$3:M$10,8,FALSE)),VLOOKUP(A18,'8eme'!B$3:M$10,12,FALSE))","v":""},{"$f":"IF(ISERROR(VLOOKUP(A18,quart!B$3:M$6,12,FALSE)),IF(ISERROR(VLOOKUP(A18,quart!F$3:M$6,8,FALSE)),\"\",VLOOKUP(A18,quart!F$3:M$6,8,FALSE)),VLOOKUP(A18,quart!B$3:M$6,12,FALSE))","v":""},{"$f":"IF(ISERROR(VLOOKUP(A18,demi!B$3:M$4,12,FALSE)),IF(ISERROR(VLOOKUP(A18,demi!F$3:M$4,8,FALSE)),\"\",VLOOKUP(A18,demi!F$3:M$4,8,FALSE)),VLOOKUP(A18,demi!B$3:M$4,12,FALSE))","v":""}]
[16,null,null,null,{"$f":"IF(AND(B19<>\"\",'16eme'!$K$1<>0),IF(ISERROR(VLOOKUP(A19,'16eme'!B:J,1,FALSE)),\"\",IF(VLOOKUP(A19,'16eme'!B:J,9,FALSE)<>\"\",IF(VLOOKUP(A19,'16eme'!B:J,9,FALSE)>0,\"G\",\"P\"),\"\"))&IF(ISERROR(VLOOKUP(A19,'16eme'!F:J,1,FALSE)),\"\",IF(VLOOKUP(A19,'16eme'!F:J,5,FALSE)<>\"\",IF(VLOOKUP(A19,'16eme'!F:J,5,FALSE)>0,\"P\",\"G\"),\"\")),\"\")","v":""},{"$f":"IF(AND(B19<>\"\",'8eme'!$K$1<>0),IF(ISERROR(VLOOKUP(A19,'8eme'!B:J,1,FALSE)),\"\",IF(VLOOKUP(A19,'8eme'!B:J,9,FALSE)<>\"\",IF(VLOOKUP(A19,'8eme'!B:J,9,FALSE)>0,\"G\",\"P\"),\"\"))&IF(ISERROR(VLOOKUP(A19,'8eme'!F:J,1,FALSE)),\"\",IF(VLOOKUP(A19,'8eme'!F:J,5,FALSE)<>\"\",IF(VLOOKUP(A19,'8eme'!F:J,5,FALSE)>0,\"P\",\"G\"),\"\")),\"\")","v":""},{"$f":"IF(AND(B19<>\"\",quart!$K$1<>0),IF(ISERROR(VLOOKUP(A19,quart!B:J,1,FALSE)),\"\",IF(VLOOKUP(A19,quart!B:J,9,FALSE)<>\"\",IF(VLOOKUP(A19,quart!B:J,9,FALSE)>0,\"G\",\"P\"),\"\"))&IF(ISERROR(VLOOKUP(A19,quart!F:J,1,FALSE)),\"\",IF(VLOOKUP(A19,quart!F:J,5,FALSE)<>\"\",IF(VLOOKUP(A19,quart!F:J,5,FALSE)>0,\"P\",\"G\"),\"\")),\"\")","v":""},{"$f":"IF(AND(B19<>\"\",demi!$K$1<>0),IF(ISERROR(VLOOKUP(A19,demi!B:J,1,FALSE)),\"\",IF(VLOOKUP(A19,demi!B:J,9,FALSE)<>\"\",IF(VLOOKUP(A19,demi!B:J,9,FALSE)>0,\"G\",\"P\"),\"\"))&IF(ISERROR(VLOOKUP(A19,demi!F:J,1,FALSE)),\"\",IF(VLOOKUP(A19,demi!F:J,5,FALSE)<>\"\",IF(VLOOKUP(A19,demi!F:J,5,FALSE)>0,\"P\",\"G\"),\"\")),\"\")","v":""},{"$f":"IF(AND(B19<>\"\",finale!$K$1<>0),IF(ISERROR(VLOOKUP(A19,finale!B:J,1,FALSE)),\"\",IF(VLOOKUP(A19,finale!B:J,9,FALSE)<>\"\",IF(VLOOKUP(A19,finale!B:J,9,FALSE)>0,\"G\",\"P\"),\"\"))&IF(ISERROR(VLOOKUP(A19,finale!F:J,1,FALSE)),\"\",IF(VLOOKUP(A19,finale!F:J,5,FALSE)<>\"\",IF(VLOOKUP(A19,finale!F:J,5,FALSE)>0,\"P\",\"G\"),\"\")),\"\")","v":""},{"$f":"IF(finale!$K$1<>0,IF(I19=\"G\",\"1er\",IF(I19=\"P\",\"2eme\",IF(H19=\"P\",\"3/4eme\",IF(G19=\"P\",\"5 à 8eme\",\"\")))),\"\")","v":""},null,null,null,{"$f":"IF(ISERROR(VLOOKUP(A19,'32eme'!B$3:M$34,12,FALSE)),IF(ISERROR(VLOOKUP(A19,'32eme'!F$3:M$34,8,FALSE)),\"\",VLOOKUP(A19,'32eme'!F$3:M$34,8,FALSE)),VLOOKUP(A19,'32eme'!B$3:M$34,12,FALSE))","v":""},{"$f":"IF(ISERROR(VLOOKUP(A19,'16eme'!B$3:M$18,12,FALSE)),IF(ISERROR(VLOOKUP(A19,'16eme'!F$3:M$18,8,FALSE)),\"\",VLOOKUP(A19,'16eme'!F$3:M$18,8,FALSE)),VLOOKUP(A19,'16eme'!B$3:M$18,12,FALSE))","v":""},{"$f":"IF(ISERROR(VLOOKUP(A19,'8eme'!B$3:M$10,12,FALSE)),IF(ISERROR(VLOOKUP(A19,'8eme'!F$3:M$10,8,FALSE)),\"\",VLOOKUP(A19,'8eme'!F$3:M$10,8,FALSE)),VLOOKUP(A19,'8eme'!B$3:M$10,12,FALSE))","v":""},{"$f":"IF(ISERROR(VLOOKUP(A19,quart!B$3:M$6,12,FALSE)),IF(ISERROR(VLOOKUP(A19,quart!F$3:M$6,8,FALSE)),\"\",VLOOKUP(A19,quart!F$3:M$6,8,FALSE)),VLOOKUP(A19,quart!B$3:M$6,12,FALSE))","v":""},{"$f":"IF(ISERROR(VLOOKUP(A19,demi!B$3:M$4,12,FALSE)),IF(ISERROR(VLOOKUP(A19,demi!F$3:M$4,8,FALSE)),\"\",VLOOKUP(A19,demi!F$3:M$4,8,FALSE)),VLOOKUP(A19,demi!B$3:M$4,12,FALSE))","v":""}]
[17,null,null,null,{"$f":"IF(AND(B20<>\"\",'16eme'!$K$1<>0),IF(ISERROR(VLOOKUP(A20,'16eme'!B:J,1,FALSE)),\"\",IF(VLOOKUP(A20,'16eme'!B:J,9,FALSE)<>\"\",IF(VLOOKUP(A20,'16eme'!B:J,9,FALSE)>0,\"G\",\"P\"),\"\"))&IF(ISERROR(VLOOKUP(A20,'16eme'!F:J,1,FALSE)),\"\",IF(VLOOKUP(A20,'16eme'!F:J,5,FALSE)<>\"\",IF(VLOOKUP(A20,'16eme'!F:J,5,FALSE)>0,\"P\",\"G\"),\"\")),\"\")","v":""},{"$f":"IF(AND(B20<>\"\",'8eme'!$K$1<>0),IF(ISERROR(VLOOKUP(A20,'8eme'!B:J,1,FALSE)),\"\",IF(VLOOKUP(A20,'8eme'!B:J,9,FALSE)<>\"\",IF(VLOOKUP(A20,'8eme'!B:J,9,FALSE)>0,\"G\",\"P\"),\"\"))&IF(ISERROR(VLOOKUP(A20,'8eme'!F:J,1,FALSE)),\"\",IF(VLOOKUP(A20,'8eme'!F:J,5,FALSE)<>\"\",IF(VLOOKUP(A20,'8eme'!F:J,5,FALSE)>0,\"P\",\"G\"),\"\")),\"\")","v":""},{"$f":"IF(AND(B20<>\"\",quart!$K$1<>0),IF(ISERROR(VLOOKUP(A20,quart!B:J,1,FALSE)),\"\",IF(VLOOKUP(A20,quart!B:J,9,FALSE)<>\"\",IF(VLOOKUP(A20,quart!B:J,9,FALSE)>0,\"G\",\"P\"),\"\"))&IF(ISERROR(VLOOKUP(A20,quart!F:J,1,FALSE)),\"\",IF(VLOOKUP(A20,quart!F:J,5,FALSE)<>\"\",IF(VLOOKUP(A20,quart!F:J,5,FALSE)>0,\"P\",\"G\"),\"\")),\"\")","v":""},{"$f":"IF(AND(B20<>\"\",demi!$K$1<>0),IF(ISERROR(VLOOKUP(A20,demi!B:J,1,FALSE)),\"\",IF(VLOOKUP(A20,demi!B:J,9,FALSE)<>\"\",IF(VLOOKUP(A20,demi!B:J,9,FALSE)>0,\"G\",\"P\"),\"\"))&IF(ISERROR(VLOOKUP(A20,demi!F:J,1,FALSE)),\"\",IF(VLOOKUP(A20,demi!F:J,5,FALSE)<>\"\",IF(VLOOKUP(A20,demi!F:J,5,FALSE)>0,\"P\",\"G\"),\"\")),\"\")","v":""},{"$f":"IF(AND(B20<>\"\",finale!$K$1<>0),IF(ISERROR(VLOOKUP(A20,finale!B:J,1,FALSE)),\"\",IF(VLOOKUP(A20,finale!B:J,9,FALSE)<>\"\",IF(VLOOKUP(A20,finale!B:J,9,FALSE)>0,\"G\",\"P\"),\"\"))&IF(ISERROR(VLOOKUP(A20,finale!F:J,1,FALSE)),\"\",IF(VLOOKUP(A20,finale!F:J,5,FALSE)<>\"\",IF(VLOOKUP(A20,finale!F:J,5,FALSE)>0,\"P\",\"G\"),\"\")),\"\")","v":""},{"$f":"IF(finale!$K$1<>0,IF(I20=\"G\",\"1er\",IF(I20=\"P\",\"2eme\",IF(H20=\"P\",\"3/4eme\",IF(G20=\"P\",\"5 à 8eme\",\"\")))),\"\")","v":""},null,null,null,{"$f":"IF(ISERROR(VLOOKUP(A20,'32eme'!B$3:M$34,12,FALSE)),IF(ISERROR(VLOOKUP(A20,'32eme'!F$3:M$34,8,FALSE)),\"\",VLOOKUP(A20,'32eme'!F$3:M$34,8,FALSE)),VLOOKUP(A20,'32eme'!B$3:M$34,12,FALSE))","v":""},{"$f":"IF(ISERROR(VLOOKUP(A20,'16eme'!B$3:M$18,12,FALSE)),IF(ISERROR(VLOOKUP(A20,'16eme'!F$3:M$18,8,FALSE)),\"\",VLOOKUP(A20,'16eme'!F$3:M$18,8,FALSE)),VLOOKUP(A20,'16eme'!B$3:M$18,12,FALSE))","v":""},{"$f":"IF(ISERROR(VLOOKUP(A20,'8eme'!B$3:M$10,12,FALSE)),IF(ISERROR(VLOOKUP(A20,'8eme'!F$3:M$10,8,FALSE)),\"\",VLOOKUP(A20,'8eme'!F$3:M$10,8,FALSE)),VLOOKUP(A20,'8eme'!B$3:M$10,12,FALSE))","v":""},{"$f":"IF(ISERROR(VLOOKUP(A20,quart!B$3:M$6,12,FALSE)),IF(ISERROR(VLOOKUP(A20,quart!F$3:M$6,8,FALSE)),\"\",VLOOKUP(A20,quart!F$3:M$6,8,FALSE)),VLOOKUP(A20,quart!B$3:M$6,12,FALSE))","v":""},{"$f":"IF(ISERROR(VLOOKUP(A20,demi!B$3:M$4,12,FALSE)),IF(ISERROR(VLOOKUP(A20,demi!F$3:M$4,8,FALSE)),\"\",VLOOKUP(A20,demi!F$3:M$4,8,FALSE)),VLOOKUP(A20,demi!B$3:M$4,12,FALSE))","v":""}]
[18,null,null,null,{"$f":"IF(AND(B21<>\"\",'16eme'!$K$1<>0),IF(ISERROR(VLOOKUP(A21,'16eme'!B:J,1,FALSE)),\"\",IF(VLOOKUP(A21,'16eme'!B:J,9,FALSE)<>\"\",IF(VLOOKUP(A21,'16eme'!B:J,9,FALSE)>0,\"G\",\"P\"),\"\"))&IF(ISERROR(VLOOKUP(A21,'16eme'!F:J,1,FALSE)),\"\",IF(VLOOKUP(A21,'16eme'!F:J,5,FALSE)<>\"\",IF(VLOOKUP(A21,'16eme'!F:J,5,FALSE)>0,\"P\",\"G\"),\"\")),\"\")","v":""},{"$f":"IF(AND(B21<>\"\",'8eme'!$K$1<>0),IF(ISERROR(VLOOKUP(A21,'8eme'!B:J,1,FALSE)),\"\",IF(VLOOKUP(A21,'8eme'!B:J,9,FALSE)<>\"\",IF(VLOOKUP(A21,'8eme'!B:J,9,FALSE)>0,\"G\",\"P\"),\"\"))&IF(ISERROR(VLOOKUP(A21,'8eme'!F:J,1,FALSE)),\"\",IF(VLOOKUP(A21,'8eme'!F:J,5,FALSE)<>\"\",IF(VLOOKUP(A21,'8eme'!F:J,5,FALSE)>0,\"P\",\"G\"),\"\")),\"\")","v":""},{"$f":"IF(AND(B21<>\"\",quart!$K$1<>0),IF(ISERROR(VLOOKUP(A21,quart!B:J,1,FALSE)),\"\",IF(VLOOKUP(A21,quart!B:J,9,FALSE)<>\"\",IF(VLOOKUP(A21,quart!B:J,9,FALSE)>0,\"G\",\"P\"),\"\"))&IF(ISERROR(VLOOKUP(A21,quart!F:J,1,FALSE)),\"\",IF(VLOOKUP(A21,quart!F:J,5,FALSE)<>\"\",IF(VLOOKUP(A21,quart!F:J,5,FALSE)>0,\"P\",\"G\"),\"\")),\"\")","v":""},{"$f":"IF(AND(B21<>\"\",demi!$K$1<>0),IF(ISERROR(VLOOKUP(A21,demi!B:J,1,FALSE)),\"\",IF(VLOOKUP(A21,demi!B:J,9,FALSE)<>\"\",IF(VLOOKUP(A21,demi!B:J,9,FALSE)>0,\"G\",\"P\"),\"\"))&IF(ISERROR(VLOOKUP(A21,demi!F:J,1,FALSE)),\"\",IF(VLOOKUP(A21,demi!F:J,5,FALSE)<>\"\",IF(VLOOKUP(A21,demi!F:J,5,FALSE)>0,\"P\",\"G\"),\"\")),\"\")","v":""},{"$f":"IF(AND(B21<>\"\",finale!$K$1<>0),IF(ISERROR(VLOOKUP(A21,finale!B:J,1,FALSE)),\"\",IF(VLOOKUP(A21,finale!B:J,9,FALSE)<>\"\",IF(VLOOKUP(A21,finale!B:J,9,FALSE)>0,\"G\",\"P\"),\"\"))&IF(ISERROR(VLOOKUP(A21,finale!F:J,1,FALSE)),\"\",IF(VLOOKUP(A21,finale!F:J,5,FALSE)<>\"\",IF(VLOOKUP(A21,finale!F:J,5,FALSE)>0,\"P\",\"G\"),\"\")),\"\")","v":""},{"$f":"IF(finale!$K$1<>0,IF(I21=\"G\",\"1er\",IF(I21=\"P\",\"2eme\",IF(H21=\"P\",\"3/4eme\",IF(G21=\"P\",\"5 à 8eme\",\"\")))),\"\")","v":""},null,null,null,{"$f":"IF(ISERROR(VLOOKUP(A21,'32eme'!B$3:M$34,12,FALSE)),IF(ISERROR(VLOOKUP(A21,'32eme'!F$3:M$34,8,FALSE)),\"\",VLOOKUP(A21,'32eme'!F$3:M$34,8,FALSE)),VLOOKUP(A21,'32eme'!B$3:M$34,12,FALSE))","v":""},{"$f":"IF(ISERROR(VLOOKUP(A21,'16eme'!B$3:M$18,12,FALSE)),IF(ISERROR(VLOOKUP(A21,'16eme'!F$3:M$18,8,FALSE)),\"\",VLOOKUP(A21,'16eme'!F$3:M$18,8,FALSE)),VLOOKUP(A21,'16eme'!B$3:M$18,12,FALSE))","v":""},{"$f":"IF(ISERROR(VLOOKUP(A21,'8eme'!B$3:M$10,12,FALSE)),IF(ISERROR(VLOOKUP(A21,'8eme'!F$3:M$10,8,FALSE)),\"\",VLOOKUP(A21,'8eme'!F$3:M$10,8,FALSE)),VLOOKUP(A21,'8eme'!B$3:M$10,12,FALSE))","v":""},{"$f":"IF(ISERROR(VLOOKUP(A21,quart!B$3:M$6,12,FALSE)),IF(ISERROR(VLOOKUP(A21,quart!F$3:M$6,8,FALSE)),\"\",VLOOKUP(A21,quart!F$3:M$6,8,FALSE)),VLOOKUP(A21,quart!B$3:M$6,12,FALSE))","v":""},{"$f":"IF(ISERROR(VLOOKUP(A21,demi!B$3:M$4,12,FALSE)),IF(ISERROR(VLOOKUP(A21,demi!F$3:M$4,8,FALSE)),\"\",VLOOKUP(A21,demi!F$3:M$4,8,FALSE)),VLOOKUP(A21,demi!B$3:M$4,12,FALSE))","v":""}]
[19,null,null,null,{"$f":"IF(AND(B22<>\"\",'16eme'!$K$1<>0),IF(ISERROR(VLOOKUP(A22,'16eme'!B:J,1,FALSE)),\"\",IF(VLOOKUP(A22,'16eme'!B:J,9,FALSE)<>\"\",IF(VLOOKUP(A22,'16eme'!B:J,9,FALSE)>0,\"G\",\"P\"),\"\"))&IF(ISERROR(VLOOKUP(A22,'16eme'!F:J,1,FALSE)),\"\",IF(VLOOKUP(A22,'16eme'!F:J,5,FALSE)<>\"\",IF(VLOOKUP(A22,'16eme'!F:J,5,FALSE)>0,\"P\",\"G\"),\"\")),\"\")","v":""},{"$f":"IF(AND(B22<>\"\",'8eme'!$K$1<>0),IF(ISERROR(VLOOKUP(A22,'8eme'!B:J,1,FALSE)),\"\",IF(VLOOKUP(A22,'8eme'!B:J,9,FALSE)<>\"\",IF(VLOOKUP(A22,'8eme'!B:J,9,FALSE)>0,\"G\",\"P\"),\"\"))&IF(ISERROR(VLOOKUP(A22,'8eme'!F:J,1,FALSE)),\"\",IF(VLOOKUP(A22,'8eme'!F:J,5,FALSE)<>\"\",IF(VLOOKUP(A22,'8eme'!F:J,5,FALSE)>0,\"P\",\"G\"),\"\")),\"\")","v":""},{"$f":"IF(AND(B22<>\"\",quart!$K$1<>0),IF(ISERROR(VLOOKUP(A22,quart!B:J,1,FALSE)),\"\",IF(VLOOKUP(A22,quart!B:J,9,FALSE)<>\"\",IF(VLOOKUP(A22,quart!B:J,9,FALSE)>0,\"G\",\"P\"),\"\"))&IF(ISERROR(VLOOKUP(A22,quart!F:J,1,FALSE)),\"\",IF(VLOOKUP(A22,quart!F:J,5,FALSE)<>\"\",IF(VLOOKUP(A22,quart!F:J,5,FALSE)>0,\"P\",\"G\"),\"\")),\"\")","v":""},{"$f":"IF(AND(B22<>\"\",demi!$K$1<>0),IF(ISERROR(VLOOKUP(A22,demi!B:J,1,FALSE)),\"\",IF(VLOOKUP(A22,demi!B:J,9,FALSE)<>\"\",IF(VLOOKUP(A22,demi!B:J,9,FALSE)>0,\"G\",\"P\"),\"\"))&IF(ISERROR(VLOOKUP(A22,demi!F:J,1,FALSE)),\"\",IF(VLOOKUP(A22,demi!F:J,5,FALSE)<>\"\",IF(VLOOKUP(A22,demi!F:J,5,FALSE)>0,\"P\",\"G\"),\"\")),\"\")","v":""},{"$f":"IF(AND(B22<>\"\",finale!$K$1<>0),IF(ISERROR(VLOOKUP(A22,finale!B:J,1,FALSE)),\"\",IF(VLOOKUP(A22,finale!B:J,9,FALSE)<>\"\",IF(VLOOKUP(A22,finale!B:J,9,FALSE)>0,\"G\",\"P\"),\"\"))&IF(ISERROR(VLOOKUP(A22,finale!F:J,1,FALSE)),\"\",IF(VLOOKUP(A22,finale!F:J,5,FALSE)<>\"\",IF(VLOOKUP(A22,finale!F:J,5,FALSE)>0,\"P\",\"G\"),\"\")),\"\")","v":""},{"$f":"IF(finale!$K$1<>0,IF(I22=\"G\",\"1er\",IF(I22=\"P\",\"2eme\",IF(H22=\"P\",\"3/4eme\",IF(G22=\"P\",\"5 à 8eme\",\"\")))),\"\")","v":""},null,null,null,{"$f":"IF(ISERROR(VLOOKUP(A22,'32eme'!B$3:M$34,12,FALSE)),IF(ISERROR(VLOOKUP(A22,'32eme'!F$3:M$34,8,FALSE)),\"\",VLOOKUP(A22,'32eme'!F$3:M$34,8,FALSE)),VLOOKUP(A22,'32eme'!B$3:M$34,12,FALSE))","v":""},{"$f":"IF(ISERROR(VLOOKUP(A22,'16eme'!B$3:M$18,12,FALSE)),IF(ISERROR(VLOOKUP(A22,'16eme'!F$3:M$18,8,FALSE)),\"\",VLOOKUP(A22,'16eme'!F$3:M$18,8,FALSE)),VLOOKUP(A22,'16eme'!B$3:M$18,12,FALSE))","v":""},{"$f":"IF(ISERROR(VLOOKUP(A22,'8eme'!B$3:M$10,12,FALSE)),IF(ISERROR(VLOOKUP(A22,'8eme'!F$3:M$10,8,FALSE)),\"\",VLOOKUP(A22,'8eme'!F$3:M$10,8,FALSE)),VLOOKUP(A22,'8eme'!B$3:M$10,12,FALSE))","v":""},{"$f":"IF(ISERROR(VLOOKUP(A22,quart!B$3:M$6,12,FALSE)),IF(ISERROR(VLOOKUP(A22,quart!F$3:M$6,8,FALSE)),\"\",VLOOKUP(A22,quart!F$3:M$6,8,FALSE)),VLOOKUP(A22,quart!B$3:M$6,12,FALSE))","v":""},{"$f":"IF(ISERROR(VLOOKUP(A22,demi!B$3:M$4,12,FALSE)),IF(ISERROR(VLOOKUP(A22,demi!F$3:M$4,8,FALSE)),\"\",VLOOKUP(A22,demi!F$3:M$4,8,FALSE)),VLOOKUP(A22,demi!B$3:M$4,12,FALSE))","v":""}]
[20,null,null,null,{"$f":"IF(AND(B23<>\"\",'16eme'!$K$1<>0),IF(ISERROR(VLOOKUP(A23,'16eme'!B:J,1,FALSE)),\"\",IF(VLOOKUP(A23,'16eme'!B:J,9,FALSE)<>\"\",IF(VLOOKUP(A23,'16eme'!B:J,9,FALSE)>0,\"G\",\"P\"),\"\"))&IF(ISERROR(VLOOKUP(A23,'16eme'!F:J,1,FALSE)),\"\",IF(VLOOKUP(A23,'16eme'!F:J,5,FALSE)<>\"\",IF(VLOOKUP(A23,'16eme'!F:J,5,FALSE)>0,\"P\",\"G\"),\"\")),\"\")","v":""},{"$f":"IF(AND(B23<>\"\",'8eme'!$K$1<>0),IF(ISERROR(VLOOKUP(A23,'8eme'!B:J,1,FALSE)),\"\",IF(VLOOKUP(A23,'8eme'!B:J,9,FALSE)<>\"\",IF(VLOOKUP(A23,'8eme'!B:J,9,FALSE)>0,\"G\",\"P\"),\"\"))&IF(ISERROR(VLOOKUP(A23,'8eme'!F:J,1,FALSE)),\"\",IF(VLOOKUP(A23,'8eme'!F:J,5,FALSE)<>\"\",IF(VLOOKUP(A23,'8eme'!F:J,5,FALSE)>0,\"P\",\"G\"),\"\")),\"\")","v":""},{"$f":"IF(AND(B23<>\"\",quart!$K$1<>0),IF(ISERROR(VLOOKUP(A23,quart!B:J,1,FALSE)),\"\",IF(VLOOKUP(A23,quart!B:J,9,FALSE)<>\"\",IF(VLOOKUP(A23,quart!B:J,9,FALSE)>0,\"G\",\"P\"),\"\"))&IF(ISERROR(VLOOKUP(A23,quart!F:J,1,FALSE)),\"\",IF(VLOOKUP(A23,quart!F:J,5,FALSE)<>\"\",IF(VLOOKUP(A23,quart!F:J,5,FALSE)>0,\"P\",\"G\"),\"\")),\"\")","v":""},{"$f":"IF(AND(B23<>\"\",demi!$K$1<>0),IF(ISERROR(VLOOKUP(A23,demi!B:J,1,FALSE)),\"\",IF(VLOOKUP(A23,demi!B:J,9,FALSE)<>\"\",IF(VLOOKUP(A23,demi!B:J,9,FALSE)>0,\"G\",\"P\"),\"\"))&IF(ISERROR(VLOOKUP(A23,demi!F:J,1,FALSE)),\"\",IF(VLOOKUP(A23,demi!F:J,5,FALSE)<>\"\",IF(VLOOKUP(A23,demi!F:J,5,FALSE)>0,\"P\",\"G\"),\"\")),\"\")","v":""},{"$f":"IF(AND(B23<>\"\",finale!$K$1<>0),IF(ISERROR(VLOOKUP(A23,finale!B:J,1,FALSE)),\"\",IF(VLOOKUP(A23,finale!B:J,9,FALSE)<>\"\",IF(VLOOKUP(A23,finale!B:J,9,FALSE)>0,\"G\",\"P\"),\"\"))&IF(ISERROR(VLOOKUP(A23,finale!F:J,1,FALSE)),\"\",IF(VLOOKUP(A23,finale!F:J,5,FALSE)<>\"\",IF(VLOOKUP(A23,finale!F:J,5,FALSE)>0,\"P\",\"G\"),\"\")),\"\")","v":""},{"$f":"IF(finale!$K$1<>0,IF(I23=\"G\",\"1er\",IF(I23=\"P\",\"2eme\",IF(H23=\"P\",\"3/4eme\",IF(G23=\"P\",\"5 à 8eme\",\"\")))),\"\")","v":""},null,null,null,{"$f":"IF(ISERROR(VLOOKUP(A23,'32eme'!B$3:M$34,12,FALSE)),IF(ISERROR(VLOOKUP(A23,'32eme'!F$3:M$34,8,FALSE)),\"\",VLOOKUP(A23,'32eme'!F$3:M$34,8,FALSE)),VLOOKUP(A23,'32eme'!B$3:M$34,12,FALSE))","v":""},{"$f":"IF(ISERROR(VLOOKUP(A23,'16eme'!B$3:M$18,12,FALSE)),IF(ISERROR(VLOOKUP(A23,'16eme'!F$3:M$18,8,FALSE)),\"\",VLOOKUP(A23,'16eme'!F$3:M$18,8,FALSE)),VLOOKUP(A23,'16eme'!B$3:M$18,12,FALSE))","v":""},{"$f":"IF(ISERROR(VLOOKUP(A23,'8eme'!B$3:M$10,12,FALSE)),IF(ISERROR(VLOOKUP(A23,'8eme'!F$3:M$10,8,FALSE)),\"\",VLOOKUP(A23,'8eme'!F$3:M$10,8,FALSE)),VLOOKUP(A23,'8eme'!B$3:M$10,12,FALSE))","v":""},{"$f":"IF(ISERROR(VLOOKUP(A23,quart!B$3:M$6,12,FALSE)),IF(ISERROR(VLOOKUP(A23,quart!F$3:M$6,8,FALSE)),\"\",VLOOKUP(A23,quart!F$3:M$6,8,FALSE)),VLOOKUP(A23,quart!B$3:M$6,12,FALSE))","v":""},{"$f":"IF(ISERROR(VLOOKUP(A23,demi!B$3:M$4,12,FALSE)),IF(ISERROR(VLOOKUP(A23,demi!F$3:M$4,8,FALSE)),\"\",VLOOKUP(A23,demi!F$3:M$4,8,FALSE)),VLOOKUP(A23,demi!B$3:M$4,12,FALSE))","v":""}]
[21,null,null,null,{"$f":"IF(AND(B24<>\"\",'16eme'!$K$1<>0),IF(ISERROR(VLOOKUP(A24,'16eme'!B:J,1,FALSE)),\"\",IF(VLOOKUP(A24,'16eme'!B:J,9,FALSE)<>\"\",IF(VLOOKUP(A24,'16eme'!B:J,9,FALSE)>0,\"G\",\"P\"),\"\"))&IF(ISERROR(VLOOKUP(A24,'16eme'!F:J,1,FALSE)),\"\",IF(VLOOKUP(A24,'16eme'!F:J,5,FALSE)<>\"\",IF(VLOOKUP(A24,'16eme'!F:J,5,FALSE)>0,\"P\",\"G\"),\"\")),\"\")","v":""},{"$f":"IF(AND(B24<>\"\",'8eme'!$K$1<>0),IF(ISERROR(VLOOKUP(A24,'8eme'!B:J,1,FALSE)),\"\",IF(VLOOKUP(A24,'8eme'!B:J,9,FALSE)<>\"\",IF(VLOOKUP(A24,'8eme'!B:J,9,FALSE)>0,\"G\",\"P\"),\"\"))&IF(ISERROR(VLOOKUP(A24,'8eme'!F:J,1,FALSE)),\"\",IF(VLOOKUP(A24,'8eme'!F:J,5,FALSE)<>\"\",IF(VLOOKUP(A24,'8eme'!F:J,5,FALSE)>0,\"P\",\"G\"),\"\")),\"\")","v":""},{"$f":"IF(AND(B24<>\"\",quart!$K$1<>0),IF(ISERROR(VLOOKUP(A24,quart!B:J,1,FALSE)),\"\",IF(VLOOKUP(A24,quart!B:J,9,FALSE)<>\"\",IF(VLOOKUP(A24,quart!B:J,9,FALSE)>0,\"G\",\"P\"),\"\"))&IF(ISERROR(VLOOKUP(A24,quart!F:J,1,FALSE)),\"\",IF(VLOOKUP(A24,quart!F:J,5,FALSE)<>\"\",IF(VLOOKUP(A24,quart!F:J,5,FALSE)>0,\"P\",\"G\"),\"\")),\"\")","v":""},{"$f":"IF(AND(B24<>\"\",demi!$K$1<>0),IF(ISERROR(VLOOKUP(A24,demi!B:J,1,FALSE)),\"\",IF(VLOOKUP(A24,demi!B:J,9,FALSE)<>\"\",IF(VLOOKUP(A24,demi!B:J,9,FALSE)>0,\"G\",\"P\"),\"\"))&IF(ISERROR(VLOOKUP(A24,demi!F:J,1,FALSE)),\"\",IF(VLOOKUP(A24,demi!F:J,5,FALSE)<>\"\",IF(VLOOKUP(A24,demi!F:J,5,FALSE)>0,\"P\",\"G\"),\"\")),\"\")","v":""},{"$f":"IF(AND(B24<>\"\",finale!$K$1<>0),IF(ISERROR(VLOOKUP(A24,finale!B:J,1,FALSE)),\"\",IF(VLOOKUP(A24,finale!B:J,9,FALSE)<>\"\",IF(VLOOKUP(A24,finale!B:J,9,FALSE)>0,\"G\",\"P\"),\"\"))&IF(ISERROR(VLOOKUP(A24,finale!F:J,1,FALSE)),\"\",IF(VLOOKUP(A24,finale!F:J,5,FALSE)<>\"\",IF(VLOOKUP(A24,finale!F:J,5,FALSE)>0,\"P\",\"G\"),\"\")),\"\")","v":""},{"$f":"IF(finale!$K$1<>0,IF(I24=\"G\",\"1er\",IF(I24=\"P\",\"2eme\",IF(H24=\"P\",\"3/4eme\",IF(G24=\"P\",\"5 à 8eme\",\"\")))),\"\")","v":""},null,null,null,{"$f":"IF(ISERROR(VLOOKUP(A24,'32eme'!B$3:M$34,12,FALSE)),IF(ISERROR(VLOOKUP(A24,'32eme'!F$3:M$34,8,FALSE)),\"\",VLOOKUP(A24,'32eme'!F$3:M$34,8,FALSE)),VLOOKUP(A24,'32eme'!B$3:M$34,12,FALSE))","v":""},{"$f":"IF(ISERROR(VLOOKUP(A24,'16eme'!B$3:M$18,12,FALSE)),IF(ISERROR(VLOOKUP(A24,'16eme'!F$3:M$18,8,FALSE)),\"\",VLOOKUP(A24,'16eme'!F$3:M$18,8,FALSE)),VLOOKUP(A24,'16eme'!B$3:M$18,12,FALSE))","v":""},{"$f":"IF(ISERROR(VLOOKUP(A24,'8eme'!B$3:M$10,12,FALSE)),IF(ISERROR(VLOOKUP(A24,'8eme'!F$3:M$10,8,FALSE)),\"\",VLOOKUP(A24,'8eme'!F$3:M$10,8,FALSE)),VLOOKUP(A24,'8eme'!B$3:M$10,12,FALSE))","v":""},{"$f":"IF(ISERROR(VLOOKUP(A24,quart!B$3:M$6,12,FALSE)),IF(ISERROR(VLOOKUP(A24,quart!F$3:M$6,8,FALSE)),\"\",VLOOKUP(A24,quart!F$3:M$6,8,FALSE)),VLOOKUP(A24,quart!B$3:M$6,12,FALSE))","v":""},{"$f":"IF(ISERROR(VLOOKUP(A24,demi!B$3:M$4,12,FALSE)),IF(ISERROR(VLOOKUP(A24,demi!F$3:M$4,8,FALSE)),\"\",VLOOKUP(A24,demi!F$3:M$4,8,FALSE)),VLOOKUP(A24,demi!B$3:M$4,12,FALSE))","v":""}]
[22,null,null,null,{"$f":"IF(AND(B25<>\"\",'16eme'!$K$1<>0),IF(ISERROR(VLOOKUP(A25,'16eme'!B:J,1,FALSE)),\"\",IF(VLOOKUP(A25,'16eme'!B:J,9,FALSE)<>\"\",IF(VLOOKUP(A25,'16eme'!B:J,9,FALSE)>0,\"G\",\"P\"),\"\"))&IF(ISERROR(VLOOKUP(A25,'16eme'!F:J,1,FALSE)),\"\",IF(VLOOKUP(A25,'16eme'!F:J,5,FALSE)<>\"\",IF(VLOOKUP(A25,'16eme'!F:J,5,FALSE)>0,\"P\",\"G\"),\"\")),\"\")","v":""},{"$f":"IF(AND(B25<>\"\",'8eme'!$K$1<>0),IF(ISERROR(VLOOKUP(A25,'8eme'!B:J,1,FALSE)),\"\",IF(VLOOKUP(A25,'8eme'!B:J,9,FALSE)<>\"\",IF(VLOOKUP(A25,'8eme'!B:J,9,FALSE)>0,\"G\",\"P\"),\"\"))&IF(ISERROR(VLOOKUP(A25,'8eme'!F:J,1,FALSE)),\"\",IF(VLOOKUP(A25,'8eme'!F:J,5,FALSE)<>\"\",IF(VLOOKUP(A25,'8eme'!F:J,5,FALSE)>0,\"P\",\"G\"),\"\")),\"\")","v":""},{"$f":"IF(AND(B25<>\"\",quart!$K$1<>0),IF(ISERROR(VLOOKUP(A25,quart!B:J,1,FALSE)),\"\",IF(VLOOKUP(A25,quart!B:J,9,FALSE)<>\"\",IF(VLOOKUP(A25,quart!B:J,9,FALSE)>0,\"G\",\"P\"),\"\"))&IF(ISERROR(VLOOKUP(A25,quart!F:J,1,FALSE)),\"\",IF(VLOOKUP(A25,quart!F:J,5,FALSE)<>\"\",IF(VLOOKUP(A25,quart!F:J,5,FALSE)>0,\"P\",\"G\"),\"\")),\"\")","v":""},{"$f":"IF(AND(B25<>\"\",demi!$K$1<>0),IF(ISERROR(VLOOKUP(A25,demi!B:J,1,FALSE)),\"\",IF(VLOOKUP(A25,demi!B:J,9,FALSE)<>\"\",IF(VLOOKUP(A25,demi!B:J,9,FALSE)>0,\"G\",\"P\"),\"\"))&IF(ISERROR(VLOOKUP(A25,demi!F:J,1,FALSE)),\"\",IF(VLOOKUP(A25,demi!F:J,5,FALSE)<>\"\",IF(VLOOKUP(A25,demi!F:J,5,FALSE)>0,\"P\",\"G\"),\"\")),\"\")","v":""},{"$f":"IF(AND(B25<>\"\",finale!$K$1<>0),IF(ISERROR(VLOOKUP(A25,finale!B:J,1,FALSE)),\"\",IF(VLOOKUP(A25,finale!B:J,9,FALSE)<>\"\",IF(VLOOKUP(A25,finale!B:J,9,FALSE)>0,\"G\",\"P\"),\"\"))&IF(ISERROR(VLOOKUP(A25,finale!F:J,1,FALSE)),\"\",IF(VLOOKUP(A25,finale!F:J,5,FALSE)<>\"\",IF(VLOOKUP(A25,finale!F:J,5,FALSE)>0,\"P\",\"G\"),\"\")),\"\")","v":""},{"$f":"IF(finale!$K$1<>0,IF(I25=\"G\",\"1er\",IF(I25=\"P\",\"2eme\",IF(H25=\"P\",\"3/4eme\",IF(G25=\"P\",\"5 à 8eme\",\"\")))),\"\")","v":""},null,null,null,{"$f":"IF(ISERROR(VLOOKUP(A25,'32eme'!B$3:M$34,12,FALSE)),IF(ISERROR(VLOOKUP(A25,'32eme'!F$3:M$34,8,FALSE)),\"\",VLOOKUP(A25,'32eme'!F$3:M$34,8,FALSE)),VLOOKUP(A25,'32eme'!B$3:M$34,12,FALSE))","v":""},{"$f":"IF(ISERROR(VLOOKUP(A25,'16eme'!B$3:M$18,12,FALSE)),IF(ISERROR(VLOOKUP(A25,'16eme'!F$3:M$18,8,FALSE)),\"\",VLOOKUP(A25,'16eme'!F$3:M$18,8,FALSE)),VLOOKUP(A25,'16eme'!B$3:M$18,12,FALSE))","v":""},{"$f":"IF(ISERROR(VLOOKUP(A25,'8eme'!B$3:M$10,12,FALSE)),IF(ISERROR(VLOOKUP(A25,'8eme'!F$3:M$10,8,FALSE)),\"\",VLOOKUP(A25,'8eme'!F$3:M$10,8,FALSE)),VLOOKUP(A25,'8eme'!B$3:M$10,12,FALSE))","v":""},{"$f":"IF(ISERROR(VLOOKUP(A25,quart!B$3:M$6,12,FALSE)),IF(ISERROR(VLOOKUP(A25,quart!F$3:M$6,8,FALSE)),\"\",VLOOKUP(A25,quart!F$3:M$6,8,FALSE)),VLOOKUP(A25,quart!B$3:M$6,12,FALSE))","v":""},{"$f":"IF(ISERROR(VLOOKUP(A25,demi!B$3:M$4,12,FALSE)),IF(ISERROR(VLOOKUP(A25,demi!F$3:M$4,8,FALSE)),\"\",VLOOKUP(A25,demi!F$3:M$4,8,FALSE)),VLOOKUP(A25,demi!B$3:M$4,12,FALSE))","v":""}]
[23,null,null,null,{"$f":"IF(AND(B26<>\"\",'16eme'!$K$1<>0),IF(ISERROR(VLOOKUP(A26,'16eme'!B:J,1,FALSE)),\"\",IF(VLOOKUP(A26,'16eme'!B:J,9,FALSE)<>\"\",IF(VLOOKUP(A26,'16eme'!B:J,9,FALSE)>0,\"G\",\"P\"),\"\"))&IF(ISERROR(VLOOKUP(A26,'16eme'!F:J,1,FALSE)),\"\",IF(VLOOKUP(A26,'16eme'!F:J,5,FALSE)<>\"\",IF(VLOOKUP(A26,'16eme'!F:J,5,FALSE)>0,\"P\",\"G\"),\"\")),\"\")","v":""},{"$f":"IF(AND(B26<>\"\",'8eme'!$K$1<>0),IF(ISERROR(VLOOKUP(A26,'8eme'!B:J,1,FALSE)),\"\",IF(VLOOKUP(A26,'8eme'!B:J,9,FALSE)<>\"\",IF(VLOOKUP(A26,'8eme'!B:J,9,FALSE)>0,\"G\",\"P\"),\"\"))&IF(ISERROR(VLOOKUP(A26,'8eme'!F:J,1,FALSE)),\"\",IF(VLOOKUP(A26,'8eme'!F:J,5,FALSE)<>\"\",IF(VLOOKUP(A26,'8eme'!F:J,5,FALSE)>0,\"P\",\"G\"),\"\")),\"\")","v":""},{"$f":"IF(AND(B26<>\"\",quart!$K$1<>0),IF(ISERROR(VLOOKUP(A26,quart!B:J,1,FALSE)),\"\",IF(VLOOKUP(A26,quart!B:J,9,FALSE)<>\"\",IF(VLOOKUP(A26,quart!B:J,9,FALSE)>0,\"G\",\"P\"),\"\"))&IF(ISERROR(VLOOKUP(A26,quart!F:J,1,FALSE)),\"\",IF(VLOOKUP(A26,quart!F:J,5,FALSE)<>\"\",IF(VLOOKUP(A26,quart!F:J,5,FALSE)>0,\"P\",\"G\"),\"\")),\"\")","v":""},{"$f":"IF(AND(B26<>\"\",demi!$K$1<>0),IF(ISERROR(VLOOKUP(A26,demi!B:J,1,FALSE)),\"\",IF(VLOOKUP(A26,demi!B:J,9,FALSE)<>\"\",IF(VLOOKUP(A26,demi!B:J,9,FALSE)>0,\"G\",\"P\"),\"\"))&IF(ISERROR(VLOOKUP(A26,demi!F:J,1,FALSE)),\"\",IF(VLOOKUP(A26,demi!F:J,5,FALSE)<>\"\",IF(VLOOKUP(A26,demi!F:J,5,FALSE)>0,\"P\",\"G\"),\"\")),\"\")","v":""},{"$f":"IF(AND(B26<>\"\",finale!$K$1<>0),IF(ISERROR(VLOOKUP(A26,finale!B:J,1,FALSE)),\"\",IF(VLOOKUP(A26,finale!B:J,9,FALSE)<>\"\",IF(VLOOKUP(A26,finale!B:J,9,FALSE)>0,\"G\",\"P\"),\"\"))&IF(ISERROR(VLOOKUP(A26,finale!F:J,1,FALSE)),\"\",IF(VLOOKUP(A26,finale!F:J,5,FALSE)<>\"\",IF(VLOOKUP(A26,finale!F:J,5,FALSE)>0,\"P\",\"G\"),\"\")),\"\")","v":""},{"$f":"IF(finale!$K$1<>0,IF(I26=\"G\",\"1er\",IF(I26=\"P\",\"2eme\",IF(H26=\"P\",\"3/4eme\",IF(G26=\"P\",\"5 à 8eme\",\"\")))),\"\")","v":""},null,null,null,{"$f":"IF(ISERROR(VLOOKUP(A26,'32eme'!B$3:M$34,12,FALSE)),IF(ISERROR(VLOOKUP(A26,'32eme'!F$3:M$34,8,FALSE)),\"\",VLOOKUP(A26,'32eme'!F$3:M$34,8,FALSE)),VLOOKUP(A26,'32eme'!B$3:M$34,12,FALSE))","v":""},{"$f":"IF(ISERROR(VLOOKUP(A26,'16eme'!B$3:M$18,12,FALSE)),IF(ISERROR(VLOOKUP(A26,'16eme'!F$3:M$18,8,FALSE)),\"\",VLOOKUP(A26,'16eme'!F$3:M$18,8,FALSE)),VLOOKUP(A26,'16eme'!B$3:M$18,12,FALSE))","v":""},{"$f":"IF(ISERROR(VLOOKUP(A26,'8eme'!B$3:M$10,12,FALSE)),IF(ISERROR(VLOOKUP(A26,'8eme'!F$3:M$10,8,FALSE)),\"\",VLOOKUP(A26,'8eme'!F$3:M$10,8,FALSE)),VLOOKUP(A26,'8eme'!B$3:M$10,12,FALSE))","v":""},{"$f":"IF(ISERROR(VLOOKUP(A26,quart!B$3:M$6,12,FALSE)),IF(ISERROR(VLOOKUP(A26,quart!F$3:M$6,8,FALSE)),\"\",VLOOKUP(A26,quart!F$3:M$6,8,FALSE)),VLOOKUP(A26,quart!B$3:M$6,12,FALSE))","v":""},{"$f":"IF(ISERROR(VLOOKUP(A26,demi!B$3:M$4,12,FALSE)),IF(ISERROR(VLOOKUP(A26,demi!F$3:M$4,8,FALSE)),\"\",VLOOKUP(A26,demi!F$3:M$4,8,FALSE)),VLOOKUP(A26,demi!B$3:M$4,12,FALSE))","v":""}]
[24,null,null,null,{"$f":"IF(AND(B27<>\"\",'16eme'!$K$1<>0),IF(ISERROR(VLOOKUP(A27,'16eme'!B:J,1,FALSE)),\"\",IF(VLOOKUP(A27,'16eme'!B:J,9,FALSE)<>\"\",IF(VLOOKUP(A27,'16eme'!B:J,9,FALSE)>0,\"G\",\"P\"),\"\"))&IF(ISERROR(VLOOKUP(A27,'16eme'!F:J,1,FALSE)),\"\",IF(VLOOKUP(A27,'16eme'!F:J,5,FALSE)<>\"\",IF(VLOOKUP(A27,'16eme'!F:J,5,FALSE)>0,\"P\",\"G\"),\"\")),\"\")","v":""},{"$f":"IF(AND(B27<>\"\",'8eme'!$K$1<>0),IF(ISERROR(VLOOKUP(A27,'8eme'!B:J,1,FALSE)),\"\",IF(VLOOKUP(A27,'8eme'!B:J,9,FALSE)<>\"\",IF(VLOOKUP(A27,'8eme'!B:J,9,FALSE)>0,\"G\",\"P\"),\"\"))&IF(ISERROR(VLOOKUP(A27,'8eme'!F:J,1,FALSE)),\"\",IF(VLOOKUP(A27,'8eme'!F:J,5,FALSE)<>\"\",IF(VLOOKUP(A27,'8eme'!F:J,5,FALSE)>0,\"P\",\"G\"),\"\")),\"\")","v":""},{"$f":"IF(AND(B27<>\"\",quart!$K$1<>0),IF(ISERROR(VLOOKUP(A27,quart!B:J,1,FALSE)),\"\",IF(VLOOKUP(A27,quart!B:J,9,FALSE)<>\"\",IF(VLOOKUP(A27,quart!B:J,9,FALSE)>0,\"G\",\"P\"),\"\"))&IF(ISERROR(VLOOKUP(A27,quart!F:J,1,FALSE)),\"\",IF(VLOOKUP(A27,quart!F:J,5,FALSE)<>\"\",IF(VLOOKUP(A27,quart!F:J,5,FALSE)>0,\"P\",\"G\"),\"\")),\"\")","v":""},{"$f":"IF(AND(B27<>\"\",demi!$K$1<>0),IF(ISERROR(VLOOKUP(A27,demi!B:J,1,FALSE)),\"\",IF(VLOOKUP(A27,demi!B:J,9,FALSE)<>\"\",IF(VLOOKUP(A27,demi!B:J,9,FALSE)>0,\"G\",\"P\"),\"\"))&IF(ISERROR(VLOOKUP(A27,demi!F:J,1,FALSE)),\"\",IF(VLOOKUP(A27,demi!F:J,5,FALSE)<>\"\",IF(VLOOKUP(A27,demi!F:J,5,FALSE)>0,\"P\",\"G\"),\"\")),\"\")","v":""},{"$f":"IF(AND(B27<>\"\",finale!$K$1<>0),IF(ISERROR(VLOOKUP(A27,finale!B:J,1,FALSE)),\"\",IF(VLOOKUP(A27,finale!B:J,9,FALSE)<>\"\",IF(VLOOKUP(A27,finale!B:J,9,FALSE)>0,\"G\",\"P\"),\"\"))&IF(ISERROR(VLOOKUP(A27,finale!F:J,1,FALSE)),\"\",IF(VLOOKUP(A27,finale!F:J,5,FALSE)<>\"\",IF(VLOOKUP(A27,finale!F:J,5,FALSE)>0,\"P\",\"G\"),\"\")),\"\")","v":""},{"$f":"IF(finale!$K$1<>0,IF(I27=\"G\",\"1er\",IF(I27=\"P\",\"2eme\",IF(H27=\"P\",\"3/4eme\",IF(G27=\"P\",\"5 à 8eme\",\"\")))),\"\")","v":""},null,null,null,{"$f":"IF(ISERROR(VLOOKUP(A27,'32eme'!B$3:M$34,12,FALSE)),IF(ISERROR(VLOOKUP(A27,'32eme'!F$3:M$34,8,FALSE)),\"\",VLOOKUP(A27,'32eme'!F$3:M$34,8,FALSE)),VLOOKUP(A27,'32eme'!B$3:M$34,12,FALSE))","v":""},{"$f":"IF(ISERROR(VLOOKUP(A27,'16eme'!B$3:M$18,12,FALSE)),IF(ISERROR(VLOOKUP(A27,'16eme'!F$3:M$18,8,FALSE)),\"\",VLOOKUP(A27,'16eme'!F$3:M$18,8,FALSE)),VLOOKUP(A27,'16eme'!B$3:M$18,12,FALSE))","v":""},{"$f":"IF(ISERROR(VLOOKUP(A27,'8eme'!B$3:M$10,12,FALSE)),IF(ISERROR(VLOOKUP(A27,'8eme'!F$3:M$10,8,FALSE)),\"\",VLOOKUP(A27,'8eme'!F$3:M$10,8,FALSE)),VLOOKUP(A27,'8eme'!B$3:M$10,12,FALSE))","v":""},{"$f":"IF(ISERROR(VLOOKUP(A27,quart!B$3:M$6,12,FALSE)),IF(ISERROR(VLOOKUP(A27,quart!F$3:M$6,8,FALSE)),\"\",VLOOKUP(A27,quart!F$3:M$6,8,FALSE)),VLOOKUP(A27,quart!B$3:M$6,12,FALSE))","v":""},{"$f":"IF(ISERROR(VLOOKUP(A27,demi!B$3:M$4,12,FALSE)),IF(ISERROR(VLOOKUP(A27,demi!F$3:M$4,8,FALSE)),\"\",VLOOKUP(A27,demi!F$3:M$4,8,FALSE)),VLOOKUP(A27,demi!B$3:M$4,12,FALSE))","v":""}]
[25,null,null,null,{"$f":"IF(AND(B28<>\"\",'16eme'!$K$1<>0),IF(ISERROR(VLOOKUP(A28,'16eme'!B:J,1,FALSE)),\"\",IF(VLOOKUP(A28,'16eme'!B:J,9,FALSE)<>\"\",IF(VLOOKUP(A28,'16eme'!B:J,9,FALSE)>0,\"G\",\"P\"),\"\"))&IF(ISERROR(VLOOKUP(A28,'16eme'!F:J,1,FALSE)),\"\",IF(VLOOKUP(A28,'16eme'!F:J,5,FALSE)<>\"\",IF(VLOOKUP(A28,'16eme'!F:J,5,FALSE)>0,\"P\",\"G\"),\"\")),\"\")","v":""},{"$f":"IF(AND(B28<>\"\",'8eme'!$K$1<>0),IF(ISERROR(VLOOKUP(A28,'8eme'!B:J,1,FALSE)),\"\",IF(VLOOKUP(A28,'8eme'!B:J,9,FALSE)<>\"\",IF(VLOOKUP(A28,'8eme'!B:J,9,FALSE)>0,\"G\",\"P\"),\"\"))&IF(ISERROR(VLOOKUP(A28,'8eme'!F:J,1,FALSE)),\"\",IF(VLOOKUP(A28,'8eme'!F:J,5,FALSE)<>\"\",IF(VLOOKUP(A28,'8eme'!F:J,5,FALSE)>0,\"P\",\"G\"),\"\")),\"\")","v":""},{"$f":"IF(AND(B28<>\"\",quart!$K$1<>0),IF(ISERROR(VLOOKUP(A28,quart!B:J,1,FALSE)),\"\",IF(VLOOKUP(A28,quart!B:J,9,FALSE)<>\"\",IF(VLOOKUP(A28,quart!B:J,9,FALSE)>0,\"G\",\"P\"),\"\"))&IF(ISERROR(VLOOKUP(A28,quart!F:J,1,FALSE)),\"\",IF(VLOOKUP(A28,quart!F:J,5,FALSE)<>\"\",IF(VLOOKUP(A28,quart!F:J,5,FALSE)>0,\"P\",\"G\"),\"\")),\"\")","v":""},{"$f":"IF(AND(B28<>\"\",demi!$K$1<>0),IF(ISERROR(VLOOKUP(A28,demi!B:J,1,FALSE)),\"\",IF(VLOOKUP(A28,demi!B:J,9,FALSE)<>\"\",IF(VLOOKUP(A28,demi!B:J,9,FALSE)>0,\"G\",\"P\"),\"\"))&IF(ISERROR(VLOOKUP(A28,demi!F:J,1,FALSE)),\"\",IF(VLOOKUP(A28,demi!F:J,5,FALSE)<>\"\",IF(VLOOKUP(A28,demi!F:J,5,FALSE)>0,\"P\",\"G\"),\"\")),\"\")","v":""},{"$f":"IF(AND(B28<>\"\",finale!$K$1<>0),IF(ISERROR(VLOOKUP(A28,finale!B:J,1,FALSE)),\"\",IF(VLOOKUP(A28,finale!B:J,9,FALSE)<>\"\",IF(VLOOKUP(A28,finale!B:J,9,FALSE)>0,\"G\",\"P\"),\"\"))&IF(ISERROR(VLOOKUP(A28,finale!F:J,1,FALSE)),\"\",IF(VLOOKUP(A28,finale!F:J,5,FALSE)<>\"\",IF(VLOOKUP(A28,finale!F:J,5,FALSE)>0,\"P\",\"G\"),\"\")),\"\")","v":""},{"$f":"IF(finale!$K$1<>0,IF(I28=\"G\",\"1er\",IF(I28=\"P\",\"2eme\",IF(H28=\"P\",\"3/4eme\",IF(G28=\"P\",\"5 à 8eme\",\"\")))),\"\")","v":""},null,null,null,{"$f":"IF(ISERROR(VLOOKUP(A28,'32eme'!B$3:M$34,12,FALSE)),IF(ISERROR(VLOOKUP(A28,'32eme'!F$3:M$34,8,FALSE)),\"\",VLOOKUP(A28,'32eme'!F$3:M$34,8,FALSE)),VLOOKUP(A28,'32eme'!B$3:M$34,12,FALSE))","v":""},{"$f":"IF(ISERROR(VLOOKUP(A28,'16eme'!B$3:M$18,12,FALSE)),IF(ISERROR(VLOOKUP(A28,'16eme'!F$3:M$18,8,FALSE)),\"\",VLOOKUP(A28,'16eme'!F$3:M$18,8,FALSE)),VLOOKUP(A28,'16eme'!B$3:M$18,12,FALSE))","v":""},{"$f":"IF(ISERROR(VLOOKUP(A28,'8eme'!B$3:M$10,12,FALSE)),IF(ISERROR(VLOOKUP(A28,'8eme'!F$3:M$10,8,FALSE)),\"\",VLOOKUP(A28,'8eme'!F$3:M$10,8,FALSE)),VLOOKUP(A28,'8eme'!B$3:M$10,12,FALSE))","v":""},{"$f":"IF(ISERROR(VLOOKUP(A28,quart!B$3:M$6,12,FALSE)),IF(ISERROR(VLOOKUP(A28,quart!F$3:M$6,8,FALSE)),\"\",VLOOKUP(A28,quart!F$3:M$6,8,FALSE)),VLOOKUP(A28,quart!B$3:M$6,12,FALSE))","v":""},{"$f":"IF(ISERROR(VLOOKUP(A28,demi!B$3:M$4,12,FALSE)),IF(ISERROR(VLOOKUP(A28,demi!F$3:M$4,8,FALSE)),\"\",VLOOKUP(A28,demi!F$3:M$4,8,FALSE)),VLOOKUP(A28,demi!B$3:M$4,12,FALSE))","v":""}]
[26,null,null,null,{"$f":"IF(AND(B29<>\"\",'16eme'!$K$1<>0),IF(ISERROR(VLOOKUP(A29,'16eme'!B:J,1,FALSE)),\"\",IF(VLOOKUP(A29,'16eme'!B:J,9,FALSE)<>\"\",IF(VLOOKUP(A29,'16eme'!B:J,9,FALSE)>0,\"G\",\"P\"),\"\"))&IF(ISERROR(VLOOKUP(A29,'16eme'!F:J,1,FALSE)),\"\",IF(VLOOKUP(A29,'16eme'!F:J,5,FALSE)<>\"\",IF(VLOOKUP(A29,'16eme'!F:J,5,FALSE)>0,\"P\",\"G\"),\"\")),\"\")","v":""},{"$f":"IF(AND(B29<>\"\",'8eme'!$K$1<>0),IF(ISERROR(VLOOKUP(A29,'8eme'!B:J,1,FALSE)),\"\",IF(VLOOKUP(A29,'8eme'!B:J,9,FALSE)<>\"\",IF(VLOOKUP(A29,'8eme'!B:J,9,FALSE)>0,\"G\",\"P\"),\"\"))&IF(ISERROR(VLOOKUP(A29,'8eme'!F:J,1,FALSE)),\"\",IF(VLOOKUP(A29,'8eme'!F:J,5,FALSE)<>\"\",IF(VLOOKUP(A29,'8eme'!F:J,5,FALSE)>0,\"P\",\"G\"),\"\")),\"\")","v":""},{"$f":"IF(AND(B29<>\"\",quart!$K$1<>0),IF(ISERROR(VLOOKUP(A29,quart!B:J,1,FALSE)),\"\",IF(VLOOKUP(A29,quart!B:J,9,FALSE)<>\"\",IF(VLOOKUP(A29,quart!B:J,9,FALSE)>0,\"G\",\"P\"),\"\"))&IF(ISERROR(VLOOKUP(A29,quart!F:J,1,FALSE)),\"\",IF(VLOOKUP(A29,quart!F:J,5,FALSE)<>\"\",IF(VLOOKUP(A29,quart!F:J,5,FALSE)>0,\"P\",\"G\"),\"\")),\"\")","v":""},{"$f":"IF(AND(B29<>\"\",demi!$K$1<>0),IF(ISERROR(VLOOKUP(A29,demi!B:J,1,FALSE)),\"\",IF(VLOOKUP(A29,demi!B:J,9,FALSE)<>\"\",IF(VLOOKUP(A29,demi!B:J,9,FALSE)>0,\"G\",\"P\"),\"\"))&IF(ISERROR(VLOOKUP(A29,demi!F:J,1,FALSE)),\"\",IF(VLOOKUP(A29,demi!F:J,5,FALSE)<>\"\",IF(VLOOKUP(A29,demi!F:J,5,FALSE)>0,\"P\",\"G\"),\"\")),\"\")","v":""},{"$f":"IF(AND(B29<>\"\",finale!$K$1<>0),IF(ISERROR(VLOOKUP(A29,finale!B:J,1,FALSE)),\"\",IF(VLOOKUP(A29,finale!B:J,9,FALSE)<>\"\",IF(VLOOKUP(A29,finale!B:J,9,FALSE)>0,\"G\",\"P\"),\"\"))&IF(ISERROR(VLOOKUP(A29,finale!F:J,1,FALSE)),\"\",IF(VLOOKUP(A29,finale!F:J,5,FALSE)<>\"\",IF(VLOOKUP(A29,finale!F:J,5,FALSE)>0,\"P\",\"G\"),\"\")),\"\")","v":""},{"$f":"IF(finale!$K$1<>0,IF(I29=\"G\",\"1er\",IF(I29=\"P\",\"2eme\",IF(H29=\"P\",\"3/4eme\",IF(G29=\"P\",\"5 à 8eme\",\"\")))),\"\")","v":""},null,null,null,{"$f":"IF(ISERROR(VLOOKUP(A29,'32eme'!B$3:M$34,12,FALSE)),IF(ISERROR(VLOOKUP(A29,'32eme'!F$3:M$34,8,FALSE)),\"\",VLOOKUP(A29,'32eme'!F$3:M$34,8,FALSE)),VLOOKUP(A29,'32eme'!B$3:M$34,12,FALSE))","v":""},{"$f":"IF(ISERROR(VLOOKUP(A29,'16eme'!B$3:M$18,12,FALSE)),IF(ISERROR(VLOOKUP(A29,'16eme'!F$3:M$18,8,FALSE)),\"\",VLOOKUP(A29,'16eme'!F$3:M$18,8,FALSE)),VLOOKUP(A29,'16eme'!B$3:M$18,12,FALSE))","v":""},{"$f":"IF(ISERROR(VLOOKUP(A29,'8eme'!B$3:M$10,12,FALSE)),IF(ISERROR(VLOOKUP(A29,'8eme'!F$3:M$10,8,FALSE)),\"\",VLOOKUP(A29,'8eme'!F$3:M$10,8,FALSE)),VLOOKUP(A29,'8eme'!B$3:M$10,12,FALSE))","v":""},{"$f":"IF(ISERROR(VLOOKUP(A29,quart!B$3:M$6,12,FALSE)),IF(ISERROR(VLOOKUP(A29,quart!F$3:M$6,8,FALSE)),\"\",VLOOKUP(A29,quart!F$3:M$6,8,FALSE)),VLOOKUP(A29,quart!B$3:M$6,12,FALSE))","v":""},{"$f":"IF(ISERROR(VLOOKUP(A29,demi!B$3:M$4,12,FALSE)),IF(ISERROR(VLOOKUP(A29,demi!F$3:M$4,8,FALSE)),\"\",VLOOKUP(A29,demi!F$3:M$4,8,FALSE)),VLOOKUP(A29,demi!B$3:M$4,12,FALSE))","v":""}]
[27,null,null,null,{"$f":"IF(AND(B30<>\"\",'16eme'!$K$1<>0),IF(ISERROR(VLOOKUP(A30,'16eme'!B:J,1,FALSE)),\"\",IF(VLOOKUP(A30,'16eme'!B:J,9,FALSE)<>\"\",IF(VLOOKUP(A30,'16eme'!B:J,9,FALSE)>0,\"G\",\"P\"),\"\"))&IF(ISERROR(VLOOKUP(A30,'16eme'!F:J,1,FALSE)),\"\",IF(VLOOKUP(A30,'16eme'!F:J,5,FALSE)<>\"\",IF(VLOOKUP(A30,'16eme'!F:J,5,FALSE)>0,\"P\",\"G\"),\"\")),\"\")","v":""},{"$f":"IF(AND(B30<>\"\",'8eme'!$K$1<>0),IF(ISERROR(VLOOKUP(A30,'8eme'!B:J,1,FALSE)),\"\",IF(VLOOKUP(A30,'8eme'!B:J,9,FALSE)<>\"\",IF(VLOOKUP(A30,'8eme'!B:J,9,FALSE)>0,\"G\",\"P\"),\"\"))&IF(ISERROR(VLOOKUP(A30,'8eme'!F:J,1,FALSE)),\"\",IF(VLOOKUP(A30,'8eme'!F:J,5,FALSE)<>\"\",IF(VLOOKUP(A30,'8eme'!F:J,5,FALSE)>0,\"P\",\"G\"),\"\")),\"\")","v":""},{"$f":"IF(AND(B30<>\"\",quart!$K$1<>0),IF(ISERROR(VLOOKUP(A30,quart!B:J,1,FALSE)),\"\",IF(VLOOKUP(A30,quart!B:J,9,FALSE)<>\"\",IF(VLOOKUP(A30,quart!B:J,9,FALSE)>0,\"G\",\"P\"),\"\"))&IF(ISERROR(VLOOKUP(A30,quart!F:J,1,FALSE)),\"\",IF(VLOOKUP(A30,quart!F:J,5,FALSE)<>\"\",IF(VLOOKUP(A30,quart!F:J,5,FALSE)>0,\"P\",\"G\"),\"\")),\"\")","v":""},{"$f":"IF(AND(B30<>\"\",demi!$K$1<>0),IF(ISERROR(VLOOKUP(A30,demi!B:J,1,FALSE)),\"\",IF(VLOOKUP(A30,demi!B:J,9,FALSE)<>\"\",IF(VLOOKUP(A30,demi!B:J,9,FALSE)>0,\"G\",\"P\"),\"\"))&IF(ISERROR(VLOOKUP(A30,demi!F:J,1,FALSE)),\"\",IF(VLOOKUP(A30,demi!F:J,5,FALSE)<>\"\",IF(VLOOKUP(A30,demi!F:J,5,FALSE)>0,\"P\",\"G\"),\"\")),\"\")","v":""},{"$f":"IF(AND(B30<>\"\",finale!$K$1<>0),IF(ISERROR(VLOOKUP(A30,finale!B:J,1,FALSE)),\"\",IF(VLOOKUP(A30,finale!B:J,9,FALSE)<>\"\",IF(VLOOKUP(A30,finale!B:J,9,FALSE)>0,\"G\",\"P\"),\"\"))&IF(ISERROR(VLOOKUP(A30,finale!F:J,1,FALSE)),\"\",IF(VLOOKUP(A30,finale!F:J,5,FALSE)<>\"\",IF(VLOOKUP(A30,finale!F:J,5,FALSE)>0,\"P\",\"G\"),\"\")),\"\")","v":""},{"$f":"IF(finale!$K$1<>0,IF(I30=\"G\",\"1er\",IF(I30=\"P\",\"2eme\",IF(H30=\"P\",\"3/4eme\",IF(G30=\"P\",\"5 à 8eme\",\"\")))),\"\")","v":""},null,null,null,{"$f":"IF(ISERROR(VLOOKUP(A30,'32eme'!B$3:M$34,12,FALSE)),IF(ISERROR(VLOOKUP(A30,'32eme'!F$3:M$34,8,FALSE)),\"\",VLOOKUP(A30,'32eme'!F$3:M$34,8,FALSE)),VLOOKUP(A30,'32eme'!B$3:M$34,12,FALSE))","v":""},{"$f":"IF(ISERROR(VLOOKUP(A30,'16eme'!B$3:M$18,12,FALSE)),IF(ISERROR(VLOOKUP(A30,'16eme'!F$3:M$18,8,FALSE)),\"\",VLOOKUP(A30,'16eme'!F$3:M$18,8,FALSE)),VLOOKUP(A30,'16eme'!B$3:M$18,12,FALSE))","v":""},{"$f":"IF(ISERROR(VLOOKUP(A30,'8eme'!B$3:M$10,12,FALSE)),IF(ISERROR(VLOOKUP(A30,'8eme'!F$3:M$10,8,FALSE)),\"\",VLOOKUP(A30,'8eme'!F$3:M$10,8,FALSE)),VLOOKUP(A30,'8eme'!B$3:M$10,12,FALSE))","v":""},{"$f":"IF(ISERROR(VLOOKUP(A30,quart!B$3:M$6,12,FALSE)),IF(ISERROR(VLOOKUP(A30,quart!F$3:M$6,8,FALSE)),\"\",VLOOKUP(A30,quart!F$3:M$6,8,FALSE)),VLOOKUP(A30,quart!B$3:M$6,12,FALSE))","v":""},{"$f":"IF(ISERROR(VLOOKUP(A30,demi!B$3:M$4,12,FALSE)),IF(ISERROR(VLOOKUP(A30,demi!F$3:M$4,8,FALSE)),\"\",VLOOKUP(A30,demi!F$3:M$4,8,FALSE)),VLOOKUP(A30,demi!B$3:M$4,12,FALSE))","v":""}]
[28,null,null,null,{"$f":"IF(AND(B31<>\"\",'16eme'!$K$1<>0),IF(ISERROR(VLOOKUP(A31,'16eme'!B:J,1,FALSE)),\"\",IF(VLOOKUP(A31,'16eme'!B:J,9,FALSE)<>\"\",IF(VLOOKUP(A31,'16eme'!B:J,9,FALSE)>0,\"G\",\"P\"),\"\"))&IF(ISERROR(VLOOKUP(A31,'16eme'!F:J,1,FALSE)),\"\",IF(VLOOKUP(A31,'16eme'!F:J,5,FALSE)<>\"\",IF(VLOOKUP(A31,'16eme'!F:J,5,FALSE)>0,\"P\",\"G\"),\"\")),\"\")","v":""},{"$f":"IF(AND(B31<>\"\",'8eme'!$K$1<>0),IF(ISERROR(VLOOKUP(A31,'8eme'!B:J,1,FALSE)),\"\",IF(VLOOKUP(A31,'8eme'!B:J,9,FALSE)<>\"\",IF(VLOOKUP(A31,'8eme'!B:J,9,FALSE)>0,\"G\",\"P\"),\"\"))&IF(ISERROR(VLOOKUP(A31,'8eme'!F:J,1,FALSE)),\"\",IF(VLOOKUP(A31,'8eme'!F:J,5,FALSE)<>\"\",IF(VLOOKUP(A31,'8eme'!F:J,5,FALSE)>0,\"P\",\"G\"),\"\")),\"\")","v":""},{"$f":"IF(AND(B31<>\"\",quart!$K$1<>0),IF(ISERROR(VLOOKUP(A31,quart!B:J,1,FALSE)),\"\",IF(VLOOKUP(A31,quart!B:J,9,FALSE)<>\"\",IF(VLOOKUP(A31,quart!B:J,9,FALSE)>0,\"G\",\"P\"),\"\"))&IF(ISERROR(VLOOKUP(A31,quart!F:J,1,FALSE)),\"\",IF(VLOOKUP(A31,quart!F:J,5,FALSE)<>\"\",IF(VLOOKUP(A31,quart!F:J,5,FALSE)>0,\"P\",\"G\"),\"\")),\"\")","v":""},{"$f":"IF(AND(B31<>\"\",demi!$K$1<>0),IF(ISERROR(VLOOKUP(A31,demi!B:J,1,FALSE)),\"\",IF(VLOOKUP(A31,demi!B:J,9,FALSE)<>\"\",IF(VLOOKUP(A31,demi!B:J,9,FALSE)>0,\"G\",\"P\"),\"\"))&IF(ISERROR(VLOOKUP(A31,demi!F:J,1,FALSE)),\"\",IF(VLOOKUP(A31,demi!F:J,5,FALSE)<>\"\",IF(VLOOKUP(A31,demi!F:J,5,FALSE)>0,\"P\",\"G\"),\"\")),\"\")","v":""},{"$f":"IF(AND(B31<>\"\",finale!$K$1<>0),IF(ISERROR(VLOOKUP(A31,finale!B:J,1,FALSE)),\"\",IF(VLOOKUP(A31,finale!B:J,9,FALSE)<>\"\",IF(VLOOKUP(A31,finale!B:J,9,FALSE)>0,\"G\",\"P\"),\"\"))&IF(ISERROR(VLOOKUP(A31,finale!F:J,1,FALSE)),\"\",IF(VLOOKUP(A31,finale!F:J,5,FALSE)<>\"\",IF(VLOOKUP(A31,finale!F:J,5,FALSE)>0,\"P\",\"G\"),\"\")),\"\")","v":""},{"$f":"IF(finale!$K$1<>0,IF(I31=\"G\",\"1er\",IF(I31=\"P\",\"2eme\",IF(H31=\"P\",\"3/4eme\",IF(G31=\"P\",\"5 à 8eme\",\"\")))),\"\")","v":""},null,null,null,{"$f":"IF(ISERROR(VLOOKUP(A31,'32eme'!B$3:M$34,12,FALSE)),IF(ISERROR(VLOOKUP(A31,'32eme'!F$3:M$34,8,FALSE)),\"\",VLOOKUP(A31,'32eme'!F$3:M$34,8,FALSE)),VLOOKUP(A31,'32eme'!B$3:M$34,12,FALSE))","v":""},{"$f":"IF(ISERROR(VLOOKUP(A31,'16eme'!B$3:M$18,12,FALSE)),IF(ISERROR(VLOOKUP(A31,'16eme'!F$3:M$18,8,FALSE)),\"\",VLOOKUP(A31,'16eme'!F$3:M$18,8,FALSE)),VLOOKUP(A31,'16eme'!B$3:M$18,12,FALSE))","v":""},{"$f":"IF(ISERROR(VLOOKUP(A31,'8eme'!B$3:M$10,12,FALSE)),IF(ISERROR(VLOOKUP(A31,'8eme'!F$3:M$10,8,FALSE)),\"\",VLOOKUP(A31,'8eme'!F$3:M$10,8,FALSE)),VLOOKUP(A31,'8eme'!B$3:M$10,12,FALSE))","v":""},{"$f":"IF(ISERROR(VLOOKUP(A31,quart!B$3:M$6,12,FALSE)),IF(ISERROR(VLOOKUP(A31,quart!F$3:M$6,8,FALSE)),\"\",VLOOKUP(A31,quart!F$3:M$6,8,FALSE)),VLOOKUP(A31,quart!B$3:M$6,12,FALSE))","v":""},{"$f":"IF(ISERROR(VLOOKUP(A31,demi!B$3:M$4,12,FALSE)),IF(ISERROR(VLOOKUP(A31,demi!F$3:M$4,8,FALSE)),\"\",VLOOKUP(A31,demi!F$3:M$4,8,FALSE)),VLOOKUP(A31,demi!B$3:M$4,12,FALSE))","v":""}]
[29,null,null,null,{"$f":"IF(AND(B32<>\"\",'16eme'!$K$1<>0),IF(ISERROR(VLOOKUP(A32,'16eme'!B:J,1,FALSE)),\"\",IF(VLOOKUP(A32,'16eme'!B:J,9,FALSE)<>\"\",IF(VLOOKUP(A32,'16eme'!B:J,9,FALSE)>0,\"G\",\"P\"),\"\"))&IF(ISERROR(VLOOKUP(A32,'16eme'!F:J,1,FALSE)),\"\",IF(VLOOKUP(A32,'16eme'!F:J,5,FALSE)<>\"\",IF(VLOOKUP(A32,'16eme'!F:J,5,FALSE)>0,\"P\",\"G\"),\"\")),\"\")","v":""},{"$f":"IF(AND(B32<>\"\",'8eme'!$K$1<>0),IF(ISERROR(VLOOKUP(A32,'8eme'!B:J,1,FALSE)),\"\",IF(VLOOKUP(A32,'8eme'!B:J,9,FALSE)<>\"\",IF(VLOOKUP(A32,'8eme'!B:J,9,FALSE)>0,\"G\",\"P\"),\"\"))&IF(ISERROR(VLOOKUP(A32,'8eme'!F:J,1,FALSE)),\"\",IF(VLOOKUP(A32,'8eme'!F:J,5,FALSE)<>\"\",IF(VLOOKUP(A32,'8eme'!F:J,5,FALSE)>0,\"P\",\"G\"),\"\")),\"\")","v":""},{"$f":"IF(AND(B32<>\"\",quart!$K$1<>0),IF(ISERROR(VLOOKUP(A32,quart!B:J,1,FALSE)),\"\",IF(VLOOKUP(A32,quart!B:J,9,FALSE)<>\"\",IF(VLOOKUP(A32,quart!B:J,9,FALSE)>0,\"G\",\"P\"),\"\"))&IF(ISERROR(VLOOKUP(A32,quart!F:J,1,FALSE)),\"\",IF(VLOOKUP(A32,quart!F:J,5,FALSE)<>\"\",IF(VLOOKUP(A32,quart!F:J,5,FALSE)>0,\"P\",\"G\"),\"\")),\"\")","v":""},{"$f":"IF(AND(B32<>\"\",demi!$K$1<>0),IF(ISERROR(VLOOKUP(A32,demi!B:J,1,FALSE)),\"\",IF(VLOOKUP(A32,demi!B:J,9,FALSE)<>\"\",IF(VLOOKUP(A32,demi!B:J,9,FALSE)>0,\"G\",\"P\"),\"\"))&IF(ISERROR(VLOOKUP(A32,demi!F:J,1,FALSE)),\"\",IF(VLOOKUP(A32,demi!F:J,5,FALSE)<>\"\",IF(VLOOKUP(A32,demi!F:J,5,FALSE)>0,\"P\",\"G\"),\"\")),\"\")","v":""},{"$f":"IF(AND(B32<>\"\",finale!$K$1<>0),IF(ISERROR(VLOOKUP(A32,finale!B:J,1,FALSE)),\"\",IF(VLOOKUP(A32,finale!B:J,9,FALSE)<>\"\",IF(VLOOKUP(A32,finale!B:J,9,FALSE)>0,\"G\",\"P\"),\"\"))&IF(ISERROR(VLOOKUP(A32,finale!F:J,1,FALSE)),\"\",IF(VLOOKUP(A32,finale!F:J,5,FALSE)<>\"\",IF(VLOOKUP(A32,finale!F:J,5,FALSE)>0,\"P\",\"G\"),\"\")),\"\")","v":""},{"$f":"IF(finale!$K$1<>0,IF(I32=\"G\",\"1er\",IF(I32=\"P\",\"2eme\",IF(H32=\"P\",\"3/4eme\",IF(G32=\"P\",\"5 à 8eme\",\"\")))),\"\")","v":""},null,null,null,{"$f":"IF(ISERROR(VLOOKUP(A32,'32eme'!B$3:M$34,12,FALSE)),IF(ISERROR(VLOOKUP(A32,'32eme'!F$3:M$34,8,FALSE)),\"\",VLOOKUP(A32,'32eme'!F$3:M$34,8,FALSE)),VLOOKUP(A32,'32eme'!B$3:M$34,12,FALSE))","v":""},{"$f":"IF(ISERROR(VLOOKUP(A32,'16eme'!B$3:M$18,12,FALSE)),IF(ISERROR(VLOOKUP(A32,'16eme'!F$3:M$18,8,FALSE)),\"\",VLOOKUP(A32,'16eme'!F$3:M$18,8,FALSE)),VLOOKUP(A32,'16eme'!B$3:M$18,12,FALSE))","v":""},{"$f":"IF(ISERROR(VLOOKUP(A32,'8eme'!B$3:M$10,12,FALSE)),IF(ISERROR(VLOOKUP(A32,'8eme'!F$3:M$10,8,FALSE)),\"\",VLOOKUP(A32,'8eme'!F$3:M$10,8,FALSE)),VLOOKUP(A32,'8eme'!B$3:M$10,12,FALSE))","v":""},{"$f":"IF(ISERROR(VLOOKUP(A32,quart!B$3:M$6,12,FALSE)),IF(ISERROR(VLOOKUP(A32,quart!F$3:M$6,8,FALSE)),\"\",VLOOKUP(A32,quart!F$3:M$6,8,FALSE)),VLOOKUP(A32,quart!B$3:M$6,12,FALSE))","v":""},{"$f":"IF(ISERROR(VLOOKUP(A32,demi!B$3:M$4,12,FALSE)),IF(ISERROR(VLOOKUP(A32,demi!F$3:M$4,8,FALSE)),\"\",VLOOKUP(A32,demi!F$3:M$4,8,FALSE)),VLOOKUP(A32,demi!B$3:M$4,12,FALSE))","v":""}]
[30,null,null,null,{"$f":"IF(AND(B33<>\"\",'16eme'!$K$1<>0),IF(ISERROR(VLOOKUP(A33,'16eme'!B:J,1,FALSE)),\"\",IF(VLOOKUP(A33,'16eme'!B:J,9,FALSE)<>\"\",IF(VLOOKUP(A33,'16eme'!B:J,9,FALSE)>0,\"G\",\"P\"),\"\"))&IF(ISERROR(VLOOKUP(A33,'16eme'!F:J,1,FALSE)),\"\",IF(VLOOKUP(A33,'16eme'!F:J,5,FALSE)<>\"\",IF(VLOOKUP(A33,'16eme'!F:J,5,FALSE)>0,\"P\",\"G\"),\"\")),\"\")","v":""},{"$f":"IF(AND(B33<>\"\",'8eme'!$K$1<>0),IF(ISERROR(VLOOKUP(A33,'8eme'!B:J,1,FALSE)),\"\",IF(VLOOKUP(A33,'8eme'!B:J,9,FALSE)<>\"\",IF(VLOOKUP(A33,'8eme'!B:J,9,FALSE)>0,\"G\",\"P\"),\"\"))&IF(ISERROR(VLOOKUP(A33,'8eme'!F:J,1,FALSE)),\"\",IF(VLOOKUP(A33,'8eme'!F:J,5,FALSE)<>\"\",IF(VLOOKUP(A33,'8eme'!F:J,5,FALSE)>0,\"P\",\"G\"),\"\")),\"\")","v":""},{"$f":"IF(AND(B33<>\"\",quart!$K$1<>0),IF(ISERROR(VLOOKUP(A33,quart!B:J,1,FALSE)),\"\",IF(VLOOKUP(A33,quart!B:J,9,FALSE)<>\"\",IF(VLOOKUP(A33,quart!B:J,9,FALSE)>0,\"G\",\"P\"),\"\"))&IF(ISERROR(VLOOKUP(A33,quart!F:J,1,FALSE)),\"\",IF(VLOOKUP(A33,quart!F:J,5,FALSE)<>\"\",IF(VLOOKUP(A33,quart!F:J,5,FALSE)>0,\"P\",\"G\"),\"\")),\"\")","v":""},{"$f":"IF(AND(B33<>\"\",demi!$K$1<>0),IF(ISERROR(VLOOKUP(A33,demi!B:J,1,FALSE)),\"\",IF(VLOOKUP(A33,demi!B:J,9,FALSE)<>\"\",IF(VLOOKUP(A33,demi!B:J,9,FALSE)>0,\"G\",\"P\"),\"\"))&IF(ISERROR(VLOOKUP(A33,demi!F:J,1,FALSE)),\"\",IF(VLOOKUP(A33,demi!F:J,5,FALSE)<>\"\",IF(VLOOKUP(A33,demi!F:J,5,FALSE)>0,\"P\",\"G\"),\"\")),\"\")","v":""},{"$f":"IF(AND(B33<>\"\",finale!$K$1<>0),IF(ISERROR(VLOOKUP(A33,finale!B:J,1,FALSE)),\"\",IF(VLOOKUP(A33,finale!B:J,9,FALSE)<>\"\",IF(VLOOKUP(A33,finale!B:J,9,FALSE)>0,\"G\",\"P\"),\"\"))&IF(ISERROR(VLOOKUP(A33,finale!F:J,1,FALSE)),\"\",IF(VLOOKUP(A33,finale!F:J,5,FALSE)<>\"\",IF(VLOOKUP(A33,finale!F:J,5,FALSE)>0,\"P\",\"G\"),\"\")),\"\")","v":""},{"$f":"IF(finale!$K$1<>0,IF(I33=\"G\",\"1er\",IF(I33=\"P\",\"2eme\",IF(H33=\"P\",\"3/4eme\",IF(G33=\"P\",\"5 à 8eme\",\"\")))),\"\")","v":""},null,null,null,{"$f":"IF(ISERROR(VLOOKUP(A33,'32eme'!B$3:M$34,12,FALSE)),IF(ISERROR(VLOOKUP(A33,'32eme'!F$3:M$34,8,FALSE)),\"\",VLOOKUP(A33,'32eme'!F$3:M$34,8,FALSE)),VLOOKUP(A33,'32eme'!B$3:M$34,12,FALSE))","v":""},{"$f":"IF(ISERROR(VLOOKUP(A33,'16eme'!B$3:M$18,12,FALSE)),IF(ISERROR(VLOOKUP(A33,'16eme'!F$3:M$18,8,FALSE)),\"\",VLOOKUP(A33,'16eme'!F$3:M$18,8,FALSE)),VLOOKUP(A33,'16eme'!B$3:M$18,12,FALSE))","v":""},{"$f":"IF(ISERROR(VLOOKUP(A33,'8eme'!B$3:M$10,12,FALSE)),IF(ISERROR(VLOOKUP(A33,'8eme'!F$3:M$10,8,FALSE)),\"\",VLOOKUP(A33,'8eme'!F$3:M$10,8,FALSE)),VLOOKUP(A33,'8eme'!B$3:M$10,12,FALSE))","v":""},{"$f":"IF(ISERROR(VLOOKUP(A33,quart!B$3:M$6,12,FALSE)),IF(ISERROR(VLOOKUP(A33,quart!F$3:M$6,8,FALSE)),\"\",VLOOKUP(A33,quart!F$3:M$6,8,FALSE)),VLOOKUP(A33,quart!B$3:M$6,12,FALSE))","v":""},{"$f":"IF(ISERROR(VLOOKUP(A33,demi!B$3:M$4,12,FALSE)),IF(ISERROR(VLOOKUP(A33,demi!F$3:M$4,8,FALSE)),\"\",VLOOKUP(A33,demi!F$3:M$4,8,FALSE)),VLOOKUP(A33,demi!B$3:M$4,12,FALSE))","v":""}]
[31,null,null,null,{"$f":"IF(AND(B34<>\"\",'16eme'!$K$1<>0),IF(ISERROR(VLOOKUP(A34,'16eme'!B:J,1,FALSE)),\"\",IF(VLOOKUP(A34,'16eme'!B:J,9,FALSE)<>\"\",IF(VLOOKUP(A34,'16eme'!B:J,9,FALSE)>0,\"G\",\"P\"),\"\"))&IF(ISERROR(VLOOKUP(A34,'16eme'!F:J,1,FALSE)),\"\",IF(VLOOKUP(A34,'16eme'!F:J,5,FALSE)<>\"\",IF(VLOOKUP(A34,'16eme'!F:J,5,FALSE)>0,\"P\",\"G\"),\"\")),\"\")","v":""},{"$f":"IF(AND(B34<>\"\",'8eme'!$K$1<>0),IF(ISERROR(VLOOKUP(A34,'8eme'!B:J,1,FALSE)),\"\",IF(VLOOKUP(A34,'8eme'!B:J,9,FALSE)<>\"\",IF(VLOOKUP(A34,'8eme'!B:J,9,FALSE)>0,\"G\",\"P\"),\"\"))&IF(ISERROR(VLOOKUP(A34,'8eme'!F:J,1,FALSE)),\"\",IF(VLOOKUP(A34,'8eme'!F:J,5,FALSE)<>\"\",IF(VLOOKUP(A34,'8eme'!F:J,5,FALSE)>0,\"P\",\"G\"),\"\")),\"\")","v":""},{"$f":"IF(AND(B34<>\"\",quart!$K$1<>0),IF(ISERROR(VLOOKUP(A34,quart!B:J,1,FALSE)),\"\",IF(VLOOKUP(A34,quart!B:J,9,FALSE)<>\"\",IF(VLOOKUP(A34,quart!B:J,9,FALSE)>0,\"G\",\"P\"),\"\"))&IF(ISERROR(VLOOKUP(A34,quart!F:J,1,FALSE)),\"\",IF(VLOOKUP(A34,quart!F:J,5,FALSE)<>\"\",IF(VLOOKUP(A34,quart!F:J,5,FALSE)>0,\"P\",\"G\"),\"\")),\"\")","v":""},{"$f":"IF(AND(B34<>\"\",demi!$K$1<>0),IF(ISERROR(VLOOKUP(A34,demi!B:J,1,FALSE)),\"\",IF(VLOOKUP(A34,demi!B:J,9,FALSE)<>\"\",IF(VLOOKUP(A34,demi!B:J,9,FALSE)>0,\"G\",\"P\"),\"\"))&IF(ISERROR(VLOOKUP(A34,demi!F:J,1,FALSE)),\"\",IF(VLOOKUP(A34,demi!F:J,5,FALSE)<>\"\",IF(VLOOKUP(A34,demi!F:J,5,FALSE)>0,\"P\",\"G\"),\"\")),\"\")","v":""},{"$f":"IF(AND(B34<>\"\",finale!$K$1<>0),IF(ISERROR(VLOOKUP(A34,finale!B:J,1,FALSE)),\"\",IF(VLOOKUP(A34,finale!B:J,9,FALSE)<>\"\",IF(VLOOKUP(A34,finale!B:J,9,FALSE)>0,\"G\",\"P\"),\"\"))&IF(ISERROR(VLOOKUP(A34,finale!F:J,1,FALSE)),\"\",IF(VLOOKUP(A34,finale!F:J,5,FALSE)<>\"\",IF(VLOOKUP(A34,finale!F:J,5,FALSE)>0,\"P\",\"G\"),\"\")),\"\")","v":""},{"$f":"IF(finale!$K$1<>0,IF(I34=\"G\",\"1er\",IF(I34=\"P\",\"2eme\",IF(H34=\"P\",\"3/4eme\",IF(G34=\"P\",\"5 à 8eme\",\"\")))),\"\")","v":""},null,null,null,{"$f":"IF(ISERROR(VLOOKUP(A34,'32eme'!B$3:M$34,12,FALSE)),IF(ISERROR(VLOOKUP(A34,'32eme'!F$3:M$34,8,FALSE)),\"\",VLOOKUP(A34,'32eme'!F$3:M$34,8,FALSE)),VLOOKUP(A34,'32eme'!B$3:M$34,12,FALSE))","v":""},{"$f":"IF(ISERROR(VLOOKUP(A34,'16eme'!B$3:M$18,12,FALSE)),IF(ISERROR(VLOOKUP(A34,'16eme'!F$3:M$18,8,FALSE)),\"\",VLOOKUP(A34,'16eme'!F$3:M$18,8,FALSE)),VLOOKUP(A34,'16eme'!B$3:M$18,12,FALSE))","v":""},{"$f":"IF(ISERROR(VLOOKUP(A34,'8eme'!B$3:M$10,12,FALSE)),IF(ISERROR(VLOOKUP(A34,'8eme'!F$3:M$10,8,FALSE)),\"\",VLOOKUP(A34,'8eme'!F$3:M$10,8,FALSE)),VLOOKUP(A34,'8eme'!B$3:M$10,12,FALSE))","v":""},{"$f":"IF(ISERROR(VLOOKUP(A34,quart!B$3:M$6,12,FALSE)),IF(ISERROR(VLOOKUP(A34,quart!F$3:M$6,8,FALSE)),\"\",VLOOKUP(A34,quart!F$3:M$6,8,FALSE)),VLOOKUP(A34,quart!B$3:M$6,12,FALSE))","v":""},{"$f":"IF(ISERROR(VLOOKUP(A34,demi!B$3:M$4,12,FALSE)),IF(ISERROR(VLOOKUP(A34,demi!F$3:M$4,8,FALSE)),\"\",VLOOKUP(A34,demi!F$3:M$4,8,FALSE)),VLOOKUP(A34,demi!B$3:M$4,12,FALSE))","v":""}]
[32,null,null,null,{"$f":"IF(AND(B35<>\"\",'16eme'!$K$1<>0),IF(ISERROR(VLOOKUP(A35,'16eme'!B:J,1,FALSE)),\"\",IF(VLOOKUP(A35,'16eme'!B:J,9,FALSE)<>\"\",IF(VLOOKUP(A35,'16eme'!B:J,9,FALSE)>0,\"G\",\"P\"),\"\"))&IF(ISERROR(VLOOKUP(A35,'16eme'!F:J,1,FALSE)),\"\",IF(VLOOKUP(A35,'16eme'!F:J,5,FALSE)<>\"\",IF(VLOOKUP(A35,'16eme'!F:J,5,FALSE)>0,\"P\",\"G\"),\"\")),\"\")","v":""},{"$f":"IF(AND(B35<>\"\",'8eme'!$K$1<>0),IF(ISERROR(VLOOKUP(A35,'8eme'!B:J,1,FALSE)),\"\",IF(VLOOKUP(A35,'8eme'!B:J,9,FALSE)<>\"\",IF(VLOOKUP(A35,'8eme'!B:J,9,FALSE)>0,\"G\",\"P\"),\"\"))&IF(ISERROR(VLOOKUP(A35,'8eme'!F:J,1,FALSE)),\"\",IF(VLOOKUP(A35,'8eme'!F:J,5,FALSE)<>\"\",IF(VLOOKUP(A35,'8eme'!F:J,5,FALSE)>0,\"P\",\"G\"),\"\")),\"\")","v":""},{"$f":"IF(AND(B35<>\"\",quart!$K$1<>0),IF(ISERROR(VLOOKUP(A35,quart!B:J,1,FALSE)),\"\",IF(VLOOKUP(A35,quart!B:J,9,FALSE)<>\"\",IF(VLOOKUP(A35,quart!B:J,9,FALSE)>0,\"G\",\"P\"),\"\"))&IF(ISERROR(VLOOKUP(A35,quart!F:J,1,FALSE)),\"\",IF(VLOOKUP(A35,quart!F:J,5,FALSE)<>\"\",IF(VLOOKUP(A35,quart!F:J,5,FALSE)>0,\"P\",\"G\"),\"\")),\"\")","v":""},{"$f":"IF(AND(B35<>\"\",demi!$K$1<>0),IF(ISERROR(VLOOKUP(A35,demi!B:J,1,FALSE)),\"\",IF(VLOOKUP(A35,demi!B:J,9,FALSE)<>\"\",IF(VLOOKUP(A35,demi!B:J,9,FALSE)>0,\"G\",\"P\"),\"\"))&IF(ISERROR(VLOOKUP(A35,demi!F:J,1,FALSE)),\"\",IF(VLOOKUP(A35,demi!F:J,5,FALSE)<>\"\",IF(VLOOKUP(A35,demi!F:J,5,FALSE)>0,\"P\",\"G\"),\"\")),\"\")","v":""},{"$f":"IF(AND(B35<>\"\",finale!$K$1<>0),IF(ISERROR(VLOOKUP(A35,finale!B:J,1,FALSE)),\"\",IF(VLOOKUP(A35,finale!B:J,9,FALSE)<>\"\",IF(VLOOKUP(A35,finale!B:J,9,FALSE)>0,\"G\",\"P\"),\"\"))&IF(ISERROR(VLOOKUP(A35,finale!F:J,1,FALSE)),\"\",IF(VLOOKUP(A35,finale!F:J,5,FALSE)<>\"\",IF(VLOOKUP(A35,finale!F:J,5,FALSE)>0,\"P\",\"G\"),\"\")),\"\")","v":""},{"$f":"IF(finale!$K$1<>0,IF(I35=\"G\",\"1er\",IF(I35=\"P\",\"2eme\",IF(H35=\"P\",\"3/4eme\",IF(G35=\"P\",\"5 à 8eme\",\"\")))),\"\")","v":""},null,null,null,{"$f":"IF(ISERROR(VLOOKUP(A35,'32eme'!B$3:M$34,12,FALSE)),IF(ISERROR(VLOOKUP(A35,'32eme'!F$3:M$34,8,FALSE)),\"\",VLOOKUP(A35,'32eme'!F$3:M$34,8,FALSE)),VLOOKUP(A35,'32eme'!B$3:M$34,12,FALSE))","v":""},{"$f":"IF(ISERROR(VLOOKUP(A35,'16eme'!B$3:M$18,12,FALSE)),IF(ISERROR(VLOOKUP(A35,'16eme'!F$3:M$18,8,FALSE)),\"\",VLOOKUP(A35,'16eme'!F$3:M$18,8,FALSE)),VLOOKUP(A35,'16eme'!B$3:M$18,12,FALSE))","v":""},{"$f":"IF(ISERROR(VLOOKUP(A35,'8eme'!B$3:M$10,12,FALSE)),IF(ISERROR(VLOOKUP(A35,'8eme'!F$3:M$10,8,FALSE)),\"\",VLOOKUP(A35,'8eme'!F$3:M$10,8,FALSE)),VLOOKUP(A35,'8eme'!B$3:M$10,12,FALSE))","v":""},{"$f":"IF(ISERROR(VLOOKUP(A35,quart!B$3:M$6,12,FALSE)),IF(ISERROR(VLOOKUP(A35,quart!F$3:M$6,8,FALSE)),\"\",VLOOKUP(A35,quart!F$3:M$6,8,FALSE)),VLOOKUP(A35,quart!B$3:M$6,12,FALSE))","v":""},{"$f":"IF(ISERROR(VLOOKUP(A35,demi!B$3:M$4,12,FALSE)),IF(ISERROR(VLOOKUP(A35,demi!F$3:M$4,8,FALSE)),\"\",VLOOKUP(A35,demi!F$3:M$4,8,FALSE)),VLOOKUP(A35,demi!B$3:M$4,12,FALSE))","v":""}]
[33,null,null,null,{"$f":"IF(AND(B36<>\"\",'16eme'!$K$1<>0),IF(ISERROR(VLOOKUP(A36,'16eme'!B:J,1,FALSE)),\"\",IF(VLOOKUP(A36,'16eme'!B:J,9,FALSE)<>\"\",IF(VLOOKUP(A36,'16eme'!B:J,9,FALSE)>0,\"G\",\"P\"),\"\"))&IF(ISERROR(VLOOKUP(A36,'16eme'!F:J,1,FALSE)),\"\",IF(VLOOKUP(A36,'16eme'!F:J,5,FALSE)<>\"\",IF(VLOOKUP(A36,'16eme'!F:J,5,FALSE)>0,\"P\",\"G\"),\"\")),\"\")","v":""},{"$f":"IF(AND(B36<>\"\",'8eme'!$K$1<>0),IF(ISERROR(VLOOKUP(A36,'8eme'!B:J,1,FALSE)),\"\",IF(VLOOKUP(A36,'8eme'!B:J,9,FALSE)<>\"\",IF(VLOOKUP(A36,'8eme'!B:J,9,FALSE)>0,\"G\",\"P\"),\"\"))&IF(ISERROR(VLOOKUP(A36,'8eme'!F:J,1,FALSE)),\"\",IF(VLOOKUP(A36,'8eme'!F:J,5,FALSE)<>\"\",IF(VLOOKUP(A36,'8eme'!F:J,5,FALSE)>0,\"P\",\"G\"),\"\")),\"\")","v":""},{"$f":"IF(AND(B36<>\"\",quart!$K$1<>0),IF(ISERROR(VLOOKUP(A36,quart!B:J,1,FALSE)),\"\",IF(VLOOKUP(A36,quart!B:J,9,FALSE)<>\"\",IF(VLOOKUP(A36,quart!B:J,9,FALSE)>0,\"G\",\"P\"),\"\"))&IF(ISERROR(VLOOKUP(A36,quart!F:J,1,FALSE)),\"\",IF(VLOOKUP(A36,quart!F:J,5,FALSE)<>\"\",IF(VLOOKUP(A36,quart!F:J,5,FALSE)>0,\"P\",\"G\"),\"\")),\"\")","v":""},{"$f":"IF(AND(B36<>\"\",demi!$K$1<>0),IF(ISERROR(VLOOKUP(A36,demi!B:J,1,FALSE)),\"\",IF(VLOOKUP(A36,demi!B:J,9,FALSE)<>\"\",IF(VLOOKUP(A36,demi!B:J,9,FALSE)>0,\"G\",\"P\"),\"\"))&IF(ISERROR(VLOOKUP(A36,demi!F:J,1,FALSE)),\"\",IF(VLOOKUP(A36,demi!F:J,5,FALSE)<>\"\",IF(VLOOKUP(A36,demi!F:J,5,FALSE)>0,\"P\",\"G\"),\"\")),\"\")","v":""},{"$f":"IF(AND(B36<>\"\",finale!$K$1<>0),IF(ISERROR(VLOOKUP(A36,finale!B:J,1,FALSE)),\"\",IF(VLOOKUP(A36,finale!B:J,9,FALSE)<>\"\",IF(VLOOKUP(A36,finale!B:J,9,FALSE)>0,\"G\",\"P\"),\"\"))&IF(ISERROR(VLOOKUP(A36,finale!F:J,1,FALSE)),\"\",IF(VLOOKUP(A36,finale!F:J,5,FALSE)<>\"\",IF(VLOOKUP(A36,finale!F:J,5,FALSE)>0,\"P\",\"G\"),\"\")),\"\")","v":""},{"$f":"IF(finale!$K$1<>0,IF(I36=\"G\",\"1er\",IF(I36=\"P\",\"2eme\",IF(H36=\"P\",\"3/4eme\",IF(G36=\"P\",\"5 à 8eme\",\"\")))),\"\")","v":""},null,null,null,{"$f":"IF(ISERROR(VLOOKUP(A36,'32eme'!B$3:M$34,12,FALSE)),IF(ISERROR(VLOOKUP(A36,'32eme'!F$3:M$34,8,FALSE)),\"\",VLOOKUP(A36,'32eme'!F$3:M$34,8,FALSE)),VLOOKUP(A36,'32eme'!B$3:M$34,12,FALSE))","v":""},{"$f":"IF(ISERROR(VLOOKUP(A36,'16eme'!B$3:M$18,12,FALSE)),IF(ISERROR(VLOOKUP(A36,'16eme'!F$3:M$18,8,FALSE)),\"\",VLOOKUP(A36,'16eme'!F$3:M$18,8,FALSE)),VLOOKUP(A36,'16eme'!B$3:M$18,12,FALSE))","v":""},{"$f":"IF(ISERROR(VLOOKUP(A36,'8eme'!B$3:M$10,12,FALSE)),IF(ISERROR(VLOOKUP(A36,'8eme'!F$3:M$10,8,FALSE)),\"\",VLOOKUP(A36,'8eme'!F$3:M$10,8,FALSE)),VLOOKUP(A36,'8eme'!B$3:M$10,12,FALSE))","v":""},{"$f":"IF(ISERROR(VLOOKUP(A36,quart!B$3:M$6,12,FALSE)),IF(ISERROR(VLOOKUP(A36,quart!F$3:M$6,8,FALSE)),\"\",VLOOKUP(A36,quart!F$3:M$6,8,FALSE)),VLOOKUP(A36,quart!B$3:M$6,12,FALSE))","v":""},{"$f":"IF(ISERROR(VLOOKUP(A36,demi!B$3:M$4,12,FALSE)),IF(ISERROR(VLOOKUP(A36,demi!F$3:M$4,8,FALSE)),\"\",VLOOKUP(A36,demi!F$3:M$4,8,FALSE)),VLOOKUP(A36,demi!B$3:M$4,12,FALSE))","v":""}]
[34,null,null,null,{"$f":"IF(AND(B37<>\"\",'16eme'!$K$1<>0),IF(ISERROR(VLOOKUP(A37,'16eme'!B:J,1,FALSE)),\"\",IF(VLOOKUP(A37,'16eme'!B:J,9,FALSE)<>\"\",IF(VLOOKUP(A37,'16eme'!B:J,9,FALSE)>0,\"G\",\"P\"),\"\"))&IF(ISERROR(VLOOKUP(A37,'16eme'!F:J,1,FALSE)),\"\",IF(VLOOKUP(A37,'16eme'!F:J,5,FALSE)<>\"\",IF(VLOOKUP(A37,'16eme'!F:J,5,FALSE)>0,\"P\",\"G\"),\"\")),\"\")","v":""},{"$f":"IF(AND(B37<>\"\",'8eme'!$K$1<>0),IF(ISERROR(VLOOKUP(A37,'8eme'!B:J,1,FALSE)),\"\",IF(VLOOKUP(A37,'8eme'!B:J,9,FALSE)<>\"\",IF(VLOOKUP(A37,'8eme'!B:J,9,FALSE)>0,\"G\",\"P\"),\"\"))&IF(ISERROR(VLOOKUP(A37,'8eme'!F:J,1,FALSE)),\"\",IF(VLOOKUP(A37,'8eme'!F:J,5,FALSE)<>\"\",IF(VLOOKUP(A37,'8eme'!F:J,5,FALSE)>0,\"P\",\"G\"),\"\")),\"\")","v":""},{"$f":"IF(AND(B37<>\"\",quart!$K$1<>0),IF(ISERROR(VLOOKUP(A37,quart!B:J,1,FALSE)),\"\",IF(VLOOKUP(A37,quart!B:J,9,FALSE)<>\"\",IF(VLOOKUP(A37,quart!B:J,9,FALSE)>0,\"G\",\"P\"),\"\"))&IF(ISERROR(VLOOKUP(A37,quart!F:J,1,FALSE)),\"\",IF(VLOOKUP(A37,quart!F:J,5,FALSE)<>\"\",IF(VLOOKUP(A37,quart!F:J,5,FALSE)>0,\"P\",\"G\"),\"\")),\"\")","v":""},{"$f":"IF(AND(B37<>\"\",demi!$K$1<>0),IF(ISERROR(VLOOKUP(A37,demi!B:J,1,FALSE)),\"\",IF(VLOOKUP(A37,demi!B:J,9,FALSE)<>\"\",IF(VLOOKUP(A37,demi!B:J,9,FALSE)>0,\"G\",\"P\"),\"\"))&IF(ISERROR(VLOOKUP(A37,demi!F:J,1,FALSE)),\"\",IF(VLOOKUP(A37,demi!F:J,5,FALSE)<>\"\",IF(VLOOKUP(A37,demi!F:J,5,FALSE)>0,\"P\",\"G\"),\"\")),\"\")","v":""},{"$f":"IF(AND(B37<>\"\",finale!$K$1<>0),IF(ISERROR(VLOOKUP(A37,finale!B:J,1,FALSE)),\"\",IF(VLOOKUP(A37,finale!B:J,9,FALSE)<>\"\",IF(VLOOKUP(A37,finale!B:J,9,FALSE)>0,\"G\",\"P\"),\"\"))&IF(ISERROR(VLOOKUP(A37,finale!F:J,1,FALSE)),\"\",IF(VLOOKUP(A37,finale!F:J,5,FALSE)<>\"\",IF(VLOOKUP(A37,finale!F:J,5,FALSE)>0,\"P\",\"G\"),\"\")),\"\")","v":""},{"$f":"IF(finale!$K$1<>0,IF(I37=\"G\",\"1er\",IF(I37=\"P\",\"2eme\",IF(H37=\"P\",\"3/4eme\",IF(G37=\"P\",\"5 à 8eme\",\"\")))),\"\")","v":""},null,null,null,{"$f":"IF(ISERROR(VLOOKUP(A37,'32eme'!B$3:M$34,12,FALSE)),IF(ISERROR(VLOOKUP(A37,'32eme'!F$3:M$34,8,FALSE)),\"\",VLOOKUP(A37,'32eme'!F$3:M$34,8,FALSE)),VLOOKUP(A37,'32eme'!B$3:M$34,12,FALSE))","v":""},{"$f":"IF(ISERROR(VLOOKUP(A37,'16eme'!B$3:M$18,12,FALSE)),IF(ISERROR(VLOOKUP(A37,'16eme'!F$3:M$18,8,FALSE)),\"\",VLOOKUP(A37,'16eme'!F$3:M$18,8,FALSE)),VLOOKUP(A37,'16eme'!B$3:M$18,12,FALSE))","v":""},{"$f":"IF(ISERROR(VLOOKUP(A37,'8eme'!B$3:M$10,12,FALSE)),IF(ISERROR(VLOOKUP(A37,'8eme'!F$3:M$10,8,FALSE)),\"\",VLOOKUP(A37,'8eme'!F$3:M$10,8,FALSE)),VLOOKUP(A37,'8eme'!B$3:M$10,12,FALSE))","v":""},{"$f":"IF(ISERROR(VLOOKUP(A37,quart!B$3:M$6,12,FALSE)),IF(ISERROR(VLOOKUP(A37,quart!F$3:M$6,8,FALSE)),\"\",VLOOKUP(A37,quart!F$3:M$6,8,FALSE)),VLOOKUP(A37,quart!B$3:M$6,12,FALSE))","v":""},{"$f":"IF(ISERROR(VLOOKUP(A37,demi!B$3:M$4,12,FALSE)),IF(ISERROR(VLOOKUP(A37,demi!F$3:M$4,8,FALSE)),\"\",VLOOKUP(A37,demi!F$3:M$4,8,FALSE)),VLOOKUP(A37,demi!B$3:M$4,12,FALSE))","v":""}]
[35,null,null,null,{"$f":"IF(AND(B38<>\"\",'16eme'!$K$1<>0),IF(ISERROR(VLOOKUP(A38,'16eme'!B:J,1,FALSE)),\"\",IF(VLOOKUP(A38,'16eme'!B:J,9,FALSE)<>\"\",IF(VLOOKUP(A38,'16eme'!B:J,9,FALSE)>0,\"G\",\"P\"),\"\"))&IF(ISERROR(VLOOKUP(A38,'16eme'!F:J,1,FALSE)),\"\",IF(VLOOKUP(A38,'16eme'!F:J,5,FALSE)<>\"\",IF(VLOOKUP(A38,'16eme'!F:J,5,FALSE)>0,\"P\",\"G\"),\"\")),\"\")","v":""},{"$f":"IF(AND(B38<>\"\",'8eme'!$K$1<>0),IF(ISERROR(VLOOKUP(A38,'8eme'!B:J,1,FALSE)),\"\",IF(VLOOKUP(A38,'8eme'!B:J,9,FALSE)<>\"\",IF(VLOOKUP(A38,'8eme'!B:J,9,FALSE)>0,\"G\",\"P\"),\"\"))&IF(ISERROR(VLOOKUP(A38,'8eme'!F:J,1,FALSE)),\"\",IF(VLOOKUP(A38,'8eme'!F:J,5,FALSE)<>\"\",IF(VLOOKUP(A38,'8eme'!F:J,5,FALSE)>0,\"P\",\"G\"),\"\")),\"\")","v":""},{"$f":"IF(AND(B38<>\"\",quart!$K$1<>0),IF(ISERROR(VLOOKUP(A38,quart!B:J,1,FALSE)),\"\",IF(VLOOKUP(A38,quart!B:J,9,FALSE)<>\"\",IF(VLOOKUP(A38,quart!B:J,9,FALSE)>0,\"G\",\"P\"),\"\"))&IF(ISERROR(VLOOKUP(A38,quart!F:J,1,FALSE)),\"\",IF(VLOOKUP(A38,quart!F:J,5,FALSE)<>\"\",IF(VLOOKUP(A38,quart!F:J,5,FALSE)>0,\"P\",\"G\"),\"\")),\"\")","v":""},{"$f":"IF(AND(B38<>\"\",demi!$K$1<>0),IF(ISERROR(VLOOKUP(A38,demi!B:J,1,FALSE)),\"\",IF(VLOOKUP(A38,demi!B:J,9,FALSE)<>\"\",IF(VLOOKUP(A38,demi!B:J,9,FALSE)>0,\"G\",\"P\"),\"\"))&IF(ISERROR(VLOOKUP(A38,demi!F:J,1,FALSE)),\"\",IF(VLOOKUP(A38,demi!F:J,5,FALSE)<>\"\",IF(VLOOKUP(A38,demi!F:J,5,FALSE)>0,\"P\",\"G\"),\"\")),\"\")","v":""},{"$f":"IF(AND(B38<>\"\",finale!$K$1<>0),IF(ISERROR(VLOOKUP(A38,finale!B:J,1,FALSE)),\"\",IF(VLOOKUP(A38,finale!B:J,9,FALSE)<>\"\",IF(VLOOKUP(A38,finale!B:J,9,FALSE)>0,\"G\",\"P\"),\"\"))&IF(ISERROR(VLOOKUP(A38,finale!F:J,1,FALSE)),\"\",IF(VLOOKUP(A38,finale!F:J,5,FALSE)<>\"\",IF(VLOOKUP(A38,finale!F:J,5,FALSE)>0,\"P\",\"G\"),\"\")),\"\")","v":""},{"$f":"IF(finale!$K$1<>0,IF(I38=\"G\",\"1er\",IF(I38=\"P\",\"2eme\",IF(H38=\"P\",\"3/4eme\",IF(G38=\"P\",\"5 à 8eme\",\"\")))),\"\")","v":""},null,null,null,{"$f":"IF(ISERROR(VLOOKUP(A38,'32eme'!B$3:M$34,12,FALSE)),IF(ISERROR(VLOOKUP(A38,'32eme'!F$3:M$34,8,FALSE)),\"\",VLOOKUP(A38,'32eme'!F$3:M$34,8,FALSE)),VLOOKUP(A38,'32eme'!B$3:M$34,12,FALSE))","v":""},{"$f":"IF(ISERROR(VLOOKUP(A38,'16eme'!B$3:M$18,12,FALSE)),IF(ISERROR(VLOOKUP(A38,'16eme'!F$3:M$18,8,FALSE)),\"\",VLOOKUP(A38,'16eme'!F$3:M$18,8,FALSE)),VLOOKUP(A38,'16eme'!B$3:M$18,12,FALSE))","v":""},{"$f":"IF(ISERROR(VLOOKUP(A38,'8eme'!B$3:M$10,12,FALSE)),IF(ISERROR(VLOOKUP(A38,'8eme'!F$3:M$10,8,FALSE)),\"\",VLOOKUP(A38,'8eme'!F$3:M$10,8,FALSE)),VLOOKUP(A38,'8eme'!B$3:M$10,12,FALSE))","v":""},{"$f":"IF(ISERROR(VLOOKUP(A38,quart!B$3:M$6,12,FALSE)),IF(ISERROR(VLOOKUP(A38,quart!F$3:M$6,8,FALSE)),\"\",VLOOKUP(A38,quart!F$3:M$6,8,FALSE)),VLOOKUP(A38,quart!B$3:M$6,12,FALSE))","v":""},{"$f":"IF(ISERROR(VLOOKUP(A38,demi!B$3:M$4,12,FALSE)),IF(ISERROR(VLOOKUP(A38,demi!F$3:M$4,8,FALSE)),\"\",VLOOKUP(A38,demi!F$3:M$4,8,FALSE)),VLOOKUP(A38,demi!B$3:M$4,12,FALSE))","v":""}]
[36,null,null,null,{"$f":"IF(AND(B39<>\"\",'16eme'!$K$1<>0),IF(ISERROR(VLOOKUP(A39,'16eme'!B:J,1,FALSE)),\"\",IF(VLOOKUP(A39,'16eme'!B:J,9,FALSE)<>\"\",IF(VLOOKUP(A39,'16eme'!B:J,9,FALSE)>0,\"G\",\"P\"),\"\"))&IF(ISERROR(VLOOKUP(A39,'16eme'!F:J,1,FALSE)),\"\",IF(VLOOKUP(A39,'16eme'!F:J,5,FALSE)<>\"\",IF(VLOOKUP(A39,'16eme'!F:J,5,FALSE)>0,\"P\",\"G\"),\"\")),\"\")","v":""},{"$f":"IF(AND(B39<>\"\",'8eme'!$K$1<>0),IF(ISERROR(VLOOKUP(A39,'8eme'!B:J,1,FALSE)),\"\",IF(VLOOKUP(A39,'8eme'!B:J,9,FALSE)<>\"\",IF(VLOOKUP(A39,'8eme'!B:J,9,FALSE)>0,\"G\",\"P\"),\"\"))&IF(ISERROR(VLOOKUP(A39,'8eme'!F:J,1,FALSE)),\"\",IF(VLOOKUP(A39,'8eme'!F:J,5,FALSE)<>\"\",IF(VLOOKUP(A39,'8eme'!F:J,5,FALSE)>0,\"P\",\"G\"),\"\")),\"\")","v":""},{"$f":"IF(AND(B39<>\"\",quart!$K$1<>0),IF(ISERROR(VLOOKUP(A39,quart!B:J,1,FALSE)),\"\",IF(VLOOKUP(A39,quart!B:J,9,FALSE)<>\"\",IF(VLOOKUP(A39,quart!B:J,9,FALSE)>0,\"G\",\"P\"),\"\"))&IF(ISERROR(VLOOKUP(A39,quart!F:J,1,FALSE)),\"\",IF(VLOOKUP(A39,quart!F:J,5,FALSE)<>\"\",IF(VLOOKUP(A39,quart!F:J,5,FALSE)>0,\"P\",\"G\"),\"\")),\"\")","v":""},{"$f":"IF(AND(B39<>\"\",demi!$K$1<>0),IF(ISERROR(VLOOKUP(A39,demi!B:J,1,FALSE)),\"\",IF(VLOOKUP(A39,demi!B:J,9,FALSE)<>\"\",IF(VLOOKUP(A39,demi!B:J,9,FALSE)>0,\"G\",\"P\"),\"\"))&IF(ISERROR(VLOOKUP(A39,demi!F:J,1,FALSE)),\"\",IF(VLOOKUP(A39,demi!F:J,5,FALSE)<>\"\",IF(VLOOKUP(A39,demi!F:J,5,FALSE)>0,\"P\",\"G\"),\"\")),\"\")","v":""},{"$f":"IF(AND(B39<>\"\",finale!$K$1<>0),IF(ISERROR(VLOOKUP(A39,finale!B:J,1,FALSE)),\"\",IF(VLOOKUP(A39,finale!B:J,9,FALSE)<>\"\",IF(VLOOKUP(A39,finale!B:J,9,FALSE)>0,\"G\",\"P\"),\"\"))&IF(ISERROR(VLOOKUP(A39,finale!F:J,1,FALSE)),\"\",IF(VLOOKUP(A39,finale!F:J,5,FALSE)<>\"\",IF(VLOOKUP(A39,finale!F:J,5,FALSE)>0,\"P\",\"G\"),\"\")),\"\")","v":""},{"$f":"IF(finale!$K$1<>0,IF(I39=\"G\",\"1er\",IF(I39=\"P\",\"2eme\",IF(H39=\"P\",\"3/4eme\",IF(G39=\"P\",\"5 à 8eme\",\"\")))),\"\")","v":""},null,null,null,{"$f":"IF(ISERROR(VLOOKUP(A39,'32eme'!B$3:M$34,12,FALSE)),IF(ISERROR(VLOOKUP(A39,'32eme'!F$3:M$34,8,FALSE)),\"\",VLOOKUP(A39,'32eme'!F$3:M$34,8,FALSE)),VLOOKUP(A39,'32eme'!B$3:M$34,12,FALSE))","v":""},{"$f":"IF(ISERROR(VLOOKUP(A39,'16eme'!B$3:M$18,12,FALSE)),IF(ISERROR(VLOOKUP(A39,'16eme'!F$3:M$18,8,FALSE)),\"\",VLOOKUP(A39,'16eme'!F$3:M$18,8,FALSE)),VLOOKUP(A39,'16eme'!B$3:M$18,12,FALSE))","v":""},{"$f":"IF(ISERROR(VLOOKUP(A39,'8eme'!B$3:M$10,12,FALSE)),IF(ISERROR(VLOOKUP(A39,'8eme'!F$3:M$10,8,FALSE)),\"\",VLOOKUP(A39,'8eme'!F$3:M$10,8,FALSE)),VLOOKUP(A39,'8eme'!B$3:M$10,12,FALSE))","v":""},{"$f":"IF(ISERROR(VLOOKUP(A39,quart!B$3:M$6,12,FALSE)),IF(ISERROR(VLOOKUP(A39,quart!F$3:M$6,8,FALSE)),\"\",VLOOKUP(A39,quart!F$3:M$6,8,FALSE)),VLOOKUP(A39,quart!B$3:M$6,12,FALSE))","v":""},{"$f":"IF(ISERROR(VLOOKUP(A39,demi!B$3:M$4,12,FALSE)),IF(ISERROR(VLOOKUP(A39,demi!F$3:M$4,8,FALSE)),\"\",VLOOKUP(A39,demi!F$3:M$4,8,FALSE)),VLOOKUP(A39,demi!B$3:M$4,12,FALSE))","v":""}]
[37,null,null,null,{"$f":"IF(AND(B40<>\"\",'16eme'!$K$1<>0),IF(ISERROR(VLOOKUP(A40,'16eme'!B:J,1,FALSE)),\"\",IF(VLOOKUP(A40,'16eme'!B:J,9,FALSE)<>\"\",IF(VLOOKUP(A40,'16eme'!B:J,9,FALSE)>0,\"G\",\"P\"),\"\"))&IF(ISERROR(VLOOKUP(A40,'16eme'!F:J,1,FALSE)),\"\",IF(VLOOKUP(A40,'16eme'!F:J,5,FALSE)<>\"\",IF(VLOOKUP(A40,'16eme'!F:J,5,FALSE)>0,\"P\",\"G\"),\"\")),\"\")","v":""},{"$f":"IF(AND(B40<>\"\",'8eme'!$K$1<>0),IF(ISERROR(VLOOKUP(A40,'8eme'!B:J,1,FALSE)),\"\",IF(VLOOKUP(A40,'8eme'!B:J,9,FALSE)<>\"\",IF(VLOOKUP(A40,'8eme'!B:J,9,FALSE)>0,\"G\",\"P\"),\"\"))&IF(ISERROR(VLOOKUP(A40,'8eme'!F:J,1,FALSE)),\"\",IF(VLOOKUP(A40,'8eme'!F:J,5,FALSE)<>\"\",IF(VLOOKUP(A40,'8eme'!F:J,5,FALSE)>0,\"P\",\"G\"),\"\")),\"\")","v":""},{"$f":"IF(AND(B40<>\"\",quart!$K$1<>0),IF(ISERROR(VLOOKUP(A40,quart!B:J,1,FALSE)),\"\",IF(VLOOKUP(A40,quart!B:J,9,FALSE)<>\"\",IF(VLOOKUP(A40,quart!B:J,9,FALSE)>0,\"G\",\"P\"),\"\"))&IF(ISERROR(VLOOKUP(A40,quart!F:J,1,FALSE)),\"\",IF(VLOOKUP(A40,quart!F:J,5,FALSE)<>\"\",IF(VLOOKUP(A40,quart!F:J,5,FALSE)>0,\"P\",\"G\"),\"\")),\"\")","v":""},{"$f":"IF(AND(B40<>\"\",demi!$K$1<>0),IF(ISERROR(VLOOKUP(A40,demi!B:J,1,FALSE)),\"\",IF(VLOOKUP(A40,demi!B:J,9,FALSE)<>\"\",IF(VLOOKUP(A40,demi!B:J,9,FALSE)>0,\"G\",\"P\"),\"\"))&IF(ISERROR(VLOOKUP(A40,demi!F:J,1,FALSE)),\"\",IF(VLOOKUP(A40,demi!F:J,5,FALSE)<>\"\",IF(VLOOKUP(A40,demi!F:J,5,FALSE)>0,\"P\",\"G\"),\"\")),\"\")","v":""},{"$f":"IF(AND(B40<>\"\",finale!$K$1<>0),IF(ISERROR(VLOOKUP(A40,finale!B:J,1,FALSE)),\"\",IF(VLOOKUP(A40,finale!B:J,9,FALSE)<>\"\",IF(VLOOKUP(A40,finale!B:J,9,FALSE)>0,\"G\",\"P\"),\"\"))&IF(ISERROR(VLOOKUP(A40,finale!F:J,1,FALSE)),\"\",IF(VLOOKUP(A40,finale!F:J,5,FALSE)<>\"\",IF(VLOOKUP(A40,finale!F:J,5,FALSE)>0,\"P\",\"G\"),\"\")),\"\")","v":""},{"$f":"IF(finale!$K$1<>0,IF(I40=\"G\",\"1er\",IF(I40=\"P\",\"2eme\",IF(H40=\"P\",\"3/4eme\",IF(G40=\"P\",\"5 à 8eme\",\"\")))),\"\")","v":""},null,null,null,{"$f":"IF(ISERROR(VLOOKUP(A40,'32eme'!B$3:M$34,12,FALSE)),IF(ISERROR(VLOOKUP(A40,'32eme'!F$3:M$34,8,FALSE)),\"\",VLOOKUP(A40,'32eme'!F$3:M$34,8,FALSE)),VLOOKUP(A40,'32eme'!B$3:M$34,12,FALSE))","v":""},{"$f":"IF(ISERROR(VLOOKUP(A40,'16eme'!B$3:M$18,12,FALSE)),IF(ISERROR(VLOOKUP(A40,'16eme'!F$3:M$18,8,FALSE)),\"\",VLOOKUP(A40,'16eme'!F$3:M$18,8,FALSE)),VLOOKUP(A40,'16eme'!B$3:M$18,12,FALSE))","v":""},{"$f":"IF(ISERROR(VLOOKUP(A40,'8eme'!B$3:M$10,12,FALSE)),IF(ISERROR(VLOOKUP(A40,'8eme'!F$3:M$10,8,FALSE)),\"\",VLOOKUP(A40,'8eme'!F$3:M$10,8,FALSE)),VLOOKUP(A40,'8eme'!B$3:M$10,12,FALSE))","v":""},{"$f":"IF(ISERROR(VLOOKUP(A40,quart!B$3:M$6,12,FALSE)),IF(ISERROR(VLOOKUP(A40,quart!F$3:M$6,8,FALSE)),\"\",VLOOKUP(A40,quart!F$3:M$6,8,FALSE)),VLOOKUP(A40,quart!B$3:M$6,12,FALSE))","v":""},{"$f":"IF(ISERROR(VLOOKUP(A40,demi!B$3:M$4,12,FALSE)),IF(ISERROR(VLOOKUP(A40,demi!F$3:M$4,8,FALSE)),\"\",VLOOKUP(A40,demi!F$3:M$4,8,FALSE)),VLOOKUP(A40,demi!B$3:M$4,12,FALSE))","v":""}]
[38,null,null,null,{"$f":"IF(AND(B41<>\"\",'16eme'!$K$1<>0),IF(ISERROR(VLOOKUP(A41,'16eme'!B:J,1,FALSE)),\"\",IF(VLOOKUP(A41,'16eme'!B:J,9,FALSE)<>\"\",IF(VLOOKUP(A41,'16eme'!B:J,9,FALSE)>0,\"G\",\"P\"),\"\"))&IF(ISERROR(VLOOKUP(A41,'16eme'!F:J,1,FALSE)),\"\",IF(VLOOKUP(A41,'16eme'!F:J,5,FALSE)<>\"\",IF(VLOOKUP(A41,'16eme'!F:J,5,FALSE)>0,\"P\",\"G\"),\"\")),\"\")","v":""},{"$f":"IF(AND(B41<>\"\",'8eme'!$K$1<>0),IF(ISERROR(VLOOKUP(A41,'8eme'!B:J,1,FALSE)),\"\",IF(VLOOKUP(A41,'8eme'!B:J,9,FALSE)<>\"\",IF(VLOOKUP(A41,'8eme'!B:J,9,FALSE)>0,\"G\",\"P\"),\"\"))&IF(ISERROR(VLOOKUP(A41,'8eme'!F:J,1,FALSE)),\"\",IF(VLOOKUP(A41,'8eme'!F:J,5,FALSE)<>\"\",IF(VLOOKUP(A41,'8eme'!F:J,5,FALSE)>0,\"P\",\"G\"),\"\")),\"\")","v":""},{"$f":"IF(AND(B41<>\"\",quart!$K$1<>0),IF(ISERROR(VLOOKUP(A41,quart!B:J,1,FALSE)),\"\",IF(VLOOKUP(A41,quart!B:J,9,FALSE)<>\"\",IF(VLOOKUP(A41,quart!B:J,9,FALSE)>0,\"G\",\"P\"),\"\"))&IF(ISERROR(VLOOKUP(A41,quart!F:J,1,FALSE)),\"\",IF(VLOOKUP(A41,quart!F:J,5,FALSE)<>\"\",IF(VLOOKUP(A41,quart!F:J,5,FALSE)>0,\"P\",\"G\"),\"\")),\"\")","v":""},{"$f":"IF(AND(B41<>\"\",demi!$K$1<>0),IF(ISERROR(VLOOKUP(A41,demi!B:J,1,FALSE)),\"\",IF(VLOOKUP(A41,demi!B:J,9,FALSE)<>\"\",IF(VLOOKUP(A41,demi!B:J,9,FALSE)>0,\"G\",\"P\"),\"\"))&IF(ISERROR(VLOOKUP(A41,demi!F:J,1,FALSE)),\"\",IF(VLOOKUP(A41,demi!F:J,5,FALSE)<>\"\",IF(VLOOKUP(A41,demi!F:J,5,FALSE)>0,\"P\",\"G\"),\"\")),\"\")","v":""},{"$f":"IF(AND(B41<>\"\",finale!$K$1<>0),IF(ISERROR(VLOOKUP(A41,finale!B:J,1,FALSE)),\"\",IF(VLOOKUP(A41,finale!B:J,9,FALSE)<>\"\",IF(VLOOKUP(A41,finale!B:J,9,FALSE)>0,\"G\",\"P\"),\"\"))&IF(ISERROR(VLOOKUP(A41,finale!F:J,1,FALSE)),\"\",IF(VLOOKUP(A41,finale!F:J,5,FALSE)<>\"\",IF(VLOOKUP(A41,finale!F:J,5,FALSE)>0,\"P\",\"G\"),\"\")),\"\")","v":""},{"$f":"IF(finale!$K$1<>0,IF(I41=\"G\",\"1er\",IF(I41=\"P\",\"2eme\",IF(H41=\"P\",\"3/4eme\",IF(G41=\"P\",\"5 à 8eme\",\"\")))),\"\")","v":""},null,null,null,{"$f":"IF(ISERROR(VLOOKUP(A41,'32eme'!B$3:M$34,12,FALSE)),IF(ISERROR(VLOOKUP(A41,'32eme'!F$3:M$34,8,FALSE)),\"\",VLOOKUP(A41,'32eme'!F$3:M$34,8,FALSE)),VLOOKUP(A41,'32eme'!B$3:M$34,12,FALSE))","v":""},{"$f":"IF(ISERROR(VLOOKUP(A41,'16eme'!B$3:M$18,12,FALSE)),IF(ISERROR(VLOOKUP(A41,'16eme'!F$3:M$18,8,FALSE)),\"\",VLOOKUP(A41,'16eme'!F$3:M$18,8,FALSE)),VLOOKUP(A41,'16eme'!B$3:M$18,12,FALSE))","v":""},{"$f":"IF(ISERROR(VLOOKUP(A41,'8eme'!B$3:M$10,12,FALSE)),IF(ISERROR(VLOOKUP(A41,'8eme'!F$3:M$10,8,FALSE)),\"\",VLOOKUP(A41,'8eme'!F$3:M$10,8,FALSE)),VLOOKUP(A41,'8eme'!B$3:M$10,12,FALSE))","v":""},{"$f":"IF(ISERROR(VLOOKUP(A41,quart!B$3:M$6,12,FALSE)),IF(ISERROR(VLOOKUP(A41,quart!F$3:M$6,8,FALSE)),\"\",VLOOKUP(A41,quart!F$3:M$6,8,FALSE)),VLOOKUP(A41,quart!B$3:M$6,12,FALSE))","v":""},{"$f":"IF(ISERROR(VLOOKUP(A41,demi!B$3:M$4,12,FALSE)),IF(ISERROR(VLOOKUP(A41,demi!F$3:M$4,8,FALSE)),\"\",VLOOKUP(A41,demi!F$3:M$4,8,FALSE)),VLOOKUP(A41,demi!B$3:M$4,12,FALSE))","v":""}]
[39,null,null,null,{"$f":"IF(AND(B42<>\"\",'16eme'!$K$1<>0),IF(ISERROR(VLOOKUP(A42,'16eme'!B:J,1,FALSE)),\"\",IF(VLOOKUP(A42,'16eme'!B:J,9,FALSE)<>\"\",IF(VLOOKUP(A42,'16eme'!B:J,9,FALSE)>0,\"G\",\"P\"),\"\"))&IF(ISERROR(VLOOKUP(A42,'16eme'!F:J,1,FALSE)),\"\",IF(VLOOKUP(A42,'16eme'!F:J,5,FALSE)<>\"\",IF(VLOOKUP(A42,'16eme'!F:J,5,FALSE)>0,\"P\",\"G\"),\"\")),\"\")","v":""},{"$f":"IF(AND(B42<>\"\",'8eme'!$K$1<>0),IF(ISERROR(VLOOKUP(A42,'8eme'!B:J,1,FALSE)),\"\",IF(VLOOKUP(A42,'8eme'!B:J,9,FALSE)<>\"\",IF(VLOOKUP(A42,'8eme'!B:J,9,FALSE)>0,\"G\",\"P\"),\"\"))&IF(ISERROR(VLOOKUP(A42,'8eme'!F:J,1,FALSE)),\"\",IF(VLOOKUP(A42,'8eme'!F:J,5,FALSE)<>\"\",IF(VLOOKUP(A42,'8eme'!F:J,5,FALSE)>0,\"P\",\"G\"),\"\")),\"\")","v":""},{"$f":"IF(AND(B42<>\"\",quart!$K$1<>0),IF(ISERROR(VLOOKUP(A42,quart!B:J,1,FALSE)),\"\",IF(VLOOKUP(A42,quart!B:J,9,FALSE)<>\"\",IF(VLOOKUP(A42,quart!B:J,9,FALSE)>0,\"G\",\"P\"),\"\"))&IF(ISERROR(VLOOKUP(A42,quart!F:J,1,FALSE)),\"\",IF(VLOOKUP(A42,quart!F:J,5,FALSE)<>\"\",IF(VLOOKUP(A42,quart!F:J,5,FALSE)>0,\"P\",\"G\"),\"\")),\"\")","v":""},{"$f":"IF(AND(B42<>\"\",demi!$K$1<>0),IF(ISERROR(VLOOKUP(A42,demi!B:J,1,FALSE)),\"\",IF(VLOOKUP(A42,demi!B:J,9,FALSE)<>\"\",IF(VLOOKUP(A42,demi!B:J,9,FALSE)>0,\"G\",\"P\"),\"\"))&IF(ISERROR(VLOOKUP(A42,demi!F:J,1,FALSE)),\"\",IF(VLOOKUP(A42,demi!F:J,5,FALSE)<>\"\",IF(VLOOKUP(A42,demi!F:J,5,FALSE)>0,\"P\",\"G\"),\"\")),\"\")","v":""},{"$f":"IF(AND(B42<>\"\",finale!$K$1<>0),IF(ISERROR(VLOOKUP(A42,finale!B:J,1,FALSE)),\"\",IF(VLOOKUP(A42,finale!B:J,9,FALSE)<>\"\",IF(VLOOKUP(A42,finale!B:J,9,FALSE)>0,\"G\",\"P\"),\"\"))&IF(ISERROR(VLOOKUP(A42,finale!F:J,1,FALSE)),\"\",IF(VLOOKUP(A42,finale!F:J,5,FALSE)<>\"\",IF(VLOOKUP(A42,finale!F:J,5,FALSE)>0,\"P\",\"G\"),\"\")),\"\")","v":""},{"$f":"IF(finale!$K$1<>0,IF(I42=\"G\",\"1er\",IF(I42=\"P\",\"2eme\",IF(H42=\"P\",\"3/4eme\",IF(G42=\"P\",\"5 à 8eme\",\"\")))),\"\")","v":""},null,null,null,{"$f":"IF(ISERROR(VLOOKUP(A42,'32eme'!B$3:M$34,12,FALSE)),IF(ISERROR(VLOOKUP(A42,'32eme'!F$3:M$34,8,FALSE)),\"\",VLOOKUP(A42,'32eme'!F$3:M$34,8,FALSE)),VLOOKUP(A42,'32eme'!B$3:M$34,12,FALSE))","v":""},{"$f":"IF(ISERROR(VLOOKUP(A42,'16eme'!B$3:M$18,12,FALSE)),IF(ISERROR(VLOOKUP(A42,'16eme'!F$3:M$18,8,FALSE)),\"\",VLOOKUP(A42,'16eme'!F$3:M$18,8,FALSE)),VLOOKUP(A42,'16eme'!B$3:M$18,12,FALSE))","v":""},{"$f":"IF(ISERROR(VLOOKUP(A42,'8eme'!B$3:M$10,12,FALSE)),IF(ISERROR(VLOOKUP(A42,'8eme'!F$3:M$10,8,FALSE)),\"\",VLOOKUP(A42,'8eme'!F$3:M$10,8,FALSE)),VLOOKUP(A42,'8eme'!B$3:M$10,12,FALSE))","v":""},{"$f":"IF(ISERROR(VLOOKUP(A42,quart!B$3:M$6,12,FALSE)),IF(ISERROR(VLOOKUP(A42,quart!F$3:M$6,8,FALSE)),\"\",VLOOKUP(A42,quart!F$3:M$6,8,FALSE)),VLOOKUP(A42,quart!B$3:M$6,12,FALSE))","v":""},{"$f":"IF(ISERROR(VLOOKUP(A42,demi!B$3:M$4,12,FALSE)),IF(ISERROR(VLOOKUP(A42,demi!F$3:M$4,8,FALSE)),\"\",VLOOKUP(A42,demi!F$3:M$4,8,FALSE)),VLOOKUP(A42,demi!B$3:M$4,12,FALSE))","v":""}]
[40,null,null,null,{"$f":"IF(AND(B43<>\"\",'16eme'!$K$1<>0),IF(ISERROR(VLOOKUP(A43,'16eme'!B:J,1,FALSE)),\"\",IF(VLOOKUP(A43,'16eme'!B:J,9,FALSE)<>\"\",IF(VLOOKUP(A43,'16eme'!B:J,9,FALSE)>0,\"G\",\"P\"),\"\"))&IF(ISERROR(VLOOKUP(A43,'16eme'!F:J,1,FALSE)),\"\",IF(VLOOKUP(A43,'16eme'!F:J,5,FALSE)<>\"\",IF(VLOOKUP(A43,'16eme'!F:J,5,FALSE)>0,\"P\",\"G\"),\"\")),\"\")","v":""},{"$f":"IF(AND(B43<>\"\",'8eme'!$K$1<>0),IF(ISERROR(VLOOKUP(A43,'8eme'!B:J,1,FALSE)),\"\",IF(VLOOKUP(A43,'8eme'!B:J,9,FALSE)<>\"\",IF(VLOOKUP(A43,'8eme'!B:J,9,FALSE)>0,\"G\",\"P\"),\"\"))&IF(ISERROR(VLOOKUP(A43,'8eme'!F:J,1,FALSE)),\"\",IF(VLOOKUP(A43,'8eme'!F:J,5,FALSE)<>\"\",IF(VLOOKUP(A43,'8eme'!F:J,5,FALSE)>0,\"P\",\"G\"),\"\")),\"\")","v":""},{"$f":"IF(AND(B43<>\"\",quart!$K$1<>0),IF(ISERROR(VLOOKUP(A43,quart!B:J,1,FALSE)),\"\",IF(VLOOKUP(A43,quart!B:J,9,FALSE)<>\"\",IF(VLOOKUP(A43,quart!B:J,9,FALSE)>0,\"G\",\"P\"),\"\"))&IF(ISERROR(VLOOKUP(A43,quart!F:J,1,FALSE)),\"\",IF(VLOOKUP(A43,quart!F:J,5,FALSE)<>\"\",IF(VLOOKUP(A43,quart!F:J,5,FALSE)>0,\"P\",\"G\"),\"\")),\"\")","v":""},{"$f":"IF(AND(B43<>\"\",demi!$K$1<>0),IF(ISERROR(VLOOKUP(A43,demi!B:J,1,FALSE)),\"\",IF(VLOOKUP(A43,demi!B:J,9,FALSE)<>\"\",IF(VLOOKUP(A43,demi!B:J,9,FALSE)>0,\"G\",\"P\"),\"\"))&IF(ISERROR(VLOOKUP(A43,demi!F:J,1,FALSE)),\"\",IF(VLOOKUP(A43,demi!F:J,5,FALSE)<>\"\",IF(VLOOKUP(A43,demi!F:J,5,FALSE)>0,\"P\",\"G\"),\"\")),\"\")","v":""},{"$f":"IF(AND(B43<>\"\",finale!$K$1<>0),IF(ISERROR(VLOOKUP(A43,finale!B:J,1,FALSE)),\"\",IF(VLOOKUP(A43,finale!B:J,9,FALSE)<>\"\",IF(VLOOKUP(A43,finale!B:J,9,FALSE)>0,\"G\",\"P\"),\"\"))&IF(ISERROR(VLOOKUP(A43,finale!F:J,1,FALSE)),\"\",IF(VLOOKUP(A43,finale!F:J,5,FALSE)<>\"\",IF(VLOOKUP(A43,finale!F:J,5,FALSE)>0,\"P\",\"G\"),\"\")),\"\")","v":""},{"$f":"IF(finale!$K$1<>0,IF(I43=\"G\",\"1er\",IF(I43=\"P\",\"2eme\",IF(H43=\"P\",\"3/4eme\",IF(G43=\"P\",\"5 à 8eme\",\"\")))),\"\")","v":""},null,null,null,{"$f":"IF(ISERROR(VLOOKUP(A43,'32eme'!B$3:M$34,12,FALSE)),IF(ISERROR(VLOOKUP(A43,'32eme'!F$3:M$34,8,FALSE)),\"\",VLOOKUP(A43,'32eme'!F$3:M$34,8,FALSE)),VLOOKUP(A43,'32eme'!B$3:M$34,12,FALSE))","v":""},{"$f":"IF(ISERROR(VLOOKUP(A43,'16eme'!B$3:M$18,12,FALSE)),IF(ISERROR(VLOOKUP(A43,'16eme'!F$3:M$18,8,FALSE)),\"\",VLOOKUP(A43,'16eme'!F$3:M$18,8,FALSE)),VLOOKUP(A43,'16eme'!B$3:M$18,12,FALSE))","v":""},{"$f":"IF(ISERROR(VLOOKUP(A43,'8eme'!B$3:M$10,12,FALSE)),IF(ISERROR(VLOOKUP(A43,'8eme'!F$3:M$10,8,FALSE)),\"\",VLOOKUP(A43,'8eme'!F$3:M$10,8,FALSE)),VLOOKUP(A43,'8eme'!B$3:M$10,12,FALSE))","v":""},{"$f":"IF(ISERROR(VLOOKUP(A43,quart!B$3:M$6,12,FALSE)),IF(ISERROR(VLOOKUP(A43,quart!F$3:M$6,8,FALSE)),\"\",VLOOKUP(A43,quart!F$3:M$6,8,FALSE)),VLOOKUP(A43,quart!B$3:M$6,12,FALSE))","v":""},{"$f":"IF(ISERROR(VLOOKUP(A43,demi!B$3:M$4,12,FALSE)),IF(ISERROR(VLOOKUP(A43,demi!F$3:M$4,8,FALSE)),\"\",VLOOKUP(A43,demi!F$3:M$4,8,FALSE)),VLOOKUP(A43,demi!B$3:M$4,12,FALSE))","v":""}]
[41,null,null,null,{"$f":"IF(AND(B44<>\"\",'16eme'!$K$1<>0),IF(ISERROR(VLOOKUP(A44,'16eme'!B:J,1,FALSE)),\"\",IF(VLOOKUP(A44,'16eme'!B:J,9,FALSE)<>\"\",IF(VLOOKUP(A44,'16eme'!B:J,9,FALSE)>0,\"G\",\"P\"),\"\"))&IF(ISERROR(VLOOKUP(A44,'16eme'!F:J,1,FALSE)),\"\",IF(VLOOKUP(A44,'16eme'!F:J,5,FALSE)<>\"\",IF(VLOOKUP(A44,'16eme'!F:J,5,FALSE)>0,\"P\",\"G\"),\"\")),\"\")","v":""},{"$f":"IF(AND(B44<>\"\",'8eme'!$K$1<>0),IF(ISERROR(VLOOKUP(A44,'8eme'!B:J,1,FALSE)),\"\",IF(VLOOKUP(A44,'8eme'!B:J,9,FALSE)<>\"\",IF(VLOOKUP(A44,'8eme'!B:J,9,FALSE)>0,\"G\",\"P\"),\"\"))&IF(ISERROR(VLOOKUP(A44,'8eme'!F:J,1,FALSE)),\"\",IF(VLOOKUP(A44,'8eme'!F:J,5,FALSE)<>\"\",IF(VLOOKUP(A44,'8eme'!F:J,5,FALSE)>0,\"P\",\"G\"),\"\")),\"\")","v":""},{"$f":"IF(AND(B44<>\"\",quart!$K$1<>0),IF(ISERROR(VLOOKUP(A44,quart!B:J,1,FALSE)),\"\",IF(VLOOKUP(A44,quart!B:J,9,FALSE)<>\"\",IF(VLOOKUP(A44,quart!B:J,9,FALSE)>0,\"G\",\"P\"),\"\"))&IF(ISERROR(VLOOKUP(A44,quart!F:J,1,FALSE)),\"\",IF(VLOOKUP(A44,quart!F:J,5,FALSE)<>\"\",IF(VLOOKUP(A44,quart!F:J,5,FALSE)>0,\"P\",\"G\"),\"\")),\"\")","v":""},{"$f":"IF(AND(B44<>\"\",demi!$K$1<>0),IF(ISERROR(VLOOKUP(A44,demi!B:J,1,FALSE)),\"\",IF(VLOOKUP(A44,demi!B:J,9,FALSE)<>\"\",IF(VLOOKUP(A44,demi!B:J,9,FALSE)>0,\"G\",\"P\"),\"\"))&IF(ISERROR(VLOOKUP(A44,demi!F:J,1,FALSE)),\"\",IF(VLOOKUP(A44,demi!F:J,5,FALSE)<>\"\",IF(VLOOKUP(A44,demi!F:J,5,FALSE)>0,\"P\",\"G\"),\"\")),\"\")","v":""},{"$f":"IF(AND(B44<>\"\",finale!$K$1<>0),IF(ISERROR(VLOOKUP(A44,finale!B:J,1,FALSE)),\"\",IF(VLOOKUP(A44,finale!B:J,9,FALSE)<>\"\",IF(VLOOKUP(A44,finale!B:J,9,FALSE)>0,\"G\",\"P\"),\"\"))&IF(ISERROR(VLOOKUP(A44,finale!F:J,1,FALSE)),\"\",IF(VLOOKUP(A44,finale!F:J,5,FALSE)<>\"\",IF(VLOOKUP(A44,finale!F:J,5,FALSE)>0,\"P\",\"G\"),\"\")),\"\")","v":""},{"$f":"IF(finale!$K$1<>0,IF(I44=\"G\",\"1er\",IF(I44=\"P\",\"2eme\",IF(H44=\"P\",\"3/4eme\",IF(G44=\"P\",\"5 à 8eme\",\"\")))),\"\")","v":""},null,null,null,{"$f":"IF(ISERROR(VLOOKUP(A44,'32eme'!B$3:M$34,12,FALSE)),IF(ISERROR(VLOOKUP(A44,'32eme'!F$3:M$34,8,FALSE)),\"\",VLOOKUP(A44,'32eme'!F$3:M$34,8,FALSE)),VLOOKUP(A44,'32eme'!B$3:M$34,12,FALSE))","v":""},{"$f":"IF(ISERROR(VLOOKUP(A44,'16eme'!B$3:M$18,12,FALSE)),IF(ISERROR(VLOOKUP(A44,'16eme'!F$3:M$18,8,FALSE)),\"\",VLOOKUP(A44,'16eme'!F$3:M$18,8,FALSE)),VLOOKUP(A44,'16eme'!B$3:M$18,12,FALSE))","v":""},{"$f":"IF(ISERROR(VLOOKUP(A44,'8eme'!B$3:M$10,12,FALSE)),IF(ISERROR(VLOOKUP(A44,'8eme'!F$3:M$10,8,FALSE)),\"\",VLOOKUP(A44,'8eme'!F$3:M$10,8,FALSE)),VLOOKUP(A44,'8eme'!B$3:M$10,12,FALSE))","v":""},{"$f":"IF(ISERROR(VLOOKUP(A44,quart!B$3:M$6,12,FALSE)),IF(ISERROR(VLOOKUP(A44,quart!F$3:M$6,8,FALSE)),\"\",VLOOKUP(A44,quart!F$3:M$6,8,FALSE)),VLOOKUP(A44,quart!B$3:M$6,12,FALSE))","v":""},{"$f":"IF(ISERROR(VLOOKUP(A44,demi!B$3:M$4,12,FALSE)),IF(ISERROR(VLOOKUP(A44,demi!F$3:M$4,8,FALSE)),\"\",VLOOKUP(A44,demi!F$3:M$4,8,FALSE)),VLOOKUP(A44,demi!B$3:M$4,12,FALSE))","v":""}]
[42,null,null,null,{"$f":"IF(AND(B45<>\"\",'16eme'!$K$1<>0),IF(ISERROR(VLOOKUP(A45,'16eme'!B:J,1,FALSE)),\"\",IF(VLOOKUP(A45,'16eme'!B:J,9,FALSE)<>\"\",IF(VLOOKUP(A45,'16eme'!B:J,9,FALSE)>0,\"G\",\"P\"),\"\"))&IF(ISERROR(VLOOKUP(A45,'16eme'!F:J,1,FALSE)),\"\",IF(VLOOKUP(A45,'16eme'!F:J,5,FALSE)<>\"\",IF(VLOOKUP(A45,'16eme'!F:J,5,FALSE)>0,\"P\",\"G\"),\"\")),\"\")","v":""},{"$f":"IF(AND(B45<>\"\",'8eme'!$K$1<>0),IF(ISERROR(VLOOKUP(A45,'8eme'!B:J,1,FALSE)),\"\",IF(VLOOKUP(A45,'8eme'!B:J,9,FALSE)<>\"\",IF(VLOOKUP(A45,'8eme'!B:J,9,FALSE)>0,\"G\",\"P\"),\"\"))&IF(ISERROR(VLOOKUP(A45,'8eme'!F:J,1,FALSE)),\"\",IF(VLOOKUP(A45,'8eme'!F:J,5,FALSE)<>\"\",IF(VLOOKUP(A45,'8eme'!F:J,5,FALSE)>0,\"P\",\"G\"),\"\")),\"\")","v":""},{"$f":"IF(AND(B45<>\"\",quart!$K$1<>0),IF(ISERROR(VLOOKUP(A45,quart!B:J,1,FALSE)),\"\",IF(VLOOKUP(A45,quart!B:J,9,FALSE)<>\"\",IF(VLOOKUP(A45,quart!B:J,9,FALSE)>0,\"G\",\"P\"),\"\"))&IF(ISERROR(VLOOKUP(A45,quart!F:J,1,FALSE)),\"\",IF(VLOOKUP(A45,quart!F:J,5,FALSE)<>\"\",IF(VLOOKUP(A45,quart!F:J,5,FALSE)>0,\"P\",\"G\"),\"\")),\"\")","v":""},{"$f":"IF(AND(B45<>\"\",demi!$K$1<>0),IF(ISERROR(VLOOKUP(A45,demi!B:J,1,FALSE)),\"\",IF(VLOOKUP(A45,demi!B:J,9,FALSE)<>\"\",IF(VLOOKUP(A45,demi!B:J,9,FALSE)>0,\"G\",\"P\"),\"\"))&IF(ISERROR(VLOOKUP(A45,demi!F:J,1,FALSE)),\"\",IF(VLOOKUP(A45,demi!F:J,5,FALSE)<>\"\",IF(VLOOKUP(A45,demi!F:J,5,FALSE)>0,\"P\",\"G\"),\"\")),\"\")","v":""},{"$f":"IF(AND(B45<>\"\",finale!$K$1<>0),IF(ISERROR(VLOOKUP(A45,finale!B:J,1,FALSE)),\"\",IF(VLOOKUP(A45,finale!B:J,9,FALSE)<>\"\",IF(VLOOKUP(A45,finale!B:J,9,FALSE)>0,\"G\",\"P\"),\"\"))&IF(ISERROR(VLOOKUP(A45,finale!F:J,1,FALSE)),\"\",IF(VLOOKUP(A45,finale!F:J,5,FALSE)<>\"\",IF(VLOOKUP(A45,finale!F:J,5,FALSE)>0,\"P\",\"G\"),\"\")),\"\")","v":""},{"$f":"IF(finale!$K$1<>0,IF(I45=\"G\",\"1er\",IF(I45=\"P\",\"2eme\",IF(H45=\"P\",\"3/4eme\",IF(G45=\"P\",\"5 à 8eme\",\"\")))),\"\")","v":""},null,null,null,{"$f":"IF(ISERROR(VLOOKUP(A45,'32eme'!B$3:M$34,12,FALSE)),IF(ISERROR(VLOOKUP(A45,'32eme'!F$3:M$34,8,FALSE)),\"\",VLOOKUP(A45,'32eme'!F$3:M$34,8,FALSE)),VLOOKUP(A45,'32eme'!B$3:M$34,12,FALSE))","v":""},{"$f":"IF(ISERROR(VLOOKUP(A45,'16eme'!B$3:M$18,12,FALSE)),IF(ISERROR(VLOOKUP(A45,'16eme'!F$3:M$18,8,FALSE)),\"\",VLOOKUP(A45,'16eme'!F$3:M$18,8,FALSE)),VLOOKUP(A45,'16eme'!B$3:M$18,12,FALSE))","v":""},{"$f":"IF(ISERROR(VLOOKUP(A45,'8eme'!B$3:M$10,12,FALSE)),IF(ISERROR(VLOOKUP(A45,'8eme'!F$3:M$10,8,FALSE)),\"\",VLOOKUP(A45,'8eme'!F$3:M$10,8,FALSE)),VLOOKUP(A45,'8eme'!B$3:M$10,12,FALSE))","v":""},{"$f":"IF(ISERROR(VLOOKUP(A45,quart!B$3:M$6,12,FALSE)),IF(ISERROR(VLOOKUP(A45,quart!F$3:M$6,8,FALSE)),\"\",VLOOKUP(A45,quart!F$3:M$6,8,FALSE)),VLOOKUP(A45,quart!B$3:M$6,12,FALSE))","v":""},{"$f":"IF(ISERROR(VLOOKUP(A45,demi!B$3:M$4,12,FALSE)),IF(ISERROR(VLOOKUP(A45,demi!F$3:M$4,8,FALSE)),\"\",VLOOKUP(A45,demi!F$3:M$4,8,FALSE)),VLOOKUP(A45,demi!B$3:M$4,12,FALSE))","v":""}]
[43,null,null,null,{"$f":"IF(AND(B46<>\"\",'16eme'!$K$1<>0),IF(ISERROR(VLOOKUP(A46,'16eme'!B:J,1,FALSE)),\"\",IF(VLOOKUP(A46,'16eme'!B:J,9,FALSE)<>\"\",IF(VLOOKUP(A46,'16eme'!B:J,9,FALSE)>0,\"G\",\"P\"),\"\"))&IF(ISERROR(VLOOKUP(A46,'16eme'!F:J,1,FALSE)),\"\",IF(VLOOKUP(A46,'16eme'!F:J,5,FALSE)<>\"\",IF(VLOOKUP(A46,'16eme'!F:J,5,FALSE)>0,\"P\",\"G\"),\"\")),\"\")","v":""},{"$f":"IF(AND(B46<>\"\",'8eme'!$K$1<>0),IF(ISERROR(VLOOKUP(A46,'8eme'!B:J,1,FALSE)),\"\",IF(VLOOKUP(A46,'8eme'!B:J,9,FALSE)<>\"\",IF(VLOOKUP(A46,'8eme'!B:J,9,FALSE)>0,\"G\",\"P\"),\"\"))&IF(ISERROR(VLOOKUP(A46,'8eme'!F:J,1,FALSE)),\"\",IF(VLOOKUP(A46,'8eme'!F:J,5,FALSE)<>\"\",IF(VLOOKUP(A46,'8eme'!F:J,5,FALSE)>0,\"P\",\"G\"),\"\")),\"\")","v":""},{"$f":"IF(AND(B46<>\"\",quart!$K$1<>0),IF(ISERROR(VLOOKUP(A46,quart!B:J,1,FALSE)),\"\",IF(VLOOKUP(A46,quart!B:J,9,FALSE)<>\"\",IF(VLOOKUP(A46,quart!B:J,9,FALSE)>0,\"G\",\"P\"),\"\"))&IF(ISERROR(VLOOKUP(A46,quart!F:J,1,FALSE)),\"\",IF(VLOOKUP(A46,quart!F:J,5,FALSE)<>\"\",IF(VLOOKUP(A46,quart!F:J,5,FALSE)>0,\"P\",\"G\"),\"\")),\"\")","v":""},{"$f":"IF(AND(B46<>\"\",demi!$K$1<>0),IF(ISERROR(VLOOKUP(A46,demi!B:J,1,FALSE)),\"\",IF(VLOOKUP(A46,demi!B:J,9,FALSE)<>\"\",IF(VLOOKUP(A46,demi!B:J,9,FALSE)>0,\"G\",\"P\"),\"\"))&IF(ISERROR(VLOOKUP(A46,demi!F:J,1,FALSE)),\"\",IF(VLOOKUP(A46,demi!F:J,5,FALSE)<>\"\",IF(VLOOKUP(A46,demi!F:J,5,FALSE)>0,\"P\",\"G\"),\"\")),\"\")","v":""},{"$f":"IF(AND(B46<>\"\",finale!$K$1<>0),IF(ISERROR(VLOOKUP(A46,finale!B:J,1,FALSE)),\"\",IF(VLOOKUP(A46,finale!B:J,9,FALSE)<>\"\",IF(VLOOKUP(A46,finale!B:J,9,FALSE)>0,\"G\",\"P\"),\"\"))&IF(ISERROR(VLOOKUP(A46,finale!F:J,1,FALSE)),\"\",IF(VLOOKUP(A46,finale!F:J,5,FALSE)<>\"\",IF(VLOOKUP(A46,finale!F:J,5,FALSE)>0,\"P\",\"G\"),\"\")),\"\")","v":""},{"$f":"IF(finale!$K$1<>0,IF(I46=\"G\",\"1er\",IF(I46=\"P\",\"2eme\",IF(H46=\"P\",\"3/4eme\",IF(G46=\"P\",\"5 à 8eme\",\"\")))),\"\")","v":""},null,null,null,{"$f":"IF(ISERROR(VLOOKUP(A46,'32eme'!B$3:M$34,12,FALSE)),IF(ISERROR(VLOOKUP(A46,'32eme'!F$3:M$34,8,FALSE)),\"\",VLOOKUP(A46,'32eme'!F$3:M$34,8,FALSE)),VLOOKUP(A46,'32eme'!B$3:M$34,12,FALSE))","v":""},{"$f":"IF(ISERROR(VLOOKUP(A46,'16eme'!B$3:M$18,12,FALSE)),IF(ISERROR(VLOOKUP(A46,'16eme'!F$3:M$18,8,FALSE)),\"\",VLOOKUP(A46,'16eme'!F$3:M$18,8,FALSE)),VLOOKUP(A46,'16eme'!B$3:M$18,12,FALSE))","v":""},{"$f":"IF(ISERROR(VLOOKUP(A46,'8eme'!B$3:M$10,12,FALSE)),IF(ISERROR(VLOOKUP(A46,'8eme'!F$3:M$10,8,FALSE)),\"\",VLOOKUP(A46,'8eme'!F$3:M$10,8,FALSE)),VLOOKUP(A46,'8eme'!B$3:M$10,12,FALSE))","v":""},{"$f":"IF(ISERROR(VLOOKUP(A46,quart!B$3:M$6,12,FALSE)),IF(ISERROR(VLOOKUP(A46,quart!F$3:M$6,8,FALSE)),\"\",VLOOKUP(A46,quart!F$3:M$6,8,FALSE)),VLOOKUP(A46,quart!B$3:M$6,12,FALSE))","v":""},{"$f":"IF(ISERROR(VLOOKUP(A46,demi!B$3:M$4,12,FALSE)),IF(ISERROR(VLOOKUP(A46,demi!F$3:M$4,8,FALSE)),\"\",VLOOKUP(A46,demi!F$3:M$4,8,FALSE)),VLOOKUP(A46,demi!B$3:M$4,12,FALSE))","v":""}]
[44,null,null,null,{"$f":"IF(AND(B47<>\"\",'16eme'!$K$1<>0),IF(ISERROR(VLOOKUP(A47,'16eme'!B:J,1,FALSE)),\"\",IF(VLOOKUP(A47,'16eme'!B:J,9,FALSE)<>\"\",IF(VLOOKUP(A47,'16eme'!B:J,9,FALSE)>0,\"G\",\"P\"),\"\"))&IF(ISERROR(VLOOKUP(A47,'16eme'!F:J,1,FALSE)),\"\",IF(VLOOKUP(A47,'16eme'!F:J,5,FALSE)<>\"\",IF(VLOOKUP(A47,'16eme'!F:J,5,FALSE)>0,\"P\",\"G\"),\"\")),\"\")","v":""},{"$f":"IF(AND(B47<>\"\",'8eme'!$K$1<>0),IF(ISERROR(VLOOKUP(A47,'8eme'!B:J,1,FALSE)),\"\",IF(VLOOKUP(A47,'8eme'!B:J,9,FALSE)<>\"\",IF(VLOOKUP(A47,'8eme'!B:J,9,FALSE)>0,\"G\",\"P\"),\"\"))&IF(ISERROR(VLOOKUP(A47,'8eme'!F:J,1,FALSE)),\"\",IF(VLOOKUP(A47,'8eme'!F:J,5,FALSE)<>\"\",IF(VLOOKUP(A47,'8eme'!F:J,5,FALSE)>0,\"P\",\"G\"),\"\")),\"\")","v":""},{"$f":"IF(AND(B47<>\"\",quart!$K$1<>0),IF(ISERROR(VLOOKUP(A47,quart!B:J,1,FALSE)),\"\",IF(VLOOKUP(A47,quart!B:J,9,FALSE)<>\"\",IF(VLOOKUP(A47,quart!B:J,9,FALSE)>0,\"G\",\"P\"),\"\"))&IF(ISERROR(VLOOKUP(A47,quart!F:J,1,FALSE)),\"\",IF(VLOOKUP(A47,quart!F:J,5,FALSE)<>\"\",IF(VLOOKUP(A47,quart!F:J,5,FALSE)>0,\"P\",\"G\"),\"\")),\"\")","v":""},{"$f":"IF(AND(B47<>\"\",demi!$K$1<>0),IF(ISERROR(VLOOKUP(A47,demi!B:J,1,FALSE)),\"\",IF(VLOOKUP(A47,demi!B:J,9,FALSE)<>\"\",IF(VLOOKUP(A47,demi!B:J,9,FALSE)>0,\"G\",\"P\"),\"\"))&IF(ISERROR(VLOOKUP(A47,demi!F:J,1,FALSE)),\"\",IF(VLOOKUP(A47,demi!F:J,5,FALSE)<>\"\",IF(VLOOKUP(A47,demi!F:J,5,FALSE)>0,\"P\",\"G\"),\"\")),\"\")","v":""},{"$f":"IF(AND(B47<>\"\",finale!$K$1<>0),IF(ISERROR(VLOOKUP(A47,finale!B:J,1,FALSE)),\"\",IF(VLOOKUP(A47,finale!B:J,9,FALSE)<>\"\",IF(VLOOKUP(A47,finale!B:J,9,FALSE)>0,\"G\",\"P\"),\"\"))&IF(ISERROR(VLOOKUP(A47,finale!F:J,1,FALSE)),\"\",IF(VLOOKUP(A47,finale!F:J,5,FALSE)<>\"\",IF(VLOOKUP(A47,finale!F:J,5,FALSE)>0,\"P\",\"G\"),\"\")),\"\")","v":""},{"$f":"IF(finale!$K$1<>0,IF(I47=\"G\",\"1er\",IF(I47=\"P\",\"2eme\",IF(H47=\"P\",\"3/4eme\",IF(G47=\"P\",\"5 à 8eme\",\"\")))),\"\")","v":""},null,null,null,{"$f":"IF(ISERROR(VLOOKUP(A47,'32eme'!B$3:M$34,12,FALSE)),IF(ISERROR(VLOOKUP(A47,'32eme'!F$3:M$34,8,FALSE)),\"\",VLOOKUP(A47,'32eme'!F$3:M$34,8,FALSE)),VLOOKUP(A47,'32eme'!B$3:M$34,12,FALSE))","v":""},{"$f":"IF(ISERROR(VLOOKUP(A47,'16eme'!B$3:M$18,12,FALSE)),IF(ISERROR(VLOOKUP(A47,'16eme'!F$3:M$18,8,FALSE)),\"\",VLOOKUP(A47,'16eme'!F$3:M$18,8,FALSE)),VLOOKUP(A47,'16eme'!B$3:M$18,12,FALSE))","v":""},{"$f":"IF(ISERROR(VLOOKUP(A47,'8eme'!B$3:M$10,12,FALSE)),IF(ISERROR(VLOOKUP(A47,'8eme'!F$3:M$10,8,FALSE)),\"\",VLOOKUP(A47,'8eme'!F$3:M$10,8,FALSE)),VLOOKUP(A47,'8eme'!B$3:M$10,12,FALSE))","v":""},{"$f":"IF(ISERROR(VLOOKUP(A47,quart!B$3:M$6,12,FALSE)),IF(ISERROR(VLOOKUP(A47,quart!F$3:M$6,8,FALSE)),\"\",VLOOKUP(A47,quart!F$3:M$6,8,FALSE)),VLOOKUP(A47,quart!B$3:M$6,12,FALSE))","v":""},{"$f":"IF(ISERROR(VLOOKUP(A47,demi!B$3:M$4,12,FALSE)),IF(ISERROR(VLOOKUP(A47,demi!F$3:M$4,8,FALSE)),\"\",VLOOKUP(A47,demi!F$3:M$4,8,FALSE)),VLOOKUP(A47,demi!B$3:M$4,12,FALSE))","v":""}]
[45,null,null,null,{"$f":"IF(AND(B48<>\"\",'16eme'!$K$1<>0),IF(ISERROR(VLOOKUP(A48,'16eme'!B:J,1,FALSE)),\"\",IF(VLOOKUP(A48,'16eme'!B:J,9,FALSE)<>\"\",IF(VLOOKUP(A48,'16eme'!B:J,9,FALSE)>0,\"G\",\"P\"),\"\"))&IF(ISERROR(VLOOKUP(A48,'16eme'!F:J,1,FALSE)),\"\",IF(VLOOKUP(A48,'16eme'!F:J,5,FALSE)<>\"\",IF(VLOOKUP(A48,'16eme'!F:J,5,FALSE)>0,\"P\",\"G\"),\"\")),\"\")","v":""},{"$f":"IF(AND(B48<>\"\",'8eme'!$K$1<>0),IF(ISERROR(VLOOKUP(A48,'8eme'!B:J,1,FALSE)),\"\",IF(VLOOKUP(A48,'8eme'!B:J,9,FALSE)<>\"\",IF(VLOOKUP(A48,'8eme'!B:J,9,FALSE)>0,\"G\",\"P\"),\"\"))&IF(ISERROR(VLOOKUP(A48,'8eme'!F:J,1,FALSE)),\"\",IF(VLOOKUP(A48,'8eme'!F:J,5,FALSE)<>\"\",IF(VLOOKUP(A48,'8eme'!F:J,5,FALSE)>0,\"P\",\"G\"),\"\")),\"\")","v":""},{"$f":"IF(AND(B48<>\"\",quart!$K$1<>0),IF(ISERROR(VLOOKUP(A48,quart!B:J,1,FALSE)),\"\",IF(VLOOKUP(A48,quart!B:J,9,FALSE)<>\"\",IF(VLOOKUP(A48,quart!B:J,9,FALSE)>0,\"G\",\"P\"),\"\"))&IF(ISERROR(VLOOKUP(A48,quart!F:J,1,FALSE)),\"\",IF(VLOOKUP(A48,quart!F:J,5,FALSE)<>\"\",IF(VLOOKUP(A48,quart!F:J,5,FALSE)>0,\"P\",\"G\"),\"\")),\"\")","v":""},{"$f":"IF(AND(B48<>\"\",demi!$K$1<>0),IF(ISERROR(VLOOKUP(A48,demi!B:J,1,FALSE)),\"\",IF(VLOOKUP(A48,demi!B:J,9,FALSE)<>\"\",IF(VLOOKUP(A48,demi!B:J,9,FALSE)>0,\"G\",\"P\"),\"\"))&IF(ISERROR(VLOOKUP(A48,demi!F:J,1,FALSE)),\"\",IF(VLOOKUP(A48,demi!F:J,5,FALSE)<>\"\",IF(VLOOKUP(A48,demi!F:J,5,FALSE)>0,\"P\",\"G\"),\"\")),\"\")","v":""},{"$f":"IF(AND(B48<>\"\",finale!$K$1<>0),IF(ISERROR(VLOOKUP(A48,finale!B:J,1,FALSE)),\"\",IF(VLOOKUP(A48,finale!B:J,9,FALSE)<>\"\",IF(VLOOKUP(A48,finale!B:J,9,FALSE)>0,\"G\",\"P\"),\"\"))&IF(ISERROR(VLOOKUP(A48,finale!F:J,1,FALSE)),\"\",IF(VLOOKUP(A48,finale!F:J,5,FALSE)<>\"\",IF(VLOOKUP(A48,finale!F:J,5,FALSE)>0,\"P\",\"G\"),\"\")),\"\")","v":""},{"$f":"IF(finale!$K$1<>0,IF(I48=\"G\",\"1er\",IF(I48=\"P\",\"2eme\",IF(H48=\"P\",\"3/4eme\",IF(G48=\"P\",\"5 à 8eme\",\"\")))),\"\")","v":""},null,null,null,{"$f":"IF(ISERROR(VLOOKUP(A48,'32eme'!B$3:M$34,12,FALSE)),IF(ISERROR(VLOOKUP(A48,'32eme'!F$3:M$34,8,FALSE)),\"\",VLOOKUP(A48,'32eme'!F$3:M$34,8,FALSE)),VLOOKUP(A48,'32eme'!B$3:M$34,12,FALSE))","v":""},{"$f":"IF(ISERROR(VLOOKUP(A48,'16eme'!B$3:M$18,12,FALSE)),IF(ISERROR(VLOOKUP(A48,'16eme'!F$3:M$18,8,FALSE)),\"\",VLOOKUP(A48,'16eme'!F$3:M$18,8,FALSE)),VLOOKUP(A48,'16eme'!B$3:M$18,12,FALSE))","v":""},{"$f":"IF(ISERROR(VLOOKUP(A48,'8eme'!B$3:M$10,12,FALSE)),IF(ISERROR(VLOOKUP(A48,'8eme'!F$3:M$10,8,FALSE)),\"\",VLOOKUP(A48,'8eme'!F$3:M$10,8,FALSE)),VLOOKUP(A48,'8eme'!B$3:M$10,12,FALSE))","v":""},{"$f":"IF(ISERROR(VLOOKUP(A48,quart!B$3:M$6,12,FALSE)),IF(ISERROR(VLOOKUP(A48,quart!F$3:M$6,8,FALSE)),\"\",VLOOKUP(A48,quart!F$3:M$6,8,FALSE)),VLOOKUP(A48,quart!B$3:M$6,12,FALSE))","v":""},{"$f":"IF(ISERROR(VLOOKUP(A48,demi!B$3:M$4,12,FALSE)),IF(ISERROR(VLOOKUP(A48,demi!F$3:M$4,8,FALSE)),\"\",VLOOKUP(A48,demi!F$3:M$4,8,FALSE)),VLOOKUP(A48,demi!B$3:M$4,12,FALSE))","v":""}]
[46,null,null,null,{"$f":"IF(AND(B49<>\"\",'16eme'!$K$1<>0),IF(ISERROR(VLOOKUP(A49,'16eme'!B:J,1,FALSE)),\"\",IF(VLOOKUP(A49,'16eme'!B:J,9,FALSE)<>\"\",IF(VLOOKUP(A49,'16eme'!B:J,9,FALSE)>0,\"G\",\"P\"),\"\"))&IF(ISERROR(VLOOKUP(A49,'16eme'!F:J,1,FALSE)),\"\",IF(VLOOKUP(A49,'16eme'!F:J,5,FALSE)<>\"\",IF(VLOOKUP(A49,'16eme'!F:J,5,FALSE)>0,\"P\",\"G\"),\"\")),\"\")","v":""},{"$f":"IF(AND(B49<>\"\",'8eme'!$K$1<>0),IF(ISERROR(VLOOKUP(A49,'8eme'!B:J,1,FALSE)),\"\",IF(VLOOKUP(A49,'8eme'!B:J,9,FALSE)<>\"\",IF(VLOOKUP(A49,'8eme'!B:J,9,FALSE)>0,\"G\",\"P\"),\"\"))&IF(ISERROR(VLOOKUP(A49,'8eme'!F:J,1,FALSE)),\"\",IF(VLOOKUP(A49,'8eme'!F:J,5,FALSE)<>\"\",IF(VLOOKUP(A49,'8eme'!F:J,5,FALSE)>0,\"P\",\"G\"),\"\")),\"\")","v":""},{"$f":"IF(AND(B49<>\"\",quart!$K$1<>0),IF(ISERROR(VLOOKUP(A49,quart!B:J,1,FALSE)),\"\",IF(VLOOKUP(A49,quart!B:J,9,FALSE)<>\"\",IF(VLOOKUP(A49,quart!B:J,9,FALSE)>0,\"G\",\"P\"),\"\"))&IF(ISERROR(VLOOKUP(A49,quart!F:J,1,FALSE)),\"\",IF(VLOOKUP(A49,quart!F:J,5,FALSE)<>\"\",IF(VLOOKUP(A49,quart!F:J,5,FALSE)>0,\"P\",\"G\"),\"\")),\"\")","v":""},{"$f":"IF(AND(B49<>\"\",demi!$K$1<>0),IF(ISERROR(VLOOKUP(A49,demi!B:J,1,FALSE)),\"\",IF(VLOOKUP(A49,demi!B:J,9,FALSE)<>\"\",IF(VLOOKUP(A49,demi!B:J,9,FALSE)>0,\"G\",\"P\"),\"\"))&IF(ISERROR(VLOOKUP(A49,demi!F:J,1,FALSE)),\"\",IF(VLOOKUP(A49,demi!F:J,5,FALSE)<>\"\",IF(VLOOKUP(A49,demi!F:J,5,FALSE)>0,\"P\",\"G\"),\"\")),\"\")","v":""},{"$f":"IF(AND(B49<>\"\",finale!$K$1<>0),IF(ISERROR(VLOOKUP(A49,finale!B:J,1,FALSE)),\"\",IF(VLOOKUP(A49,finale!B:J,9,FALSE)<>\"\",IF(VLOOKUP(A49,finale!B:J,9,FALSE)>0,\"G\",\"P\"),\"\"))&IF(ISERROR(VLOOKUP(A49,finale!F:J,1,FALSE)),\"\",IF(VLOOKUP(A49,finale!F:J,5,FALSE)<>\"\",IF(VLOOKUP(A49,finale!F:J,5,FALSE)>0,\"P\",\"G\"),\"\")),\"\")","v":""},{"$f":"IF(finale!$K$1<>0,IF(I49=\"G\",\"1er\",IF(I49=\"P\",\"2eme\",IF(H49=\"P\",\"3/4eme\",IF(G49=\"P\",\"5 à 8eme\",\"\")))),\"\")","v":""},null,null,null,{"$f":"IF(ISERROR(VLOOKUP(A49,'32eme'!B$3:M$34,12,FALSE)),IF(ISERROR(VLOOKUP(A49,'32eme'!F$3:M$34,8,FALSE)),\"\",VLOOKUP(A49,'32eme'!F$3:M$34,8,FALSE)),VLOOKUP(A49,'32eme'!B$3:M$34,12,FALSE))","v":""},{"$f":"IF(ISERROR(VLOOKUP(A49,'16eme'!B$3:M$18,12,FALSE)),IF(ISERROR(VLOOKUP(A49,'16eme'!F$3:M$18,8,FALSE)),\"\",VLOOKUP(A49,'16eme'!F$3:M$18,8,FALSE)),VLOOKUP(A49,'16eme'!B$3:M$18,12,FALSE))","v":""},{"$f":"IF(ISERROR(VLOOKUP(A49,'8eme'!B$3:M$10,12,FALSE)),IF(ISERROR(VLOOKUP(A49,'8eme'!F$3:M$10,8,FALSE)),\"\",VLOOKUP(A49,'8eme'!F$3:M$10,8,FALSE)),VLOOKUP(A49,'8eme'!B$3:M$10,12,FALSE))","v":""},{"$f":"IF(ISERROR(VLOOKUP(A49,quart!B$3:M$6,12,FALSE)),IF(ISERROR(VLOOKUP(A49,quart!F$3:M$6,8,FALSE)),\"\",VLOOKUP(A49,quart!F$3:M$6,8,FALSE)),VLOOKUP(A49,quart!B$3:M$6,12,FALSE))","v":""},{"$f":"IF(ISERROR(VLOOKUP(A49,demi!B$3:M$4,12,FALSE)),IF(ISERROR(VLOOKUP(A49,demi!F$3:M$4,8,FALSE)),\"\",VLOOKUP(A49,demi!F$3:M$4,8,FALSE)),VLOOKUP(A49,demi!B$3:M$4,12,FALSE))","v":""}]
[47,null,null,null,{"$f":"IF(AND(B50<>\"\",'16eme'!$K$1<>0),IF(ISERROR(VLOOKUP(A50,'16eme'!B:J,1,FALSE)),\"\",IF(VLOOKUP(A50,'16eme'!B:J,9,FALSE)<>\"\",IF(VLOOKUP(A50,'16eme'!B:J,9,FALSE)>0,\"G\",\"P\"),\"\"))&IF(ISERROR(VLOOKUP(A50,'16eme'!F:J,1,FALSE)),\"\",IF(VLOOKUP(A50,'16eme'!F:J,5,FALSE)<>\"\",IF(VLOOKUP(A50,'16eme'!F:J,5,FALSE)>0,\"P\",\"G\"),\"\")),\"\")","v":""},{"$f":"IF(AND(B50<>\"\",'8eme'!$K$1<>0),IF(ISERROR(VLOOKUP(A50,'8eme'!B:J,1,FALSE)),\"\",IF(VLOOKUP(A50,'8eme'!B:J,9,FALSE)<>\"\",IF(VLOOKUP(A50,'8eme'!B:J,9,FALSE)>0,\"G\",\"P\"),\"\"))&IF(ISERROR(VLOOKUP(A50,'8eme'!F:J,1,FALSE)),\"\",IF(VLOOKUP(A50,'8eme'!F:J,5,FALSE)<>\"\",IF(VLOOKUP(A50,'8eme'!F:J,5,FALSE)>0,\"P\",\"G\"),\"\")),\"\")","v":""},{"$f":"IF(AND(B50<>\"\",quart!$K$1<>0),IF(ISERROR(VLOOKUP(A50,quart!B:J,1,FALSE)),\"\",IF(VLOOKUP(A50,quart!B:J,9,FALSE)<>\"\",IF(VLOOKUP(A50,quart!B:J,9,FALSE)>0,\"G\",\"P\"),\"\"))&IF(ISERROR(VLOOKUP(A50,quart!F:J,1,FALSE)),\"\",IF(VLOOKUP(A50,quart!F:J,5,FALSE)<>\"\",IF(VLOOKUP(A50,quart!F:J,5,FALSE)>0,\"P\",\"G\"),\"\")),\"\")","v":""},{"$f":"IF(AND(B50<>\"\",demi!$K$1<>0),IF(ISERROR(VLOOKUP(A50,demi!B:J,1,FALSE)),\"\",IF(VLOOKUP(A50,demi!B:J,9,FALSE)<>\"\",IF(VLOOKUP(A50,demi!B:J,9,FALSE)>0,\"G\",\"P\"),\"\"))&IF(ISERROR(VLOOKUP(A50,demi!F:J,1,FALSE)),\"\",IF(VLOOKUP(A50,demi!F:J,5,FALSE)<>\"\",IF(VLOOKUP(A50,demi!F:J,5,FALSE)>0,\"P\",\"G\"),\"\")),\"\")","v":""},{"$f":"IF(AND(B50<>\"\",finale!$K$1<>0),IF(ISERROR(VLOOKUP(A50,finale!B:J,1,FALSE)),\"\",IF(VLOOKUP(A50,finale!B:J,9,FALSE)<>\"\",IF(VLOOKUP(A50,finale!B:J,9,FALSE)>0,\"G\",\"P\"),\"\"))&IF(ISERROR(VLOOKUP(A50,finale!F:J,1,FALSE)),\"\",IF(VLOOKUP(A50,finale!F:J,5,FALSE)<>\"\",IF(VLOOKUP(A50,finale!F:J,5,FALSE)>0,\"P\",\"G\"),\"\")),\"\")","v":""},{"$f":"IF(finale!$K$1<>0,IF(I50=\"G\",\"1er\",IF(I50=\"P\",\"2eme\",IF(H50=\"P\",\"3/4eme\",IF(G50=\"P\",\"5 à 8eme\",\"\")))),\"\")","v":""},null,null,null,{"$f":"IF(ISERROR(VLOOKUP(A50,'32eme'!B$3:M$34,12,FALSE)),IF(ISERROR(VLOOKUP(A50,'32eme'!F$3:M$34,8,FALSE)),\"\",VLOOKUP(A50,'32eme'!F$3:M$34,8,FALSE)),VLOOKUP(A50,'32eme'!B$3:M$34,12,FALSE))","v":""},{"$f":"IF(ISERROR(VLOOKUP(A50,'16eme'!B$3:M$18,12,FALSE)),IF(ISERROR(VLOOKUP(A50,'16eme'!F$3:M$18,8,FALSE)),\"\",VLOOKUP(A50,'16eme'!F$3:M$18,8,FALSE)),VLOOKUP(A50,'16eme'!B$3:M$18,12,FALSE))","v":""},{"$f":"IF(ISERROR(VLOOKUP(A50,'8eme'!B$3:M$10,12,FALSE)),IF(ISERROR(VLOOKUP(A50,'8eme'!F$3:M$10,8,FALSE)),\"\",VLOOKUP(A50,'8eme'!F$3:M$10,8,FALSE)),VLOOKUP(A50,'8eme'!B$3:M$10,12,FALSE))","v":""},{"$f":"IF(ISERROR(VLOOKUP(A50,quart!B$3:M$6,12,FALSE)),IF(ISERROR(VLOOKUP(A50,quart!F$3:M$6,8,FALSE)),\"\",VLOOKUP(A50,quart!F$3:M$6,8,FALSE)),VLOOKUP(A50,quart!B$3:M$6,12,FALSE))","v":""},{"$f":"IF(ISERROR(VLOOKUP(A50,demi!B$3:M$4,12,FALSE)),IF(ISERROR(VLOOKUP(A50,demi!F$3:M$4,8,FALSE)),\"\",VLOOKUP(A50,demi!F$3:M$4,8,FALSE)),VLOOKUP(A50,demi!B$3:M$4,12,FALSE))","v":""}]
[48,null,null,null,{"$f":"IF(AND(B51<>\"\",'16eme'!$K$1<>0),IF(ISERROR(VLOOKUP(A51,'16eme'!B:J,1,FALSE)),\"\",IF(VLOOKUP(A51,'16eme'!B:J,9,FALSE)<>\"\",IF(VLOOKUP(A51,'16eme'!B:J,9,FALSE)>0,\"G\",\"P\"),\"\"))&IF(ISERROR(VLOOKUP(A51,'16eme'!F:J,1,FALSE)),\"\",IF(VLOOKUP(A51,'16eme'!F:J,5,FALSE)<>\"\",IF(VLOOKUP(A51,'16eme'!F:J,5,FALSE)>0,\"P\",\"G\"),\"\")),\"\")","v":""},{"$f":"IF(AND(B51<>\"\",'8eme'!$K$1<>0),IF(ISERROR(VLOOKUP(A51,'8eme'!B:J,1,FALSE)),\"\",IF(VLOOKUP(A51,'8eme'!B:J,9,FALSE)<>\"\",IF(VLOOKUP(A51,'8eme'!B:J,9,FALSE)>0,\"G\",\"P\"),\"\"))&IF(ISERROR(VLOOKUP(A51,'8eme'!F:J,1,FALSE)),\"\",IF(VLOOKUP(A51,'8eme'!F:J,5,FALSE)<>\"\",IF(VLOOKUP(A51,'8eme'!F:J,5,FALSE)>0,\"P\",\"G\"),\"\")),\"\")","v":""},{"$f":"IF(AND(B51<>\"\",quart!$K$1<>0),IF(ISERROR(VLOOKUP(A51,quart!B:J,1,FALSE)),\"\",IF(VLOOKUP(A51,quart!B:J,9,FALSE)<>\"\",IF(VLOOKUP(A51,quart!B:J,9,FALSE)>0,\"G\",\"P\"),\"\"))&IF(ISERROR(VLOOKUP(A51,quart!F:J,1,FALSE)),\"\",IF(VLOOKUP(A51,quart!F:J,5,FALSE)<>\"\",IF(VLOOKUP(A51,quart!F:J,5,FALSE)>0,\"P\",\"G\"),\"\")),\"\")","v":""},{"$f":"IF(AND(B51<>\"\",demi!$K$1<>0),IF(ISERROR(VLOOKUP(A51,demi!B:J,1,FALSE)),\"\",IF(VLOOKUP(A51,demi!B:J,9,FALSE)<>\"\",IF(VLOOKUP(A51,demi!B:J,9,FALSE)>0,\"G\",\"P\"),\"\"))&IF(ISERROR(VLOOKUP(A51,demi!F:J,1,FALSE)),\"\",IF(VLOOKUP(A51,demi!F:J,5,FALSE)<>\"\",IF(VLOOKUP(A51,demi!F:J,5,FALSE)>0,\"P\",\"G\"),\"\")),\"\")","v":""},{"$f":"IF(AND(B51<>\"\",finale!$K$1<>0),IF(ISERROR(VLOOKUP(A51,finale!B:J,1,FALSE)),\"\",IF(VLOOKUP(A51,finale!B:J,9,FALSE)<>\"\",IF(VLOOKUP(A51,finale!B:J,9,FALSE)>0,\"G\",\"P\"),\"\"))&IF(ISERROR(VLOOKUP(A51,finale!F:J,1,FALSE)),\"\",IF(VLOOKUP(A51,finale!F:J,5,FALSE)<>\"\",IF(VLOOKUP(A51,finale!F:J,5,FALSE)>0,\"P\",\"G\"),\"\")),\"\")","v":""},{"$f":"IF(finale!$K$1<>0,IF(I51=\"G\",\"1er\",IF(I51=\"P\",\"2eme\",IF(H51=\"P\",\"3/4eme\",IF(G51=\"P\",\"5 à 8eme\",\"\")))),\"\")","v":""},null,null,null,{"$f":"IF(ISERROR(VLOOKUP(A51,'32eme'!B$3:M$34,12,FALSE)),IF(ISERROR(VLOOKUP(A51,'32eme'!F$3:M$34,8,FALSE)),\"\",VLOOKUP(A51,'32eme'!F$3:M$34,8,FALSE)),VLOOKUP(A51,'32eme'!B$3:M$34,12,FALSE))","v":""},{"$f":"IF(ISERROR(VLOOKUP(A51,'16eme'!B$3:M$18,12,FALSE)),IF(ISERROR(VLOOKUP(A51,'16eme'!F$3:M$18,8,FALSE)),\"\",VLOOKUP(A51,'16eme'!F$3:M$18,8,FALSE)),VLOOKUP(A51,'16eme'!B$3:M$18,12,FALSE))","v":""},{"$f":"IF(ISERROR(VLOOKUP(A51,'8eme'!B$3:M$10,12,FALSE)),IF(ISERROR(VLOOKUP(A51,'8eme'!F$3:M$10,8,FALSE)),\"\",VLOOKUP(A51,'8eme'!F$3:M$10,8,FALSE)),VLOOKUP(A51,'8eme'!B$3:M$10,12,FALSE))","v":""},{"$f":"IF(ISERROR(VLOOKUP(A51,quart!B$3:M$6,12,FALSE)),IF(ISERROR(VLOOKUP(A51,quart!F$3:M$6,8,FALSE)),\"\",VLOOKUP(A51,quart!F$3:M$6,8,FALSE)),VLOOKUP(A51,quart!B$3:M$6,12,FALSE))","v":""},{"$f":"IF(ISERROR(VLOOKUP(A51,demi!B$3:M$4,12,FALSE)),IF(ISERROR(VLOOKUP(A51,demi!F$3:M$4,8,FALSE)),\"\",VLOOKUP(A51,demi!F$3:M$4,8,FALSE)),VLOOKUP(A51,demi!B$3:M$4,12,FALSE))","v":""}]
[49,null,null,null,{"$f":"IF(AND(B52<>\"\",'16eme'!$K$1<>0),IF(ISERROR(VLOOKUP(A52,'16eme'!B:J,1,FALSE)),\"\",IF(VLOOKUP(A52,'16eme'!B:J,9,FALSE)<>\"\",IF(VLOOKUP(A52,'16eme'!B:J,9,FALSE)>0,\"G\",\"P\"),\"\"))&IF(ISERROR(VLOOKUP(A52,'16eme'!F:J,1,FALSE)),\"\",IF(VLOOKUP(A52,'16eme'!F:J,5,FALSE)<>\"\",IF(VLOOKUP(A52,'16eme'!F:J,5,FALSE)>0,\"P\",\"G\"),\"\")),\"\")","v":""},{"$f":"IF(AND(B52<>\"\",'8eme'!$K$1<>0),IF(ISERROR(VLOOKUP(A52,'8eme'!B:J,1,FALSE)),\"\",IF(VLOOKUP(A52,'8eme'!B:J,9,FALSE)<>\"\",IF(VLOOKUP(A52,'8eme'!B:J,9,FALSE)>0,\"G\",\"P\"),\"\"))&IF(ISERROR(VLOOKUP(A52,'8eme'!F:J,1,FALSE)),\"\",IF(VLOOKUP(A52,'8eme'!F:J,5,FALSE)<>\"\",IF(VLOOKUP(A52,'8eme'!F:J,5,FALSE)>0,\"P\",\"G\"),\"\")),\"\")","v":""},{"$f":"IF(AND(B52<>\"\",quart!$K$1<>0),IF(ISERROR(VLOOKUP(A52,quart!B:J,1,FALSE)),\"\",IF(VLOOKUP(A52,quart!B:J,9,FALSE)<>\"\",IF(VLOOKUP(A52,quart!B:J,9,FALSE)>0,\"G\",\"P\"),\"\"))&IF(ISERROR(VLOOKUP(A52,quart!F:J,1,FALSE)),\"\",IF(VLOOKUP(A52,quart!F:J,5,FALSE)<>\"\",IF(VLOOKUP(A52,quart!F:J,5,FALSE)>0,\"P\",\"G\"),\"\")),\"\")","v":""},{"$f":"IF(AND(B52<>\"\",demi!$K$1<>0),IF(ISERROR(VLOOKUP(A52,demi!B:J,1,FALSE)),\"\",IF(VLOOKUP(A52,demi!B:J,9,FALSE)<>\"\",IF(VLOOKUP(A52,demi!B:J,9,FALSE)>0,\"G\",\"P\"),\"\"))&IF(ISERROR(VLOOKUP(A52,demi!F:J,1,FALSE)),\"\",IF(VLOOKUP(A52,demi!F:J,5,FALSE)<>\"\",IF(VLOOKUP(A52,demi!F:J,5,FALSE)>0,\"P\",\"G\"),\"\")),\"\")","v":""},{"$f":"IF(AND(B52<>\"\",finale!$K$1<>0),IF(ISERROR(VLOOKUP(A52,finale!B:J,1,FALSE)),\"\",IF(VLOOKUP(A52,finale!B:J,9,FALSE)<>\"\",IF(VLOOKUP(A52,finale!B:J,9,FALSE)>0,\"G\",\"P\"),\"\"))&IF(ISERROR(VLOOKUP(A52,finale!F:J,1,FALSE)),\"\",IF(VLOOKUP(A52,finale!F:J,5,FALSE)<>\"\",IF(VLOOKUP(A52,finale!F:J,5,FALSE)>0,\"P\",\"G\"),\"\")),\"\")","v":""},{"$f":"IF(finale!$K$1<>0,IF(I52=\"G\",\"1er\",IF(I52=\"P\",\"2eme\",IF(H52=\"P\",\"3/4eme\",IF(G52=\"P\",\"5 à 8eme\",\"\")))),\"\")","v":""},null,null,null,{"$f":"IF(ISERROR(VLOOKUP(A52,'32eme'!B$3:M$34,12,FALSE)),IF(ISERROR(VLOOKUP(A52,'32eme'!F$3:M$34,8,FALSE)),\"\",VLOOKUP(A52,'32eme'!F$3:M$34,8,FALSE)),VLOOKUP(A52,'32eme'!B$3:M$34,12,FALSE))","v":""},{"$f":"IF(ISERROR(VLOOKUP(A52,'16eme'!B$3:M$18,12,FALSE)),IF(ISERROR(VLOOKUP(A52,'16eme'!F$3:M$18,8,FALSE)),\"\",VLOOKUP(A52,'16eme'!F$3:M$18,8,FALSE)),VLOOKUP(A52,'16eme'!B$3:M$18,12,FALSE))","v":""},{"$f":"IF(ISERROR(VLOOKUP(A52,'8eme'!B$3:M$10,12,FALSE)),IF(ISERROR(VLOOKUP(A52,'8eme'!F$3:M$10,8,FALSE)),\"\",VLOOKUP(A52,'8eme'!F$3:M$10,8,FALSE)),VLOOKUP(A52,'8eme'!B$3:M$10,12,FALSE))","v":""},{"$f":"IF(ISERROR(VLOOKUP(A52,quart!B$3:M$6,12,FALSE)),IF(ISERROR(VLOOKUP(A52,quart!F$3:M$6,8,FALSE)),\"\",VLOOKUP(A52,quart!F$3:M$6,8,FALSE)),VLOOKUP(A52,quart!B$3:M$6,12,FALSE))","v":""},{"$f":"IF(ISERROR(VLOOKUP(A52,demi!B$3:M$4,12,FALSE)),IF(ISERROR(VLOOKUP(A52,demi!F$3:M$4,8,FALSE)),\"\",VLOOKUP(A52,demi!F$3:M$4,8,FALSE)),VLOOKUP(A52,demi!B$3:M$4,12,FALSE))","v":""}]
[50,null,null,null,{"$f":"IF(AND(B53<>\"\",'16eme'!$K$1<>0),IF(ISERROR(VLOOKUP(A53,'16eme'!B:J,1,FALSE)),\"\",IF(VLOOKUP(A53,'16eme'!B:J,9,FALSE)<>\"\",IF(VLOOKUP(A53,'16eme'!B:J,9,FALSE)>0,\"G\",\"P\"),\"\"))&IF(ISERROR(VLOOKUP(A53,'16eme'!F:J,1,FALSE)),\"\",IF(VLOOKUP(A53,'16eme'!F:J,5,FALSE)<>\"\",IF(VLOOKUP(A53,'16eme'!F:J,5,FALSE)>0,\"P\",\"G\"),\"\")),\"\")","v":""},{"$f":"IF(AND(B53<>\"\",'8eme'!$K$1<>0),IF(ISERROR(VLOOKUP(A53,'8eme'!B:J,1,FALSE)),\"\",IF(VLOOKUP(A53,'8eme'!B:J,9,FALSE)<>\"\",IF(VLOOKUP(A53,'8eme'!B:J,9,FALSE)>0,\"G\",\"P\"),\"\"))&IF(ISERROR(VLOOKUP(A53,'8eme'!F:J,1,FALSE)),\"\",IF(VLOOKUP(A53,'8eme'!F:J,5,FALSE)<>\"\",IF(VLOOKUP(A53,'8eme'!F:J,5,FALSE)>0,\"P\",\"G\"),\"\")),\"\")","v":""},{"$f":"IF(AND(B53<>\"\",quart!$K$1<>0),IF(ISERROR(VLOOKUP(A53,quart!B:J,1,FALSE)),\"\",IF(VLOOKUP(A53,quart!B:J,9,FALSE)<>\"\",IF(VLOOKUP(A53,quart!B:J,9,FALSE)>0,\"G\",\"P\"),\"\"))&IF(ISERROR(VLOOKUP(A53,quart!F:J,1,FALSE)),\"\",IF(VLOOKUP(A53,quart!F:J,5,FALSE)<>\"\",IF(VLOOKUP(A53,quart!F:J,5,FALSE)>0,\"P\",\"G\"),\"\")),\"\")","v":""},{"$f":"IF(AND(B53<>\"\",demi!$K$1<>0),IF(ISERROR(VLOOKUP(A53,demi!B:J,1,FALSE)),\"\",IF(VLOOKUP(A53,demi!B:J,9,FALSE)<>\"\",IF(VLOOKUP(A53,demi!B:J,9,FALSE)>0,\"G\",\"P\"),\"\"))&IF(ISERROR(VLOOKUP(A53,demi!F:J,1,FALSE)),\"\",IF(VLOOKUP(A53,demi!F:J,5,FALSE)<>\"\",IF(VLOOKUP(A53,demi!F:J,5,FALSE)>0,\"P\",\"G\"),\"\")),\"\")","v":""},{"$f":"IF(AND(B53<>\"\",finale!$K$1<>0),IF(ISERROR(VLOOKUP(A53,finale!B:J,1,FALSE)),\"\",IF(VLOOKUP(A53,finale!B:J,9,FALSE)<>\"\",IF(VLOOKUP(A53,finale!B:J,9,FALSE)>0,\"G\",\"P\"),\"\"))&IF(ISERROR(VLOOKUP(A53,finale!F:J,1,FALSE)),\"\",IF(VLOOKUP(A53,finale!F:J,5,FALSE)<>\"\",IF(VLOOKUP(A53,finale!F:J,5,FALSE)>0,\"P\",\"G\"),\"\")),\"\")","v":""},{"$f":"IF(finale!$K$1<>0,IF(I53=\"G\",\"1er\",IF(I53=\"P\",\"2eme\",IF(H53=\"P\",\"3/4eme\",IF(G53=\"P\",\"5 à 8eme\",\"\")))),\"\")","v":""},null,null,null,{"$f":"IF(ISERROR(VLOOKUP(A53,'32eme'!B$3:M$34,12,FALSE)),IF(ISERROR(VLOOKUP(A53,'32eme'!F$3:M$34,8,FALSE)),\"\",VLOOKUP(A53,'32eme'!F$3:M$34,8,FALSE)),VLOOKUP(A53,'32eme'!B$3:M$34,12,FALSE))","v":""},{"$f":"IF(ISERROR(VLOOKUP(A53,'16eme'!B$3:M$18,12,FALSE)),IF(ISERROR(VLOOKUP(A53,'16eme'!F$3:M$18,8,FALSE)),\"\",VLOOKUP(A53,'16eme'!F$3:M$18,8,FALSE)),VLOOKUP(A53,'16eme'!B$3:M$18,12,FALSE))","v":""},{"$f":"IF(ISERROR(VLOOKUP(A53,'8eme'!B$3:M$10,12,FALSE)),IF(ISERROR(VLOOKUP(A53,'8eme'!F$3:M$10,8,FALSE)),\"\",VLOOKUP(A53,'8eme'!F$3:M$10,8,FALSE)),VLOOKUP(A53,'8eme'!B$3:M$10,12,FALSE))","v":""},{"$f":"IF(ISERROR(VLOOKUP(A53,quart!B$3:M$6,12,FALSE)),IF(ISERROR(VLOOKUP(A53,quart!F$3:M$6,8,FALSE)),\"\",VLOOKUP(A53,quart!F$3:M$6,8,FALSE)),VLOOKUP(A53,quart!B$3:M$6,12,FALSE))","v":""},{"$f":"IF(ISERROR(VLOOKUP(A53,demi!B$3:M$4,12,FALSE)),IF(ISERROR(VLOOKUP(A53,demi!F$3:M$4,8,FALSE)),\"\",VLOOKUP(A53,demi!F$3:M$4,8,FALSE)),VLOOKUP(A53,demi!B$3:M$4,12,FALSE))","v":""}]
[51,null,null,null,{"$f":"IF(AND(B54<>\"\",'16eme'!$K$1<>0),IF(ISERROR(VLOOKUP(A54,'16eme'!B:J,1,FALSE)),\"\",IF(VLOOKUP(A54,'16eme'!B:J,9,FALSE)<>\"\",IF(VLOOKUP(A54,'16eme'!B:J,9,FALSE)>0,\"G\",\"P\"),\"\"))&IF(ISERROR(VLOOKUP(A54,'16eme'!F:J,1,FALSE)),\"\",IF(VLOOKUP(A54,'16eme'!F:J,5,FALSE)<>\"\",IF(VLOOKUP(A54,'16eme'!F:J,5,FALSE)>0,\"P\",\"G\"),\"\")),\"\")","v":""},{"$f":"IF(AND(B54<>\"\",'8eme'!$K$1<>0),IF(ISERROR(VLOOKUP(A54,'8eme'!B:J,1,FALSE)),\"\",IF(VLOOKUP(A54,'8eme'!B:J,9,FALSE)<>\"\",IF(VLOOKUP(A54,'8eme'!B:J,9,FALSE)>0,\"G\",\"P\"),\"\"))&IF(ISERROR(VLOOKUP(A54,'8eme'!F:J,1,FALSE)),\"\",IF(VLOOKUP(A54,'8eme'!F:J,5,FALSE)<>\"\",IF(VLOOKUP(A54,'8eme'!F:J,5,FALSE)>0,\"P\",\"G\"),\"\")),\"\")","v":""},{"$f":"IF(AND(B54<>\"\",quart!$K$1<>0),IF(ISERROR(VLOOKUP(A54,quart!B:J,1,FALSE)),\"\",IF(VLOOKUP(A54,quart!B:J,9,FALSE)<>\"\",IF(VLOOKUP(A54,quart!B:J,9,FALSE)>0,\"G\",\"P\"),\"\"))&IF(ISERROR(VLOOKUP(A54,quart!F:J,1,FALSE)),\"\",IF(VLOOKUP(A54,quart!F:J,5,FALSE)<>\"\",IF(VLOOKUP(A54,quart!F:J,5,FALSE)>0,\"P\",\"G\"),\"\")),\"\")","v":""},{"$f":"IF(AND(B54<>\"\",demi!$K$1<>0),IF(ISERROR(VLOOKUP(A54,demi!B:J,1,FALSE)),\"\",IF(VLOOKUP(A54,demi!B:J,9,FALSE)<>\"\",IF(VLOOKUP(A54,demi!B:J,9,FALSE)>0,\"G\",\"P\"),\"\"))&IF(ISERROR(VLOOKUP(A54,demi!F:J,1,FALSE)),\"\",IF(VLOOKUP(A54,demi!F:J,5,FALSE)<>\"\",IF(VLOOKUP(A54,demi!F:J,5,FALSE)>0,\"P\",\"G\"),\"\")),\"\")","v":""},{"$f":"IF(AND(B54<>\"\",finale!$K$1<>0),IF(ISERROR(VLOOKUP(A54,finale!B:J,1,FALSE)),\"\",IF(VLOOKUP(A54,finale!B:J,9,FALSE)<>\"\",IF(VLOOKUP(A54,finale!B:J,9,FALSE)>0,\"G\",\"P\"),\"\"))&IF(ISERROR(VLOOKUP(A54,finale!F:J,1,FALSE)),\"\",IF(VLOOKUP(A54,finale!F:J,5,FALSE)<>\"\",IF(VLOOKUP(A54,finale!F:J,5,FALSE)>0,\"P\",\"G\"),\"\")),\"\")","v":""},{"$f":"IF(finale!$K$1<>0,IF(I54=\"G\",\"1er\",IF(I54=\"P\",\"2eme\",IF(H54=\"P\",\"3/4eme\",IF(G54=\"P\",\"5 à 8eme\",\"\")))),\"\")","v":""},null,null,null,{"$f":"IF(ISERROR(VLOOKUP(A54,'32eme'!B$3:M$34,12,FALSE)),IF(ISERROR(VLOOKUP(A54,'32eme'!F$3:M$34,8,FALSE)),\"\",VLOOKUP(A54,'32eme'!F$3:M$34,8,FALSE)),VLOOKUP(A54,'32eme'!B$3:M$34,12,FALSE))","v":""},{"$f":"IF(ISERROR(VLOOKUP(A54,'16eme'!B$3:M$18,12,FALSE)),IF(ISERROR(VLOOKUP(A54,'16eme'!F$3:M$18,8,FALSE)),\"\",VLOOKUP(A54,'16eme'!F$3:M$18,8,FALSE)),VLOOKUP(A54,'16eme'!B$3:M$18,12,FALSE))","v":""},{"$f":"IF(ISERROR(VLOOKUP(A54,'8eme'!B$3:M$10,12,FALSE)),IF(ISERROR(VLOOKUP(A54,'8eme'!F$3:M$10,8,FALSE)),\"\",VLOOKUP(A54,'8eme'!F$3:M$10,8,FALSE)),VLOOKUP(A54,'8eme'!B$3:M$10,12,FALSE))","v":""},{"$f":"IF(ISERROR(VLOOKUP(A54,quart!B$3:M$6,12,FALSE)),IF(ISERROR(VLOOKUP(A54,quart!F$3:M$6,8,FALSE)),\"\",VLOOKUP(A54,quart!F$3:M$6,8,FALSE)),VLOOKUP(A54,quart!B$3:M$6,12,FALSE))","v":""},{"$f":"IF(ISERROR(VLOOKUP(A54,demi!B$3:M$4,12,FALSE)),IF(ISERROR(VLOOKUP(A54,demi!F$3:M$4,8,FALSE)),\"\",VLOOKUP(A54,demi!F$3:M$4,8,FALSE)),VLOOKUP(A54,demi!B$3:M$4,12,FALSE))","v":""}]
[52,null,null,null,{"$f":"IF(AND(B55<>\"\",'16eme'!$K$1<>0),IF(ISERROR(VLOOKUP(A55,'16eme'!B:J,1,FALSE)),\"\",IF(VLOOKUP(A55,'16eme'!B:J,9,FALSE)<>\"\",IF(VLOOKUP(A55,'16eme'!B:J,9,FALSE)>0,\"G\",\"P\"),\"\"))&IF(ISERROR(VLOOKUP(A55,'16eme'!F:J,1,FALSE)),\"\",IF(VLOOKUP(A55,'16eme'!F:J,5,FALSE)<>\"\",IF(VLOOKUP(A55,'16eme'!F:J,5,FALSE)>0,\"P\",\"G\"),\"\")),\"\")","v":""},{"$f":"IF(AND(B55<>\"\",'8eme'!$K$1<>0),IF(ISERROR(VLOOKUP(A55,'8eme'!B:J,1,FALSE)),\"\",IF(VLOOKUP(A55,'8eme'!B:J,9,FALSE)<>\"\",IF(VLOOKUP(A55,'8eme'!B:J,9,FALSE)>0,\"G\",\"P\"),\"\"))&IF(ISERROR(VLOOKUP(A55,'8eme'!F:J,1,FALSE)),\"\",IF(VLOOKUP(A55,'8eme'!F:J,5,FALSE)<>\"\",IF(VLOOKUP(A55,'8eme'!F:J,5,FALSE)>0,\"P\",\"G\"),\"\")),\"\")","v":""},{"$f":"IF(AND(B55<>\"\",quart!$K$1<>0),IF(ISERROR(VLOOKUP(A55,quart!B:J,1,FALSE)),\"\",IF(VLOOKUP(A55,quart!B:J,9,FALSE)<>\"\",IF(VLOOKUP(A55,quart!B:J,9,FALSE)>0,\"G\",\"P\"),\"\"))&IF(ISERROR(VLOOKUP(A55,quart!F:J,1,FALSE)),\"\",IF(VLOOKUP(A55,quart!F:J,5,FALSE)<>\"\",IF(VLOOKUP(A55,quart!F:J,5,FALSE)>0,\"P\",\"G\"),\"\")),\"\")","v":""},{"$f":"IF(AND(B55<>\"\",demi!$K$1<>0),IF(ISERROR(VLOOKUP(A55,demi!B:J,1,FALSE)),\"\",IF(VLOOKUP(A55,demi!B:J,9,FALSE)<>\"\",IF(VLOOKUP(A55,demi!B:J,9,FALSE)>0,\"G\",\"P\"),\"\"))&IF(ISERROR(VLOOKUP(A55,demi!F:J,1,FALSE)),\"\",IF(VLOOKUP(A55,demi!F:J,5,FALSE)<>\"\",IF(VLOOKUP(A55,demi!F:J,5,FALSE)>0,\"P\",\"G\"),\"\")),\"\")","v":""},{"$f":"IF(AND(B55<>\"\",finale!$K$1<>0),IF(ISERROR(VLOOKUP(A55,finale!B:J,1,FALSE)),\"\",IF(VLOOKUP(A55,finale!B:J,9,FALSE)<>\"\",IF(VLOOKUP(A55,finale!B:J,9,FALSE)>0,\"G\",\"P\"),\"\"))&IF(ISERROR(VLOOKUP(A55,finale!F:J,1,FALSE)),\"\",IF(VLOOKUP(A55,finale!F:J,5,FALSE)<>\"\",IF(VLOOKUP(A55,finale!F:J,5,FALSE)>0,\"P\",\"G\"),\"\")),\"\")","v":""},{"$f":"IF(finale!$K$1<>0,IF(I55=\"G\",\"1er\",IF(I55=\"P\",\"2eme\",IF(H55=\"P\",\"3/4eme\",IF(G55=\"P\",\"5 à 8eme\",\"\")))),\"\")","v":""},null,null,null,{"$f":"IF(ISERROR(VLOOKUP(A55,'32eme'!B$3:M$34,12,FALSE)),IF(ISERROR(VLOOKUP(A55,'32eme'!F$3:M$34,8,FALSE)),\"\",VLOOKUP(A55,'32eme'!F$3:M$34,8,FALSE)),VLOOKUP(A55,'32eme'!B$3:M$34,12,FALSE))","v":""},{"$f":"IF(ISERROR(VLOOKUP(A55,'16eme'!B$3:M$18,12,FALSE)),IF(ISERROR(VLOOKUP(A55,'16eme'!F$3:M$18,8,FALSE)),\"\",VLOOKUP(A55,'16eme'!F$3:M$18,8,FALSE)),VLOOKUP(A55,'16eme'!B$3:M$18,12,FALSE))","v":""},{"$f":"IF(ISERROR(VLOOKUP(A55,'8eme'!B$3:M$10,12,FALSE)),IF(ISERROR(VLOOKUP(A55,'8eme'!F$3:M$10,8,FALSE)),\"\",VLOOKUP(A55,'8eme'!F$3:M$10,8,FALSE)),VLOOKUP(A55,'8eme'!B$3:M$10,12,FALSE))","v":""},{"$f":"IF(ISERROR(VLOOKUP(A55,quart!B$3:M$6,12,FALSE)),IF(ISERROR(VLOOKUP(A55,quart!F$3:M$6,8,FALSE)),\"\",VLOOKUP(A55,quart!F$3:M$6,8,FALSE)),VLOOKUP(A55,quart!B$3:M$6,12,FALSE))","v":""},{"$f":"IF(ISERROR(VLOOKUP(A55,demi!B$3:M$4,12,FALSE)),IF(ISERROR(VLOOKUP(A55,demi!F$3:M$4,8,FALSE)),\"\",VLOOKUP(A55,demi!F$3:M$4,8,FALSE)),VLOOKUP(A55,demi!B$3:M$4,12,FALSE))","v":""}]
[53,null,null,null,{"$f":"IF(AND(B56<>\"\",'16eme'!$K$1<>0),IF(ISERROR(VLOOKUP(A56,'16eme'!B:J,1,FALSE)),\"\",IF(VLOOKUP(A56,'16eme'!B:J,9,FALSE)<>\"\",IF(VLOOKUP(A56,'16eme'!B:J,9,FALSE)>0,\"G\",\"P\"),\"\"))&IF(ISERROR(VLOOKUP(A56,'16eme'!F:J,1,FALSE)),\"\",IF(VLOOKUP(A56,'16eme'!F:J,5,FALSE)<>\"\",IF(VLOOKUP(A56,'16eme'!F:J,5,FALSE)>0,\"P\",\"G\"),\"\")),\"\")","v":""},{"$f":"IF(AND(B56<>\"\",'8eme'!$K$1<>0),IF(ISERROR(VLOOKUP(A56,'8eme'!B:J,1,FALSE)),\"\",IF(VLOOKUP(A56,'8eme'!B:J,9,FALSE)<>\"\",IF(VLOOKUP(A56,'8eme'!B:J,9,FALSE)>0,\"G\",\"P\"),\"\"))&IF(ISERROR(VLOOKUP(A56,'8eme'!F:J,1,FALSE)),\"\",IF(VLOOKUP(A56,'8eme'!F:J,5,FALSE)<>\"\",IF(VLOOKUP(A56,'8eme'!F:J,5,FALSE)>0,\"P\",\"G\"),\"\")),\"\")","v":""},{"$f":"IF(AND(B56<>\"\",quart!$K$1<>0),IF(ISERROR(VLOOKUP(A56,quart!B:J,1,FALSE)),\"\",IF(VLOOKUP(A56,quart!B:J,9,FALSE)<>\"\",IF(VLOOKUP(A56,quart!B:J,9,FALSE)>0,\"G\",\"P\"),\"\"))&IF(ISERROR(VLOOKUP(A56,quart!F:J,1,FALSE)),\"\",IF(VLOOKUP(A56,quart!F:J,5,FALSE)<>\"\",IF(VLOOKUP(A56,quart!F:J,5,FALSE)>0,\"P\",\"G\"),\"\")),\"\")","v":""},{"$f":"IF(AND(B56<>\"\",demi!$K$1<>0),IF(ISERROR(VLOOKUP(A56,demi!B:J,1,FALSE)),\"\",IF(VLOOKUP(A56,demi!B:J,9,FALSE)<>\"\",IF(VLOOKUP(A56,demi!B:J,9,FALSE)>0,\"G\",\"P\"),\"\"))&IF(ISERROR(VLOOKUP(A56,demi!F:J,1,FALSE)),\"\",IF(VLOOKUP(A56,demi!F:J,5,FALSE)<>\"\",IF(VLOOKUP(A56,demi!F:J,5,FALSE)>0,\"P\",\"G\"),\"\")),\"\")","v":""},{"$f":"IF(AND(B56<>\"\",finale!$K$1<>0),IF(ISERROR(VLOOKUP(A56,finale!B:J,1,FALSE)),\"\",IF(VLOOKUP(A56,finale!B:J,9,FALSE)<>\"\",IF(VLOOKUP(A56,finale!B:J,9,FALSE)>0,\"G\",\"P\"),\"\"))&IF(ISERROR(VLOOKUP(A56,finale!F:J,1,FALSE)),\"\",IF(VLOOKUP(A56,finale!F:J,5,FALSE)<>\"\",IF(VLOOKUP(A56,finale!F:J,5,FALSE)>0,\"P\",\"G\"),\"\")),\"\")","v":""},{"$f":"IF(finale!$K$1<>0,IF(I56=\"G\",\"1er\",IF(I56=\"P\",\"2eme\",IF(H56=\"P\",\"3/4eme\",IF(G56=\"P\",\"5 à 8eme\",\"\")))),\"\")","v":""},null,null,null,{"$f":"IF(ISERROR(VLOOKUP(A56,'32eme'!B$3:M$34,12,FALSE)),IF(ISERROR(VLOOKUP(A56,'32eme'!F$3:M$34,8,FALSE)),\"\",VLOOKUP(A56,'32eme'!F$3:M$34,8,FALSE)),VLOOKUP(A56,'32eme'!B$3:M$34,12,FALSE))","v":""},{"$f":"IF(ISERROR(VLOOKUP(A56,'16eme'!B$3:M$18,12,FALSE)),IF(ISERROR(VLOOKUP(A56,'16eme'!F$3:M$18,8,FALSE)),\"\",VLOOKUP(A56,'16eme'!F$3:M$18,8,FALSE)),VLOOKUP(A56,'16eme'!B$3:M$18,12,FALSE))","v":""},{"$f":"IF(ISERROR(VLOOKUP(A56,'8eme'!B$3:M$10,12,FALSE)),IF(ISERROR(VLOOKUP(A56,'8eme'!F$3:M$10,8,FALSE)),\"\",VLOOKUP(A56,'8eme'!F$3:M$10,8,FALSE)),VLOOKUP(A56,'8eme'!B$3:M$10,12,FALSE))","v":""},{"$f":"IF(ISERROR(VLOOKUP(A56,quart!B$3:M$6,12,FALSE)),IF(ISERROR(VLOOKUP(A56,quart!F$3:M$6,8,FALSE)),\"\",VLOOKUP(A56,quart!F$3:M$6,8,FALSE)),VLOOKUP(A56,quart!B$3:M$6,12,FALSE))","v":""},{"$f":"IF(ISERROR(VLOOKUP(A56,demi!B$3:M$4,12,FALSE)),IF(ISERROR(VLOOKUP(A56,demi!F$3:M$4,8,FALSE)),\"\",VLOOKUP(A56,demi!F$3:M$4,8,FALSE)),VLOOKUP(A56,demi!B$3:M$4,12,FALSE))","v":""}]
[54,null,null,null,{"$f":"IF(AND(B57<>\"\",'16eme'!$K$1<>0),IF(ISERROR(VLOOKUP(A57,'16eme'!B:J,1,FALSE)),\"\",IF(VLOOKUP(A57,'16eme'!B:J,9,FALSE)<>\"\",IF(VLOOKUP(A57,'16eme'!B:J,9,FALSE)>0,\"G\",\"P\"),\"\"))&IF(ISERROR(VLOOKUP(A57,'16eme'!F:J,1,FALSE)),\"\",IF(VLOOKUP(A57,'16eme'!F:J,5,FALSE)<>\"\",IF(VLOOKUP(A57,'16eme'!F:J,5,FALSE)>0,\"P\",\"G\"),\"\")),\"\")","v":""},{"$f":"IF(AND(B57<>\"\",'8eme'!$K$1<>0),IF(ISERROR(VLOOKUP(A57,'8eme'!B:J,1,FALSE)),\"\",IF(VLOOKUP(A57,'8eme'!B:J,9,FALSE)<>\"\",IF(VLOOKUP(A57,'8eme'!B:J,9,FALSE)>0,\"G\",\"P\"),\"\"))&IF(ISERROR(VLOOKUP(A57,'8eme'!F:J,1,FALSE)),\"\",IF(VLOOKUP(A57,'8eme'!F:J,5,FALSE)<>\"\",IF(VLOOKUP(A57,'8eme'!F:J,5,FALSE)>0,\"P\",\"G\"),\"\")),\"\")","v":""},{"$f":"IF(AND(B57<>\"\",quart!$K$1<>0),IF(ISERROR(VLOOKUP(A57,quart!B:J,1,FALSE)),\"\",IF(VLOOKUP(A57,quart!B:J,9,FALSE)<>\"\",IF(VLOOKUP(A57,quart!B:J,9,FALSE)>0,\"G\",\"P\"),\"\"))&IF(ISERROR(VLOOKUP(A57,quart!F:J,1,FALSE)),\"\",IF(VLOOKUP(A57,quart!F:J,5,FALSE)<>\"\",IF(VLOOKUP(A57,quart!F:J,5,FALSE)>0,\"P\",\"G\"),\"\")),\"\")","v":""},{"$f":"IF(AND(B57<>\"\",demi!$K$1<>0),IF(ISERROR(VLOOKUP(A57,demi!B:J,1,FALSE)),\"\",IF(VLOOKUP(A57,demi!B:J,9,FALSE)<>\"\",IF(VLOOKUP(A57,demi!B:J,9,FALSE)>0,\"G\",\"P\"),\"\"))&IF(ISERROR(VLOOKUP(A57,demi!F:J,1,FALSE)),\"\",IF(VLOOKUP(A57,demi!F:J,5,FALSE)<>\"\",IF(VLOOKUP(A57,demi!F:J,5,FALSE)>0,\"P\",\"G\"),\"\")),\"\")","v":""},{"$f":"IF(AND(B57<>\"\",finale!$K$1<>0),IF(ISERROR(VLOOKUP(A57,finale!B:J,1,FALSE)),\"\",IF(VLOOKUP(A57,finale!B:J,9,FALSE)<>\"\",IF(VLOOKUP(A57,finale!B:J,9,FALSE)>0,\"G\",\"P\"),\"\"))&IF(ISERROR(VLOOKUP(A57,finale!F:J,1,FALSE)),\"\",IF(VLOOKUP(A57,finale!F:J,5,FALSE)<>\"\",IF(VLOOKUP(A57,finale!F:J,5,FALSE)>0,\"P\",\"G\"),\"\")),\"\")","v":""},{"$f":"IF(finale!$K$1<>0,IF(I57=\"G\",\"1er\",IF(I57=\"P\",\"2eme\",IF(H57=\"P\",\"3/4eme\",IF(G57=\"P\",\"5 à 8eme\",\"\")))),\"\")","v":""},null,null,null,{"$f":"IF(ISERROR(VLOOKUP(A57,'32eme'!B$3:M$34,12,FALSE)),IF(ISERROR(VLOOKUP(A57,'32eme'!F$3:M$34,8,FALSE)),\"\",VLOOKUP(A57,'32eme'!F$3:M$34,8,FALSE)),VLOOKUP(A57,'32eme'!B$3:M$34,12,FALSE))","v":""},{"$f":"IF(ISERROR(VLOOKUP(A57,'16eme'!B$3:M$18,12,FALSE)),IF(ISERROR(VLOOKUP(A57,'16eme'!F$3:M$18,8,FALSE)),\"\",VLOOKUP(A57,'16eme'!F$3:M$18,8,FALSE)),VLOOKUP(A57,'16eme'!B$3:M$18,12,FALSE))","v":""},{"$f":"IF(ISERROR(VLOOKUP(A57,'8eme'!B$3:M$10,12,FALSE)),IF(ISERROR(VLOOKUP(A57,'8eme'!F$3:M$10,8,FALSE)),\"\",VLOOKUP(A57,'8eme'!F$3:M$10,8,FALSE)),VLOOKUP(A57,'8eme'!B$3:M$10,12,FALSE))","v":""},{"$f":"IF(ISERROR(VLOOKUP(A57,quart!B$3:M$6,12,FALSE)),IF(ISERROR(VLOOKUP(A57,quart!F$3:M$6,8,FALSE)),\"\",VLOOKUP(A57,quart!F$3:M$6,8,FALSE)),VLOOKUP(A57,quart!B$3:M$6,12,FALSE))","v":""},{"$f":"IF(ISERROR(VLOOKUP(A57,demi!B$3:M$4,12,FALSE)),IF(ISERROR(VLOOKUP(A57,demi!F$3:M$4,8,FALSE)),\"\",VLOOKUP(A57,demi!F$3:M$4,8,FALSE)),VLOOKUP(A57,demi!B$3:M$4,12,FALSE))","v":""}]
[55,null,null,null,{"$f":"IF(AND(B58<>\"\",'16eme'!$K$1<>0),IF(ISERROR(VLOOKUP(A58,'16eme'!B:J,1,FALSE)),\"\",IF(VLOOKUP(A58,'16eme'!B:J,9,FALSE)<>\"\",IF(VLOOKUP(A58,'16eme'!B:J,9,FALSE)>0,\"G\",\"P\"),\"\"))&IF(ISERROR(VLOOKUP(A58,'16eme'!F:J,1,FALSE)),\"\",IF(VLOOKUP(A58,'16eme'!F:J,5,FALSE)<>\"\",IF(VLOOKUP(A58,'16eme'!F:J,5,FALSE)>0,\"P\",\"G\"),\"\")),\"\")","v":""},{"$f":"IF(AND(B58<>\"\",'8eme'!$K$1<>0),IF(ISERROR(VLOOKUP(A58,'8eme'!B:J,1,FALSE)),\"\",IF(VLOOKUP(A58,'8eme'!B:J,9,FALSE)<>\"\",IF(VLOOKUP(A58,'8eme'!B:J,9,FALSE)>0,\"G\",\"P\"),\"\"))&IF(ISERROR(VLOOKUP(A58,'8eme'!F:J,1,FALSE)),\"\",IF(VLOOKUP(A58,'8eme'!F:J,5,FALSE)<>\"\",IF(VLOOKUP(A58,'8eme'!F:J,5,FALSE)>0,\"P\",\"G\"),\"\")),\"\")","v":""},{"$f":"IF(AND(B58<>\"\",quart!$K$1<>0),IF(ISERROR(VLOOKUP(A58,quart!B:J,1,FALSE)),\"\",IF(VLOOKUP(A58,quart!B:J,9,FALSE)<>\"\",IF(VLOOKUP(A58,quart!B:J,9,FALSE)>0,\"G\",\"P\"),\"\"))&IF(ISERROR(VLOOKUP(A58,quart!F:J,1,FALSE)),\"\",IF(VLOOKUP(A58,quart!F:J,5,FALSE)<>\"\",IF(VLOOKUP(A58,quart!F:J,5,FALSE)>0,\"P\",\"G\"),\"\")),\"\")","v":""},{"$f":"IF(AND(B58<>\"\",demi!$K$1<>0),IF(ISERROR(VLOOKUP(A58,demi!B:J,1,FALSE)),\"\",IF(VLOOKUP(A58,demi!B:J,9,FALSE)<>\"\",IF(VLOOKUP(A58,demi!B:J,9,FALSE)>0,\"G\",\"P\"),\"\"))&IF(ISERROR(VLOOKUP(A58,demi!F:J,1,FALSE)),\"\",IF(VLOOKUP(A58,demi!F:J,5,FALSE)<>\"\",IF(VLOOKUP(A58,demi!F:J,5,FALSE)>0,\"P\",\"G\"),\"\")),\"\")","v":""},{"$f":"IF(AND(B58<>\"\",finale!$K$1<>0),IF(ISERROR(VLOOKUP(A58,finale!B:J,1,FALSE)),\"\",IF(VLOOKUP(A58,finale!B:J,9,FALSE)<>\"\",IF(VLOOKUP(A58,finale!B:J,9,FALSE)>0,\"G\",\"P\"),\"\"))&IF(ISERROR(VLOOKUP(A58,finale!F:J,1,FALSE)),\"\",IF(VLOOKUP(A58,finale!F:J,5,FALSE)<>\"\",IF(VLOOKUP(A58,finale!F:J,5,FALSE)>0,\"P\",\"G\"),\"\")),\"\")","v":""},{"$f":"IF(finale!$K$1<>0,IF(I58=\"G\",\"1er\",IF(I58=\"P\",\"2eme\",IF(H58=\"P\",\"3/4eme\",IF(G58=\"P\",\"5 à 8eme\",\"\")))),\"\")","v":""},null,null,null,{"$f":"IF(ISERROR(VLOOKUP(A58,'32eme'!B$3:M$34,12,FALSE)),IF(ISERROR(VLOOKUP(A58,'32eme'!F$3:M$34,8,FALSE)),\"\",VLOOKUP(A58,'32eme'!F$3:M$34,8,FALSE)),VLOOKUP(A58,'32eme'!B$3:M$34,12,FALSE))","v":""},{"$f":"IF(ISERROR(VLOOKUP(A58,'16eme'!B$3:M$18,12,FALSE)),IF(ISERROR(VLOOKUP(A58,'16eme'!F$3:M$18,8,FALSE)),\"\",VLOOKUP(A58,'16eme'!F$3:M$18,8,FALSE)),VLOOKUP(A58,'16eme'!B$3:M$18,12,FALSE))","v":""},{"$f":"IF(ISERROR(VLOOKUP(A58,'8eme'!B$3:M$10,12,FALSE)),IF(ISERROR(VLOOKUP(A58,'8eme'!F$3:M$10,8,FALSE)),\"\",VLOOKUP(A58,'8eme'!F$3:M$10,8,FALSE)),VLOOKUP(A58,'8eme'!B$3:M$10,12,FALSE))","v":""},{"$f":"IF(ISERROR(VLOOKUP(A58,quart!B$3:M$6,12,FALSE)),IF(ISERROR(VLOOKUP(A58,quart!F$3:M$6,8,FALSE)),\"\",VLOOKUP(A58,quart!F$3:M$6,8,FALSE)),VLOOKUP(A58,quart!B$3:M$6,12,FALSE))","v":""},{"$f":"IF(ISERROR(VLOOKUP(A58,demi!B$3:M$4,12,FALSE)),IF(ISERROR(VLOOKUP(A58,demi!F$3:M$4,8,FALSE)),\"\",VLOOKUP(A58,demi!F$3:M$4,8,FALSE)),VLOOKUP(A58,demi!B$3:M$4,12,FALSE))","v":""}]
[56,null,null,null,{"$f":"IF(AND(B59<>\"\",'16eme'!$K$1<>0),IF(ISERROR(VLOOKUP(A59,'16eme'!B:J,1,FALSE)),\"\",IF(VLOOKUP(A59,'16eme'!B:J,9,FALSE)<>\"\",IF(VLOOKUP(A59,'16eme'!B:J,9,FALSE)>0,\"G\",\"P\"),\"\"))&IF(ISERROR(VLOOKUP(A59,'16eme'!F:J,1,FALSE)),\"\",IF(VLOOKUP(A59,'16eme'!F:J,5,FALSE)<>\"\",IF(VLOOKUP(A59,'16eme'!F:J,5,FALSE)>0,\"P\",\"G\"),\"\")),\"\")","v":""},{"$f":"IF(AND(B59<>\"\",'8eme'!$K$1<>0),IF(ISERROR(VLOOKUP(A59,'8eme'!B:J,1,FALSE)),\"\",IF(VLOOKUP(A59,'8eme'!B:J,9,FALSE)<>\"\",IF(VLOOKUP(A59,'8eme'!B:J,9,FALSE)>0,\"G\",\"P\"),\"\"))&IF(ISERROR(VLOOKUP(A59,'8eme'!F:J,1,FALSE)),\"\",IF(VLOOKUP(A59,'8eme'!F:J,5,FALSE)<>\"\",IF(VLOOKUP(A59,'8eme'!F:J,5,FALSE)>0,\"P\",\"G\"),\"\")),\"\")","v":""},{"$f":"IF(AND(B59<>\"\",quart!$K$1<>0),IF(ISERROR(VLOOKUP(A59,quart!B:J,1,FALSE)),\"\",IF(VLOOKUP(A59,quart!B:J,9,FALSE)<>\"\",IF(VLOOKUP(A59,quart!B:J,9,FALSE)>0,\"G\",\"P\"),\"\"))&IF(ISERROR(VLOOKUP(A59,quart!F:J,1,FALSE)),\"\",IF(VLOOKUP(A59,quart!F:J,5,FALSE)<>\"\",IF(VLOOKUP(A59,quart!F:J,5,FALSE)>0,\"P\",\"G\"),\"\")),\"\")","v":""},{"$f":"IF(AND(B59<>\"\",demi!$K$1<>0),IF(ISERROR(VLOOKUP(A59,demi!B:J,1,FALSE)),\"\",IF(VLOOKUP(A59,demi!B:J,9,FALSE)<>\"\",IF(VLOOKUP(A59,demi!B:J,9,FALSE)>0,\"G\",\"P\"),\"\"))&IF(ISERROR(VLOOKUP(A59,demi!F:J,1,FALSE)),\"\",IF(VLOOKUP(A59,demi!F:J,5,FALSE)<>\"\",IF(VLOOKUP(A59,demi!F:J,5,FALSE)>0,\"P\",\"G\"),\"\")),\"\")","v":""},{"$f":"IF(AND(B59<>\"\",finale!$K$1<>0),IF(ISERROR(VLOOKUP(A59,finale!B:J,1,FALSE)),\"\",IF(VLOOKUP(A59,finale!B:J,9,FALSE)<>\"\",IF(VLOOKUP(A59,finale!B:J,9,FALSE)>0,\"G\",\"P\"),\"\"))&IF(ISERROR(VLOOKUP(A59,finale!F:J,1,FALSE)),\"\",IF(VLOOKUP(A59,finale!F:J,5,FALSE)<>\"\",IF(VLOOKUP(A59,finale!F:J,5,FALSE)>0,\"P\",\"G\"),\"\")),\"\")","v":""},{"$f":"IF(finale!$K$1<>0,IF(I59=\"G\",\"1er\",IF(I59=\"P\",\"2eme\",IF(H59=\"P\",\"3/4eme\",IF(G59=\"P\",\"5 à 8eme\",\"\")))),\"\")","v":""},null,null,null,{"$f":"IF(ISERROR(VLOOKUP(A59,'32eme'!B$3:M$34,12,FALSE)),IF(ISERROR(VLOOKUP(A59,'32eme'!F$3:M$34,8,FALSE)),\"\",VLOOKUP(A59,'32eme'!F$3:M$34,8,FALSE)),VLOOKUP(A59,'32eme'!B$3:M$34,12,FALSE))","v":""},{"$f":"IF(ISERROR(VLOOKUP(A59,'16eme'!B$3:M$18,12,FALSE)),IF(ISERROR(VLOOKUP(A59,'16eme'!F$3:M$18,8,FALSE)),\"\",VLOOKUP(A59,'16eme'!F$3:M$18,8,FALSE)),VLOOKUP(A59,'16eme'!B$3:M$18,12,FALSE))","v":""},{"$f":"IF(ISERROR(VLOOKUP(A59,'8eme'!B$3:M$10,12,FALSE)),IF(ISERROR(VLOOKUP(A59,'8eme'!F$3:M$10,8,FALSE)),\"\",VLOOKUP(A59,'8eme'!F$3:M$10,8,FALSE)),VLOOKUP(A59,'8eme'!B$3:M$10,12,FALSE))","v":""},{"$f":"IF(ISERROR(VLOOKUP(A59,quart!B$3:M$6,12,FALSE)),IF(ISERROR(VLOOKUP(A59,quart!F$3:M$6,8,FALSE)),\"\",VLOOKUP(A59,quart!F$3:M$6,8,FALSE)),VLOOKUP(A59,quart!B$3:M$6,12,FALSE))","v":""},{"$f":"IF(ISERROR(VLOOKUP(A59,demi!B$3:M$4,12,FALSE)),IF(ISERROR(VLOOKUP(A59,demi!F$3:M$4,8,FALSE)),\"\",VLOOKUP(A59,demi!F$3:M$4,8,FALSE)),VLOOKUP(A59,demi!B$3:M$4,12,FALSE))","v":""}]
[57,null,null,null,{"$f":"IF(AND(B60<>\"\",'16eme'!$K$1<>0),IF(ISERROR(VLOOKUP(A60,'16eme'!B:J,1,FALSE)),\"\",IF(VLOOKUP(A60,'16eme'!B:J,9,FALSE)<>\"\",IF(VLOOKUP(A60,'16eme'!B:J,9,FALSE)>0,\"G\",\"P\"),\"\"))&IF(ISERROR(VLOOKUP(A60,'16eme'!F:J,1,FALSE)),\"\",IF(VLOOKUP(A60,'16eme'!F:J,5,FALSE)<>\"\",IF(VLOOKUP(A60,'16eme'!F:J,5,FALSE)>0,\"P\",\"G\"),\"\")),\"\")","v":""},{"$f":"IF(AND(B60<>\"\",'8eme'!$K$1<>0),IF(ISERROR(VLOOKUP(A60,'8eme'!B:J,1,FALSE)),\"\",IF(VLOOKUP(A60,'8eme'!B:J,9,FALSE)<>\"\",IF(VLOOKUP(A60,'8eme'!B:J,9,FALSE)>0,\"G\",\"P\"),\"\"))&IF(ISERROR(VLOOKUP(A60,'8eme'!F:J,1,FALSE)),\"\",IF(VLOOKUP(A60,'8eme'!F:J,5,FALSE)<>\"\",IF(VLOOKUP(A60,'8eme'!F:J,5,FALSE)>0,\"P\",\"G\"),\"\")),\"\")","v":""},{"$f":"IF(AND(B60<>\"\",quart!$K$1<>0),IF(ISERROR(VLOOKUP(A60,quart!B:J,1,FALSE)),\"\",IF(VLOOKUP(A60,quart!B:J,9,FALSE)<>\"\",IF(VLOOKUP(A60,quart!B:J,9,FALSE)>0,\"G\",\"P\"),\"\"))&IF(ISERROR(VLOOKUP(A60,quart!F:J,1,FALSE)),\"\",IF(VLOOKUP(A60,quart!F:J,5,FALSE)<>\"\",IF(VLOOKUP(A60,quart!F:J,5,FALSE)>0,\"P\",\"G\"),\"\")),\"\")","v":""},{"$f":"IF(AND(B60<>\"\",demi!$K$1<>0),IF(ISERROR(VLOOKUP(A60,demi!B:J,1,FALSE)),\"\",IF(VLOOKUP(A60,demi!B:J,9,FALSE)<>\"\",IF(VLOOKUP(A60,demi!B:J,9,FALSE)>0,\"G\",\"P\"),\"\"))&IF(ISERROR(VLOOKUP(A60,demi!F:J,1,FALSE)),\"\",IF(VLOOKUP(A60,demi!F:J,5,FALSE)<>\"\",IF(VLOOKUP(A60,demi!F:J,5,FALSE)>0,\"P\",\"G\"),\"\")),\"\")","v":""},{"$f":"IF(AND(B60<>\"\",finale!$K$1<>0),IF(ISERROR(VLOOKUP(A60,finale!B:J,1,FALSE)),\"\",IF(VLOOKUP(A60,finale!B:J,9,FALSE)<>\"\",IF(VLOOKUP(A60,finale!B:J,9,FALSE)>0,\"G\",\"P\"),\"\"))&IF(ISERROR(VLOOKUP(A60,finale!F:J,1,FALSE)),\"\",IF(VLOOKUP(A60,finale!F:J,5,FALSE)<>\"\",IF(VLOOKUP(A60,finale!F:J,5,FALSE)>0,\"P\",\"G\"),\"\")),\"\")","v":""},{"$f":"IF(finale!$K$1<>0,IF(I60=\"G\",\"1er\",IF(I60=\"P\",\"2eme\",IF(H60=\"P\",\"3/4eme\",IF(G60=\"P\",\"5 à 8eme\",\"\")))),\"\")","v":""},null,null,null,{"$f":"IF(ISERROR(VLOOKUP(A60,'32eme'!B$3:M$34,12,FALSE)),IF(ISERROR(VLOOKUP(A60,'32eme'!F$3:M$34,8,FALSE)),\"\",VLOOKUP(A60,'32eme'!F$3:M$34,8,FALSE)),VLOOKUP(A60,'32eme'!B$3:M$34,12,FALSE))","v":""},{"$f":"IF(ISERROR(VLOOKUP(A60,'16eme'!B$3:M$18,12,FALSE)),IF(ISERROR(VLOOKUP(A60,'16eme'!F$3:M$18,8,FALSE)),\"\",VLOOKUP(A60,'16eme'!F$3:M$18,8,FALSE)),VLOOKUP(A60,'16eme'!B$3:M$18,12,FALSE))","v":""},{"$f":"IF(ISERROR(VLOOKUP(A60,'8eme'!B$3:M$10,12,FALSE)),IF(ISERROR(VLOOKUP(A60,'8eme'!F$3:M$10,8,FALSE)),\"\",VLOOKUP(A60,'8eme'!F$3:M$10,8,FALSE)),VLOOKUP(A60,'8eme'!B$3:M$10,12,FALSE))","v":""},{"$f":"IF(ISERROR(VLOOKUP(A60,quart!B$3:M$6,12,FALSE)),IF(ISERROR(VLOOKUP(A60,quart!F$3:M$6,8,FALSE)),\"\",VLOOKUP(A60,quart!F$3:M$6,8,FALSE)),VLOOKUP(A60,quart!B$3:M$6,12,FALSE))","v":""},{"$f":"IF(ISERROR(VLOOKUP(A60,demi!B$3:M$4,12,FALSE)),IF(ISERROR(VLOOKUP(A60,demi!F$3:M$4,8,FALSE)),\"\",VLOOKUP(A60,demi!F$3:M$4,8,FALSE)),VLOOKUP(A60,demi!B$3:M$4,12,FALSE))","v":""}]
[58,null,null,null,{"$f":"IF(AND(B61<>\"\",'16eme'!$K$1<>0),IF(ISERROR(VLOOKUP(A61,'16eme'!B:J,1,FALSE)),\"\",IF(VLOOKUP(A61,'16eme'!B:J,9,FALSE)<>\"\",IF(VLOOKUP(A61,'16eme'!B:J,9,FALSE)>0,\"G\",\"P\"),\"\"))&IF(ISERROR(VLOOKUP(A61,'16eme'!F:J,1,FALSE)),\"\",IF(VLOOKUP(A61,'16eme'!F:J,5,FALSE)<>\"\",IF(VLOOKUP(A61,'16eme'!F:J,5,FALSE)>0,\"P\",\"G\"),\"\")),\"\")","v":""},{"$f":"IF(AND(B61<>\"\",'8eme'!$K$1<>0),IF(ISERROR(VLOOKUP(A61,'8eme'!B:J,1,FALSE)),\"\",IF(VLOOKUP(A61,'8eme'!B:J,9,FALSE)<>\"\",IF(VLOOKUP(A61,'8eme'!B:J,9,FALSE)>0,\"G\",\"P\"),\"\"))&IF(ISERROR(VLOOKUP(A61,'8eme'!F:J,1,FALSE)),\"\",IF(VLOOKUP(A61,'8eme'!F:J,5,FALSE)<>\"\",IF(VLOOKUP(A61,'8eme'!F:J,5,FALSE)>0,\"P\",\"G\"),\"\")),\"\")","v":""},{"$f":"IF(AND(B61<>\"\",quart!$K$1<>0),IF(ISERROR(VLOOKUP(A61,quart!B:J,1,FALSE)),\"\",IF(VLOOKUP(A61,quart!B:J,9,FALSE)<>\"\",IF(VLOOKUP(A61,quart!B:J,9,FALSE)>0,\"G\",\"P\"),\"\"))&IF(ISERROR(VLOOKUP(A61,quart!F:J,1,FALSE)),\"\",IF(VLOOKUP(A61,quart!F:J,5,FALSE)<>\"\",IF(VLOOKUP(A61,quart!F:J,5,FALSE)>0,\"P\",\"G\"),\"\")),\"\")","v":""},{"$f":"IF(AND(B61<>\"\",demi!$K$1<>0),IF(ISERROR(VLOOKUP(A61,demi!B:J,1,FALSE)),\"\",IF(VLOOKUP(A61,demi!B:J,9,FALSE)<>\"\",IF(VLOOKUP(A61,demi!B:J,9,FALSE)>0,\"G\",\"P\"),\"\"))&IF(ISERROR(VLOOKUP(A61,demi!F:J,1,FALSE)),\"\",IF(VLOOKUP(A61,demi!F:J,5,FALSE)<>\"\",IF(VLOOKUP(A61,demi!F:J,5,FALSE)>0,\"P\",\"G\"),\"\")),\"\")","v":""},{"$f":"IF(AND(B61<>\"\",finale!$K$1<>0),IF(ISERROR(VLOOKUP(A61,finale!B:J,1,FALSE)),\"\",IF(VLOOKUP(A61,finale!B:J,9,FALSE)<>\"\",IF(VLOOKUP(A61,finale!B:J,9,FALSE)>0,\"G\",\"P\"),\"\"))&IF(ISERROR(VLOOKUP(A61,finale!F:J,1,FALSE)),\"\",IF(VLOOKUP(A61,finale!F:J,5,FALSE)<>\"\",IF(VLOOKUP(A61,finale!F:J,5,FALSE)>0,\"P\",\"G\"),\"\")),\"\")","v":""},{"$f":"IF(finale!$K$1<>0,IF(I61=\"G\",\"1er\",IF(I61=\"P\",\"2eme\",IF(H61=\"P\",\"3/4eme\",IF(G61=\"P\",\"5 à 8eme\",\"\")))),\"\")","v":""},null,null,null,{"$f":"IF(ISERROR(VLOOKUP(A61,'32eme'!B$3:M$34,12,FALSE)),IF(ISERROR(VLOOKUP(A61,'32eme'!F$3:M$34,8,FALSE)),\"\",VLOOKUP(A61,'32eme'!F$3:M$34,8,FALSE)),VLOOKUP(A61,'32eme'!B$3:M$34,12,FALSE))","v":""},{"$f":"IF(ISERROR(VLOOKUP(A61,'16eme'!B$3:M$18,12,FALSE)),IF(ISERROR(VLOOKUP(A61,'16eme'!F$3:M$18,8,FALSE)),\"\",VLOOKUP(A61,'16eme'!F$3:M$18,8,FALSE)),VLOOKUP(A61,'16eme'!B$3:M$18,12,FALSE))","v":""},{"$f":"IF(ISERROR(VLOOKUP(A61,'8eme'!B$3:M$10,12,FALSE)),IF(ISERROR(VLOOKUP(A61,'8eme'!F$3:M$10,8,FALSE)),\"\",VLOOKUP(A61,'8eme'!F$3:M$10,8,FALSE)),VLOOKUP(A61,'8eme'!B$3:M$10,12,FALSE))","v":""},{"$f":"IF(ISERROR(VLOOKUP(A61,quart!B$3:M$6,12,FALSE)),IF(ISERROR(VLOOKUP(A61,quart!F$3:M$6,8,FALSE)),\"\",VLOOKUP(A61,quart!F$3:M$6,8,FALSE)),VLOOKUP(A61,quart!B$3:M$6,12,FALSE))","v":""},{"$f":"IF(ISERROR(VLOOKUP(A61,demi!B$3:M$4,12,FALSE)),IF(ISERROR(VLOOKUP(A61,demi!F$3:M$4,8,FALSE)),\"\",VLOOKUP(A61,demi!F$3:M$4,8,FALSE)),VLOOKUP(A61,demi!B$3:M$4,12,FALSE))","v":""}]
[59,null,null,null,{"$f":"IF(AND(B62<>\"\",'16eme'!$K$1<>0),IF(ISERROR(VLOOKUP(A62,'16eme'!B:J,1,FALSE)),\"\",IF(VLOOKUP(A62,'16eme'!B:J,9,FALSE)<>\"\",IF(VLOOKUP(A62,'16eme'!B:J,9,FALSE)>0,\"G\",\"P\"),\"\"))&IF(ISERROR(VLOOKUP(A62,'16eme'!F:J,1,FALSE)),\"\",IF(VLOOKUP(A62,'16eme'!F:J,5,FALSE)<>\"\",IF(VLOOKUP(A62,'16eme'!F:J,5,FALSE)>0,\"P\",\"G\"),\"\")),\"\")","v":""},{"$f":"IF(AND(B62<>\"\",'8eme'!$K$1<>0),IF(ISERROR(VLOOKUP(A62,'8eme'!B:J,1,FALSE)),\"\",IF(VLOOKUP(A62,'8eme'!B:J,9,FALSE)<>\"\",IF(VLOOKUP(A62,'8eme'!B:J,9,FALSE)>0,\"G\",\"P\"),\"\"))&IF(ISERROR(VLOOKUP(A62,'8eme'!F:J,1,FALSE)),\"\",IF(VLOOKUP(A62,'8eme'!F:J,5,FALSE)<>\"\",IF(VLOOKUP(A62,'8eme'!F:J,5,FALSE)>0,\"P\",\"G\"),\"\")),\"\")","v":""},{"$f":"IF(AND(B62<>\"\",quart!$K$1<>0),IF(ISERROR(VLOOKUP(A62,quart!B:J,1,FALSE)),\"\",IF(VLOOKUP(A62,quart!B:J,9,FALSE)<>\"\",IF(VLOOKUP(A62,quart!B:J,9,FALSE)>0,\"G\",\"P\"),\"\"))&IF(ISERROR(VLOOKUP(A62,quart!F:J,1,FALSE)),\"\",IF(VLOOKUP(A62,quart!F:J,5,FALSE)<>\"\",IF(VLOOKUP(A62,quart!F:J,5,FALSE)>0,\"P\",\"G\"),\"\")),\"\")","v":""},{"$f":"IF(AND(B62<>\"\",demi!$K$1<>0),IF(ISERROR(VLOOKUP(A62,demi!B:J,1,FALSE)),\"\",IF(VLOOKUP(A62,demi!B:J,9,FALSE)<>\"\",IF(VLOOKUP(A62,demi!B:J,9,FALSE)>0,\"G\",\"P\"),\"\"))&IF(ISERROR(VLOOKUP(A62,demi!F:J,1,FALSE)),\"\",IF(VLOOKUP(A62,demi!F:J,5,FALSE)<>\"\",IF(VLOOKUP(A62,demi!F:J,5,FALSE)>0,\"P\",\"G\"),\"\")),\"\")","v":""},{"$f":"IF(AND(B62<>\"\",finale!$K$1<>0),IF(ISERROR(VLOOKUP(A62,finale!B:J,1,FALSE)),\"\",IF(VLOOKUP(A62,finale!B:J,9,FALSE)<>\"\",IF(VLOOKUP(A62,finale!B:J,9,FALSE)>0,\"G\",\"P\"),\"\"))&IF(ISERROR(VLOOKUP(A62,finale!F:J,1,FALSE)),\"\",IF(VLOOKUP(A62,finale!F:J,5,FALSE)<>\"\",IF(VLOOKUP(A62,finale!F:J,5,FALSE)>0,\"P\",\"G\"),\"\")),\"\")","v":""},{"$f":"IF(finale!$K$1<>0,IF(I62=\"G\",\"1er\",IF(I62=\"P\",\"2eme\",IF(H62=\"P\",\"3/4eme\",IF(G62=\"P\",\"5 à 8eme\",\"\")))),\"\")","v":""},null,null,null,{"$f":"IF(ISERROR(VLOOKUP(A62,'32eme'!B$3:M$34,12,FALSE)),IF(ISERROR(VLOOKUP(A62,'32eme'!F$3:M$34,8,FALSE)),\"\",VLOOKUP(A62,'32eme'!F$3:M$34,8,FALSE)),VLOOKUP(A62,'32eme'!B$3:M$34,12,FALSE))","v":""},{"$f":"IF(ISERROR(VLOOKUP(A62,'16eme'!B$3:M$18,12,FALSE)),IF(ISERROR(VLOOKUP(A62,'16eme'!F$3:M$18,8,FALSE)),\"\",VLOOKUP(A62,'16eme'!F$3:M$18,8,FALSE)),VLOOKUP(A62,'16eme'!B$3:M$18,12,FALSE))","v":""},{"$f":"IF(ISERROR(VLOOKUP(A62,'8eme'!B$3:M$10,12,FALSE)),IF(ISERROR(VLOOKUP(A62,'8eme'!F$3:M$10,8,FALSE)),\"\",VLOOKUP(A62,'8eme'!F$3:M$10,8,FALSE)),VLOOKUP(A62,'8eme'!B$3:M$10,12,FALSE))","v":""},{"$f":"IF(ISERROR(VLOOKUP(A62,quart!B$3:M$6,12,FALSE)),IF(ISERROR(VLOOKUP(A62,quart!F$3:M$6,8,FALSE)),\"\",VLOOKUP(A62,quart!F$3:M$6,8,FALSE)),VLOOKUP(A62,quart!B$3:M$6,12,FALSE))","v":""},{"$f":"IF(ISERROR(VLOOKUP(A62,demi!B$3:M$4,12,FALSE)),IF(ISERROR(VLOOKUP(A62,demi!F$3:M$4,8,FALSE)),\"\",VLOOKUP(A62,demi!F$3:M$4,8,FALSE)),VLOOKUP(A62,demi!B$3:M$4,12,FALSE))","v":""}]
[60,null,null,null,{"$f":"IF(AND(B63<>\"\",'16eme'!$K$1<>0),IF(ISERROR(VLOOKUP(A63,'16eme'!B:J,1,FALSE)),\"\",IF(VLOOKUP(A63,'16eme'!B:J,9,FALSE)<>\"\",IF(VLOOKUP(A63,'16eme'!B:J,9,FALSE)>0,\"G\",\"P\"),\"\"))&IF(ISERROR(VLOOKUP(A63,'16eme'!F:J,1,FALSE)),\"\",IF(VLOOKUP(A63,'16eme'!F:J,5,FALSE)<>\"\",IF(VLOOKUP(A63,'16eme'!F:J,5,FALSE)>0,\"P\",\"G\"),\"\")),\"\")","v":""},{"$f":"IF(AND(B63<>\"\",'8eme'!$K$1<>0),IF(ISERROR(VLOOKUP(A63,'8eme'!B:J,1,FALSE)),\"\",IF(VLOOKUP(A63,'8eme'!B:J,9,FALSE)<>\"\",IF(VLOOKUP(A63,'8eme'!B:J,9,FALSE)>0,\"G\",\"P\"),\"\"))&IF(ISERROR(VLOOKUP(A63,'8eme'!F:J,1,FALSE)),\"\",IF(VLOOKUP(A63,'8eme'!F:J,5,FALSE)<>\"\",IF(VLOOKUP(A63,'8eme'!F:J,5,FALSE)>0,\"P\",\"G\"),\"\")),\"\")","v":""},{"$f":"IF(AND(B63<>\"\",quart!$K$1<>0),IF(ISERROR(VLOOKUP(A63,quart!B:J,1,FALSE)),\"\",IF(VLOOKUP(A63,quart!B:J,9,FALSE)<>\"\",IF(VLOOKUP(A63,quart!B:J,9,FALSE)>0,\"G\",\"P\"),\"\"))&IF(ISERROR(VLOOKUP(A63,quart!F:J,1,FALSE)),\"\",IF(VLOOKUP(A63,quart!F:J,5,FALSE)<>\"\",IF(VLOOKUP(A63,quart!F:J,5,FALSE)>0,\"P\",\"G\"),\"\")),\"\")","v":""},{"$f":"IF(AND(B63<>\"\",demi!$K$1<>0),IF(ISERROR(VLOOKUP(A63,demi!B:J,1,FALSE)),\"\",IF(VLOOKUP(A63,demi!B:J,9,FALSE)<>\"\",IF(VLOOKUP(A63,demi!B:J,9,FALSE)>0,\"G\",\"P\"),\"\"))&IF(ISERROR(VLOOKUP(A63,demi!F:J,1,FALSE)),\"\",IF(VLOOKUP(A63,demi!F:J,5,FALSE)<>\"\",IF(VLOOKUP(A63,demi!F:J,5,FALSE)>0,\"P\",\"G\"),\"\")),\"\")","v":""},{"$f":"IF(AND(B63<>\"\",finale!$K$1<>0),IF(ISERROR(VLOOKUP(A63,finale!B:J,1,FALSE)),\"\",IF(VLOOKUP(A63,finale!B:J,9,FALSE)<>\"\",IF(VLOOKUP(A63,finale!B:J,9,FALSE)>0,\"G\",\"P\"),\"\"))&IF(ISERROR(VLOOKUP(A63,finale!F:J,1,FALSE)),\"\",IF(VLOOKUP(A63,finale!F:J,5,FALSE)<>\"\",IF(VLOOKUP(A63,finale!F:J,5,FALSE)>0,\"P\",\"G\"),\"\")),\"\")","v":""},{"$f":"IF(finale!$K$1<>0,IF(I63=\"G\",\"1er\",IF(I63=\"P\",\"2eme\",IF(H63=\"P\",\"3/4eme\",IF(G63=\"P\",\"5 à 8eme\",\"\")))),\"\")","v":""},null,null,null,{"$f":"IF(ISERROR(VLOOKUP(A63,'32eme'!B$3:M$34,12,FALSE)),IF(ISERROR(VLOOKUP(A63,'32eme'!F$3:M$34,8,FALSE)),\"\",VLOOKUP(A63,'32eme'!F$3:M$34,8,FALSE)),VLOOKUP(A63,'32eme'!B$3:M$34,12,FALSE))","v":""},{"$f":"IF(ISERROR(VLOOKUP(A63,'16eme'!B$3:M$18,12,FALSE)),IF(ISERROR(VLOOKUP(A63,'16eme'!F$3:M$18,8,FALSE)),\"\",VLOOKUP(A63,'16eme'!F$3:M$18,8,FALSE)),VLOOKUP(A63,'16eme'!B$3:M$18,12,FALSE))","v":""},{"$f":"IF(ISERROR(VLOOKUP(A63,'8eme'!B$3:M$10,12,FALSE)),IF(ISERROR(VLOOKUP(A63,'8eme'!F$3:M$10,8,FALSE)),\"\",VLOOKUP(A63,'8eme'!F$3:M$10,8,FALSE)),VLOOKUP(A63,'8eme'!B$3:M$10,12,FALSE))","v":""},{"$f":"IF(ISERROR(VLOOKUP(A63,quart!B$3:M$6,12,FALSE)),IF(ISERROR(VLOOKUP(A63,quart!F$3:M$6,8,FALSE)),\"\",VLOOKUP(A63,quart!F$3:M$6,8,FALSE)),VLOOKUP(A63,quart!B$3:M$6,12,FALSE))","v":""},{"$f":"IF(ISERROR(VLOOKUP(A63,demi!B$3:M$4,12,FALSE)),IF(ISERROR(VLOOKUP(A63,demi!F$3:M$4,8,FALSE)),\"\",VLOOKUP(A63,demi!F$3:M$4,8,FALSE)),VLOOKUP(A63,demi!B$3:M$4,12,FALSE))","v":""}]
[61,null,null,null,{"$f":"IF(AND(B64<>\"\",'16eme'!$K$1<>0),IF(ISERROR(VLOOKUP(A64,'16eme'!B:J,1,FALSE)),\"\",IF(VLOOKUP(A64,'16eme'!B:J,9,FALSE)<>\"\",IF(VLOOKUP(A64,'16eme'!B:J,9,FALSE)>0,\"G\",\"P\"),\"\"))&IF(ISERROR(VLOOKUP(A64,'16eme'!F:J,1,FALSE)),\"\",IF(VLOOKUP(A64,'16eme'!F:J,5,FALSE)<>\"\",IF(VLOOKUP(A64,'16eme'!F:J,5,FALSE)>0,\"P\",\"G\"),\"\")),\"\")","v":""},{"$f":"IF(AND(B64<>\"\",'8eme'!$K$1<>0),IF(ISERROR(VLOOKUP(A64,'8eme'!B:J,1,FALSE)),\"\",IF(VLOOKUP(A64,'8eme'!B:J,9,FALSE)<>\"\",IF(VLOOKUP(A64,'8eme'!B:J,9,FALSE)>0,\"G\",\"P\"),\"\"))&IF(ISERROR(VLOOKUP(A64,'8eme'!F:J,1,FALSE)),\"\",IF(VLOOKUP(A64,'8eme'!F:J,5,FALSE)<>\"\",IF(VLOOKUP(A64,'8eme'!F:J,5,FALSE)>0,\"P\",\"G\"),\"\")),\"\")","v":""},{"$f":"IF(AND(B64<>\"\",quart!$K$1<>0),IF(ISERROR(VLOOKUP(A64,quart!B:J,1,FALSE)),\"\",IF(VLOOKUP(A64,quart!B:J,9,FALSE)<>\"\",IF(VLOOKUP(A64,quart!B:J,9,FALSE)>0,\"G\",\"P\"),\"\"))&IF(ISERROR(VLOOKUP(A64,quart!F:J,1,FALSE)),\"\",IF(VLOOKUP(A64,quart!F:J,5,FALSE)<>\"\",IF(VLOOKUP(A64,quart!F:J,5,FALSE)>0,\"P\",\"G\"),\"\")),\"\")","v":""},{"$f":"IF(AND(B64<>\"\",demi!$K$1<>0),IF(ISERROR(VLOOKUP(A64,demi!B:J,1,FALSE)),\"\",IF(VLOOKUP(A64,demi!B:J,9,FALSE)<>\"\",IF(VLOOKUP(A64,demi!B:J,9,FALSE)>0,\"G\",\"P\"),\"\"))&IF(ISERROR(VLOOKUP(A64,demi!F:J,1,FALSE)),\"\",IF(VLOOKUP(A64,demi!F:J,5,FALSE)<>\"\",IF(VLOOKUP(A64,demi!F:J,5,FALSE)>0,\"P\",\"G\"),\"\")),\"\")","v":""},{"$f":"IF(AND(B64<>\"\",finale!$K$1<>0),IF(ISERROR(VLOOKUP(A64,finale!B:J,1,FALSE)),\"\",IF(VLOOKUP(A64,finale!B:J,9,FALSE)<>\"\",IF(VLOOKUP(A64,finale!B:J,9,FALSE)>0,\"G\",\"P\"),\"\"))&IF(ISERROR(VLOOKUP(A64,finale!F:J,1,FALSE)),\"\",IF(VLOOKUP(A64,finale!F:J,5,FALSE)<>\"\",IF(VLOOKUP(A64,finale!F:J,5,FALSE)>0,\"P\",\"G\"),\"\")),\"\")","v":""},{"$f":"IF(finale!$K$1<>0,IF(I64=\"G\",\"1er\",IF(I64=\"P\",\"2eme\",IF(H64=\"P\",\"3/4eme\",IF(G64=\"P\",\"5 à 8eme\",\"\")))),\"\")","v":""},null,null,null,{"$f":"IF(ISERROR(VLOOKUP(A64,'32eme'!B$3:M$34,12,FALSE)),IF(ISERROR(VLOOKUP(A64,'32eme'!F$3:M$34,8,FALSE)),\"\",VLOOKUP(A64,'32eme'!F$3:M$34,8,FALSE)),VLOOKUP(A64,'32eme'!B$3:M$34,12,FALSE))","v":""},{"$f":"IF(ISERROR(VLOOKUP(A64,'16eme'!B$3:M$18,12,FALSE)),IF(ISERROR(VLOOKUP(A64,'16eme'!F$3:M$18,8,FALSE)),\"\",VLOOKUP(A64,'16eme'!F$3:M$18,8,FALSE)),VLOOKUP(A64,'16eme'!B$3:M$18,12,FALSE))","v":""},{"$f":"IF(ISERROR(VLOOKUP(A64,'8eme'!B$3:M$10,12,FALSE)),IF(ISERROR(VLOOKUP(A64,'8eme'!F$3:M$10,8,FALSE)),\"\",VLOOKUP(A64,'8eme'!F$3:M$10,8,FALSE)),VLOOKUP(A64,'8eme'!B$3:M$10,12,FALSE))","v":""},{"$f":"IF(ISERROR(VLOOKUP(A64,quart!B$3:M$6,12,FALSE)),IF(ISERROR(VLOOKUP(A64,quart!F$3:M$6,8,FALSE)),\"\",VLOOKUP(A64,quart!F$3:M$6,8,FALSE)),VLOOKUP(A64,quart!B$3:M$6,12,FALSE))","v":""},{"$f":"IF(ISERROR(VLOOKUP(A64,demi!B$3:M$4,12,FALSE)),IF(ISERROR(VLOOKUP(A64,demi!F$3:M$4,8,FALSE)),\"\",VLOOKUP(A64,demi!F$3:M$4,8,FALSE)),VLOOKUP(A64,demi!B$3:M$4,12,FALSE))","v":""}]
[62,null,null,null,{"$f":"IF(AND(B65<>\"\",'16eme'!$K$1<>0),IF(ISERROR(VLOOKUP(A65,'16eme'!B:J,1,FALSE)),\"\",IF(VLOOKUP(A65,'16eme'!B:J,9,FALSE)<>\"\",IF(VLOOKUP(A65,'16eme'!B:J,9,FALSE)>0,\"G\",\"P\"),\"\"))&IF(ISERROR(VLOOKUP(A65,'16eme'!F:J,1,FALSE)),\"\",IF(VLOOKUP(A65,'16eme'!F:J,5,FALSE)<>\"\",IF(VLOOKUP(A65,'16eme'!F:J,5,FALSE)>0,\"P\",\"G\"),\"\")),\"\")","v":""},{"$f":"IF(AND(B65<>\"\",'8eme'!$K$1<>0),IF(ISERROR(VLOOKUP(A65,'8eme'!B:J,1,FALSE)),\"\",IF(VLOOKUP(A65,'8eme'!B:J,9,FALSE)<>\"\",IF(VLOOKUP(A65,'8eme'!B:J,9,FALSE)>0,\"G\",\"P\"),\"\"))&IF(ISERROR(VLOOKUP(A65,'8eme'!F:J,1,FALSE)),\"\",IF(VLOOKUP(A65,'8eme'!F:J,5,FALSE)<>\"\",IF(VLOOKUP(A65,'8eme'!F:J,5,FALSE)>0,\"P\",\"G\"),\"\")),\"\")","v":""},{"$f":"IF(AND(B65<>\"\",quart!$K$1<>0),IF(ISERROR(VLOOKUP(A65,quart!B:J,1,FALSE)),\"\",IF(VLOOKUP(A65,quart!B:J,9,FALSE)<>\"\",IF(VLOOKUP(A65,quart!B:J,9,FALSE)>0,\"G\",\"P\"),\"\"))&IF(ISERROR(VLOOKUP(A65,quart!F:J,1,FALSE)),\"\",IF(VLOOKUP(A65,quart!F:J,5,FALSE)<>\"\",IF(VLOOKUP(A65,quart!F:J,5,FALSE)>0,\"P\",\"G\"),\"\")),\"\")","v":""},{"$f":"IF(AND(B65<>\"\",demi!$K$1<>0),IF(ISERROR(VLOOKUP(A65,demi!B:J,1,FALSE)),\"\",IF(VLOOKUP(A65,demi!B:J,9,FALSE)<>\"\",IF(VLOOKUP(A65,demi!B:J,9,FALSE)>0,\"G\",\"P\"),\"\"))&IF(ISERROR(VLOOKUP(A65,demi!F:J,1,FALSE)),\"\",IF(VLOOKUP(A65,demi!F:J,5,FALSE)<>\"\",IF(VLOOKUP(A65,demi!F:J,5,FALSE)>0,\"P\",\"G\"),\"\")),\"\")","v":""},{"$f":"IF(AND(B65<>\"\",finale!$K$1<>0),IF(ISERROR(VLOOKUP(A65,finale!B:J,1,FALSE)),\"\",IF(VLOOKUP(A65,finale!B:J,9,FALSE)<>\"\",IF(VLOOKUP(A65,finale!B:J,9,FALSE)>0,\"G\",\"P\"),\"\"))&IF(ISERROR(VLOOKUP(A65,finale!F:J,1,FALSE)),\"\",IF(VLOOKUP(A65,finale!F:J,5,FALSE)<>\"\",IF(VLOOKUP(A65,finale!F:J,5,FALSE)>0,\"P\",\"G\"),\"\")),\"\")","v":""},{"$f":"IF(finale!$K$1<>0,IF(I65=\"G\",\"1er\",IF(I65=\"P\",\"2eme\",IF(H65=\"P\",\"3/4eme\",IF(G65=\"P\",\"5 à 8eme\",\"\")))),\"\")","v":""},null,null,null,{"$f":"IF(ISERROR(VLOOKUP(A65,'32eme'!B$3:M$34,12,FALSE)),IF(ISERROR(VLOOKUP(A65,'32eme'!F$3:M$34,8,FALSE)),\"\",VLOOKUP(A65,'32eme'!F$3:M$34,8,FALSE)),VLOOKUP(A65,'32eme'!B$3:M$34,12,FALSE))","v":""},{"$f":"IF(ISERROR(VLOOKUP(A65,'16eme'!B$3:M$18,12,FALSE)),IF(ISERROR(VLOOKUP(A65,'16eme'!F$3:M$18,8,FALSE)),\"\",VLOOKUP(A65,'16eme'!F$3:M$18,8,FALSE)),VLOOKUP(A65,'16eme'!B$3:M$18,12,FALSE))","v":""},{"$f":"IF(ISERROR(VLOOKUP(A65,'8eme'!B$3:M$10,12,FALSE)),IF(ISERROR(VLOOKUP(A65,'8eme'!F$3:M$10,8,FALSE)),\"\",VLOOKUP(A65,'8eme'!F$3:M$10,8,FALSE)),VLOOKUP(A65,'8eme'!B$3:M$10,12,FALSE))","v":""},{"$f":"IF(ISERROR(VLOOKUP(A65,quart!B$3:M$6,12,FALSE)),IF(ISERROR(VLOOKUP(A65,quart!F$3:M$6,8,FALSE)),\"\",VLOOKUP(A65,quart!F$3:M$6,8,FALSE)),VLOOKUP(A65,quart!B$3:M$6,12,FALSE))","v":""},{"$f":"IF(ISERROR(VLOOKUP(A65,demi!B$3:M$4,12,FALSE)),IF(ISERROR(VLOOKUP(A65,demi!F$3:M$4,8,FALSE)),\"\",VLOOKUP(A65,demi!F$3:M$4,8,FALSE)),VLOOKUP(A65,demi!B$3:M$4,12,FALSE))","v":""}]
[63,null,null,null,{"$f":"IF(AND(B66<>\"\",'16eme'!$K$1<>0),IF(ISERROR(VLOOKUP(A66,'16eme'!B:J,1,FALSE)),\"\",IF(VLOOKUP(A66,'16eme'!B:J,9,FALSE)<>\"\",IF(VLOOKUP(A66,'16eme'!B:J,9,FALSE)>0,\"G\",\"P\"),\"\"))&IF(ISERROR(VLOOKUP(A66,'16eme'!F:J,1,FALSE)),\"\",IF(VLOOKUP(A66,'16eme'!F:J,5,FALSE)<>\"\",IF(VLOOKUP(A66,'16eme'!F:J,5,FALSE)>0,\"P\",\"G\"),\"\")),\"\")","v":""},{"$f":"IF(AND(B66<>\"\",'8eme'!$K$1<>0),IF(ISERROR(VLOOKUP(A66,'8eme'!B:J,1,FALSE)),\"\",IF(VLOOKUP(A66,'8eme'!B:J,9,FALSE)<>\"\",IF(VLOOKUP(A66,'8eme'!B:J,9,FALSE)>0,\"G\",\"P\"),\"\"))&IF(ISERROR(VLOOKUP(A66,'8eme'!F:J,1,FALSE)),\"\",IF(VLOOKUP(A66,'8eme'!F:J,5,FALSE)<>\"\",IF(VLOOKUP(A66,'8eme'!F:J,5,FALSE)>0,\"P\",\"G\"),\"\")),\"\")","v":""},{"$f":"IF(AND(B66<>\"\",quart!$K$1<>0),IF(ISERROR(VLOOKUP(A66,quart!B:J,1,FALSE)),\"\",IF(VLOOKUP(A66,quart!B:J,9,FALSE)<>\"\",IF(VLOOKUP(A66,quart!B:J,9,FALSE)>0,\"G\",\"P\"),\"\"))&IF(ISERROR(VLOOKUP(A66,quart!F:J,1,FALSE)),\"\",IF(VLOOKUP(A66,quart!F:J,5,FALSE)<>\"\",IF(VLOOKUP(A66,quart!F:J,5,FALSE)>0,\"P\",\"G\"),\"\")),\"\")","v":""},{"$f":"IF(AND(B66<>\"\",demi!$K$1<>0),IF(ISERROR(VLOOKUP(A66,demi!B:J,1,FALSE)),\"\",IF(VLOOKUP(A66,demi!B:J,9,FALSE)<>\"\",IF(VLOOKUP(A66,demi!B:J,9,FALSE)>0,\"G\",\"P\"),\"\"))&IF(ISERROR(VLOOKUP(A66,demi!F:J,1,FALSE)),\"\",IF(VLOOKUP(A66,demi!F:J,5,FALSE)<>\"\",IF(VLOOKUP(A66,demi!F:J,5,FALSE)>0,\"P\",\"G\"),\"\")),\"\")","v":""},{"$f":"IF(AND(B66<>\"\",finale!$K$1<>0),IF(ISERROR(VLOOKUP(A66,finale!B:J,1,FALSE)),\"\",IF(VLOOKUP(A66,finale!B:J,9,FALSE)<>\"\",IF(VLOOKUP(A66,finale!B:J,9,FALSE)>0,\"G\",\"P\"),\"\"))&IF(ISERROR(VLOOKUP(A66,finale!F:J,1,FALSE)),\"\",IF(VLOOKUP(A66,finale!F:J,5,FALSE)<>\"\",IF(VLOOKUP(A66,finale!F:J,5,FALSE)>0,\"P\",\"G\"),\"\")),\"\")","v":""},{"$f":"IF(finale!$K$1<>0,IF(I66=\"G\",\"1er\",IF(I66=\"P\",\"2eme\",IF(H66=\"P\",\"3/4eme\",IF(G66=\"P\",\"5 à 8eme\",\"\")))),\"\")","v":""},null,null,null,{"$f":"IF(ISERROR(VLOOKUP(A66,'32eme'!B$3:M$34,12,FALSE)),IF(ISERROR(VLOOKUP(A66,'32eme'!F$3:M$34,8,FALSE)),\"\",VLOOKUP(A66,'32eme'!F$3:M$34,8,FALSE)),VLOOKUP(A66,'32eme'!B$3:M$34,12,FALSE))","v":""},{"$f":"IF(ISERROR(VLOOKUP(A66,'16eme'!B$3:M$18,12,FALSE)),IF(ISERROR(VLOOKUP(A66,'16eme'!F$3:M$18,8,FALSE)),\"\",VLOOKUP(A66,'16eme'!F$3:M$18,8,FALSE)),VLOOKUP(A66,'16eme'!B$3:M$18,12,FALSE))","v":""},{"$f":"IF(ISERROR(VLOOKUP(A66,'8eme'!B$3:M$10,12,FALSE)),IF(ISERROR(VLOOKUP(A66,'8eme'!F$3:M$10,8,FALSE)),\"\",VLOOKUP(A66,'8eme'!F$3:M$10,8,FALSE)),VLOOKUP(A66,'8eme'!B$3:M$10,12,FALSE))","v":""},{"$f":"IF(ISERROR(VLOOKUP(A66,quart!B$3:M$6,12,FALSE)),IF(ISERROR(VLOOKUP(A66,quart!F$3:M$6,8,FALSE)),\"\",VLOOKUP(A66,quart!F$3:M$6,8,FALSE)),VLOOKUP(A66,quart!B$3:M$6,12,FALSE))","v":""},{"$f":"IF(ISERROR(VLOOKUP(A66,demi!B$3:M$4,12,FALSE)),IF(ISERROR(VLOOKUP(A66,demi!F$3:M$4,8,FALSE)),\"\",VLOOKUP(A66,demi!F$3:M$4,8,FALSE)),VLOOKUP(A66,demi!B$3:M$4,12,FALSE))","v":""}]
[64,null,null,null,{"$f":"IF(AND(B67<>\"\",'16eme'!$K$1<>0),IF(ISERROR(VLOOKUP(A67,'16eme'!B:J,1,FALSE)),\"\",IF(VLOOKUP(A67,'16eme'!B:J,9,FALSE)<>\"\",IF(VLOOKUP(A67,'16eme'!B:J,9,FALSE)>0,\"G\",\"P\"),\"\"))&IF(ISERROR(VLOOKUP(A67,'16eme'!F:J,1,FALSE)),\"\",IF(VLOOKUP(A67,'16eme'!F:J,5,FALSE)<>\"\",IF(VLOOKUP(A67,'16eme'!F:J,5,FALSE)>0,\"P\",\"G\"),\"\")),\"\")","v":""},{"$f":"IF(AND(B67<>\"\",'8eme'!$K$1<>0),IF(ISERROR(VLOOKUP(A67,'8eme'!B:J,1,FALSE)),\"\",IF(VLOOKUP(A67,'8eme'!B:J,9,FALSE)<>\"\",IF(VLOOKUP(A67,'8eme'!B:J,9,FALSE)>0,\"G\",\"P\"),\"\"))&IF(ISERROR(VLOOKUP(A67,'8eme'!F:J,1,FALSE)),\"\",IF(VLOOKUP(A67,'8eme'!F:J,5,FALSE)<>\"\",IF(VLOOKUP(A67,'8eme'!F:J,5,FALSE)>0,\"P\",\"G\"),\"\")),\"\")","v":""},{"$f":"IF(AND(B67<>\"\",quart!$K$1<>0),IF(ISERROR(VLOOKUP(A67,quart!B:J,1,FALSE)),\"\",IF(VLOOKUP(A67,quart!B:J,9,FALSE)<>\"\",IF(VLOOKUP(A67,quart!B:J,9,FALSE)>0,\"G\",\"P\"),\"\"))&IF(ISERROR(VLOOKUP(A67,quart!F:J,1,FALSE)),\"\",IF(VLOOKUP(A67,quart!F:J,5,FALSE)<>\"\",IF(VLOOKUP(A67,quart!F:J,5,FALSE)>0,\"P\",\"G\"),\"\")),\"\")","v":""},{"$f":"IF(AND(B67<>\"\",demi!$K$1<>0),IF(ISERROR(VLOOKUP(A67,demi!B:J,1,FALSE)),\"\",IF(VLOOKUP(A67,demi!B:J,9,FALSE)<>\"\",IF(VLOOKUP(A67,demi!B:J,9,FALSE)>0,\"G\",\"P\"),\"\"))&IF(ISERROR(VLOOKUP(A67,demi!F:J,1,FALSE)),\"\",IF(VLOOKUP(A67,demi!F:J,5,FALSE)<>\"\",IF(VLOOKUP(A67,demi!F:J,5,FALSE)>0,\"P\",\"G\"),\"\")),\"\")","v":""},{"$f":"IF(AND(B67<>\"\",finale!$K$1<>0),IF(ISERROR(VLOOKUP(A67,finale!B:J,1,FALSE)),\"\",IF(VLOOKUP(A67,finale!B:J,9,FALSE)<>\"\",IF(VLOOKUP(A67,finale!B:J,9,FALSE)>0,\"G\",\"P\"),\"\"))&IF(ISERROR(VLOOKUP(A67,finale!F:J,1,FALSE)),\"\",IF(VLOOKUP(A67,finale!F:J,5,FALSE)<>\"\",IF(VLOOKUP(A67,finale!F:J,5,FALSE)>0,\"P\",\"G\"),\"\")),\"\")","v":""},{"$f":"IF(finale!$K$1<>0,IF(I67=\"G\",\"1er\",IF(I67=\"P\",\"2eme\",IF(H67=\"P\",\"3/4eme\",IF(G67=\"P\",\"5 à 8eme\",\"\")))),\"\")","v":""},null,null,null,{"$f":"IF(ISERROR(VLOOKUP(A67,'32eme'!B$3:M$34,12,FALSE)),IF(ISERROR(VLOOKUP(A67,'32eme'!F$3:M$34,8,FALSE)),\"\",VLOOKUP(A67,'32eme'!F$3:M$34,8,FALSE)),VLOOKUP(A67,'32eme'!B$3:M$34,12,FALSE))","v":""},{"$f":"IF(ISERROR(VLOOKUP(A67,'16eme'!B$3:M$18,12,FALSE)),IF(ISERROR(VLOOKUP(A67,'16eme'!F$3:M$18,8,FALSE)),\"\",VLOOKUP(A67,'16eme'!F$3:M$18,8,FALSE)),VLOOKUP(A67,'16eme'!B$3:M$18,12,FALSE))","v":""},{"$f":"IF(ISERROR(VLOOKUP(A67,'8eme'!B$3:M$10,12,FALSE)),IF(ISERROR(VLOOKUP(A67,'8eme'!F$3:M$10,8,FALSE)),\"\",VLOOKUP(A67,'8eme'!F$3:M$10,8,FALSE)),VLOOKUP(A67,'8eme'!B$3:M$10,12,FALSE))","v":""},{"$f":"IF(ISERROR(VLOOKUP(A67,quart!B$3:M$6,12,FALSE)),IF(ISERROR(VLOOKUP(A67,quart!F$3:M$6,8,FALSE)),\"\",VLOOKUP(A67,quart!F$3:M$6,8,FALSE)),VLOOKUP(A67,quart!B$3:M$6,12,FALSE))","v":""},{"$f":"IF(ISERROR(VLOOKUP(A67,demi!B$3:M$4,12,FALSE)),IF(ISERROR(VLOOKUP(A67,demi!F$3:M$4,8,FALSE)),\"\",VLOOKUP(A67,demi!F$3:M$4,8,FALSE)),VLOOKUP(A67,demi!B$3:M$4,12,FALSE))","v":""}]

{"sheet":"32eme","index":1,"n_rows":34,"n_cols":14,"rows_kept":34,"cut":false,"hidden":true,"merged":[[0,1,0,4],[0,5,0,8]]}
[null,null,null,null,null,null,null,null,null,null,{"$f":"SUM(E:E)+SUM(I:I)","v":0}]
["Jeu","N°","Nom","Société","Points faits (*)","N°","Nom","Société","Points faits (*)",null,null,null,null,"(*) ne pas renseigner de score pour les parties d'office"]
[1,{"$f":"IF(Equipes!$L$3=\"\",\"\",IF(Equipes!$K$1=64,IF(K3<>\"\",K3,\"\"),\"\"))","v":""},{"$f":"IF($B3<>\"\",VLOOKUP($B3,Equipes!$A:$C,2,FALSE),\"\")","v":""},{"$f":"IF($B3<>\"\",VLOOKUP($B3,Equipes!$A:$C,3,FALSE),\"\")","v":""},null,{"$f":"IF(Equipes!$L$3=\"\",\"\",IF(Equipes!$K$1=64,IF(L3<>\"\",L3,\"\"),\"\"))","v":""},{"$f":"IF($F3<>\"\",IF(VLOOKUP($F3,Equipes!$A:$C,2,FALSE)=\"\",\"\",VLOOKUP($F3,Equipes!$A:$C,2,FALSE)),\"\")","v":""},{"$f":"IF($F3<>\"\",IF(VLOOKUP($F3,Equipes!$A:$C,3,FALSE)=\"\",\"\",VLOOKUP($F3,Equipes!$A:$C,3,FALSE)),\"\")","v":""},null,{"$f":"IF(C3<>\"\",IF(G3<>\"\",IF(E3<>\"\",E3-I3,\"\"),6),\"\")","v":""},null,null,{"$f":"A3","v":1}]
[2,{"$f":"IF(Equipes!$L$3=\"\",\"\",IF(Equipes!$K$1=64,IF(K4<>\"\",K4,\"\"),\"\"))","v":""},{"$f":"IF($B4<>\"\",VLOOKUP($B4,Equipes!$A:$C,2,FALSE),\"\")","v":""},{"$f":"IF($B4<>\"\",VLOOKUP($B4,Equipes!$A:$C,3,FALSE),\"\")","v":""},null,{"$f":"IF(Equipes!$L$3=\"\",\"\",IF(Equipes!$K$1=64,IF(L4<>\"\",L4,\"\"),\"\"))","v":""},{"$f":"IF($F4<>\"\",IF(VLOOKUP($F4,Equipes!$A:$C,2,FALSE)=\"\",\"\",VLOOKUP($F4,Equipes!$A:$C,2,FALSE)),\"\")","v":""},{"$f":"IF($F4<>\"\",IF(VLOOKUP($F4,Equipes!$A:$C,3,FALSE)=\"\",\"\",VLOOKUP($F4,Equipes!$A:$C,3,FALSE)),\"\")","v":""},null,{"$f":"IF(C4<>\"\",IF(G4<>\"\",IF(E4<>\"\",E4-I4,\"\"),6),\"\")","v":""},null,null,{"$f":"A4","v":2}]
[3,{"$f":"IF(Equipes!$L$3=\"\",\"\",IF(Equipes!$K$1=64,IF(K5<>\"\",K5,\"\"),\"\"))","v":""},{"$f":"IF($B5<>\"\",VLOOKUP($B5,Equipes!$A:$C,2,FALSE),\"\")","v":""},{"$f":"IF($B5<>\"\",VLOOKUP($B5,Equipes!$A:$C,3,FALSE),\"\")","v":""},null,{"$f":"IF(Equipes!$L$3=\"\",\"\",IF(Equipes!$K$1=64,IF(L5<>\"\",L5,\"\"),\"\"))","v":""},{"$f":"IF($F5<>\"\",IF(VLOOKUP($F5,Equipes!$A:$C,2,FALSE)=\"\",\"\",VLOOKUP($F5,Equipes!$A:$C,2,FALSE)),\"\")","v":""},{"$f":"IF($F5<>\"\",IF(VLOOKUP($F5,Equipes!$A:$C,3,FALSE)=\"\",\"\",VLOOKUP($F5,Equipes!$A:$C,3,FALSE)),\"\")","v":""},null,"",null,null,3]
[4,{"$f":"IF(Equipes!$L$3=\"\",\"\",IF(Equipes!$K$1=64,IF(K6<>\"\",K6,\"\"),\"\"))","v":""},{"$f":"IF($B6<>\"\",VLOOKUP($B6,Equipes!$A:$C,2,FALSE),\"\")","v":""},{"$f":"IF($B6<>\"\",VLOOKUP($B6,Equipes!$A:$C,3,FALSE),\"\")","v":""},null,{"$f":"IF(Equipes!$L$3=\"\",\"\",IF(Equipes!$K$1=64,IF(L6<>\"\",L6,\"\"),\"\"))","v":""},{"$f":"IF($F6<>\"\",IF(VLOOKUP($F6,Equipes!$A:$C,2,FALSE)=\"\",\"\",VLOOKUP($F6,Equipes!$A:$C,2,FALSE)),\"\")","v":""},{"$f":"IF($F6<>\"\",IF(VLOOKUP($F6,Equipes!$A:$C,3,FALSE)=\"\",\"\",VLOOKUP($F6,Equipes!$A:$C,3,FALSE)),\"\")","v":""},null,"",null,null,4]
[5,{"$f":"IF(Equipes!$L$3=\"\",\"\",IF(Equipes!$K$1=64,IF(K7<>\"\",K7,\"\"),\"\"))","v":""},{"$f":"IF($B7<>\"\",VLOOKUP($B7,Equipes!$A:$C,2,FALSE),\"\")","v":""},{"$f":"IF($B7<>\"\",VLOOKUP($B7,Equipes!$A:$C,3,FALSE),\"\")","v":""},null,{"$f":"IF(Equipes!$L$3=\"\",\"\",IF(Equipes!$K$1=64,IF(L7<>\"\",L7,\"\"),\"\"))","v":""},{"$f":"IF($F7<>\"\",IF(VLOOKUP($F7,Equipes!$A:$C,2,FALSE)=\"\",\"\",VLOOKUP($F7,Equipes!$A:$C,2,FALSE)),\"\")","v":""},{"$f":"IF($F7<>\"\",IF(VLOOKUP($F7,Equipes!$A:$C,3,FALSE)=\"\",\"\",VLOOKUP($F7,Equipes!$A:$C,3,FALSE)),\"\")","v":""},null,"",null,null,5]
[6,{"$f":"IF(Equipes!$L$3=\"\",\"\",IF(Equipes!$K$1=64,IF(K8<>\"\",K8,\"\"),\"\"))","v":""},{"$f":"IF($B8<>\"\",VLOOKUP($B8,Equipes!$A:$C,2,FALSE),\"\")","v":""},{"$f":"IF($B8<>\"\",VLOOKUP($B8,Equipes!$A:$C,3,FALSE),\"\")","v":""},null,{"$f":"IF(Equipes!$L$3=\"\",\"\",IF(Equipes!$K$1=64,IF(L8<>\"\",L8,\"\"),\"\"))","v":""},{"$f":"IF($F8<>\"\",IF(VLOOKUP($F8,Equipes!$A:$C,2,FALSE)=\"\",\"\",VLOOKUP($F8,Equipes!$A:$C,2,FALSE)),\"\")","v":""},{"$f":"IF($F8<>\"\",IF(VLOOKUP($F8,Equipes!$A:$C,3,FALSE)=\"\",\"\",VLOOKUP($F8,Equipes!$A:$C,3,FALSE)),\"\")","v":""},null,"",null,null,6]
[7,{"$f":"IF(Equipes!$L$3=\"\",\"\",IF(Equipes!$K$1=64,IF(K9<>\"\",K9,\"\"),\"\"))","v":""},{"$f":"IF($B9<>\"\",VLOOKUP($B9,Equipes!$A:$C,2,FALSE),\"\")","v":""},{"$f":"IF($B9<>\"\",VLOOKUP($B9,Equipes!$A:$C,3,FALSE),\"\")","v":""},null,{"$f":"IF(Equipes!$L$3=\"\",\"\",IF(Equipes!$K$1=64,IF(L9<>\"\",L9,\"\"),\"\"))","v":""},{"$f":"IF($F9<>\"\",IF(VLOOKUP($F9,Equipes!$A:$C,2,FALSE)=\"\",\"\",VLOOKUP($F9,Equipes!$A:$C,2,FALSE)),\"\")","v":""},{"$f":"IF($F9<>\"\",IF(VLOOKUP($F9,Equipes!$A:$C,3,FALSE)=\"\",\"\",VLOOKUP($F9,Equipes!$A:$C,3,FALSE)),\"\")","v":""},null,"",null,null,7]
[8,{"$f":"IF(Equipes!$L$3=\"\",\"\",IF(Equipes!$K$1=64,IF(K10<>\"\",K10,\"\"),\"\"))","v":""},{"$f":"IF($B10<>\"\",VLOOKUP($B10,Equipes!$A:$C,2,FALSE),\"\")","v":""},{"$f":"IF($B10<>\"\",VLOOKUP($B10,Equipes!$A:$C,3,FALSE),\"\")","v":""},null,{"$f":"IF(Equipes!$L$3=\"\",\"\",IF(Equipes!$K$1=64,IF(L10<>\"\",L10,\"\"),\"\"))","v":""},{"$f":"IF($F10<>\"\",IF(VLOOKUP($F10,Equipes!$A:$C,2,FALSE)=\"\",\"\",VLOOKUP($F10,Equipes!$A:$C,2,FALSE)),\"\")","v":""},{"$f":"IF($F10<>\"\",IF(VLOOKUP($F10,Equipes!$A:$C,3,FALSE)=\"\",\"\",VLOOKUP($F10,Equipes!$A:$C,3,FALSE)),\"\")","v":""},null,"",null,null,8]
[9,{"$f":"IF(Equipes!$L$3=\"\",\"\",IF(Equipes!$K$1=64,IF(K11<>\"\",K11,\"\"),\"\"))","v":""},{"$f":"IF($B11<>\"\",VLOOKUP($B11,Equipes!$A:$C,2,FALSE),\"\")","v":""},{"$f":"IF($B11<>\"\",VLOOKUP($B11,Equipes!$A:$C,3,FALSE),\"\")","v":""},null,{"$f":"IF(Equipes!$L$3=\"\",\"\",IF(Equipes!$K$1=64,IF(L11<>\"\",L11,\"\"),\"\"))","v":""},{"$f":"IF($F11<>\"\",IF(VLOOKUP($F11,Equipes!$A:$C,2,FALSE)=\"\",\"\",VLOOKUP($F11,Equipes!$A:$C,2,FALSE)),\"\")","v":""},{"$f":"IF($F11<>\"\",IF(VLOOKUP($F11,Equipes!$A:$C,3,FALSE)=\"\",\"\",VLOOKUP($F11,Equipes!$A:$C,3,FALSE)),\"\")","v":""},null,"",null,null,9]
[10,{"$f":"IF(Equipes!$L$3=\"\",\"\",IF(Equipes!$K$1=64,IF(K12<>\"\",K12,\"\"),\"\"))","v":""},{"$f":"IF($B12<>\"\",VLOOKUP($B12,Equipes!$A:$C,2,FALSE),\"\")","v":""},{"$f":"IF($B12<>\"\",VLOOKUP($B12,Equipes!$A:$C,3,FALSE),\"\")","v":""},null,{"$f":"IF(Equipes!$L$3=\"\",\"\",IF(Equipes!$K$1=64,IF(L12<>\"\",L12,\"\"),\"\"))","v":""},{"$f":"IF($F12<>\"\",IF(VLOOKUP($F12,Equipes!$A:$C,2,FALSE)=\"\",\"\",VLOOKUP($F12,Equipes!$A:$C,2,FALSE)),\"\")","v":""},{"$f":"IF($F12<>\"\",IF(VLOOKUP($F12,Equipes!$A:$C,3,FALSE)=\"\",\"\",VLOOKUP($F12,Equipes!$A:$C,3,FALSE)),\"\")","v":""},null,"",null,null,10]
[11,{"$f":"IF(Equipes!$L$3=\"\",\"\",IF(Equipes!$K$1=64,IF(K13<>\"\",K13,\"\"),\"\"))","v":""},{"$f":"IF($B13<>\"\",VLOOKUP($B13,Equipes!$A:$C,2,FALSE),\"\")","v":""},{"$f":"IF($B13<>\"\",VLOOKUP($B13,Equipes!$A:$C,3,FALSE),\"\")","v":""},null,{"$f":"IF(Equipes!$L$3=\"\",\"\",IF(Equipes!$K$1=64,IF(L13<>\"\",L13,\"\"),\"\"))","v":""},{"$f":"IF($F13<>\"\",IF(VLOOKUP($F13,Equipes!$A:$C,2,FALSE)=\"\",\"\",VLOOKUP($F13,Equipes!$A:$C,2,FALSE)),\"\")","v":""},{"$f":"IF($F13<>\"\",IF(VLOOKUP($F13,Equipes!$A:$C,3,FALSE)=\"\",\"\",VLOOKUP($F13,Equipes!$A:$C,3,FALSE)),\"\")","v":""},null,"",null,null,11]
[12,{"$f":"IF(Equipes!$L$3=\"\",\"\",IF(Equipes!$K$1=64,IF(K14<>\"\",K14,\"\"),\"\"))","v":""},{"$f":"IF($B14<>\"\",VLOOKUP($B14,Equipes!$A:$C,2,FALSE),\"\")","v":""},{"$f":"IF($B14<>\"\",VLOOKUP($B14,Equipes!$A:$C,3,FALSE),\"\")","v":""},null,{"$f":"IF(Equipes!$L$3=\"\",\"\",IF(Equipes!$K$1=64,IF(L14<>\"\",L14,\"\"),\"\"))","v":""},{"$f":"IF($F14<>\"\",IF(VLOOKUP($F14,Equipes!$A:$C,2,FALSE)=\"\",\"\",VLOOKUP($F14,Equipes!$A:$C,2,FALSE)),\"\")","v":""},{"$f":"IF($F14<>\"\",IF(VLOOKUP($F14,Equipes!$A:$C,3,FALSE)=\"\",\"\",VLOOKUP($F14,Equipes!$A:$C,3,FALSE)),\"\")","v":""},null,"",null,null,12]
[13,{"$f":"IF(Equipes!$L$3=\"\",\"\",IF(Equipes!$K$1=64,IF(K15<>\"\",K15,\"\"),\"\"))","v":""},{"$f":"IF($B15<>\"\",VLOOKUP($B15,Equipes!$A:$C,2,FALSE),\"\")","v":""},{"$f":"IF($B15<>\"\",VLOOKUP($B15,Equipes!$A:$C,3,FALSE),\"\")","v":""},null,{"$f":"IF(Equipes!$L$3=\"\",\"\",IF(Equipes!$K$1=64,IF(L15<>\"\",L15,\"\"),\"\"))","v":""},{"$f":"IF($F15<>\"\",IF(VLOOKUP($F15,Equipes!$A:$C,2,FALSE)=\"\",\"\",VLOOKUP($F15,Equipes!$A:$C,2,FALSE)),\"\")","v":""},{"$f":"IF($F15<>\"\",IF(VLOOKUP($F15,Equipes!$A:$C,3,FALSE)=\"\",\"\",VLOOKUP($F15,Equipes!$A:$C,3,FALSE)),\"\")","v":""},null,"",null,null,13]
[14,{"$f":"IF(Equipes!$L$3=\"\",\"\",IF(Equipes!$K$1=64,IF(K16<>\"\",K16,\"\"),\"\"))","v":""},{"$f":"IF($B16<>\"\",VLOOKUP($B16,Equipes!$A:$C,2,FALSE),\"\")","v":""},{"$f":"IF($B16<>\"\",VLOOKUP($B16,Equipes!$A:$C,3,FALSE),\"\")","v":""},null,{"$f":"IF(Equipes!$L$3=\"\",\"\",IF(Equipes!$K$1=64,IF(L16<>\"\",L16,\"\"),\"\"))","v":""},{"$f":"IF($F16<>\"\",IF(VLOOKUP($F16,Equipes!$A:$C,2,FALSE)=\"\",\"\",VLOOKUP($F16,Equipes!$A:$C,2,FALSE)),\"\")","v":""},{"$f":"IF($F16<>\"\",IF(VLOOKUP($F16,Equipes!$A:$C,3,FALSE)=\"\",\"\",VLOOKUP($F16,Equipes!$A:$C,3,FALSE)),\"\")","v":""},null,"",null,null,14]
[15,{"$f":"IF(Equipes!$L$3=\"\",\"\",IF(Equipes!$K$1=64,IF(K17<>\"\",K17,\"\"),\"\"))","v":""},{"$f":"IF($B17<>\"\",VLOOKUP($B17,Equipes!$A:$C,2,FALSE),\"\")","v":""},{"$f":"IF($B17<>\"\",VLOOKUP($B17,Equipes!$A:$C,3,FALSE),\"\")","v":""},null,{"$f":"IF(Equipes!$L$3=\"\",\"\",IF(Equipes!$K$1=64,IF(L17<>\"\",L17,\"\"),\"\"))","v":""},{"$f":"IF($F17<>\"\",IF(VLOOKUP($F17,Equipes!$A:$C,2,FALSE)=\"\",\"\",VLOOKUP($F17,Equipes!$A:$C,2,FALSE)),\"\")","v":""},{"$f":"IF($F17<>\"\",IF(VLOOKUP($F17,Equipes!$A:$C,3,FALSE)=\"\",\"\",VLOOKUP($F17,Equipes!$A:$C,3,FALSE)),\"\")","v":""},null,"",null,null,15]
[16,{"$f":"IF(Equipes!$L$3=\"\",\"\",IF(Equipes!$K$1=64,IF(K18<>\"\",K18,\"\"),\"\"))","v":""},{"$f":"IF($B18<>\"\",VLOOKUP($B18,Equipes!$A:$C,2,FALSE),\"\")","v":""},{"$f":"IF($B18<>\"\",VLOOKUP($B18,Equipes!$A:$C,3,FALSE),\"\")","v":""},null,{"$f":"IF(Equipes!$L$3=\"\",\"\",IF(Equipes!$K$1=64,IF(L18<>\"\",L18,\"\"),\"\"))","v":""},{"$f":"IF($F18<>\"\",IF(VLOOKUP($F18,Equipes!$A:$C,2,FALSE)=\"\",\"\",VLOOKUP($F18,Equipes!$A:$C,2,FALSE)),\"\")","v":""},{"$f":"IF($F18<>\"\",IF(VLOOKUP($F18,Equipes!$A:$C,3,FALSE)=\"\",\"\",VLOOKUP($F18,Equipes!$A:$C,3,FALSE)),\"\")","v":""},null,"",null,null,16]
[17,{"$f":"IF(Equipes!$L$3=\"\",\"\",IF(Equipes!$K$1=64,IF(K19<>\"\",K19,\"\"),\"\"))","v":""},{"$f":"IF($B19<>\"\",VLOOKUP($B19,Equipes!$A:$C,2,FALSE),\"\")","v":""},{"$f":"IF($B19<>\"\",VLOOKUP($B19,Equipes!$A:$C,3,FALSE),\"\")","v":""},null,{"$f":"IF(Equipes!$L$3=\"\",\"\",IF(Equipes!$K$1=64,IF(L19<>\"\",L19,\"\"),\"\"))","v":""},{"$f":"IF($F19<>\"\",IF(VLOOKUP($F19,Equipes!$A:$C,2,FALSE)=\"\",\"\",VLOOKUP($F19,Equipes!$A:$C,2,FALSE)),\"\")","v":""},{"$f":"IF($F19<>\"\",IF(VLOOKUP($F19,Equipes!$A:$C,3,FALSE)=\"\",\"\",VLOOKUP($F19,Equipes!$A:$C,3,FALSE)),\"\")","v":""},null,"",null,null,17]
[18,{"$f":"IF(Equipes!$L$3=\"\",\"\",IF(Equipes!$K$1=64,IF(K20<>\"\",K20,\"\"),\"\"))","v":""},{"$f":"IF($B20<>\"\",VLOOKUP($B20,Equipes!$A:$C,2,FALSE),\"\")","v":""},{"$f":"IF($B20<>\"\",VLOOKUP($B20,Equipes!$A:$C,3,FALSE),\"\")","v":""},null,{"$f":"IF(Equipes!$L$3=\"\",\"\",IF(Equipes!$K$1=64,IF(L20<>\"\",L20,\"\"),\"\"))","v":""},{"$f":"IF($F20<>\"\",IF(VLOOKUP($F20,Equipes!$A:$C,2,FALSE)=\"\",\"\",VLOOKUP($F20,Equipes!$A:$C,2,FALSE)),\"\")","v":""},{"$f":"IF($F20<>\"\",IF(VLOOKUP($F20,Equipes!$A:$C,3,FALSE)=\"\",\"\",VLOOKUP($F20,Equipes!$A:$C,3,FALSE)),\"\")","v":""},null,"",null,null,18]
[19,{"$f":"IF(Equipes!$L$3=\"\",\"\",IF(Equipes!$K$1=64,IF(K21<>\"\",K21,\"\"),\"\"))","v":""},{"$f":"IF($B21<>\"\",VLOOKUP($B21,Equipes!$A:$C,2,FALSE),\"\")","v":""},{"$f":"IF($B21<>\"\",VLOOKUP($B21,Equipes!$A:$C,3,FALSE),\"\")","v":""},null,{"$f":"IF(Equipes!$L$3=\"\",\"\",IF(Equipes!$K$1=64,IF(L21<>\"\",L21,\"\"),\"\"))","v":""},{"$f":"IF($F21<>\"\",IF(VLOOKUP($F21,Equipes!$A:$C,2,FALSE)=\"\",\"\",VLOOKUP($F21,Equipes!$A:$C,2,FALSE)),\"\")","v":""},{"$f":"IF($F21<>\"\",IF(VLOOKUP($F21,Equipes!$A:$C,3,FALSE)=\"\",\"\",VLOOKUP($F21,Equipes!$A:$C,3,FALSE)),\"\")","v":""},null,"",null,null,19]
[20,{"$f":"IF(Equipes!$L$3=\"\",\"\",IF(Equipes!$K$1=64,IF(K22<>\"\",K22,\"\"),\"\"))","v":""},{"$f":"IF($B22<>\"\",VLOOKUP($B22,Equipes!$A:$C,2,FALSE),\"\")","v":""},{"$f":"IF($B22<>\"\",VLOOKUP($B22,Equipes!$A:$C,3,FALSE),\"\")","v":""},null,{"$f":"IF(Equipes!$L$3=\"\",\"\",IF(Equipes!$K$1=64,IF(L22<>\"\",L22,\"\"),\"\"))","v":""},{"$f":"IF($F22<>\"\",IF(VLOOKUP($F22,Equipes!$A:$C,2,FALSE)=\"\",\"\",VLOOKUP($F22,Equipes!$A:$C,2,FALSE)),\"\")","v":""},{"$f":"IF($F22<>\"\",IF(VLOOKUP($F22,Equipes!$A:$C,3,FALSE)=\"\",\"\",VLOOKUP($F22,Equipes!$A:$C,3,FALSE)),\"\")","v":""},null,"",null,null,20]
[21,{"$f":"IF(Equipes!$L$3=\"\",\"\",IF(Equipes!$K$1=64,IF(K23<>\"\",K23,\"\"),\"\"))","v":""},{"$f":"IF($B23<>\"\",VLOOKUP($B23,Equipes!$A:$C,2,FALSE),\"\")","v":""},{"$f":"IF($B23<>\"\",VLOOKUP($B23,Equipes!$A:$C,3,FALSE),\"\")","v":""},null,{"$f":"IF(Equipes!$L$3=\"\",\"\",IF(Equipes!$K$1=64,IF(L23<>\"\",L23,\"\"),\"\"))","v":""},{"$f":"IF($F23<>\"\",IF(VLOOKUP($F23,Equipes!$A:$C,2,FALSE)=\"\",\"\",VLOOKUP($F23,Equipes!$A:$C,2,FALSE)),\"\")","v":""},{"$f":"IF($F23<>\"\",IF(VLOOKUP($F23,Equipes!$A:$C,3,FALSE)=\"\",\"\",VLOOKUP($F23,Equipes!$A:$C,3,FALSE)),\"\")","v":""},null,"",null,null,21]
[22,{"$f":"IF(Equipes!$L$3=\"\",\"\",IF(Equipes!$K$1=64,IF(K24<>\"\",K24,\"\"),\"\"))","v":""},{"$f":"IF($B24<>\"\",VLOOKUP($B24,Equipes!$A:$C,2,FALSE),\"\")","v":""},{"$f":"IF($B24<>\"\",VLOOKUP($B24,Equipes!$A:$C,3,FALSE),\"\")","v":""},null,{"$f":"IF(Equipes!$L$3=\"\",\"\",IF(Equipes!$K$1=64,IF(L24<>\"\",L24,\"\"),\"\"))","v":""},{"$f":"IF($F24<>\"\",IF(VLOOKUP($F24,Equipes!$A:$C,2,FALSE)=\"\",\"\",VLOOKUP($F24,Equipes!$A:$C,2,FALSE)),\"\")","v":""},{"$f":"IF($F24<>\"\",IF(VLOOKUP($F24,Equipes!$A:$C,3,FALSE)=\"\",\"\",VLOOKUP($F24,Equipes!$A:$C,3,FALSE)),\"\")","v":""},null,"",null,null,22]
[23,{"$f":"IF(Equipes!$L$3=\"\",\"\",IF(Equipes!$K$1=64,IF(K25<>\"\",K25,\"\"),\"\"))","v":""},{"$f":"IF($B25<>\"\",VLOOKUP($B25,Equipes!$A:$C,2,FALSE),\"\")","v":""},{"$f":"IF($B25<>\"\",VLOOKUP($B25,Equipes!$A:$C,3,FALSE),\"\")","v":""},null,{"$f":"IF(Equipes!$L$3=\"\",\"\",IF(Equipes!$K$1=64,IF(L25<>\"\",L25,\"\"),\"\"))","v":""},{"$f":"IF($F25<>\"\",IF(VLOOKUP($F25,Equipes!$A:$C,2,FALSE)=\"\",\"\",VLOOKUP($F25,Equipes!$A:$C,2,FALSE)),\"\")","v":""},{"$f":"IF($F25<>\"\",IF(VLOOKUP($F25,Equipes!$A:$C,3,FALSE)=\"\",\"\",VLOOKUP($F25,Equipes!$A:$C,3,FALSE)),\"\")","v":""},null,"",null,null,23]
[24,{"$f":"IF(Equipes!$L$3=\"\",\"\",IF(Equipes!$K$1=64,IF(K26<>\"\",K26,\"\"),\"\"))","v":""},{"$f":"IF($B26<>\"\",VLOOKUP($B26,Equipes!$A:$C,2,FALSE),\"\")","v":""},{"$f":"IF($B26<>\"\",VLOOKUP($B26,Equipes!$A:$C,3,FALSE),\"\")","v":""},null,{"$f":"IF(Equipes!$L$3=\"\",\"\",IF(Equipes!$K$1=64,IF(L26<>\"\",L26,\"\"),\"\"))","v":""},{"$f":"IF($F26<>\"\",IF(VLOOKUP($F26,Equipes!$A:$C,2,FALSE)=\"\",\"\",VLOOKUP($F26,Equipes!$A:$C,2,FALSE)),\"\")","v":""},{"$f":"IF($F26<>\"\",IF(VLOOKUP($F26,Equipes!$A:$C,3,FALSE)=\"\",\"\",VLOOKUP($F26,Equipes!$A:$C,3,FALSE)),\"\")","v":""},null,"",null,null,24]
[25,{"$f":"IF(Equipes!$L$3=\"\",\"\",IF(Equipes!$K$1=64,IF(K27<>\"\",K27,\"\"),\"\"))","v":""},{"$f":"IF($B27<>\"\",VLOOKUP($B27,Equipes!$A:$C,2,FALSE),\"\")","v":""},{"$f":"IF($B27<>\"\",VLOOKUP($B27,Equipes!$A:$C,3,FALSE),\"\")","v":""},null,{"$f":"IF(Equipes!$L$3=\"\",\"\",IF(Equipes!$K$1=64,IF(L27<>\"\",L27,\"\"),\"\"))","v":""},{"$f":"IF($F27<>\"\",IF(VLOOKUP($F27,Equipes!$A:$C,2,FALSE)=\"\",\"\",VLOOKUP($F27,Equipes!$A:$C,2,FALSE)),\"\")","v":""},{"$f":"IF($F27<>\"\",IF(VLOOKUP($F27,Equipes!$A:$C,3,FALSE)=\"\",\"\",VLOOKUP($F27,Equipes!$A:$C,3,FALSE)),\"\")","v":""},null,"",null,null,25]
[26,{"$f":"IF(Equipes!$L$3=\"\",\"\",IF(Equipes!$K$1=64,IF(K28<>\"\",K28,\"\"),\"\"))","v":""},{"$f":"IF($B28<>\"\",VLOOKUP($B28,Equipes!$A:$C,2,FALSE),\"\")","v":""},{"$f":"IF($B28<>\"\",VLOOKUP($B28,Equipes!$A:$C,3,FALSE),\"\")","v":""},null,{"$f":"IF(Equipes!$L$3=\"\",\"\",IF(Equipes!$K$1=64,IF(L28<>\"\",L28,\"\"),\"\"))","v":""},{"$f":"IF($F28<>\"\",IF(VLOOKUP($F28,Equipes!$A:$C,2,FALSE)=\"\",\"\",VLOOKUP($F28,Equipes!$A:$C,2,FALSE)),\"\")","v":""},{"$f":"IF($F28<>\"\",IF(VLOOKUP($F28,Equipes!$A:$C,3,FALSE)=\"\",\"\",VLOOKUP($F28,Equipes!$A:$C,3,FALSE)),\"\")","v":""},null,"",null,null,26]
[27,{"$f":"IF(Equipes!$L$3=\"\",\"\",IF(Equipes!$K$1=64,IF(K29<>\"\",K29,\"\"),\"\"))","v":""},{"$f":"IF($B29<>\"\",VLOOKUP($B29,Equipes!$A:$C,2,FALSE),\"\")","v":""},{"$f":"IF($B29<>\"\",VLOOKUP($B29,Equipes!$A:$C,3,FALSE),\"\")","v":""},null,{"$f":"IF(Equipes!$L$3=\"\",\"\",IF(Equipes!$K$1=64,IF(L29<>\"\",L29,\"\"),\"\"))","v":""},{"$f":"IF($F29<>\"\",IF(VLOOKUP($F29,Equipes!$A:$C,2,FALSE)=\"\",\"\",VLOOKUP($F29,Equipes!$A:$C,2,FALSE)),\"\")","v":""},{"$f":"IF($F29<>\"\",IF(VLOOKUP($F29,Equipes!$A:$C,3,FALSE)=\"\",\"\",VLOOKUP($F29,Equipes!$A:$C,3,FALSE)),\"\")","v":""},null,"",null,null,27]
[28,{"$f":"IF(Equipes!$L$3=\"\",\"\",IF(Equipes!$K$1=64,IF(K30<>\"\",K30,\"\"),\"\"))","v":""},{"$f":"IF($B30<>\"\",VLOOKUP($B30,Equipes!$A:$C,2,FALSE),\"\")","v":""},{"$f":"IF($B30<>\"\",VLOOKUP($B30,Equipes!$A:$C,3,FALSE),\"\")","v":""},null,{"$f":"IF(Equipes!$L$3=\"\",\"\",IF(Equipes!$K$1=64,IF(L30<>\"\",L30,\"\"),\"\"))","v":""},{"$f":"IF($F30<>\"\",IF(VLOOKUP($F30,Equipes!$A:$C,2,FALSE)=\"\",\"\",VLOOKUP($F30,Equipes!$A:$C,2,FALSE)),\"\")","v":""},{"$f":"IF($F30<>\"\",IF(VLOOKUP($F30,Equipes!$A:$C,3,FALSE)=\"\",\"\",VLOOKUP($F30,Equipes!$A:$C,3,FALSE)),\"\")","v":""},null,"",null,null,28]
[29,{"$f":"IF(Equipes!$L$3=\"\",\"\",IF(Equipes!$K$1=64,IF(K31<>\"\",K31,\"\"),\"\"))","v":""},{"$f":"IF($B31<>\"\",VLOOKUP($B31,Equipes!$A:$C,2,FALSE),\"\")","v":""},{"$f":"IF($B31<>\"\",VLOOKUP($B31,Equipes!$A:$C,3,FALSE),\"\")","v":""},null,{"$f":"IF(Equipes!$L$3=\"\",\"\",IF(Equipes!$K$1=64,IF(L31<>\"\",L31,\"\"),\"\"))","v":""},{"$f":"IF($F31<>\"\",IF(VLOOKUP($F31,Equipes!$A:$C,2,FALSE)=\"\",\"\",VLOOKUP($F31,Equipes!$A:$C,2,FALSE)),\"\")","v":""},{"$f":"IF($F31<>\"\",IF(VLOOKUP($F31,Equipes!$A:$C,3,FALSE)=\"\",\"\",VLOOKUP($F31,Equipes!$A:$C,3,FALSE)),\"\")","v":""},null,"",null,null,29]
[30,{"$f":"IF(Equipes!$L$3=\"\",\"\",IF(Equipes!$K$1=64,IF(K32<>\"\",K32,\"\"),\"\"))","v":""},{"$f":"IF($B32<>\"\",VLOOKUP($B32,Equipes!$A:$C,2,FALSE),\"\")","v":""},{"$f":"IF($B32<>\"\",VLOOKUP($B32,Equipes!$A:$C,3,FALSE),\"\")","v":""},null,{"$f":"IF(Equipes!$L$3=\"\",\"\",IF(Equipes!$K$1=64,IF(L32<>\"\",L32,\"\"),\"\"))","v":""},{"$f":"IF($F32<>\"\",IF(VLOOKUP($F32,Equipes!$A:$C,2,FALSE)=\"\",\"\",VLOOKUP($F32,Equipes!$A:$C,2,FALSE)),\"\")","v":""},{"$f":"IF($F32<>\"\",IF(VLOOKUP($F32,Equipes!$A:$C,3,FALSE)=\"\",\"\",VLOOKUP($F32,Equipes!$A:$C,3,FALSE)),\"\")","v":""},null,"",null,null,30]
[31,{"$f":"IF(Equipes!$L$3=\"\",\"\",IF(Equipes!$K$1=64,IF(K33<>\"\",K33,\"\"),\"\"))","v":""},{"$f":"IF($B33<>\"\",VLOOKUP($B33,Equipes!$A:$C,2,FALSE),\"\")","v":""},{"$f":"IF($B33<>\"\",VLOOKUP($B33,Equipes!$A:$C,3,FALSE),\"\")","v":""},null,{"$f":"IF(Equipes!$L$3=\"\",\"\",IF(Equipes!$K$1=64,IF(L33<>\"\",L33,\"\"),\"\"))","v":""},{"$f":"IF($F33<>\"\",IF(VLOOKUP($F33,Equipes!$A:$C,2,FALSE)=\"\",\"\",VLOOKUP($F33,Equipes!$A:$C,2,FALSE)),\"\")","v":""},{"$f":"IF($F33<>\"\",IF(VLOOKUP($F33,Equipes!$A:$C,3,FALSE)=\"\",\"\",VLOOKUP($F33,Equipes!$A:$C,3,FALSE)),\"\")","v":""},null,"",null,null,31]
[32,{"$f":"IF(Equipes!$L$3=\"\",\"\",IF(Equipes!$K$1=64,IF(K34<>\"\",K34,\"\"),\"\"))","v":""},{"$f":"IF($B34<>\"\",VLOOKUP($B34,Equipes!$A:$C,2,FALSE),\"\")","v":""},{"$f":"IF($B34<>\"\",VLOOKUP($B34,Equipes!$A:$C,3,FALSE),\"\")","v":""},null,{"$f":"IF(Equipes!$L$3=\"\",\"\",IF(Equipes!$K$1=64,IF(L34<>\"\",L34,\"\"),\"\"))","v":""},{"$f":"IF($F34<>\"\",IF(VLOOKUP($F34,Equipes!$A:$C,2,FALSE)=\"\",\"\",VLOOKUP($F34,Equipes!$A:$C,2,FALSE)),\"\")","v":""},{"$f":"IF($F34<>\"\",IF(VLOOKUP($F34,Equipes!$A:$C,3,FALSE)=\"\",\"\",VLOOKUP($F34,Equipes!$A:$C,3,FALSE)),\"\")","v":""},null,"",null,null,32]

{"sheet":"16eme","index":2,"n_rows":18,"n_cols":18,"rows_kept":18,"cut":false,"hidden":true,"merged":[[0,1,0,4],[0,5,0,8]]}
[null,null,null,null,null,null,null,null,null,{"$f":"IF(Equipes!K1=64,Equipes!K2,0)","v":0},{"$f":"SUM(E:E)+SUM(I:I)","v":0},{"$f":"18-INT($J$1/2)","v":18},{"$f":"L1*2-3","v":33}]
["Jeu","N°","Nom","Société","Points faits (*)","N°","Nom","Société","Points faits (*)",null,null,null,null,null,null,null,null,"(*) ne pas renseigner de score pour les parties d'office"]
[{"$f":"IF(N3<>\"\",N3,IF(O3<>\"\",O3,IF(P3<>\"\",P3,IF(Q3<>\"\",Q3,\"\"))))","v":""},{"$f":"IF(Equipes!$L$3=\"\",\"\",IF(Equipes!$K$1=32,IF(K3<>\"\",K3,\"\"),IF('32eme'!$K$1=0,\"\",IF(ROW()>$L$1,IF(OFFSET('32eme'!$A$1,ROW()-$L$1+$M$1,1)=\"\",\"\",IF(OFFSET('32eme'!$A$1,ROW()-$L$1+$M$1,9)=\"\",\"\",IF(OFFSET('32eme'!$A$1,ROW()-$L$1+$M$1,9)>0,OFFSET('32eme'!$A$1,ROW()-$L$1+$M$1,1),OFFSET('32eme'!$A$1,ROW()-$L$1+$M$1,5)))),IF(OFFSET('32eme'!$A$1,(ROW()-2)*2,1)=\"\",\"\",IF(OFFSET('32eme'!$A$1,(ROW()-2)*2,9)=\"\",\"\",IF(OFFSET('32eme'!$A$1,(ROW()-2)*2,9)>0,OFFSET('32eme'!$A$1,(ROW()-2)*2,1),OFFSET('32eme'!$A$1,(ROW()-2)*2,5))))))))","v":""},{"$f":"IF($B3<>\"\",VLOOKUP($B3,Equipes!$A:$C,2,FALSE),\"\")","v":""},{"$f":"IF($B3<>\"\",VLOOKUP($B3,Equipes!$A:$C,3,FALSE),\"\")","v":""},null,{"$f":"IF(Equipes!$L$3=\"\",\"\",IF(Equipes!$K$1=32,IF(L3<>\"\",L3,\"\"),IF('32eme'!$K$1=0,\"\",IF(ROW()>$L$1,\"\",IF(OFFSET('32eme'!$A$1,(ROW()-2)*2+1,9)=\"\",\"\",IF(OFFSET('32eme'!$A$1,(ROW()-2)*2+1,9)>0,OFFSET('32eme'!$A$1,(ROW()-2)*2+1,1),OFFSET('32eme'!$A$1,(ROW()-2)*2+1,5)))))))","v":""},{"$f":"IF($F3<>\"\",IF(VLOOKUP($F3,Equipes!$A:$C,2,FALSE)=\"\",\"\",VLOOKUP($F3,Equipes!$A:$C,2,FALSE)),\"\")","v":""},{"$f":"IF($F3<>\"\",IF(VLOOKUP($F3,Equipes!$A:$C,3,FALSE)=\"\",\"\",VLOOKUP($F3,Equipes!$A:$C,3,FALSE)),\"\")","v":""},null,{"$f":"IF(C3<>\"\",IF(G3<>\"\",IF(E3<>\"\",E3-I3,\"\"),6),\"\")","v":""},null,null,{"$f":"A3","v":""},{"$f":"IF(AND(B3<>\"\",F3<>\"\"),IF(AND(VLOOKUP(B3,Equipes!A$4:R$67,14,FALSE)<>1,VLOOKUP(F3,Equipes!A$4:R$67,14,FALSE)<>1,ISERROR(VLOOKUP(1,A$2:A2,1,FALSE))),1,IF(AND(VLOOKUP(B3,Equipes!A$4:R$67,14,FALSE)<>2,VLOOKUP(F3,Equipes!A$4:R$67,14,FALSE)<>2,ISERROR(VLOOKUP(2,A$2:A2,1,FALSE))),2,IF(AND(VLOOKUP(B3,Equipes!A$4:R$67,14,FALSE)<>3,VLOOKUP(F3,Equipes!A$4:R$67,14,FALSE)<>3,ISERROR(VLOOKUP(3,A$2:A2,1,FALSE))),3,IF(AND(VLOOKUP(B3,Equipes!A$4:R$67,14,FALSE)<>4,VLOOKUP(F3,Equipes!A$4:R$67,14,FALSE)<>4,ISERROR(VLOOKUP(4,A$2:A2,1,FALSE))),4,\"\")))),\"\")","v":""},{"$f":"IF(AND(B3<>\"\",F3<>\"\",N3=\"\"),IF(AND(VLOOKUP(B3,Equipes!A$4:R$67,14,FALSE)<>5,VLOOKUP(F3,Equipes!A$4:R$67,14,FALSE)<>5,ISERROR(VLOOKUP(5,A$2:A2,1,FALSE))),5,IF(AND(VLOOKUP(B3,Equipes!A$4:R$67,14,FALSE)<>6,VLOOKUP(F3,Equipes!A$4:R$67,14,FALSE)<>6,ISERROR(VLOOKUP(6,A$2:A2,1,FALSE))),6,IF(AND(VLOOKUP(B3,Equipes!A$4:R$67,14,FALSE)<>7,VLOOKUP(F3,Equipes!A$4:R$67,14,FALSE)<>7,ISERROR(VLOOKUP(7,A$2:A2,1,FALSE))),7,IF(AND(VLOOKUP(B3,Equipes!A$4:R$67,14,FALSE)<>8,VLOOKUP(F3,Equipes!A$4:R$67,14,FALSE)<>8,ISERROR(VLOOKUP(8,A$2:A2,1,FALSE))),8,\"\")))),\"\")","v":""},{"$f":"IF(AND(B3<>\"\",F3<>\"\",N3=\"\",O3=\"\"),IF(AND(VLOOKUP(B3,Equipes!A$4:R$67,14,FALSE)<>9,VLOOKUP(F3,Equipes!A$4:R$67,14,FALSE)<>9,ISERROR(VLOOKUP(9,A$2:A2,1,FALSE))),9,IF(AND(VLOOKUP(B3,Equipes!A$4:R$67,14,FALSE)<>10,VLOOKUP(F3,Equipes!A$4:R$67,14,FALSE)<>10,ISERROR(VLOOKUP(10,A$2:A2,1,FALSE))),10,IF(AND(VLOOKUP(B3,Equipes!A$4:R$67,14,FALSE)<>11,VLOOKUP(F3,Equipes!A$4:R$67,14,FALSE)<>11,ISERROR(VLOOKUP(11,A$2:A2,1,FALSE))),11,IF(AND(VLOOKUP(B3,Equipes!A$4:R$67,14,FALSE)<>12,VLOOKUP(F3,Equipes!A$4:R$67,14,FALSE)<>12,ISERROR(VLOOKUP(12,A$2:A2,1,FALSE))),12,\"\")))),\"\")","v":""},{"$f":"IF(AND(B3<>\"\",F3<>\"\",N3=\"\",O3=\"\",P3=\"\"),IF(AND(VLOOKUP(B3,Equipes!A$4:R$67,14,FALSE)<>13,VLOOKUP(F3,Equipes!A$4:R$67,14,FALSE)<>13,ISERROR(VLOOKUP(13,R$2:R2,1,FALSE))),13,IF(AND(VLOOKUP(B3,Equipes!A$4:R$67,14,FALSE)<>14,VLOOKUP(F3,Equipes!A$4:R$67,14,FALSE)<>14,ISERROR(VLOOKUP(14,R$2:R2,1,FALSE))),14,IF(AND(VLOOKUP(B3,Equipes!A$4:R$67,14,FALSE)<>15,VLOOKUP(F3,Equipes!A$4:R$67,14,FALSE)<>15,ISERROR(VLOOKUP(15,R$2:R2,1,FALSE))),15,16))),\"\")","v":""}]
[{"$f":"IF(N4<>\"\",N4,IF(O4<>\"\",O4,IF(P4<>\"\",P4,IF(Q4<>\"\",Q4,\"\"))))","v":""},{"$f":"IF(Equipes!$L$3=\"\",\"\",IF(Equipes!$K$1=32,IF(K4<>\"\",K4,\"\"),IF('32eme'!$K$1=0,\"\",IF(ROW()>$L$1,IF(OFFSET('32eme'!$A$1,ROW()-$L$1+$M$1,1)=\"\",\"\",IF(OFFSET('32eme'!$A$1,ROW()-$L$1+$M$1,9)=\"\",\"\",IF(OFFSET('32eme'!$A$1,ROW()-$L$1+$M$1,9)>0,OFFSET('32eme'!$A$1,ROW()-$L$1+$M$1,1),OFFSET('32eme'!$A$1,ROW()-$L$1+$M$1,5)))),IF(OFFSET('32eme'!$A$1,(ROW()-2)*2,1)=\"\",\"\",IF(OFFSET('32eme'!$A$1,(ROW()-2)*2,9)=\"\",\"\",IF(OFFSET('32eme'!$A$1,(ROW()-2)*2,9)>0,OFFSET('32eme'!$A$1,(ROW()-2)*2,1),OFFSET('32eme'!$A$1,(ROW()-2)*2,5))))))))","v":""},{"$f":"IF($B4<>\"\",VLOOKUP($B4,Equipes!$A:$C,2,FALSE),\"\")","v":""},{"$f":"IF($B4<>\"\",VLOOKUP($B4,Equipes!$A:$C,3,FALSE),\"\")","v":""},null,{"$f":"IF(Equipes!$L$3=\"\",\"\",IF(Equipes!$K$1=32,IF(L4<>\"\",L4,\"\"),IF('32eme'!$K$1=0,\"\",IF(ROW()>$L$1,\"\",IF(OFFSET('32eme'!$A$1,(ROW()-2)*2+1,9)=\"\",\"\",IF(OFFSET('32eme'!$A$1,(ROW()-2)*2+1,9)>0,OFFSET('32eme'!$A$1,(ROW()-2)*2+1,1),OFFSET('32eme'!$A$1,(ROW()-2)*2+1,5)))))))","v":""},{"$f":"IF($F4<>\"\",IF(VLOOKUP($F4,Equipes!$A:$C,2,FALSE)=\"\",\"\",VLOOKUP($F4,Equipes!$A:$C,2,FALSE)),\"\")","v":""},{"$f":"IF($F4<>\"\",IF(VLOOKUP($F4,Equipes!$A:$C,3,FALSE)=\"\",\"\",VLOOKUP($F4,Equipes!$A:$C,3,FALSE)),\"\")","v":""},null,{"$f":"IF(C4<>\"\",IF(G4<>\"\",IF(E4<>\"\",E4-I4,\"\"),6),\"\")","v":""},null,null,{"$f":"A4","v":""},{"$f":"IF(AND(B4<>\"\",F4<>\"\"),IF(AND(VLOOKUP(B4,Equipes!A$4:R$67,14,FALSE)<>1,VLOOKUP(F4,Equipes!A$4:R$67,14,FALSE)<>1,ISERROR(VLOOKUP(1,A$2:A3,1,FALSE))),1,IF(AND(VLOOKUP(B4,Equipes!A$4:R$67,14,FALSE)<>2,VLOOKUP(F4,Equipes!A$4:R$67,14,FALSE)<>2,ISERROR(VLOOKUP(2,A$2:A3,1,FALSE))),2,IF(AND(VLOOKUP(B4,Equipes!A$4:R$67,14,FALSE)<>3,VLOOKUP(F4,Equipes!A$4:R$67,14,FALSE)<>3,ISERROR(VLOOKUP(3,A$2:A3,1,FALSE))),3,IF(AND(VLOOKUP(B4,Equipes!A$4:R$67,14,FALSE)<>4,VLOOKUP(F4,Equipes!A$4:R$67,14,FALSE)<>4,ISERROR(VLOOKUP(4,A$2:A3,1,FALSE))),4,\"\")))),\"\")","v":""},{"$f":"IF(AND(B4<>\"\",F4<>\"\",N4=\"\"),IF(AND(VLOOKUP(B4,Equipes!A$4:R$67,14,FALSE)<>5,VLOOKUP(F4,Equipes!A$4:R$67,14,FALSE)<>5,ISERROR(VLOOKUP(5,A$2:A3,1,FALSE))),5,IF(AND(VLOOKUP(B4,Equipes!A$4:R$67,14,FALSE)<>6,VLOOKUP(F4,Equipes!A$4:R$67,14,FALSE)<>6,ISERROR(VLOOKUP(6,A$2:A3,1,FALSE))),6,IF(AND(VLOOKUP(B4,Equipes!A$4:R$67,14,FALSE)<>7,VLOOKUP(F4,Equipes!A$4:R$67,14,FALSE)<>7,ISERROR(VLOOKUP(7,A$2:A3,1,FALSE))),7,IF(AND(VLOOKUP(B4,Equipes!A$4:R$67,14,FALSE)<>8,VLOOKUP(F4,Equipes!A$4:R$67,14,FALSE)<>8,ISERROR(VLOOKUP(8,A$2:A3,1,FALSE))),8,\"\")))),\"\")","v":""},{"$f":"IF(AND(B4<>\"\",F4<>\"\",N4=\"\",O4=\"\"),IF(AND(VLOOKUP(B4,Equipes!A$4:R$67,14,FALSE)<>9,VLOOKUP(F4,Equipes!A$4:R$67,14,FALSE)<>9,ISERROR(VLOOKUP(9,A$2:A3,1,FALSE))),9,IF(AND(VLOOKUP(B4,Equipes!A$4:R$67,14,FALSE)<>10,VLOOKUP(F4,Equipes!A$4:R$67,14,FALSE)<>10,ISERROR(VLOOKUP(10,A$2:A3,1,FALSE))),10,IF(AND(VLOOKUP(B4,Equipes!A$4:R$67,14,FALSE)<>11,VLOOKUP(F4,Equipes!A$4:R$67,14,FALSE)<>11,ISERROR(VLOOKUP(11,A$2:A3,1,FALSE))),11,IF(AND(VLOOKUP(B4,Equipes!A$4:R$67,14,FALSE)<>12,VLOOKUP(F4,Equipes!A$4:R$67,14,FALSE)<>12,ISERROR(VLOOKUP(12,A$2:A3,1,FALSE))),12,\"\")))),\"\")","v":""},{"$f":"IF(AND(B4<>\"\",F4<>\"\",N4=\"\",O4=\"\",P4=\"\"),IF(AND(VLOOKUP(B4,Equipes!A$4:R$67,14,FALSE)<>13,VLOOKUP(F4,Equipes!A$4:R$67,14,FALSE)<>13,ISERROR(VLOOKUP(13,N$2:N3,1,FALSE))),13,IF(AND(VLOOKUP(B4,Equipes!A$4:R$67,14,FALSE)<>14,VLOOKUP(F4,Equipes!A$4:R$67,14,FALSE)<>14,ISERROR(VLOOKUP(14,N$2:N3,1,FALSE))),14,IF(AND(VLOOKUP(B4,Equipes!A$4:R$67,14,FALSE)<>15,VLOOKUP(F4,Equipes!A$4:R$67,14,FALSE)<>15,ISERROR(VLOOKUP(15,N$2:N3,1,FALSE))),15,16))),\"\")","v":""}]
[{"$f":"IF(N5<>\"\",N5,IF(O5<>\"\",O5,IF(P5<>\"\",P5,IF(Q5<>\"\",Q5,\"\"))))","v":""},{"$f":"IF(Equipes!$L$3=\"\",\"\",IF(Equipes!$K$1=32,IF(K5<>\"\",K5,\"\"),IF('32eme'!$K$1=0,\"\",IF(ROW()>$L$1,IF(OFFSET('32eme'!$A$1,ROW()-$L$1+$M$1,1)=\"\",\"\",IF(OFFSET('32eme'!$A$1,ROW()-$L$1+$M$1,9)=\"\",\"\",IF(OFFSET('32eme'!$A$1,ROW()-$L$1+$M$1,9)>0,OFFSET('32eme'!$A$1,ROW()-$L$1+$M$1,1),OFFSET('32eme'!$A$1,ROW()-$L$1+$M$1,5)))),IF(OFFSET('32eme'!$A$1,(ROW()-2)*2,1)=\"\",\"\",IF(OFFSET('32eme'!$A$1,(ROW()-2)*2,9)=\"\",\"\",IF(OFFSET('32eme'!$A$1,(ROW()-2)*2,9)>0,OFFSET('32eme'!$A$1,(ROW()-2)*2,1),OFFSET('32eme'!$A$1,(ROW()-2)*2,5))))))))","v":""},{"$f":"IF($B5<>\"\",VLOOKUP($B5,Equipes!$A:$C,2,FALSE),\"\")","v":""},{"$f":"IF($B5<>\"\",VLOOKUP($B5,Equipes!$A:$C,3,FALSE),\"\")","v":""},null,{"$f":"IF(Equipes!$L$3=\"\",\"\",IF(Equipes!$K$1=32,IF(L5<>\"\",L5,\"\"),IF('32eme'!$K$1=0,\"\",IF(ROW()>$L$1,\"\",IF(OFFSET('32eme'!$A$1,(ROW()-2)*2+1,9)=\"\",\"\",IF(OFFSET('32eme'!$A$1,(ROW()-2)*2+1,9)>0,OFFSET('32eme'!$A$1,(ROW()-2)*2+1,1),OFFSET('32eme'!$A$1,(ROW()-2)*2+1,5)))))))","v":""},{"$f":"IF($F5<>\"\",IF(VLOOKUP($F5,Equipes!$A:$C,2,FALSE)=\"\",\"\",VLOOKUP($F5,Equipes!$A:$C,2,FALSE)),\"\")","v":""},{"$f":"IF($F5<>\"\",IF(VLOOKUP($F5,Equipes!$A:$C,3,FALSE)=\"\",\"\",VLOOKUP($F5,Equipes!$A:$C,3,FALSE)),\"\")","v":""},null,{"$f":"IF(C5<>\"\",IF(G5<>\"\",IF(E5<>\"\",E5-I5,\"\"),6),\"\")","v":""},null,null,"",{"$f":"IF(AND(B5<>\"\",F5<>\"\"),IF(AND(VLOOKUP(B5,Equipes!A$4:R$67,14,FALSE)<>1,VLOOKUP(F5,Equipes!A$4:R$67,14,FALSE)<>1,ISERROR(VLOOKUP(1,A$2:A4,1,FALSE))),1,IF(AND(VLOOKUP(B5,Equipes!A$4:R$67,14,FALSE)<>2,VLOOKUP(F5,Equipes!A$4:R$67,14,FALSE)<>2,ISERROR(VLOOKUP(2,A$2:A4,1,FALSE))),2,IF(AND(VLOOKUP(B5,Equipes!A$4:R$67,14,FALSE)<>3,VLOOKUP(F5,Equipes!A$4:R$67,14,FALSE)<>3,ISERROR(VLOOKUP(3,A$2:A4,1,FALSE))),3,IF(AND(VLOOKUP(B5,Equipes!A$4:R$67,14,FALSE)<>4,VLOOKUP(F5,Equipes!A$4:R$67,14,FALSE)<>4,ISERROR(VLOOKUP(4,A$2:A4,1,FALSE))),4,\"\")))),\"\")","v":""},{"$f":"IF(AND(B5<>\"\",F5<>\"\",N5=\"\"),IF(AND(VLOOKUP(B5,Equipes!A$4:R$67,14,FALSE)<>5,VLOOKUP(F5,Equipes!A$4:R$67,14,FALSE)<>5,ISERROR(VLOOKUP(5,A$2:A4,1,FALSE))),5,IF(AND(VLOOKUP(B5,Equipes!A$4:R$67,14,FALSE)<>6,VLOOKUP(F5,Equipes!A$4:R$67,14,FALSE)<>6,ISERROR(VLOOKUP(6,A$2:A4,1,FALSE))),6,IF(AND(VLOOKUP(B5,Equipes!A$4:R$67,14,FALSE)<>7,VLOOKUP(F5,Equipes!A$4:R$67,14,FALSE)<>7,ISERROR(VLOOKUP(7,A$2:A4,1,FALSE))),7,IF(AND(VLOOKUP(B5,Equipes!A$4:R$67,14,FALSE)<>8,VLOOKUP(F5,Equipes!A$4:R$67,14,FALSE)<>8,ISERROR(VLOOKUP(8,A$2:A4,1,FALSE))),8,\"\")))),\"\")","v":""},{"$f":"IF(AND(B5<>\"\",F5<>\"\",N5=\"\",O5=\"\"),IF(AND(VLOOKUP(B5,Equipes!A$4:R$67,14,FALSE)<>9,VLOOKUP(F5,Equipes!A$4:R$67,14,FALSE)<>9,ISERROR(VLOOKUP(9,A$2:A4,1,FALSE))),9,IF(AND(VLOOKUP(B5,Equipes!A$4:R$67,14,FALSE)<>10,VLOOKUP(F5,Equipes!A$4:R$67,14,FALSE)<>10,ISERROR(VLOOKUP(10,A$2:A4,1,FALSE))),10,IF(AND(VLOOKUP(B5,Equipes!A$4:R$67,14,FALSE)<>11,VLOOKUP(F5,Equipes!A$4:R$67,14,FALSE)<>11,ISERROR(VLOOKUP(11,A$2:A4,1,FALSE))),11,IF(AND(VLOOKUP(B5,Equipes!A$4:R$67,14,FALSE)<>12,VLOOKUP(F5,Equipes!A$4:R$67,14,FALSE)<>12,ISERROR(VLOOKUP(12,A$2:A4,1,FALSE))),12,\"\")))),\"\")","v":""},{"$f":"IF(AND(B5<>\"\",F5<>\"\",N5=\"\",O5=\"\",P5=\"\"),IF(AND(VLOOKUP(B5,Equipes!A$4:R$67,14,FALSE)<>13,VLOOKUP(F5,Equipes!A$4:R$67,14,FALSE)<>13,ISERROR(VLOOKUP(13,N$2:N4,1,FALSE))),13,IF(AND(VLOOKUP(B5,Equipes!A$4:R$67,14,FALSE)<>14,VLOOKUP(F5,Equipes!A$4:R$67,14,FALSE)<>14,ISERROR(VLOOKUP(14,N$2:N4,1,FALSE))),14,IF(AND(VLOOKUP(B5,Equipes!A$4:R$67,14,FALSE)<>15,VLOOKUP(F5,Equipes!A$4:R$67,14,FALSE)<>15,ISERROR(VLOOKUP(15,N$2:N4,1,FALSE))),15,16))),\"\")","v":""}]
[{"$f":"IF(N6<>\"\",N6,IF(O6<>\"\",O6,IF(P6<>\"\",P6,IF(Q6<>\"\",Q6,\"\"))))","v":""},{"$f":"IF(Equipes!$L$3=\"\",\"\",IF(Equipes!$K$1=32,IF(K6<>\"\",K6,\"\"),IF('32eme'!$K$1=0,\"\",IF(ROW()>$L$1,IF(OFFSET('32eme'!$A$1,ROW()-$L$1+$M$1,1)=\"\",\"\",IF(OFFSET('32eme'!$A$1,ROW()-$L$1+$M$1,9)=\"\",\"\",IF(OFFSET('32eme'!$A$1,ROW()-$L$1+$M$1,9)>0,OFFSET('32eme'!$A$1,ROW()-$L$1+$M$1,1),OFFSET('32eme'!$A$1,ROW()-$L$1+$M$1,5)))),IF(OFFSET('32eme'!$A$1,(ROW()-2)*2,1)=\"\",\"\",IF(OFFSET('32eme'!$A$1,(ROW()-2)*2,9)=\"\",\"\",IF(OFFSET('32eme'!$A$1,(ROW()-2)*2,9)>0,OFFSET('32eme'!$A$1,(ROW()-2)*2,1),OFFSET('32eme'!$A$1,(ROW()-2)*2,5))))))))","v":""},{"$f":"IF($B6<>\"\",VLOOKUP($B6,Equipes!$A:$C,2,FALSE),\"\")","v":""},{"$f":"IF($B6<>\"\",VLOOKUP($B6,Equipes!$A:$C,3,FALSE),\"\")","v":""},null,{"$f":"IF(Equipes!$L$3=\"\",\"\",IF(Equipes!$K$1=32,IF(L6<>\"\",L6,\"\"),IF('32eme'!$K$1=0,\"\",IF(ROW()>$L$1,\"\",IF(OFFSET('32eme'!$A$1,(ROW()-2)*2+1,9)=\"\",\"\",IF(OFFSET('32eme'!$A$1,(ROW()-2)*2+1,9)>0,OFFSET('32eme'!$A$1,(ROW()-2)*2+1,1),OFFSET('32eme'!$A$1,(ROW()-2)*2+1,5)))))))","v":""},{"$f":"IF($F6<>\"\",IF(VLOOKUP($F6,Equipes!$A:$C,2,FALSE)=\"\",\"\",VLOOKUP($F6,Equipes!$A:$C,2,FALSE)),\"\")","v":""},{"$f":"IF($F6<>\"\",IF(VLOOKUP($F6,Equipes!$A:$C,3,FALSE)=\"\",\"\",VLOOKUP($F6,Equipes!$A:$C,3,FALSE)),\"\")","v":""},null,{"$f":"IF(C6<>\"\",IF(G6<>\"\",IF(E6<>\"\",E6-I6,\"\"),6),\"\")","v":""},null,null,"",{"$f":"IF(AND(B6<>\"\",F6<>\"\"),IF(AND(VLOOKUP(B6,Equipes!A$4:R$67,14,FALSE)<>1,VLOOKUP(F6,Equipes!A$4:R$67,14,FALSE)<>1,ISERROR(VLOOKUP(1,A$2:A5,1,FALSE))),1,IF(AND(VLOOKUP(B6,Equipes!A$4:R$67,14,FALSE)<>2,VLOOKUP(F6,Equipes!A$4:R$67,14,FALSE)<>2,ISERROR(VLOOKUP(2,A$2:A5,1,FALSE))),2,IF(AND(VLOOKUP(B6,Equipes!A$4:R$67,14,FALSE)<>3,VLOOKUP(F6,Equipes!A$4:R$67,14,FALSE)<>3,ISERROR(VLOOKUP(3,A$2:A5,1,FALSE))),3,IF(AND(VLOOKUP(B6,Equipes!A$4:R$67,14,FALSE)<>4,VLOOKUP(F6,Equipes!A$4:R$67,14,FALSE)<>4,ISERROR(VLOOKUP(4,A$2:A5,1,FALSE))),4,\"\")))),\"\")","v":""},{"$f":"IF(AND(B6<>\"\",F6<>\"\",N6=\"\"),IF(AND(VLOOKUP(B6,Equipes!A$4:R$67,14,FALSE)<>5,VLOOKUP(F6,Equipes!A$4:R$67,14,FALSE)<>5,ISERROR(VLOOKUP(5,A$2:A5,1,FALSE))),5,IF(AND(VLOOKUP(B6,Equipes!A$4:R$67,14,FALSE)<>6,VLOOKUP(F6,Equipes!A$4:R$67,14,FALSE)<>6,ISERROR(VLOOKUP(6,A$2:A5,1,FALSE))),6,IF(AND(VLOOKUP(B6,Equipes!A$4:R$67,14,FALSE)<>7,VLOOKUP(F6,Equipes!A$4:R$67,14,FALSE)<>7,ISERROR(VLOOKUP(7,A$2:A5,1,FALSE))),7,IF(AND(VLOOKUP(B6,Equipes!A$4:R$67,14,FALSE)<>8,VLOOKUP(F6,Equipes!A$4:R$67,14,FALSE)<>8,ISERROR(VLOOKUP(8,A$2:A5,1,FALSE))),8,\"\")))),\"\")","v":""},{"$f":"IF(AND(B6<>\"\",F6<>\"\",N6=\"\",O6=\"\"),IF(AND(VLOOKUP(B6,Equipes!A$4:R$67,14,FALSE)<>9,VLOOKUP(F6,Equipes!A$4:R$67,14,FALSE)<>9,ISERROR(VLOOKUP(9,A$2:A5,1,FALSE))),9,IF(AND(VLOOKUP(B6,Equipes!A$4:R$67,14,FALSE)<>10,VLOOKUP(F6,Equipes!A$4:R$67,14,FALSE)<>10,ISERROR(VLOOKUP(10,A$2:A5,1,FALSE))),10,IF(AND(VLOOKUP(B6,Equipes!A$4:R$67,14,FALSE)<>11,VLOOKUP(F6,Equipes!A$4:R$67,14,FALSE)<>11,ISERROR(VLOOKUP(11,A$2:A5,1,FALSE))),11,IF(AND(VLOOKUP(B6,Equipes!A$4:R$67,14,FALSE)<>12,VLOOKUP(F6,Equipes!A$4:R$67,14,FALSE)<>12,ISERROR(VLOOKUP(12,A$2:A5,1,FALSE))),12,\"\")))),\"\")","v":""},{"$f":"IF(AND(B6<>\"\",F6<>\"\",N6=\"\",O6=\"\",P6=\"\"),IF(AND(VLOOKUP(B6,Equipes!A$4:R$67,14,FALSE)<>13,VLOOKUP(F6,Equipes!A$4:R$67,14,FALSE)<>13,ISERROR(VLOOKUP(13,N$2:N5,1,FALSE))),13,IF(AND(VLOOKUP(B6,Equipes!A$4:R$67,14,FALSE)<>14,VLOOKUP(F6,Equipes!A$4:R$67,14,FALSE)<>14,ISERROR(VLOOKUP(14,N$2:N5,1,FALSE))),14,IF(AND(VLOOKUP(B6,Equipes!A$4:R$67,14,FALSE)<>15,VLOOKUP(F6,Equipes!A$4:R$67,14,FALSE)<>15,ISERROR(VLOOKUP(15,N$2:N5,1,FALSE))),15,16))),\"\")","v":""}]
[{"$f":"IF(N7<>\"\",N7,IF(O7<>\"\",O7,IF(P7<>\"\",P7,IF(Q7<>\"\",Q7,\"\"))))","v":""},{"$f":"IF(Equipes!$L$3=\"\",\"\",IF(Equipes!$K$1=32,IF(K7<>\"\",K7,\"\"),IF('32eme'!$K$1=0,\"\",IF(ROW()>$L$1,IF(OFFSET('32eme'!$A$1,ROW()-$L$1+$M$1,1)=\"\",\"\",IF(OFFSET('32eme'!$A$1,ROW()-$L$1+$M$1,9)=\"\",\"\",IF(OFFSET('32eme'!$A$1,ROW()-$L$1+$M$1,9)>0,OFFSET('32eme'!$A$1,ROW()-$L$1+$M$1,1),OFFSET('32eme'!$A$1,ROW()-$L$1+$M$1,5)))),IF(OFFSET('32eme'!$A$1,(ROW()-2)*2,1)=\"\",\"\",IF(OFFSET('32eme'!$A$1,(ROW()-2)*2,9)=\"\",\"\",IF(OFFSET('32eme'!$A$1,(ROW()-2)*2,9)>0,OFFSET('32eme'!$A$1,(ROW()-2)*2,1),OFFSET('32eme'!$A$1,(ROW()-2)*2,5))))))))","v":""},{"$f":"IF($B7<>\"\",VLOOKUP($B7,Equipes!$A:$C,2,FALSE),\"\")","v":""},{"$f":"IF($B7<>\"\",VLOOKUP($B7,Equipes!$A:$C,3,FALSE),\"\")","v":""},null,{"$f":"IF(Equipes!$L$3=\"\",\"\",IF(Equipes!$K$1=32,IF(L7<>\"\",L7,\"\"),IF('32eme'!$K$1=0,\"\",IF(ROW()>$L$1,\"\",IF(OFFSET('32eme'!$A$1,(ROW()-2)*2+1,9)=\"\",\"\",IF(OFFSET('32eme'!$A$1,(ROW()-2)*2+1,9)>0,OFFSET('32eme'!$A$1,(ROW()-2)*2+1,1),OFFSET('32eme'!$A$1,(ROW()-2)*2+1,5)))))))","v":""},{"$f":"IF($F7<>\"\",IF(VLOOKUP($F7,Equipes!$A:$C,2,FALSE)=\"\",\"\",VLOOKUP($F7,Equipes!$A:$C,2,FALSE)),\"\")","v":""},{"$f":"IF($F7<>\"\",IF(VLOOKUP($F7,Equipes!$A:$C,3,FALSE)=\"\",\"\",VLOOKUP($F7,Equipes!$A:$C,3,FALSE)),\"\")","v":""},null,{"$f":"IF(C7<>\"\",IF(G7<>\"\",IF(E7<>\"\",E7-I7,\"\"),6),\"\")","v":""},null,null,"",{"$f":"IF(AND(B7<>\"\",F7<>\"\"),IF(AND(VLOOKUP(B7,Equipes!A$4:R$67,14,FALSE)<>1,VLOOKUP(F7,Equipes!A$4:R$67,14,FALSE)<>1,ISERROR(VLOOKUP(1,A$2:A6,1,FALSE))),1,IF(AND(VLOOKUP(B7,Equipes!A$4:R$67,14,FALSE)<>2,VLOOKUP(F7,Equipes!A$4:R$67,14,FALSE)<>2,ISERROR(VLOOKUP(2,A$2:A6,1,FALSE))),2,IF(AND(VLOOKUP(B7,Equipes!A$4:R$67,14,FALSE)<>3,VLOOKUP(F7,Equipes!A$4:R$67,14,FALSE)<>3,ISERROR(VLOOKUP(3,A$2:A6,1,FALSE))),3,IF(AND(VLOOKUP(B7,Equipes!A$4:R$67,14,FALSE)<>4,VLOOKUP(F7,Equipes!A$4:R$67,14,FALSE)<>4,ISERROR(VLOOKUP(4,A$2:A6,1,FALSE))),4,\"\")))),\"\")","v":""},{"$f":"IF(AND(B7<>\"\",F7<>\"\",N7=\"\"),IF(AND(VLOOKUP(B7,Equipes!A$4:R$67,14,FALSE)<>5,VLOOKUP(F7,Equipes!A$4:R$67,14,FALSE)<>5,ISERROR(VLOOKUP(5,A$2:A6,1,FALSE))),5,IF(AND(VLOOKUP(B7,Equipes!A$4:R$67,14,FALSE)<>6,VLOOKUP(F7,Equipes!A$4:R$67,14,FALSE)<>6,ISERROR(VLOOKUP(6,A$2:A6,1,FALSE))),6,IF(AND(VLOOKUP(B7,Equipes!A$4:R$67,14,FALSE)<>7,VLOOKUP(F7,Equipes!A$4:R$67,14,FALSE)<>7,ISERROR(VLOOKUP(7,A$2:A6,1,FALSE))),7,IF(AND(VLOOKUP(B7,Equipes!A$4:R$67,14,FALSE)<>8,VLOOKUP(F7,Equipes!A$4:R$67,14,FALSE)<>8,ISERROR(VLOOKUP(8,A$2:A6,1,FALSE))),8,\"\")))),\"\")","v":""},{"$f":"IF(AND(B7<>\"\",F7<>\"\",N7=\"\",O7=\"\"),IF(AND(VLOOKUP(B7,Equipes!A$4:R$67,14,FALSE)<>9,VLOOKUP(F7,Equipes!A$4:R$67,14,FALSE)<>9,ISERROR(VLOOKUP(9,A$2:A6,1,FALSE))),9,IF(AND(VLOOKUP(B7,Equipes!A$4:R$67,14,FALSE)<>10,VLOOKUP(F7,Equipes!A$4:R$67,14,FALSE)<>10,ISERROR(VLOOKUP(10,A$2:A6,1,FALSE))),10,IF(AND(VLOOKUP(B7,Equipes!A$4:R$67,14,FALSE)<>11,VLOOKUP(F7,Equipes!A$4:R$67,14,FALSE)<>11,ISERROR(VLOOKUP(11,A$2:A6,1,FALSE))),11,IF(AND(VLOOKUP(B7,Equipes!A$4:R$67,14,FALSE)<>12,VLOOKUP(F7,Equipes!A$4:R$67,14,FALSE)<>12,ISERROR(VLOOKUP(12,A$2:A6,1,FALSE))),12,\"\")))),\"\")","v":""},{"$f":"IF(AND(B7<>\"\",F7<>\"\",N7=\"\",O7=\"\",P7=\"\"),IF(AND(VLOOKUP(B7,Equipes!A$4:R$67,14,FALSE)<>13,VLOOKUP(F7,Equipes!A$4:R$67,14,FALSE)<>13,ISERROR(VLOOKUP(13,N$2:N6,1,FALSE))),13,IF(AND(VLOOKUP(B7,Equipes!A$4:R$67,14,FALSE)<>14,VLOOKUP(F7,Equipes!A$4:R$67,14,FALSE)<>14,ISERROR(VLOOKUP(14,N$2:N6,1,FALSE))),14,IF(AND(VLOOKUP(B7,Equipes!A$4:R$67,14,FALSE)<>15,VLOOKUP(F7,Equipes!A$4:R$67,14,FALSE)<>15,ISERROR(VLOOKUP(15,N$2:N6,1,FALSE))),15,16))),\"\")","v":""}]
[{"$f":"IF(N8<>\"\",N8,IF(O8<>\"\",O8,IF(P8<>\"\",P8,IF(Q8<>\"\",Q8,\"\"))))","v":""},{"$f":"IF(Equipes!$L$3=\"\",\"\",IF(Equipes!$K$1=32,IF(K8<>\"\",K8,\"\"),IF('32eme'!$K$1=0,\"\",IF(ROW()>$L$1,IF(OFFSET('32eme'!$A$1,ROW()-$L$1+$M$1,1)=\"\",\"\",IF(OFFSET('32eme'!$A$1,ROW()-$L$1+$M$1,9)=\"\",\"\",IF(OFFSET('32eme'!$A$1,ROW()-$L$1+$M$1,9)>0,OFFSET('32eme'!$A$1,ROW()-$L$1+$M$1,1),OFFSET('32eme'!$A$1,ROW()-$L$1+$M$1,5)))),IF(OFFSET('32eme'!$A$1,(ROW()-2)*2,1)=\"\",\"\",IF(OFFSET('32eme'!$A$1,(ROW()-2)*2,9)=\"\",\"\",IF(OFFSET('32eme'!$A$1,(ROW()-2)*2,9)>0,OFFSET('32eme'!$A$1,(ROW()-2)*2,1),OFFSET('32eme'!$A$1,(ROW()-2)*2,5))))))))","v":""},{"$f":"IF($B8<>\"\",VLOOKUP($B8,Equipes!$A:$C,2,FALSE),\"\")","v":""},{"$f":"IF($B8<>\"\",VLOOKUP($B8,Equipes!$A:$C,3,FALSE),\"\")","v":""},null,{"$f":"IF(Equipes!$L$3=\"\",\"\",IF(Equipes!$K$1=32,IF(L8<>\"\",L8,\"\"),IF('32eme'!$K$1=0,\"\",IF(ROW()>$L$1,\"\",IF(OFFSET('32eme'!$A$1,(ROW()-2)*2+1,9)=\"\",\"\",IF(OFFSET('32eme'!$A$1,(ROW()-2)*2+1,9)>0,OFFSET('32eme'!$A$1,(ROW()-2)*2+1,1),OFFSET('32eme'!$A$1,(ROW()-2)*2+1,5)))))))","v":""},{"$f":"IF($F8<>\"\",IF(VLOOKUP($F8,Equipes!$A:$C,2,FALSE)=\"\",\"\",VLOOKUP($F8,Equipes!$A:$C,2,FALSE)),\"\")","v":""},{"$f":"IF($F8<>\"\",IF(VLOOKUP($F8,Equipes!$A:$C,3,FALSE)=\"\",\"\",VLOOKUP($F8,Equipes!$A:$C,3,FALSE)),\"\")","v":""},null,{"$f":"IF(C8<>\"\",IF(G8<>\"\",IF(E8<>\"\",E8-I8,\"\"),6),\"\")","v":""},null,null,"",{"$f":"IF(AND(B8<>\"\",F8<>\"\"),IF(AND(VLOOKUP(B8,Equipes!A$4:R$67,14,FALSE)<>1,VLOOKUP(F8,Equipes!A$4:R$67,14,FALSE)<>1,ISERROR(VLOOKUP(1,A$2:A7,1,FALSE))),1,IF(AND(VLOOKUP(B8,Equipes!A$4:R$67,14,FALSE)<>2,VLOOKUP(F8,Equipes!A$4:R$67,14,FALSE)<>2,ISERROR(VLOOKUP(2,A$2:A7,1,FALSE))),2,IF(AND(VLOOKUP(B8,Equipes!A$4:R$67,14,FALSE)<>3,VLOOKUP(F8,Equipes!A$4:R$67,14,FALSE)<>3,ISERROR(VLOOKUP(3,A$2:A7,1,FALSE))),3,IF(AND(VLOOKUP(B8,Equipes!A$4:R$67,14,FALSE)<>4,VLOOKUP(F8,Equipes!A$4:R$67,14,FALSE)<>4,ISERROR(VLOOKUP(4,A$2:A7,1,FALSE))),4,\"\")))),\"\")","v":""},{"$f":"IF(AND(B8<>\"\",F8<>\"\",N8=\"\"),IF(AND(VLOOKUP(B8,Equipes!A$4:R$67,14,FALSE)<>5,VLOOKUP(F8,Equipes!A$4:R$67,14,FALSE)<>5,ISERROR(VLOOKUP(5,A$2:A7,1,FALSE))),5,IF(AND(VLOOKUP(B8,Equipes!A$4:R$67,14,FALSE)<>6,VLOOKUP(F8,Equipes!A$4:R$67,14,FALSE)<>6,ISERROR(VLOOKUP(6,A$2:A7,1,FALSE))),6,IF(AND(VLOOKUP(B8,Equipes!A$4:R$67,14,FALSE)<>7,VLOOKUP(F8,Equipes!A$4:R$67,14,FALSE)<>7,ISERROR(VLOOKUP(7,A$2:A7,1,FALSE))),7,IF(AND(VLOOKUP(B8,Equipes!A$4:R$67,14,FALSE)<>8,VLOOKUP(F8,Equipes!A$4:R$67,14,FALSE)<>8,ISERROR(VLOOKUP(8,A$2:A7,1,FALSE))),8,\"\")))),\"\")","v":""},{"$f":"IF(AND(B8<>\"\",F8<>\"\",N8=\"\",O8=\"\"),IF(AND(VLOOKUP(B8,Equipes!A$4:R$67,14,FALSE)<>9,VLOOKUP(F8,Equipes!A$4:R$67,14,FALSE)<>9,ISERROR(VLOOKUP(9,A$2:A7,1,FALSE))),9,IF(AND(VLOOKUP(B8,Equipes!A$4:R$67,14,FALSE)<>10,VLOOKUP(F8,Equipes!A$4:R$67,14,FALSE)<>10,ISERROR(VLOOKUP(10,A$2:A7,1,FALSE))),10,IF(AND(VLOOKUP(B8,Equipes!A$4:R$67,14,FALSE)<>11,VLOOKUP(F8,Equipes!A$4:R$67,14,FALSE)<>11,ISERROR(VLOOKUP(11,A$2:A7,1,FALSE))),11,IF(AND(VLOOKUP(B8,Equipes!A$4:R$67,14,FALSE)<>12,VLOOKUP(F8,Equipes!A$4:R$67,14,FALSE)<>12,ISERROR(VLOOKUP(12,A$2:A7,1,FALSE))),12,\"\")))),\"\")","v":""},{"$f":"IF(AND(B8<>\"\",F8<>\"\",N8=\"\",O8=\"\",P8=\"\"),IF(AND(VLOOKUP(B8,Equipes!A$4:R$67,14,FALSE)<>13,VLOOKUP(F8,Equipes!A$4:R$67,14,FALSE)<>13,ISERROR(VLOOKUP(13,N$2:N7,1,FALSE))),13,IF(AND(VLOOKUP(B8,Equipes!A$4:R$67,14,FALSE)<>14,VLOOKUP(F8,Equipes!A$4:R$67,14,FALSE)<>14,ISERROR(VLOOKUP(14,N$2:N7,1,FALSE))),14,IF(AND(VLOOKUP(B8,Equipes!A$4:R$67,14,FALSE)<>15,VLOOKUP(F8,Equipes!A$4:R$67,14,FALSE)<>15,ISERROR(VLOOKUP(15,N$2:N7,1,FALSE))),15,16))),\"\")","v":""}]
[{"$f":"IF(N9<>\"\",N9,IF(O9<>\"\",O9,IF(P9<>\"\",P9,IF(Q9<>\"\",Q9,\"\"))))","v":""},{"$f":"IF(Equipes!$L$3=\"\",\"\",IF(Equipes!$K$1=32,IF(K9<>\"\",K9,\"\"),IF('32eme'!$K$1=0,\"\",IF(ROW()>$L$1,IF(OFFSET('32eme'!$A$1,ROW()-$L$1+$M$1,1)=\"\",\"\",IF(OFFSET('32eme'!$A$1,ROW()-$L$1+$M$1,9)=\"\",\"\",IF(OFFSET('32eme'!$A$1,ROW()-$L$1+$M$1,9)>0,OFFSET('32eme'!$A$1,ROW()-$L$1+$M$1,1),OFFSET('32eme'!$A$1,ROW()-$L$1+$M$1,5)))),IF(OFFSET('32eme'!$A$1,(ROW()-2)*2,1)=\"\",\"\",IF(OFFSET('32eme'!$A$1,(ROW()-2)*2,9)=\"\",\"\",IF(OFFSET('32eme'!$A$1,(ROW()-2)*2,9)>0,OFFSET('32eme'!$A$1,(ROW()-2)*2,1),OFFSET('32eme'!$A$1,(ROW()-2)*2,5))))))))","v":""},{"$f":"IF($B9<>\"\",VLOOKUP($B9,Equipes!$A:$C,2,FALSE),\"\")","v":""},{"$f":"IF($B9<>\"\",VLOOKUP($B9,Equipes!$A:$C,3,FALSE),\"\")","v":""},null,{"$f":"IF(Equipes!$L$3=\"\",\"\",IF(Equipes!$K$1=32,IF(L9<>\"\",L9,\"\"),IF('32eme'!$K$1=0,\"\",IF(ROW()>$L$1,\"\",IF(OFFSET('32eme'!$A$1,(ROW()-2)*2+1,9)=\"\",\"\",IF(OFFSET('32eme'!$A$1,(ROW()-2)*2+1,9)>0,OFFSET('32eme'!$A$1,(ROW()-2)*2+1,1),OFFSET('32eme'!$A$1,(ROW()-2)*2+1,5)))))))","v":""},{"$f":"IF($F9<>\"\",IF(VLOOKUP($F9,Equipes!$A:$C,2,FALSE)=\"\",\"\",VLOOKUP($F9,Equipes!$A:$C,2,FALSE)),\"\")","v":""},{"$f":"IF($F9<>\"\",IF(VLOOKUP($F9,Equipes!$A:$C,3,FALSE)=\"\",\"\",VLOOKUP($F9,Equipes!$A:$C,3,FALSE)),\"\")","v":""},null,{"$f":"IF(C9<>\"\",IF(G9<>\"\",IF(E9<>\"\",E9-I9,\"\"),6),\"\")","v":""},null,null,"",{"$f":"IF(AND(B9<>\"\",F9<>\"\"),IF(AND(VLOOKUP(B9,Equipes!A$4:R$67,14,FALSE)<>1,VLOOKUP(F9,Equipes!A$4:R$67,14,FALSE)<>1,ISERROR(VLOOKUP(1,A$2:A8,1,FALSE))),1,IF(AND(VLOOKUP(B9,Equipes!A$4:R$67,14,FALSE)<>2,VLOOKUP(F9,Equipes!A$4:R$67,14,FALSE)<>2,ISERROR(VLOOKUP(2,A$2:A8,1,FALSE))),2,IF(AND(VLOOKUP(B9,Equipes!A$4:R$67,14,FALSE)<>3,VLOOKUP(F9,Equipes!A$4:R$67,14,FALSE)<>3,ISERROR(VLOOKUP(3,A$2:A8,1,FALSE))),3,IF(AND(VLOOKUP(B9,Equipes!A$4:R$67,14,FALSE)<>4,VLOOKUP(F9,Equipes!A$4:R$67,14,FALSE)<>4,ISERROR(VLOOKUP(4,A$2:A8,1,FALSE))),4,\"\")))),\"\")","v":""},{"$f":"IF(AND(B9<>\"\",F9<>\"\",N9=\"\"),IF(AND(VLOOKUP(B9,Equipes!A$4:R$67,14,FALSE)<>5,VLOOKUP(F9,Equipes!A$4:R$67,14,FALSE)<>5,ISERROR(VLOOKUP(5,A$2:A8,1,FALSE))),5,IF(AND(VLOOKUP(B9,Equipes!A$4:R$67,14,FALSE)<>6,VLOOKUP(F9,Equipes!A$4:R$67,14,FALSE)<>6,ISERROR(VLOOKUP(6,A$2:A8,1,FALSE))),6,IF(AND(VLOOKUP(B9,Equipes!A$4:R$67,14,FALSE)<>7,VLOOKUP(F9,Equipes!A$4:R$67,14,FALSE)<>7,ISERROR(VLOOKUP(7,A$2:A8,1,FALSE))),7,IF(AND(VLOOKUP(B9,Equipes!A$4:R$67,14,FALSE)<>8,VLOOKUP(F9,Equipes!A$4:R$67,14,FALSE)<>8,ISERROR(VLOOKUP(8,A$2:A8,1,FALSE))),8,\"\")))),\"\")","v":""},{"$f":"IF(AND(B9<>\"\",F9<>\"\",N9=\"\",O9=\"\"),IF(AND(VLOOKUP(B9,Equipes!A$4:R$67,14,FALSE)<>9,VLOOKUP(F9,Equipes!A$4:R$67,14,FALSE)<>9,ISERROR(VLOOKUP(9,A$2:A8,1,FALSE))),9,IF(AND(VLOOKUP(B9,Equipes!A$4:R$67,14,FALSE)<>10,VLOOKUP(F9,Equipes!A$4:R$67,14,FALSE)<>10,ISERROR(VLOOKUP(10,A$2:A8,1,FALSE))),10,IF(AND(VLOOKUP(B9,Equipes!A$4:R$67,14,FALSE)<>11,VLOOKUP(F9,Equipes!A$4:R$67,14,FALSE)<>11,ISERROR(VLOOKUP(11,A$2:A8,1,FALSE))),11,IF(AND(VLOOKUP(B9,Equipes!A$4:R$67,14,FALSE)<>12,VLOOKUP(F9,Equipes!A$4:R$67,14,FALSE)<>12,ISERROR(VLOOKUP(12,A$2:A8,1,FALSE))),12,\"\")))),\"\")","v":""},{"$f":"IF(AND(B9<>\"\",F9<>\"\",N9=\"\",O9=\"\",P9=\"\"),IF(AND(VLOOKUP(B9,Equipes!A$4:R$67,14,FALSE)<>13,VLOOKUP(F9,Equipes!A$4:R$67,14,FALSE)<>13,ISERROR(VLOOKUP(13,N$2:N8,1,FALSE))),13,IF(AND(VLOOKUP(B9,Equipes!A$4:R$67,14,FALSE)<>14,VLOOKUP(F9,Equipes!A$4:R$67,14,FALSE)<>14,ISERROR(VLOOKUP(14,N$2:N8,1,FALSE))),14,IF(AND(VLOOKUP(B9,Equipes!A$4:R$67,14,FALSE)<>15,VLOOKUP(F9,Equipes!A$4:R$67,14,FALSE)<>15,ISERROR(VLOOKUP(15,N$2:N8,1,FALSE))),15,16))),\"\")","v":""}]
[{"$f":"IF(N10<>\"\",N10,IF(O10<>\"\",O10,IF(P10<>\"\",P10,IF(Q10<>\"\",Q10,\"\"))))","v":""},{"$f":"IF(Equipes!$L$3=\"\",\"\",IF(Equipes!$K$1=32,IF(K10<>\"\",K10,\"\"),IF('32eme'!$K$1=0,\"\",IF(ROW()>$L$1,IF(OFFSET('32eme'!$A$1,ROW()-$L$1+$M$1,1)=\"\",\"\",IF(OFFSET('32eme'!$A$1,ROW()-$L$1+$M$1,9)=\"\",\"\",IF(OFFSET('32eme'!$A$1,ROW()-$L$1+$M$1,9)>0,OFFSET('32eme'!$A$1,ROW()-$L$1+$M$1,1),OFFSET('32eme'!$A$1,ROW()-$L$1+$M$1,5)))),IF(OFFSET('32eme'!$A$1,(ROW()-2)*2,1)=\"\",\"\",IF(OFFSET('32eme'!$A$1,(ROW()-2)*2,9)=\"\",\"\",IF(OFFSET('32eme'!$A$1,(ROW()-2)*2,9)>0,OFFSET('32eme'!$A$1,(ROW()-2)*2,1),OFFSET('32eme'!$A$1,(ROW()-2)*2,5))))))))","v":""},{"$f":"IF($B10<>\"\",VLOOKUP($B10,Equipes!$A:$C,2,FALSE),\"\")","v":""},{"$f":"IF($B10<>\"\",VLOOKUP($B10,Equipes!$A:$C,3,FALSE),\"\")","v":""},null,{"$f":"IF(Equipes!$L$3=\"\",\"\",IF(Equipes!$K$1=32,IF(L10<>\"\",L10,\"\"),IF('32eme'!$K$1=0,\"\",IF(ROW()>$L$1,\"\",IF(OFFSET('32eme'!$A$1,(ROW()-2)*2+1,9)=\"\",\"\",IF(OFFSET('32eme'!$A$1,(ROW()-2)*2+1,9)>0,OFFSET('32eme'!$A$1,(ROW()-2)*2+1,1),OFFSET('32eme'!$A$1,(ROW()-2)*2+1,5)))))))","v":""},{"$f":"IF($F10<>\"\",IF(VLOOKUP($F10,Equipes!$A:$C,2,FALSE)=\"\",\"\",VLOOKUP($F10,Equipes!$A:$C,2,FALSE)),\"\")","v":""},{"$f":"IF($F10<>\"\",IF(VLOOKUP($F10,Equipes!$A:$C,3,FALSE)=\"\",\"\",VLOOKUP($F10,Equipes!$A:$C,3,FALSE)),\"\")","v":""},null,{"$f":"IF(C10<>\"\",IF(G10<>\"\",IF(E10<>\"\",E10-I10,\"\"),6),\"\")","v":""},null,null,"",{"$f":"IF(AND(B10<>\"\",F10<>\"\"),IF(AND(VLOOKUP(B10,Equipes!A$4:R$67,14,FALSE)<>1,VLOOKUP(F10,Equipes!A$4:R$67,14,FALSE)<>1,ISERROR(VLOOKUP(1,A$2:A9,1,FALSE))),1,IF(AND(VLOOKUP(B10,Equipes!A$4:R$67,14,FALSE)<>2,VLOOKUP(F10,Equipes!A$4:R$67,14,FALSE)<>2,ISERROR(VLOOKUP(2,A$2:A9,1,FALSE))),2,IF(AND(VLOOKUP(B10,Equipes!A$4:R$67,14,FALSE)<>3,VLOOKUP(F10,Equipes!A$4:R$67,14,FALSE)<>3,ISERROR(VLOOKUP(3,A$2:A9,1,FALSE))),3,IF(AND(VLOOKUP(B10,Equipes!A$4:R$67,14,FALSE)<>4,VLOOKUP(F10,Equipes!A$4:R$67,14,FALSE)<>4,ISERROR(VLOOKUP(4,A$2:A9,1,FALSE))),4,\"\")))),\"\")","v":""},{"$f":"IF(AND(B10<>\"\",F10<>\"\",N10=\"\"),IF(AND(VLOOKUP(B10,Equipes!A$4:R$67,14,FALSE)<>5,VLOOKUP(F10,Equipes!A$4:R$67,14,FALSE)<>5,ISERROR(VLOOKUP(5,A$2:A9,1,FALSE))),5,IF(AND(VLOOKUP(B10,Equipes!A$4:R$67,14,FALSE)<>6,VLOOKUP(F10,Equipes!A$4:R$67,14,FALSE)<>6,ISERROR(VLOOKUP(6,A$2:A9,1,FALSE))),6,IF(AND(VLOOKUP(B10,Equipes!A$4:R$67,14,FALSE)<>7,VLOOKUP(F10,Equipes!A$4:R$67,14,FALSE)<>7,ISERROR(VLOOKUP(7,A$2:A9,1,FALSE))),7,IF(AND(VLOOKUP(B10,Equipes!A$4:R$67,14,FALSE)<>8,VLOOKUP(F10,Equipes!A$4:R$67,14,FALSE)<>8,ISERROR(VLOOKUP(8,A$2:A9,1,FALSE))),8,\"\")))),\"\")","v":""},{"$f":"IF(AND(B10<>\"\",F10<>\"\",N10=\"\",O10=\"\"),IF(AND(VLOOKUP(B10,Equipes!A$4:R$67,14,FALSE)<>9,VLOOKUP(F10,Equipes!A$4:R$67,14,FALSE)<>9,ISERROR(VLOOKUP(9,A$2:A9,1,FALSE))),9,IF(AND(VLOOKUP(B10,Equipes!A$4:R$67,14,FALSE)<>10,VLOOKUP(F10,Equipes!A$4:R$67,14,FALSE)<>10,ISERROR(VLOOKUP(10,A$2:A9,1,FALSE))),10,IF(AND(VLOOKUP(B10,Equipes!A$4:R$67,14,FALSE)<>11,VLOOKUP(F10,Equipes!A$4:R$67,14,FALSE)<>11,ISERROR(VLOOKUP(11,A$2:A9,1,FALSE))),11,IF(AND(VLOOKUP(B10,Equipes!A$4:R$67,14,FALSE)<>12,VLOOKUP(F10,Equipes!A$4:R$67,14,FALSE)<>12,ISERROR(VLOOKUP(12,A$2:A9,1,FALSE))),12,\"\")))),\"\")","v":""},{"$f":"IF(AND(B10<>\"\",F10<>\"\",N10=\"\",O10=\"\",P10=\"\"),IF(AND(VLOOKUP(B10,Equipes!A$4:R$67,14,FALSE)<>13,VLOOKUP(F10,Equipes!A$4:R$67,14,FALSE)<>13,ISERROR(VLOOKUP(13,N$2:N9,1,FALSE))),13,IF(AND(VLOOKUP(B10,Equipes!A$4:R$67,14,FALSE)<>14,VLOOKUP(F10,Equipes!A$4:R$67,14,FALSE)<>14,ISERROR(VLOOKUP(14,N$2:N9,1,FALSE))),14,IF(AND(VLOOKUP(B10,Equipes!A$4:R$67,14,FALSE)<>15,VLOOKUP(F10,Equipes!A$4:R$67,14,FALSE)<>15,ISERROR(VLOOKUP(15,N$2:N9,1,FALSE))),15,16))),\"\")","v":""}]
[{"$f":"IF(N11<>\"\",N11,IF(O11<>\"\",O11,IF(P11<>\"\",P11,IF(Q11<>\"\",Q11,\"\"))))","v":""},{"$f":"IF(Equipes!$L$3=\"\",\"\",IF(Equipes!$K$1=32,IF(K11<>\"\",K11,\"\"),IF('32eme'!$K$1=0,\"\",IF(ROW()>$L$1,IF(OFFSET('32eme'!$A$1,ROW()-$L$1+$M$1,1)=\"\",\"\",IF(OFFSET('32eme'!$A$1,ROW()-$L$1+$M$1,9)=\"\",\"\",IF(OFFSET('32eme'!$A$1,ROW()-$L$1+$M$1,9)>0,OFFSET('32eme'!$A$1,ROW()-$L$1+$M$1,1),OFFSET('32eme'!$A$1,ROW()-$L$1+$M$1,5)))),IF(OFFSET('32eme'!$A$1,(ROW()-2)*2,1)=\"\",\"\",IF(OFFSET('32eme'!$A$1,(ROW()-2)*2,9)=\"\",\"\",IF(OFFSET('32eme'!$A$1,(ROW()-2)*2,9)>0,OFFSET('32eme'!$A$1,(ROW()-2)*2,1),OFFSET('32eme'!$A$1,(ROW()-2)*2,5))))))))","v":""},{"$f":"IF($B11<>\"\",VLOOKUP($B11,Equipes!$A:$C,2,FALSE),\"\")","v":""},{"$f":"IF($B11<>\"\",VLOOKUP($B11,Equipes!$A:$C,3,FALSE),\"\")","v":""},null,{"$f":"IF(Equipes!$L$3=\"\",\"\",IF(Equipes!$K$1=32,IF(L11<>\"\",L11,\"\"),IF('32eme'!$K$1=0,\"\",IF(ROW()>$L$1,\"\",IF(OFFSET('32eme'!$A$1,(ROW()-2)*2+1,9)=\"\",\"\",IF(OFFSET('32eme'!$A$1,(ROW()-2)*2+1,9)>0,OFFSET('32eme'!$A$1,(ROW()-2)*2+1,1),OFFSET('32eme'!$A$1,(ROW()-2)*2+1,5)))))))","v":""},{"$f":"IF($F11<>\"\",IF(VLOOKUP($F11,Equipes!$A:$C,2,FALSE)=\"\",\"\",VLOOKUP($F11,Equipes!$A:$C,2,FALSE)),\"\")","v":""},{"$f":"IF($F11<>\"\",IF(VLOOKUP($F11,Equipes!$A:$C,3,FALSE)=\"\",\"\",VLOOKUP($F11,Equipes!$A:$C,3,FALSE)),\"\")","v":""},null,{"$f":"IF(C11<>\"\",IF(G11<>\"\",IF(E11<>\"\",E11-I11,\"\"),6),\"\")","v":""},null,null,"",{"$f":"IF(AND(B11<>\"\",F11<>\"\"),IF(AND(VLOOKUP(B11,Equipes!A$4:R$67,14,FALSE)<>1,VLOOKUP(F11,Equipes!A$4:R$67,14,FALSE)<>1,ISERROR(VLOOKUP(1,A$2:A10,1,FALSE))),1,IF(AND(VLOOKUP(B11,Equipes!A$4:R$67,14,FALSE)<>2,VLOOKUP(F11,Equipes!A$4:R$67,14,FALSE)<>2,ISERROR(VLOOKUP(2,A$2:A10,1,FALSE))),2,IF(AND(VLOOKUP(B11,Equipes!A$4:R$67,14,FALSE)<>3,VLOOKUP(F11,Equipes!A$4:R$67,14,FALSE)<>3,ISERROR(VLOOKUP(3,A$2:A10,1,FALSE))),3,IF(AND(VLOOKUP(B11,Equipes!A$4:R$67,14,FALSE)<>4,VLOOKUP(F11,Equipes!A$4:R$67,14,FALSE)<>4,ISERROR(VLOOKUP(4,A$2:A10,1,FALSE))),4,\"\")))),\"\")","v":""},{"$f":"IF(AND(B11<>\"\",F11<>\"\",N11=\"\"),IF(AND(VLOOKUP(B11,Equipes!A$4:R$67,14,FALSE)<>5,VLOOKUP(F11,Equipes!A$4:R$67,14,FALSE)<>5,ISERROR(VLOOKUP(5,A$2:A10,1,FALSE))),5,IF(AND(VLOOKUP(B11,Equipes!A$4:R$67,14,FALSE)<>6,VLOOKUP(F11,Equipes!A$4:R$67,14,FALSE)<>6,ISERROR(VLOOKUP(6,A$2:A10,1,FALSE))),6,IF(AND(VLOOKUP(B11,Equipes!A$4:R$67,14,FALSE)<>7,VLOOKUP(F11,Equipes!A$4:R$67,14,FALSE)<>7,ISERROR(VLOOKUP(7,A$2:A10,1,FALSE))),7,IF(AND(VLOOKUP(B11,Equipes!A$4:R$67,14,FALSE)<>8,VLOOKUP(F11,Equipes!A$4:R$67,14,FALSE)<>8,ISERROR(VLOOKUP(8,A$2:A10,1,FALSE))),8,\"\")))),\"\")","v":""},{"$f":"IF(AND(B11<>\"\",F11<>\"\",N11=\"\",O11=\"\"),IF(AND(VLOOKUP(B11,Equipes!A$4:R$67,14,FALSE)<>9,VLOOKUP(F11,Equipes!A$4:R$67,14,FALSE)<>9,ISERROR(VLOOKUP(9,A$2:A10,1,FALSE))),9,IF(AND(VLOOKUP(B11,Equipes!A$4:R$67,14,FALSE)<>10,VLOOKUP(F11,Equipes!A$4:R$67,14,FALSE)<>10,ISERROR(VLOOKUP(10,A$2:A10,1,FALSE))),10,IF(AND(VLOOKUP(B11,Equipes!A$4:R$67,14,FALSE)<>11,VLOOKUP(F11,Equipes!A$4:R$67,14,FALSE)<>11,ISERROR(VLOOKUP(11,A$2:A10,1,FALSE))),11,IF(AND(VLOOKUP(B11,Equipes!A$4:R$67,14,FALSE)<>12,VLOOKUP(F11,Equipes!A$4:R$67,14,FALSE)<>12,ISERROR(VLOOKUP(12,A$2:A10,1,FALSE))),12,\"\")))),\"\")","v":""},{"$f":"IF(AND(B11<>\"\",F11<>\"\",N11=\"\",O11=\"\",P11=\"\"),IF(AND(VLOOKUP(B11,Equipes!A$4:R$67,14,FALSE)<>13,VLOOKUP(F11,Equipes!A$4:R$67,14,FALSE)<>13,ISERROR(VLOOKUP(13,N$2:N10,1,FALSE))),13,IF(AND(VLOOKUP(B11,Equipes!A$4:R$67,14,FALSE)<>14,VLOOKUP(F11,Equipes!A$4:R$67,14,FALSE)<>14,ISERROR(VLOOKUP(14,N$2:N10,1,FALSE))),14,IF(AND(VLOOKUP(B11,Equipes!A$4:R$67,14,FALSE)<>15,VLOOKUP(F11,Equipes!A$4:R$67,14,FALSE)<>15,ISERROR(VLOOKUP(15,N$2:N10,1,FALSE))),15,16))),\"\")","v":""}]
[{"$f":"IF(N12<>\"\",N12,IF(O12<>\"\",O12,IF(P12<>\"\",P12,IF(Q12<>\"\",Q12,\"\"))))","v":""},{"$f":"IF(Equipes!$L$3=\"\",\"\",IF(Equipes!$K$1=32,IF(K12<>\"\",K12,\"\"),IF('32eme'!$K$1=0,\"\",IF(ROW()>$L$1,IF(OFFSET('32eme'!$A$1,ROW()-$L$1+$M$1,1)=\"\",\"\",IF(OFFSET('32eme'!$A$1,ROW()-$L$1+$M$1,9)=\"\",\"\",IF(OFFSET('32eme'!$A$1,ROW()-$L$1+$M$1,9)>0,OFFSET('32eme'!$A$1,ROW()-$L$1+$M$1,1),OFFSET('32eme'!$A$1,ROW()-$L$1+$M$1,5)))),IF(OFFSET('32eme'!$A$1,(ROW()-2)*2,1)=\"\",\"\",IF(OFFSET('32eme'!$A$1,(ROW()-2)*2,9)=\"\",\"\",IF(OFFSET('32eme'!$A$1,(ROW()-2)*2,9)>0,OFFSET('32eme'!$A$1,(ROW()-2)*2,1),OFFSET('32eme'!$A$1,(ROW()-2)*2,5))))))))","v":""},{"$f":"IF($B12<>\"\",VLOOKUP($B12,Equipes!$A:$C,2,FALSE),\"\")","v":""},{"$f":"IF($B12<>\"\",VLOOKUP($B12,Equipes!$A:$C,3,FALSE),\"\")","v":""},null,{"$f":"IF(Equipes!$L$3=\"\",\"\",IF(Equipes!$K$1=32,IF(L12<>\"\",L12,\"\"),IF('32eme'!$K$1=0,\"\",IF(ROW()>$L$1,\"\",IF(OFFSET('32eme'!$A$1,(ROW()-2)*2+1,9)=\"\",\"\",IF(OFFSET('32eme'!$A$1,(ROW()-2)*2+1,9)>0,OFFSET('32eme'!$A$1,(ROW()-2)*2+1,1),OFFSET('32eme'!$A$1,(ROW()-2)*2+1,5)))))))","v":""},{"$f":"IF($F12<>\"\",IF(VLOOKUP($F12,Equipes!$A:$C,2,FALSE)=\"\",\"\",VLOOKUP($F12,Equipes!$A:$C,2,FALSE)),\"\")","v":""},{"$f":"IF($F12<>\"\",IF(VLOOKUP($F12,Equipes!$A:$C,3,FALSE)=\"\",\"\",VLOOKUP($F12,Equipes!$A:$C,3,FALSE)),\"\")","v":""},null,{"$f":"IF(C12<>\"\",IF(G12<>\"\",IF(E12<>\"\",E12-I12,\"\"),6),\"\")","v":""},null,null,"",{"$f":"IF(AND(B12<>\"\",F12<>\"\"),IF(AND(VLOOKUP(B12,Equipes!A$4:R$67,14,FALSE)<>1,VLOOKUP(F12,Equipes!A$4:R$67,14,FALSE)<>1,ISERROR(VLOOKUP(1,A$2:A11,1,FALSE))),1,IF(AND(VLOOKUP(B12,Equipes!A$4:R$67,14,FALSE)<>2,VLOOKUP(F12,Equipes!A$4:R$67,14,FALSE)<>2,ISERROR(VLOOKUP(2,A$2:A11,1,FALSE))),2,IF(AND(VLOOKUP(B12,Equipes!A$4:R$67,14,FALSE)<>3,VLOOKUP(F12,Equipes!A$4:R$67,14,FALSE)<>3,ISERROR(VLOOKUP(3,A$2:A11,1,FALSE))),3,IF(AND(VLOOKUP(B12,Equipes!A$4:R$67,14,FALSE)<>4,VLOOKUP(F12,Equipes!A$4:R$67,14,FALSE)<>4,ISERROR(VLOOKUP(4,A$2:A11,1,FALSE))),4,\"\")))),\"\")","v":""},{"$f":"IF(AND(B12<>\"\",F12<>\"\",N12=\"\"),IF(AND(VLOOKUP(B12,Equipes!A$4:R$67,14,FALSE)<>5,VLOOKUP(F12,Equipes!A$4:R$67,14,FALSE)<>5,ISERROR(VLOOKUP(5,A$2:A11,1,FALSE))),5,IF(AND(VLOOKUP(B12,Equipes!A$4:R$67,14,FALSE)<>6,VLOOKUP(F12,Equipes!A$4:R$67,14,FALSE)<>6,ISERROR(VLOOKUP(6,A$2:A11,1,FALSE))),6,IF(AND(VLOOKUP(B12,Equipes!A$4:R$67,14,FALSE)<>7,VLOOKUP(F12,Equipes!A$4:R$67,14,FALSE)<>7,ISERROR(VLOOKUP(7,A$2:A11,1,FALSE))),7,IF(AND(VLOOKUP(B12,Equipes!A$4:R$67,14,FALSE)<>8,VLOOKUP(F12,Equipes!A$4:R$67,14,FALSE)<>8,ISERROR(VLOOKUP(8,A$2:A11,1,FALSE))),8,\"\")))),\"\")","v":""},{"$f":"IF(AND(B12<>\"\",F12<>\"\",N12=\"\",O12=\"\"),IF(AND(VLOOKUP(B12,Equipes!A$4:R$67,14,FALSE)<>9,VLOOKUP(F12,Equipes!A$4:R$67,14,FALSE)<>9,ISERROR(VLOOKUP(9,A$2:A11,1,FALSE))),9,IF(AND(VLOOKUP(B12,Equipes!A$4:R$67,14,FALSE)<>10,VLOOKUP(F12,Equipes!A$4:R$67,14,FALSE)<>10,ISERROR(VLOOKUP(10,A$2:A11,1,FALSE))),10,IF(AND(VLOOKUP(B12,Equipes!A$4:R$67,14,FALSE)<>11,VLOOKUP(F12,Equipes!A$4:R$67,14,FALSE)<>11,ISERROR(VLOOKUP(11,A$2:A11,1,FALSE))),11,IF(AND(VLOOKUP(B12,Equipes!A$4:R$67,14,FALSE)<>12,VLOOKUP(F12,Equipes!A$4:R$67,14,FALSE)<>12,ISERROR(VLOOKUP(12,A$2:A11,1,FALSE))),12,\"\")))),\"\")","v":""},{"$f":"IF(AND(B12<>\"\",F12<>\"\",N12=\"\",O12=\"\",P12=\"\"),IF(AND(VLOOKUP(B12,Equipes!A$4:R$67,14,FALSE)<>13,VLOOKUP(F12,Equipes!A$4:R$67,14,FALSE)<>13,ISERROR(VLOOKUP(13,N$2:N11,1,FALSE))),13,IF(AND(VLOOKUP(B12,Equipes!A$4:R$67,14,FALSE)<>14,VLOOKUP(F12,Equipes!A$4:R$67,14,FALSE)<>14,ISERROR(VLOOKUP(14,N$2:N11,1,FALSE))),14,IF(AND(VLOOKUP(B12,Equipes!A$4:R$67,14,FALSE)<>15,VLOOKUP(F12,Equipes!A$4:R$67,14,FALSE)<>15,ISERROR(VLOOKUP(15,N$2:N11,1,FALSE))),15,16))),\"\")","v":""}]
[{"$f":"IF(N13<>\"\",N13,IF(O13<>\"\",O13,IF(P13<>\"\",P13,IF(Q13<>\"\",Q13,\"\"))))","v":""},{"$f":"IF(Equipes!$L$3=\"\",\"\",IF(Equipes!$K$1=32,IF(K13<>\"\",K13,\"\"),IF('32eme'!$K$1=0,\"\",IF(ROW()>$L$1,IF(OFFSET('32eme'!$A$1,ROW()-$L$1+$M$1,1)=\"\",\"\",IF(OFFSET('32eme'!$A$1,ROW()-$L$1+$M$1,9)=\"\",\"\",IF(OFFSET('32eme'!$A$1,ROW()-$L$1+$M$1,9)>0,OFFSET('32eme'!$A$1,ROW()-$L$1+$M$1,1),OFFSET('32eme'!$A$1,ROW()-$L$1+$M$1,5)))),IF(OFFSET('32eme'!$A$1,(ROW()-2)*2,1)=\"\",\"\",IF(OFFSET('32eme'!$A$1,(ROW()-2)*2,9)=\"\",\"\",IF(OFFSET('32eme'!$A$1,(ROW()-2)*2,9)>0,OFFSET('32eme'!$A$1,(ROW()-2)*2,1),OFFSET('32eme'!$A$1,(ROW()-2)*2,5))))))))","v":""},{"$f":"IF($B13<>\"\",VLOOKUP($B13,Equipes!$A:$C,2,FALSE),\"\")","v":""},{"$f":"IF($B13<>\"\",VLOOKUP($B13,Equipes!$A:$C,3,FALSE),\"\")","v":""},null,{"$f":"IF(Equipes!$L$3=\"\",\"\",IF(Equipes!$K$1=32,IF(L13<>\"\",L13,\"\"),IF('32eme'!$K$1=0,\"\",IF(ROW()>$L$1,\"\",IF(OFFSET('32eme'!$A$1,(ROW()-2)*2+1,9)=\"\",\"\",IF(OFFSET('32eme'!$A$1,(ROW()-2)*2+1,9)>0,OFFSET('32eme'!$A$1,(ROW()-2)*2+1,1),OFFSET('32eme'!$A$1,(ROW()-2)*2+1,5)))))))","v":""},{"$f":"IF($F13<>\"\",IF(VLOOKUP($F13,Equipes!$A:$C,2,FALSE)=\"\",\"\",VLOOKUP($F13,Equipes!$A:$C,2,FALSE)),\"\")","v":""},{"$f":"IF($F13<>\"\",IF(VLOOKUP($F13,Equipes!$A:$C,3,FALSE)=\"\",\"\",VLOOKUP($F13,Equipes!$A:$C,3,FALSE)),\"\")","v":""},null,{"$f":"IF(C13<>\"\",IF(G13<>\"\",IF(E13<>\"\",E13-I13,\"\"),6),\"\")","v":""},null,null,"",{"$f":"IF(AND(B13<>\"\",F13<>\"\"),IF(AND(VLOOKUP(B13,Equipes!A$4:R$67,14,FALSE)<>1,VLOOKUP(F13,Equipes!A$4:R$67,14,FALSE)<>1,ISERROR(VLOOKUP(1,A$2:A12,1,FALSE))),1,IF(AND(VLOOKUP(B13,Equipes!A$4:R$67,14,FALSE)<>2,VLOOKUP(F13,Equipes!A$4:R$67,14,FALSE)<>2,ISERROR(VLOOKUP(2,A$2:A12,1,FALSE))),2,IF(AND(VLOOKUP(B13,Equipes!A$4:R$67,14,FALSE)<>3,VLOOKUP(F13,Equipes!A$4:R$67,14,FALSE)<>3,ISERROR(VLOOKUP(3,A$2:A12,1,FALSE))),3,IF(AND(VLOOKUP(B13,Equipes!A$4:R$67,14,FALSE)<>4,VLOOKUP(F13,Equipes!A$4:R$67,14,FALSE)<>4,ISERROR(VLOOKUP(4,A$2:A12,1,FALSE))),4,\"\")))),\"\")","v":""},{"$f":"IF(AND(B13<>\"\",F13<>\"\",N13=\"\"),IF(AND(VLOOKUP(B13,Equipes!A$4:R$67,14,FALSE)<>5,VLOOKUP(F13,Equipes!A$4:R$67,14,FALSE)<>5,ISERROR(VLOOKUP(5,A$2:A12,1,FALSE))),5,IF(AND(VLOOKUP(B13,Equipes!A$4:R$67,14,FALSE)<>6,VLOOKUP(F13,Equipes!A$4:R$67,14,FALSE)<>6,ISERROR(VLOOKUP(6,A$2:A12,1,FALSE))),6,IF(AND(VLOOKUP(B13,Equipes!A$4:R$67,14,FALSE)<>7,VLOOKUP(F13,Equipes!A$4:R$67,14,FALSE)<>7,ISERROR(VLOOKUP(7,A$2:A12,1,FALSE))),7,IF(AND(VLOOKUP(B13,Equipes!A$4:R$67,14,FALSE)<>8,VLOOKUP(F13,Equipes!A$4:R$67,14,FALSE)<>8,ISERROR(VLOOKUP(8,A$2:A12,1,FALSE))),8,\"\")))),\"\")","v":""},{"$f":"IF(AND(B13<>\"\",F13<>\"\",N13=\"\",O13=\"\"),IF(AND(VLOOKUP(B13,Equipes!A$4:R$67,14,FALSE)<>9,VLOOKUP(F13,Equipes!A$4:R$67,14,FALSE)<>9,ISERROR(VLOOKUP(9,A$2:A12,1,FALSE))),9,IF(AND(VLOOKUP(B13,Equipes!A$4:R$67,14,FALSE)<>10,VLOOKUP(F13,Equipes!A$4:R$67,14,FALSE)<>10,ISERROR(VLOOKUP(10,A$2:A12,1,FALSE))),10,IF(AND(VLOOKUP(B13,Equipes!A$4:R$67,14,FALSE)<>11,VLOOKUP(F13,Equipes!A$4:R$67,14,FALSE)<>11,ISERROR(VLOOKUP(11,A$2:A12,1,FALSE))),11,IF(AND(VLOOKUP(B13,Equipes!A$4:R$67,14,FALSE)<>12,VLOOKUP(F13,Equipes!A$4:R$67,14,FALSE)<>12,ISERROR(VLOOKUP(12,A$2:A12,1,FALSE))),12,\"\")))),\"\")","v":""},{"$f":"IF(AND(B13<>\"\",F13<>\"\",N13=\"\",O13=\"\",P13=\"\"),IF(AND(VLOOKUP(B13,Equipes!A$4:R$67,14,FALSE)<>13,VLOOKUP(F13,Equipes!A$4:R$67,14,FALSE)<>13,ISERROR(VLOOKUP(13,N$2:N12,1,FALSE))),13,IF(AND(VLOOKUP(B13,Equipes!A$4:R$67,14,FALSE)<>14,VLOOKUP(F13,Equipes!A$4:R$67,14,FALSE)<>14,ISERROR(VLOOKUP(14,N$2:N12,1,FALSE))),14,IF(AND(VLOOKUP(B13,Equipes!A$4:R$67,14,FALSE)<>15,VLOOKUP(F13,Equipes!A$4:R$67,14,FALSE)<>15,ISERROR(VLOOKUP(15,N$2:N12,1,FALSE))),15,16))),\"\")","v":""}]
[{"$f":"IF(N14<>\"\",N14,IF(O14<>\"\",O14,IF(P14<>\"\",P14,IF(Q14<>\"\",Q14,\"\"))))","v":""},{"$f":"IF(Equipes!$L$3=\"\",\"\",IF(Equipes!$K$1=32,IF(K14<>\"\",K14,\"\"),IF('32eme'!$K$1=0,\"\",IF(ROW()>$L$1,IF(OFFSET('32eme'!$A$1,ROW()-$L$1+$M$1,1)=\"\",\"\",IF(OFFSET('32eme'!$A$1,ROW()-$L$1+$M$1,9)=\"\",\"\",IF(OFFSET('32eme'!$A$1,ROW()-$L$1+$M$1,9)>0,OFFSET('32eme'!$A$1,ROW()-$L$1+$M$1,1),OFFSET('32eme'!$A$1,ROW()-$L$1+$M$1,5)))),IF(OFFSET('32eme'!$A$1,(ROW()-2)*2,1)=\"\",\"\",IF(OFFSET('32eme'!$A$1,(ROW()-2)*2,9)=\"\",\"\",IF(OFFSET('32eme'!$A$1,(ROW()-2)*2,9)>0,OFFSET('32eme'!$A$1,(ROW()-2)*2,1),OFFSET('32eme'!$A$1,(ROW()-2)*2,5))))))))","v":""},{"$f":"IF($B14<>\"\",VLOOKUP($B14,Equipes!$A:$C,2,FALSE),\"\")","v":""},{"$f":"IF($B14<>\"\",VLOOKUP($B14,Equipes!$A:$C,3,FALSE),\"\")","v":""},null,{"$f":"IF(Equipes!$L$3=\"\",\"\",IF(Equipes!$K$1=32,IF(L14<>\"\",L14,\"\"),IF('32eme'!$K$1=0,\"\",IF(ROW()>$L$1,\"\",IF(OFFSET('32eme'!$A$1,(ROW()-2)*2+1,9)=\"\",\"\",IF(OFFSET('32eme'!$A$1,(ROW()-2)*2+1,9)>0,OFFSET('32eme'!$A$1,(ROW()-2)*2+1,1),OFFSET('32eme'!$A$1,(ROW()-2)*2+1,5)))))))","v":""},{"$f":"IF($F14<>\"\",IF(VLOOKUP($F14,Equipes!$A:$C,2,FALSE)=\"\",\"\",VLOOKUP($F14,Equipes!$A:$C,2,FALSE)),\"\")","v":""},{"$f":"IF($F14<>\"\",IF(VLOOKUP($F14,Equipes!$A:$C,3,FALSE)=\"\",\"\",VLOOKUP($F14,Equipes!$A:$C,3,FALSE)),\"\")","v":""},null,{"$f":"IF(C14<>\"\",IF(G14<>\"\",IF(E14<>\"\",E14-I14,\"\"),6),\"\")","v":""},null,null,"",{"$f":"IF(AND(B14<>\"\",F14<>\"\"),IF(AND(VLOOKUP(B14,Equipes!A$4:R$67,14,FALSE)<>1,VLOOKUP(F14,Equipes!A$4:R$67,14,FALSE)<>1,ISERROR(VLOOKUP(1,A$2:A13,1,FALSE))),1,IF(AND(VLOOKUP(B14,Equipes!A$4:R$67,14,FALSE)<>2,VLOOKUP(F14,Equipes!A$4:R$67,14,FALSE)<>2,ISERROR(VLOOKUP(2,A$2:A13,1,FALSE))),2,IF(AND(VLOOKUP(B14,Equipes!A$4:R$67,14,FALSE)<>3,VLOOKUP(F14,Equipes!A$4:R$67,14,FALSE)<>3,ISERROR(VLOOKUP(3,A$2:A13,1,FALSE))),3,IF(AND(VLOOKUP(B14,Equipes!A$4:R$67,14,FALSE)<>4,VLOOKUP(F14,Equipes!A$4:R$67,14,FALSE)<>4,ISERROR(VLOOKUP(4,A$2:A13,1,FALSE))),4,\"\")))),\"\")","v":""},{"$f":"IF(AND(B14<>\"\",F14<>\"\",N14=\"\"),IF(AND(VLOOKUP(B14,Equipes!A$4:R$67,14,FALSE)<>5,VLOOKUP(F14,Equipes!A$4:R$67,14,FALSE)<>5,ISERROR(VLOOKUP(5,A$2:A13,1,FALSE))),5,IF(AND(VLOOKUP(B14,Equipes!A$4:R$67,14,FALSE)<>6,VLOOKUP(F14,Equipes!A$4:R$67,14,FALSE)<>6,ISERROR(VLOOKUP(6,A$2:A13,1,FALSE))),6,IF(AND(VLOOKUP(B14,Equipes!A$4:R$67,14,FALSE)<>7,VLOOKUP(F14,Equipes!A$4:R$67,14,FALSE)<>7,ISERROR(VLOOKUP(7,A$2:A13,1,FALSE))),7,IF(AND(VLOOKUP(B14,Equipes!A$4:R$67,14,FALSE)<>8,VLOOKUP(F14,Equipes!A$4:R$67,14,FALSE)<>8,ISERROR(VLOOKUP(8,A$2:A13,1,FALSE))),8,\"\")))),\"\")","v":""},{"$f":"IF(AND(B14<>\"\",F14<>\"\",N14=\"\",O14=\"\"),IF(AND(VLOOKUP(B14,Equipes!A$4:R$67,14,FALSE)<>9,VLOOKUP(F14,Equipes!A$4:R$67,14,FALSE)<>9,ISERROR(VLOOKUP(9,A$2:A13,1,FALSE))),9,IF(AND(VLOOKUP(B14,Equipes!A$4:R$67,14,FALSE)<>10,VLOOKUP(F14,Equipes!A$4:R$67,14,FALSE)<>10,ISERROR(VLOOKUP(10,A$2:A13,1,FALSE))),10,IF(AND(VLOOKUP(B14,Equipes!A$4:R$67,14,FALSE)<>11,VLOOKUP(F14,Equipes!A$4:R$67,14,FALSE)<>11,ISERROR(VLOOKUP(11,A$2:A13,1,FALSE))),11,IF(AND(VLOOKUP(B14,Equipes!A$4:R$67,14,FALSE)<>12,VLOOKUP(F14,Equipes!A$4:R$67,14,FALSE)<>12,ISERROR(VLOOKUP(12,A$2:A13,1,FALSE))),12,\"\")))),\"\")","v":""},{"$f":"IF(AND(B14<>\"\",F14<>\"\",N14=\"\",O14=\"\",P14=\"\"),IF(AND(VLOOKUP(B14,Equipes!A$4:R$67,14,FALSE)<>13,VLOOKUP(F14,Equipes!A$4:R$67,14,FALSE)<>13,ISERROR(VLOOKUP(13,N$2:N13,1,FALSE))),13,IF(AND(VLOOKUP(B14,Equipes!A$4:R$67,14,FALSE)<>14,VLOOKUP(F14,Equipes!A$4:R$67,14,FALSE)<>14,ISERROR(VLOOKUP(14,N$2:N13,1,FALSE))),14,IF(AND(VLOOKUP(B14,Equipes!A$4:R$67,14,FALSE)<>15,VLOOKUP(F14,Equipes!A$4:R$67,14,FALSE)<>15,ISERROR(VLOOKUP(15,N$2:N13,1,FALSE))),15,16))),\"\")","v":""}]
[{"$f":"IF(N15<>\"\",N15,IF(O15<>\"\",O15,IF(P15<>\"\",P15,IF(Q15<>\"\",Q15,\"\"))))","v":""},{"$f":"IF(Equipes!$L$3=\"\",\"\",IF(Equipes!$K$1=32,IF(K15<>\"\",K15,\"\"),IF('32eme'!$K$1=0,\"\",IF(ROW()>$L$1,IF(OFFSET('32eme'!$A$1,ROW()-$L$1+$M$1,1)=\"\",\"\",IF(OFFSET('32eme'!$A$1,ROW()-$L$1+$M$1,9)=\"\",\"\",IF(OFFSET('32eme'!$A$1,ROW()-$L$1+$M$1,9)>0,OFFSET('32eme'!$A$1,ROW()-$L$1+$M$1,1),OFFSET('32eme'!$A$1,ROW()-$L$1+$M$1,5)))),IF(OFFSET('32eme'!$A$1,(ROW()-2)*2,1)=\"\",\"\",IF(OFFSET('32eme'!$A$1,(ROW()-2)*2,9)=\"\",\"\",IF(OFFSET('32eme'!$A$1,(ROW()-2)*2,9)>0,OFFSET('32eme'!$A$1,(ROW()-2)*2,1),OFFSET('32eme'!$A$1,(ROW()-2)*2,5))))))))","v":""},{"$f":"IF($B15<>\"\",VLOOKUP($B15,Equipes!$A:$C,2,FALSE),\"\")","v":""},{"$f":"IF($B15<>\"\",VLOOKUP($B15,Equipes!$A:$C,3,FALSE),\"\")","v":""},null,{"$f":"IF(Equipes!$L$3=\"\",\"\",IF(Equipes!$K$1=32,IF(L15<>\"\",L15,\"\"),IF('32eme'!$K$1=0,\"\",IF(ROW()>$L$1,\"\",IF(OFFSET('32eme'!$A$1,(ROW()-2)*2+1,9)=\"\",\"\",IF(OFFSET('32eme'!$A$1,(ROW()-2)*2+1,9)>0,OFFSET('32eme'!$A$1,(ROW()-2)*2+1,1),OFFSET('32eme'!$A$1,(ROW()-2)*2+1,5)))))))","v":""},{"$f":"IF($F15<>\"\",IF(VLOOKUP($F15,Equipes!$A:$C,2,FALSE)=\"\",\"\",VLOOKUP($F15,Equipes!$A:$C,2,FALSE)),\"\")","v":""},{"$f":"IF($F15<>\"\",IF(VLOOKUP($F15,Equipes!$A:$C,3,FALSE)=\"\",\"\",VLOOKUP($F15,Equipes!$A:$C,3,FALSE)),\"\")","v":""},null,{"$f":"IF(C15<>\"\",IF(G15<>\"\",IF(E15<>\"\",E15-I15,\"\"),6),\"\")","v":""},null,null,"",{"$f":"IF(AND(B15<>\"\",F15<>\"\"),IF(AND(VLOOKUP(B15,Equipes!A$4:R$67,14,FALSE)<>1,VLOOKUP(F15,Equipes!A$4:R$67,14,FALSE)<>1,ISERROR(VLOOKUP(1,A$2:A14,1,FALSE))),1,IF(AND(VLOOKUP(B15,Equipes!A$4:R$67,14,FALSE)<>2,VLOOKUP(F15,Equipes!A$4:R$67,14,FALSE)<>2,ISERROR(VLOOKUP(2,A$2:A14,1,FALSE))),2,IF(AND(VLOOKUP(B15,Equipes!A$4:R$67,14,FALSE)<>3,VLOOKUP(F15,Equipes!A$4:R$67,14,FALSE)<>3,ISERROR(VLOOKUP(3,A$2:A14,1,FALSE))),3,IF(AND(VLOOKUP(B15,Equipes!A$4:R$67,14,FALSE)<>4,VLOOKUP(F15,Equipes!A$4:R$67,14,FALSE)<>4,ISERROR(VLOOKUP(4,A$2:A14,1,FALSE))),4,\"\")))),\"\")","v":""},{"$f":"IF(AND(B15<>\"\",F15<>\"\",N15=\"\"),IF(AND(VLOOKUP(B15,Equipes!A$4:R$67,14,FALSE)<>5,VLOOKUP(F15,Equipes!A$4:R$67,14,FALSE)<>5,ISERROR(VLOOKUP(5,A$2:A14,1,FALSE))),5,IF(AND(VLOOKUP(B15,Equipes!A$4:R$67,14,FALSE)<>6,VLOOKUP(F15,Equipes!A$4:R$67,14,FALSE)<>6,ISERROR(VLOOKUP(6,A$2:A14,1,FALSE))),6,IF(AND(VLOOKUP(B15,Equipes!A$4:R$67,14,FALSE)<>7,VLOOKUP(F15,Equipes!A$4:R$67,14,FALSE)<>7,ISERROR(VLOOKUP(7,A$2:A14,1,FALSE))),7,IF(AND(VLOOKUP(B15,Equipes!A$4:R$67,14,FALSE)<>8,VLOOKUP(F15,Equipes!A$4:R$67,14,FALSE)<>8,ISERROR(VLOOKUP(8,A$2:A14,1,FALSE))),8,\"\")))),\"\")","v":""},{"$f":"IF(AND(B15<>\"\",F15<>\"\",N15=\"\",O15=\"\"),IF(AND(VLOOKUP(B15,Equipes!A$4:R$67,14,FALSE)<>9,VLOOKUP(F15,Equipes!A$4:R$67,14,FALSE)<>9,ISERROR(VLOOKUP(9,A$2:A14,1,FALSE))),9,IF(AND(VLOOKUP(B15,Equipes!A$4:R$67,14,FALSE)<>10,VLOOKUP(F15,Equipes!A$4:R$67,14,FALSE)<>10,ISERROR(VLOOKUP(10,A$2:A14,1,FALSE))),10,IF(AND(VLOOKUP(B15,Equipes!A$4:R$67,14,FALSE)<>11,VLOOKUP(F15,Equipes!A$4:R$67,14,FALSE)<>11,ISERROR(VLOOKUP(11,A$2:A14,1,FALSE))),11,IF(AND(VLOOKUP(B15,Equipes!A$4:R$67,14,FALSE)<>12,VLOOKUP(F15,Equipes!A$4:R$67,14,FALSE)<>12,ISERROR(VLOOKUP(12,A$2:A14,1,FALSE))),12,\"\")))),\"\")","v":""},{"$f":"IF(AND(B15<>\"\",F15<>\"\",N15=\"\",O15=\"\",P15=\"\"),IF(AND(VLOOKUP(B15,Equipes!A$4:R$67,14,FALSE)<>13,VLOOKUP(F15,Equipes!A$4:R$67,14,FALSE)<>13,ISERROR(VLOOKUP(13,A$2:A14,1,FALSE))),13,IF(AND(VLOOKUP(B15,Equipes!A$4:R$67,14,FALSE)<>14,VLOOKUP(F15,Equipes!A$4:R$67,14,FALSE)<>14,ISERROR(VLOOKUP(14,A$2:A14,1,FALSE))),14,IF(AND(VLOOKUP(B15,Equipes!A$4:R$67,14,FALSE)<>15,VLOOKUP(F15,Equipes!A$4:R$67,14,FALSE)<>15,ISERROR(VLOOKUP(15,A$2:A14,1,FALSE))),15,16))),\"\")","v":""}]
[{"$f":"IF(N16<>\"\",N16,IF(O16<>\"\",O16,IF(P16<>\"\",P16,IF(Q16<>\"\",Q16,\"\"))))","v":""},{"$f":"IF(Equipes!$L$3=\"\",\"\",IF(Equipes!$K$1=32,IF(K16<>\"\",K16,\"\"),IF('32eme'!$K$1=0,\"\",IF(ROW()>$L$1,IF(OFFSET('32eme'!$A$1,ROW()-$L$1+$M$1,1)=\"\",\"\",IF(OFFSET('32eme'!$A$1,ROW()-$L$1+$M$1,9)=\"\",\"\",IF(OFFSET('32eme'!$A$1,ROW()-$L$1+$M$1,9)>0,OFFSET('32eme'!$A$1,ROW()-$L$1+$M$1,1),OFFSET('32eme'!$A$1,ROW()-$L$1+$M$1,5)))),IF(OFFSET('32eme'!$A$1,(ROW()-2)*2,1)=\"\",\"\",IF(OFFSET('32eme'!$A$1,(ROW()-2)*2,9)=\"\",\"\",IF(OFFSET('32eme'!$A$1,(ROW()-2)*2,9)>0,OFFSET('32eme'!$A$1,(ROW()-2)*2,1),OFFSET('32eme'!$A$1,(ROW()-2)*2,5))))))))","v":""},{"$f":"IF($B16<>\"\",VLOOKUP($B16,Equipes!$A:$C,2,FALSE),\"\")","v":""},{"$f":"IF($B16<>\"\",VLOOKUP($B16,Equipes!$A:$C,3,FALSE),\"\")","v":""},null,{"$f":"IF(Equipes!$L$3=\"\",\"\",IF(Equipes!$K$1=32,IF(L16<>\"\",L16,\"\"),IF('32eme'!$K$1=0,\"\",IF(ROW()>$L$1,\"\",IF(OFFSET('32eme'!$A$1,(ROW()-2)*2+1,9)=\"\",\"\",IF(OFFSET('32eme'!$A$1,(ROW()-2)*2+1,9)>0,OFFSET('32eme'!$A$1,(ROW()-2)*2+1,1),OFFSET('32eme'!$A$1,(ROW()-2)*2+1,5)))))))","v":""},{"$f":"IF($F16<>\"\",IF(VLOOKUP($F16,Equipes!$A:$C,2,FALSE)=\"\",\"\",VLOOKUP($F16,Equipes!$A:$C,2,FALSE)),\"\")","v":""},{"$f":"IF($F16<>\"\",IF(VLOOKUP($F16,Equipes!$A:$C,3,FALSE)=\"\",\"\",VLOOKUP($F16,Equipes!$A:$C,3,FALSE)),\"\")","v":""},null,{"$f":"IF(C16<>\"\",IF(G16<>\"\",IF(E16<>\"\",E16-I16,\"\"),6),\"\")","v":""},null,null,"",{"$f":"IF(AND(B16<>\"\",F16<>\"\"),IF(AND(VLOOKUP(B16,Equipes!A$4:R$67,14,FALSE)<>1,VLOOKUP(F16,Equipes!A$4:R$67,14,FALSE)<>1,ISERROR(VLOOKUP(1,A$2:A15,1,FALSE))),1,IF(AND(VLOOKUP(B16,Equipes!A$4:R$67,14,FALSE)<>2,VLOOKUP(F16,Equipes!A$4:R$67,14,FALSE)<>2,ISERROR(VLOOKUP(2,A$2:A15,1,FALSE))),2,IF(AND(VLOOKUP(B16,Equipes!A$4:R$67,14,FALSE)<>3,VLOOKUP(F16,Equipes!A$4:R$67,14,FALSE)<>3,ISERROR(VLOOKUP(3,A$2:A15,1,FALSE))),3,IF(AND(VLOOKUP(B16,Equipes!A$4:R$67,14,FALSE)<>4,VLOOKUP(F16,Equipes!A$4:R$67,14,FALSE)<>4,ISERROR(VLOOKUP(4,A$2:A15,1,FALSE))),4,\"\")))),\"\")","v":""},{"$f":"IF(AND(B16<>\"\",F16<>\"\",N16=\"\"),IF(AND(VLOOKUP(B16,Equipes!A$4:R$67,14,FALSE)<>5,VLOOKUP(F16,Equipes!A$4:R$67,14,FALSE)<>5,ISERROR(VLOOKUP(5,A$2:A15,1,FALSE))),5,IF(AND(VLOOKUP(B16,Equipes!A$4:R$67,14,FALSE)<>6,VLOOKUP(F16,Equipes!A$4:R$67,14,FALSE)<>6,ISERROR(VLOOKUP(6,A$2:A15,1,FALSE))),6,IF(AND(VLOOKUP(B16,Equipes!A$4:R$67,14,FALSE)<>7,VLOOKUP(F16,Equipes!A$4:R$67,14,FALSE)<>7,ISERROR(VLOOKUP(7,A$2:A15,1,FALSE))),7,IF(AND(VLOOKUP(B16,Equipes!A$4:R$67,14,FALSE)<>8,VLOOKUP(F16,Equipes!A$4:R$67,14,FALSE)<>8,ISERROR(VLOOKUP(8,A$2:A15,1,FALSE))),8,\"\")))),\"\")","v":""},{"$f":"IF(AND(B16<>\"\",F16<>\"\",N16=\"\",O16=\"\"),IF(AND(VLOOKUP(B16,Equipes!A$4:R$67,14,FALSE)<>9,VLOOKUP(F16,Equipes!A$4:R$67,14,FALSE)<>9,ISERROR(VLOOKUP(9,A$2:A15,1,FALSE))),9,IF(AND(VLOOKUP(B16,Equipes!A$4:R$67,14,FALSE)<>10,VLOOKUP(F16,Equipes!A$4:R$67,14,FALSE)<>10,ISERROR(VLOOKUP(10,A$2:A15,1,FALSE))),10,IF(AND(VLOOKUP(B16,Equipes!A$4:R$67,14,FALSE)<>11,VLOOKUP(F16,Equipes!A$4:R$67,14,FALSE)<>11,ISERROR(VLOOKUP(11,A$2:A15,1,FALSE))),11,IF(AND(VLOOKUP(B16,Equipes!A$4:R$67,14,FALSE)<>12,VLOOKUP(F16,Equipes!A$4:R$67,14,FALSE)<>12,ISERROR(VLOOKUP(12,A$2:A15,1,FALSE))),12,\"\")))),\"\")","v":""},{"$f":"IF(AND(B16<>\"\",F16<>\"\",N16=\"\",O16=\"\",P16=\"\"),IF(AND(VLOOKUP(B16,Equipes!A$4:R$67,14,FALSE)<>13,VLOOKUP(F16,Equipes!A$4:R$67,14,FALSE)<>13,ISERROR(VLOOKUP(13,A$2:A15,1,FALSE))),13,IF(AND(VLOOKUP(B16,Equipes!A$4:R$67,14,FALSE)<>14,VLOOKUP(F16,Equipes!A$4:R$67,14,FALSE)<>14,ISERROR(VLOOKUP(14,A$2:A15,1,FALSE))),14,IF(AND(VLOOKUP(B16,Equipes!A$4:R$67,14,FALSE)<>15,VLOOKUP(F16,Equipes!A$4:R$67,14,FALSE)<>15,ISERROR(VLOOKUP(15,A$2:A15,1,FALSE))),15,16))),\"\")","v":""}]
["",{"$f":"IF(Equipes!$L$3=\"\",\"\",IF(Equipes!$K$1=32,IF(K17<>\"\",K17,\"\"),IF('32eme'!$K$1=0,\"\",IF(ROW()>$L$1,IF(OFFSET('32eme'!$A$1,ROW()-$L$1+$M$1,1)=\"\",\"\",IF(OFFSET('32eme'!$A$1,ROW()-$L$1+$M$1,9)=\"\",\"\",IF(OFFSET('32eme'!$A$1,ROW()-$L$1+$M$1,9)>0,OFFSET('32eme'!$A$1,ROW()-$L$1+$M$1,1),OFFSET('32eme'!$A$1,ROW()-$L$1+$M$1,5)))),IF(OFFSET('32eme'!$A$1,(ROW()-2)*2,1)=\"\",\"\",IF(OFFSET('32eme'!$A$1,(ROW()-2)*2,9)=\"\",\"\",IF(OFFSET('32eme'!$A$1,(ROW()-2)*2,9)>0,OFFSET('32eme'!$A$1,(ROW()-2)*2,1),OFFSET('32eme'!$A$1,(ROW()-2)*2,5))))))))","v":""},{"$f":"IF($B17<>\"\",VLOOKUP($B17,Equipes!$A:$C,2,FALSE),\"\")","v":""},{"$f":"IF($B17<>\"\",VLOOKUP($B17,Equipes!$A:$C,3,FALSE),\"\")","v":""},null,{"$f":"IF(Equipes!$L$3=\"\",\"\",IF(Equipes!$K$1=32,IF(L17<>\"\",L17,\"\"),IF('32eme'!$K$1=0,\"\",IF(ROW()>$L$1,\"\",IF(OFFSET('32eme'!$A$1,(ROW()-2)*2+1,9)=\"\",\"\",IF(OFFSET('32eme'!$A$1,(ROW()-2)*2+1,9)>0,OFFSET('32eme'!$A$1,(ROW()-2)*2+1,1),OFFSET('32eme'!$A$1,(ROW()-2)*2+1,5)))))))","v":""},{"$f":"IF($F17<>\"\",IF(VLOOKUP($F17,Equipes!$A:$C,2,FALSE)=\"\",\"\",VLOOKUP($F17,Equipes!$A:$C,2,FALSE)),\"\")","v":""},{"$f":"IF($F17<>\"\",IF(VLOOKUP($F17,Equipes!$A:$C,3,FALSE)=\"\",\"\",VLOOKUP($F17,Equipes!$A:$C,3,FALSE)),\"\")","v":""},null,{"$f":"IF(C17<>\"\",IF(G17<>\"\",IF(E17<>\"\",E17-I17,\"\"),6),\"\")","v":""},null,null,"",{"$f":"IF(AND(B17<>\"\",F17<>\"\"),IF(AND(VLOOKUP(B17,Equipes!A$4:R$67,14,FALSE)<>1,VLOOKUP(F17,Equipes!A$4:R$67,14,FALSE)<>1,ISERROR(VLOOKUP(1,A$2:A16,1,FALSE))),1,IF(AND(VLOOKUP(B17,Equipes!A$4:R$67,14,FALSE)<>2,VLOOKUP(F17,Equipes!A$4:R$67,14,FALSE)<>2,ISERROR(VLOOKUP(2,A$2:A16,1,FALSE))),2,IF(AND(VLOOKUP(B17,Equipes!A$4:R$67,14,FALSE)<>3,VLOOKUP(F17,Equipes!A$4:R$67,14,FALSE)<>3,ISERROR(VLOOKUP(3,A$2:A16,1,FALSE))),3,IF(AND(VLOOKUP(B17,Equipes!A$4:R$67,14,FALSE)<>4,VLOOKUP(F17,Equipes!A$4:R$67,14,FALSE)<>4,ISERROR(VLOOKUP(4,A$2:A16,1,FALSE))),4,\"\")))),\"\")","v":""},{"$f":"IF(AND(B17<>\"\",F17<>\"\",N17=\"\"),IF(AND(VLOOKUP(B17,Equipes!A$4:R$67,14,FALSE)<>5,VLOOKUP(F17,Equipes!A$4:R$67,14,FALSE)<>5,ISERROR(VLOOKUP(5,A$2:A16,1,FALSE))),5,IF(AND(VLOOKUP(B17,Equipes!A$4:R$67,14,FALSE)<>6,VLOOKUP(F17,Equipes!A$4:R$67,14,FALSE)<>6,ISERROR(VLOOKUP(6,A$2:A16,1,FALSE))),6,IF(AND(VLOOKUP(B17,Equipes!A$4:R$67,14,FALSE)<>7,VLOOKUP(F17,Equipes!A$4:R$67,14,FALSE)<>7,ISERROR(VLOOKUP(7,A$2:A16,1,FALSE))),7,IF(AND(VLOOKUP(B17,Equipes!A$4:R$67,14,FALSE)<>8,VLOOKUP(F17,Equipes!A$4:R$67,14,FALSE)<>8,ISERROR(VLOOKUP(8,A$2:A16,1,FALSE))),8,\"\")))),\"\")","v":""},{"$f":"IF(AND(B17<>\"\",F17<>\"\",N17=\"\",O17=\"\"),IF(AND(VLOOKUP(B17,Equipes!A$4:R$67,14,FALSE)<>9,VLOOKUP(F17,Equipes!A$4:R$67,14,FALSE)<>9,ISERROR(VLOOKUP(9,A$2:A16,1,FALSE))),9,IF(AND(VLOOKUP(B17,Equipes!A$4:R$67,14,FALSE)<>10,VLOOKUP(F17,Equipes!A$4:R$67,14,FALSE)<>10,ISERROR(VLOOKUP(10,A$2:A16,1,FALSE))),10,IF(AND(VLOOKUP(B17,Equipes!A$4:R$67,14,FALSE)<>11,VLOOKUP(F17,Equipes!A$4:R$67,14,FALSE)<>11,ISERROR(VLOOKUP(11,A$2:A16,1,FALSE))),11,IF(AND(VLOOKUP(B17,Equipes!A$4:R$67,14,FALSE)<>12,VLOOKUP(F17,Equipes!A$4:R$67,14,FALSE)<>12,ISERROR(VLOOKUP(12,A$2:A16,1,FALSE))),12,\"\")))),\"\")","v":""},{"$f":"IF(AND(B17<>\"\",F17<>\"\",N17=\"\",O17=\"\",P17=\"\"),IF(AND(VLOOKUP(B17,Equipes!A$4:R$67,14,FALSE)<>13,VLOOKUP(F17,Equipes!A$4:R$67,14,FALSE)<>13,ISERROR(VLOOKUP(13,A$2:A16,1,FALSE))),13,IF(AND(VLOOKUP(B17,Equipes!A$4:R$67,14,FALSE)<>14,VLOOKUP(F17,Equipes!A$4:R$67,14,FALSE)<>14,ISERROR(VLOOKUP(14,A$2:A16,1,FALSE))),14,IF(AND(VLOOKUP(B17,Equipes!A$4:R$67,14,FALSE)<>15,VLOOKUP(F17,Equipes!A$4:R$67,14,FALSE)<>15,ISERROR(VLOOKUP(15,A$2:A16,1,FALSE))),15,16))),\"\")","v":""}]
["",{"$f":"IF(Equipes!$L$3=\"\",\"\",IF(Equipes!$K$1=32,IF(K18<>\"\",K18,\"\"),IF('32eme'!$K$1=0,\"\",IF(ROW()>$L$1,IF(OFFSET('32eme'!$A$1,ROW()-$L$1+$M$1,1)=\"\",\"\",IF(OFFSET('32eme'!$A$1,ROW()-$L$1+$M$1,9)=\"\",\"\",IF(OFFSET('32eme'!$A$1,ROW()-$L$1+$M$1,9)>0,OFFSET('32eme'!$A$1,ROW()-$L$1+$M$1,1),OFFSET('32eme'!$A$1,ROW()-$L$1+$M$1,5)))),IF(OFFSET('32eme'!$A$1,(ROW()-2)*2,1)=\"\",\"\",IF(OFFSET('32eme'!$A$1,(ROW()-2)*2,9)=\"\",\"\",IF(OFFSET('32eme'!$A$1,(ROW()-2)*2,9)>0,OFFSET('32eme'!$A$1,(ROW()-2)*2,1),OFFSET('32eme'!$A$1,(ROW()-2)*2,5))))))))","v":""},{"$f":"IF($B18<>\"\",VLOOKUP($B18,Equipes!$A:$C,2,FALSE),\"\")","v":""},{"$f":"IF($B18<>\"\",VLOOKUP($B18,Equipes!$A:$C,3,FALSE),\"\")","v":""},null,{"$f":"IF(Equipes!$L$3=\"\",\"\",IF(Equipes!$K$1=32,IF(L18<>\"\",L18,\"\"),IF('32eme'!$K$1=0,\"\",IF(ROW()>$L$1,\"\",IF(OFFSET('32eme'!$A$1,(ROW()-2)*2+1,9)=\"\",\"\",IF(OFFSET('32eme'!$A$1,(ROW()-2)*2+1,9)>0,OFFSET('32eme'!$A$1,(ROW()-2)*2+1,1),OFFSET('32eme'!$A$1,(ROW()-2)*2+1,5)))))))","v":""},{"$f":"IF($F18<>\"\",IF(VLOOKUP($F18,Equipes!$A:$C,2,FALSE)=\"\",\"\",VLOOKUP($F18,Equipes!$A:$C,2,FALSE)),\"\")","v":""},{"$f":"IF($F18<>\"\",IF(VLOOKUP($F18,Equipes!$A:$C,3,FALSE)=\"\",\"\",VLOOKUP($F18,Equipes!$A:$C,3,FALSE)),\"\")","v":""},null,{"$f":"IF(C18<>\"\",IF(G18<>\"\",IF(E18<>\"\",E18-I18,\"\"),6),\"\")","v":""},null,null,"",{"$f":"IF(AND(B18<>\"\",F18<>\"\"),IF(AND(VLOOKUP(B18,Equipes!A$4:R$67,14,FALSE)<>1,VLOOKUP(F18,Equipes!A$4:R$67,14,FALSE)<>1,ISERROR(VLOOKUP(1,A$2:A17,1,FALSE))),1,IF(AND(VLOOKUP(B18,Equipes!A$4:R$67,14,FALSE)<>2,VLOOKUP(F18,Equipes!A$4:R$67,14,FALSE)<>2,ISERROR(VLOOKUP(2,A$2:A17,1,FALSE))),2,IF(AND(VLOOKUP(B18,Equipes!A$4:R$67,14,FALSE)<>3,VLOOKUP(F18,Equipes!A$4:R$67,14,FALSE)<>3,ISERROR(VLOOKUP(3,A$2:A17,1,FALSE))),3,IF(AND(VLOOKUP(B18,Equipes!A$4:R$67,14,FALSE)<>4,VLOOKUP(F18,Equipes!A$4:R$67,14,FALSE)<>4,ISERROR(VLOOKUP(4,A$2:A17,1,FALSE))),4,\"\")))),\"\")","v":""},{"$f":"IF(AND(B18<>\"\",F18<>\"\",N18=\"\"),IF(AND(VLOOKUP(B18,Equipes!A$4:R$67,14,FALSE)<>5,VLOOKUP(F18,Equipes!A$4:R$67,14,FALSE)<>5,ISERROR(VLOOKUP(5,A$2:A17,1,FALSE))),5,IF(AND(VLOOKUP(B18,Equipes!A$4:R$67,14,FALSE)<>6,VLOOKUP(F18,Equipes!A$4:R$67,14,FALSE)<>6,ISERROR(VLOOKUP(6,A$2:A17,1,FALSE))),6,IF(AND(VLOOKUP(B18,Equipes!A$4:R$67,14,FALSE)<>7,VLOOKUP(F18,Equipes!A$4:R$67,14,FALSE)<>7,ISERROR(VLOOKUP(7,A$2:A17,1,FALSE))),7,IF(AND(VLOOKUP(B18,Equipes!A$4:R$67,14,FALSE)<>8,VLOOKUP(F18,Equipes!A$4:R$67,14,FALSE)<>8,ISERROR(VLOOKUP(8,A$2:A17,1,FALSE))),8,\"\")))),\"\")","v":""},{"$f":"IF(AND(B18<>\"\",F18<>\"\",N18=\"\",O18=\"\"),IF(AND(VLOOKUP(B18,Equipes!A$4:R$67,14,FALSE)<>9,VLOOKUP(F18,Equipes!A$4:R$67,14,FALSE)<>9,ISERROR(VLOOKUP(9,A$2:A17,1,FALSE))),9,IF(AND(VLOOKUP(B18,Equipes!A$4:R$67,14,FALSE)<>10,VLOOKUP(F18,Equipes!A$4:R$67,14,FALSE)<>10,ISERROR(VLOOKUP(10,A$2:A17,1,FALSE))),10,IF(AND(VLOOKUP(B18,Equipes!A$4:R$67,14,FALSE)<>11,VLOOKUP(F18,Equipes!A$4:R$67,14,FALSE)<>11,ISERROR(VLOOKUP(11,A$2:A17,1,FALSE))),11,IF(AND(VLOOKUP(B18,Equipes!A$4:R$67,14,FALSE)<>12,VLOOKUP(F18,Equipes!A$4:R$67,14,FALSE)<>12,ISERROR(VLOOKUP(12,A$2:A17,1,FALSE))),12,\"\")))),\"\")","v":""},{"$f":"IF(AND(B18<>\"\",F18<>\"\",N18=\"\",O18=\"\",P18=\"\"),IF(AND(VLOOKUP(B18,Equipes!A$4:R$67,14,FALSE)<>13,VLOOKUP(F18,Equipes!A$4:R$67,14,FALSE)<>13,ISERROR(VLOOKUP(13,A$2:A17,1,FALSE))),13,IF(AND(VLOOKUP(B18,Equipes!A$4:R$67,14,FALSE)<>14,VLOOKUP(F18,Equipes!A$4:R$67,14,FALSE)<>14,ISERROR(VLOOKUP(14,A$2:A17,1,FALSE))),14,IF(AND(VLOOKUP(B18,Equipes!A$4:R$67,14,FALSE)<>15,VLOOKUP(F18,Equipes!A$4:R$67,14,FALSE)<>15,ISERROR(VLOOKUP(15,A$2:A17,1,FALSE))),15,16))),\"\")","v":""}]

{"sheet":"8eme","index":3,"n_rows":10,"n_cols":16,"rows_kept":10,"cut":false,"hidden":true,"merged":[[0,1,0,4],[0,5,0,8]]}
[null,null,null,null,null,null,null,null,null,{"$f":"IF(Equipes!K1=32,Equipes!K2,0)","v":0},{"$f":"SUM(E:E)+SUM(I:I)","v":0},{"$f":"10-IF($J$1/2=INT($J$1/2),INT($J$1/2),INT($J$1/2+1))","v":10},{"$f":"L1*2-3","v":17}]
["Jeu","N°","Nom","Société","Points faits (*)","N°","Nom","Société","Points faits (*)",null,null,null,null,null,null,"(*) ne pas renseigner de score pour les parties d'office"]
[{"$f":"IF(N3<>\"\",N3,IF(O3<>\"\",O3,IF(P3<>\"\",P3,IF(Q3<>\"\",Q3,\"\"))))","v":""},{"$f":"IF(Equipes!$L$3=\"\",\"\",IF(Equipes!$K$1=16,IF(K3<>\"\",K3,\"\"),IF('16eme'!$K$1=0,\"\",IF(ROW()>$L$1,IF(OFFSET('16eme'!$A$1,ROW()-$L$1+$M$1,1)=\"\",\"\",IF(OFFSET('16eme'!$A$1,ROW()-$L$1+$M$1,9)=\"\",\"\",IF(OFFSET('16eme'!$A$1,ROW()-$L$1+$M$1,9)>0,OFFSET('16eme'!$A$1,ROW()-$L$1+$M$1,1),OFFSET('16eme'!$A$1,ROW()-$L$1+$M$1,5)))),IF(OFFSET('16eme'!$A$1,(ROW()-2)*2,1)=\"\",\"\",IF(OFFSET('16eme'!$A$1,(ROW()-2)*2,9)=\"\",\"\",IF(OFFSET('16eme'!$A$1,(ROW()-2)*2,9)>0,OFFSET('16eme'!$A$1,(ROW()-2)*2,1),OFFSET('16eme'!$A$1,(ROW()-2)*2,5))))))))","v":""},{"$f":"IF($B3<>\"\",VLOOKUP($B3,Equipes!$A:$C,2,FALSE),\"\")","v":""},{"$f":"IF($B3<>\"\",VLOOKUP($B3,Equipes!$A:$C,3,FALSE),\"\")","v":""},null,{"$f":"IF(Equipes!$L$3=\"\",\"\",IF(Equipes!$K$1=16,IF(L3<>\"\",L3,\"\"),IF('16eme'!$K$1=0,\"\",IF(ROW()>$L$1,\"\",IF(OFFSET('16eme'!$A$1,(ROW()-2)*2+1,9)=\"\",\"\",IF(OFFSET('16eme'!$A$1,(ROW()-2)*2+1,9)>0,OFFSET('16eme'!$A$1,(ROW()-2)*2+1,1),OFFSET('16eme'!$A$1,(ROW()-2)*2+1,5)))))))","v":""},{"$f":"IF($F3<>\"\",IF(VLOOKUP($F3,Equipes!$A:$C,2,FALSE)=\"\",\"\",VLOOKUP($F3,Equipes!$A:$C,2,FALSE)),\"\")","v":""},{"$f":"IF($F3<>\"\",IF(VLOOKUP($F3,Equipes!$A:$C,3,FALSE)=\"\",\"\",VLOOKUP($F3,Equipes!$A:$C,3,FALSE)),\"\")","v":""},null,{"$f":"IF(C3<>\"\",IF(G3<>\"\",IF(E3<>\"\",E3-I3,\"\"),6),\"\")","v":""},null,null,{"$f":"A3","v":""},{"$f":"IF(AND(B3<>\"\",F3<>\"\"),IF(AND(VLOOKUP(B3,Equipes!A$4:R$67,14,FALSE)<>1,VLOOKUP(F3,Equipes!A$4:R$67,14,FALSE)<>1,VLOOKUP(B3,Equipes!A$4:R$67,15,FALSE)<>1,VLOOKUP(F3,Equipes!A$4:R$67,15,FALSE)<>1,ISERROR(VLOOKUP(1,A$2:A2,1,FALSE))),1,IF(AND(VLOOKUP(B3,Equipes!A$4:R$67,14,FALSE)<>2,VLOOKUP(F3,Equipes!A$4:R$67,14,FALSE)<>2,VLOOKUP(B3,Equipes!A$4:R$67,15,FALSE)<>2,VLOOKUP(F3,Equipes!A$4:R$67,15,FALSE)<>2,ISERROR(VLOOKUP(2,A$2:A2,1,FALSE))),2,IF(AND(VLOOKUP(B3,Equipes!A$4:R$67,14,FALSE)<>3,VLOOKUP(F3,Equipes!A$4:R$67,14,FALSE)<>3,VLOOKUP(B3,Equipes!A$4:R$67,15,FALSE)<>3,VLOOKUP(F3,Equipes!A$4:R$67,15,FALSE)<>3,ISERROR(VLOOKUP(3,A$2:A2,1,FALSE))),3,IF(AND(VLOOKUP(B3,Equipes!A$4:R$67,14,FALSE)<>4,VLOOKUP(F3,Equipes!A$4:R$67,14,FALSE)<>4,VLOOKUP(B3,Equipes!A$4:R$67,15,FALSE)<>4,VLOOKUP(F3,Equipes!A$4:R$67,15,FALSE)<>4,ISERROR(VLOOKUP(4,A$2:A2,1,FALSE))),4,\"\")))),\"\")","v":""},{"$f":"IF(AND(B3<>\"\",F3<>\"\",N3=\"\"),IF(AND(VLOOKUP(B3,Equipes!A$4:R$67,14,FALSE)<>5,VLOOKUP(F3,Equipes!A$4:R$67,14,FALSE)<>5,VLOOKUP(B3,Equipes!A$4:R$67,15,FALSE)<>5,VLOOKUP(F3,Equipes!A$4:R$67,15,FALSE)<>5,ISERROR(VLOOKUP(5,A$2:A2,1,FALSE))),5,IF(AND(VLOOKUP(B3,Equipes!A$4:R$67,14,FALSE)<>6,VLOOKUP(F3,Equipes!A$4:R$67,14,FALSE)<>6,VLOOKUP(B3,Equipes!A$4:R$67,15,FALSE)<>6,VLOOKUP(F3,Equipes!A$4:R$67,15,FALSE)<>6,ISERROR(VLOOKUP(6,A$2:A2,1,FALSE))),6,IF(AND(VLOOKUP(B3,Equipes!A$4:R$67,14,FALSE)<>7,VLOOKUP(F3,Equipes!A$4:R$67,14,FALSE)<>7,VLOOKUP(B3,Equipes!A$4:R$67,15,FALSE)<>7,VLOOKUP(F3,Equipes!A$4:R$67,15,FALSE)<>7,ISERROR(VLOOKUP(7,A$2:A2,1,FALSE))),7,IF(AND(VLOOKUP(B3,Equipes!A$4:R$67,14,FALSE)<>8,VLOOKUP(F3,Equipes!A$4:R$67,14,FALSE)<>8,VLOOKUP(B3,Equipes!A$4:R$67,15,FALSE)<>8,VLOOKUP(F3,Equipes!A$4:R$67,15,FALSE)<>8,ISERROR(VLOOKUP(8,A$2:A2,1,FALSE))),8,\"\")))),\"\")","v":""}]
[{"$f":"IF(N4<>\"\",N4,IF(O4<>\"\",O4,IF(P4<>\"\",P4,IF(Q4<>\"\",Q4,\"\"))))","v":""},{"$f":"IF(Equipes!$L$3=\"\",\"\",IF(Equipes!$K$1=16,IF(K4<>\"\",K4,\"\"),IF('16eme'!$K$1=0,\"\",IF(ROW()>$L$1,IF(OFFSET('16eme'!$A$1,ROW()-$L$1+$M$1,1)=\"\",\"\",IF(OFFSET('16eme'!$A$1,ROW()-$L$1+$M$1,9)=\"\",\"\",IF(OFFSET('16eme'!$A$1,ROW()-$L$1+$M$1,9)>0,OFFSET('16eme'!$A$1,ROW()-$L$1+$M$1,1),OFFSET('16eme'!$A$1,ROW()-$L$1+$M$1,5)))),IF(OFFSET('16eme'!$A$1,(ROW()-2)*2,1)=\"\",\"\",IF(OFFSET('16eme'!$A$1,(ROW()-2)*2,9)=\"\",\"\",IF(OFFSET('16eme'!$A$1,(ROW()-2)*2,9)>0,OFFSET('16eme'!$A$1,(ROW()-2)*2,1),OFFSET('16eme'!$A$1,(ROW()-2)*2,5))))))))","v":""},{"$f":"IF($B4<>\"\",VLOOKUP($B4,Equipes!$A:$C,2,FALSE),\"\")","v":""},{"$f":"IF($B4<>\"\",VLOOKUP($B4,Equipes!$A:$C,3,FALSE),\"\")","v":""},null,{"$f":"IF(Equipes!$L$3=\"\",\"\",IF(Equipes!$K$1=16,IF(L4<>\"\",L4,\"\"),IF('16eme'!$K$1=0,\"\",IF(ROW()>$L$1,\"\",IF(OFFSET('16eme'!$A$1,(ROW()-2)*2+1,9)=\"\",\"\",IF(OFFSET('16eme'!$A$1,(ROW()-2)*2+1,9)>0,OFFSET('16eme'!$A$1,(ROW()-2)*2+1,1),OFFSET('16eme'!$A$1,(ROW()-2)*2+1,5)))))))","v":""},{"$f":"IF($F4<>\"\",IF(VLOOKUP($F4,Equipes!$A:$C,2,FALSE)=\"\",\"\",VLOOKUP($F4,Equipes!$A:$C,2,FALSE)),\"\")","v":""},{"$f":"IF($F4<>\"\",IF(VLOOKUP($F4,Equipes!$A:$C,3,FALSE)=\"\",\"\",VLOOKUP($F4,Equipes!$A:$C,3,FALSE)),\"\")","v":""},null,"",null,null,{"$f":"A4","v":""},{"$f":"IF(AND(B4<>\"\",F4<>\"\"),IF(AND(VLOOKUP(B4,Equipes!A$4:R$67,14,FALSE)<>1,VLOOKUP(F4,Equipes!A$4:R$67,14,FALSE)<>1,VLOOKUP(B4,Equipes!A$4:R$67,15,FALSE)<>1,VLOOKUP(F4,Equipes!A$4:R$67,15,FALSE)<>1,ISERROR(VLOOKUP(1,A$2:A3,1,FALSE))),1,IF(AND(VLOOKUP(B4,Equipes!A$4:R$67,14,FALSE)<>2,VLOOKUP(F4,Equipes!A$4:R$67,14,FALSE)<>2,VLOOKUP(B4,Equipes!A$4:R$67,15,FALSE)<>2,VLOOKUP(F4,Equipes!A$4:R$67,15,FALSE)<>2,ISERROR(VLOOKUP(2,A$2:A3,1,FALSE))),2,IF(AND(VLOOKUP(B4,Equipes!A$4:R$67,14,FALSE)<>3,VLOOKUP(F4,Equipes!A$4:R$67,14,FALSE)<>3,VLOOKUP(B4,Equipes!A$4:R$67,15,FALSE)<>3,VLOOKUP(F4,Equipes!A$4:R$67,15,FALSE)<>3,ISERROR(VLOOKUP(3,A$2:A3,1,FALSE))),3,IF(AND(VLOOKUP(B4,Equipes!A$4:R$67,14,FALSE)<>4,VLOOKUP(F4,Equipes!A$4:R$67,14,FALSE)<>4,VLOOKUP(B4,Equipes!A$4:R$67,15,FALSE)<>4,VLOOKUP(F4,Equipes!A$4:R$67,15,FALSE)<>4,ISERROR(VLOOKUP(4,A$2:A3,1,FALSE))),4,\"\")))),\"\")","v":""},{"$f":"IF(AND(B4<>\"\",F4<>\"\",N4=\"\"),IF(AND(VLOOKUP(B4,Equipes!A$4:R$67,14,FALSE)<>5,VLOOKUP(F4,Equipes!A$4:R$67,14,FALSE)<>5,VLOOKUP(B4,Equipes!A$4:R$67,15,FALSE)<>5,VLOOKUP(F4,Equipes!A$4:R$67,15,FALSE)<>5,ISERROR(VLOOKUP(5,A$2:A3,1,FALSE))),5,IF(AND(VLOOKUP(B4,Equipes!A$4:R$67,14,FALSE)<>6,VLOOKUP(F4,Equipes!A$4:R$67,14,FALSE)<>6,VLOOKUP(B4,Equipes!A$4:R$67,15,FALSE)<>6,VLOOKUP(F4,Equipes!A$4:R$67,15,FALSE)<>6,ISERROR(VLOOKUP(6,A$2:A3,1,FALSE))),6,IF(AND(VLOOKUP(B4,Equipes!A$4:R$67,14,FALSE)<>7,VLOOKUP(F4,Equipes!A$4:R$67,14,FALSE)<>7,VLOOKUP(B4,Equipes!A$4:R$67,15,FALSE)<>7,VLOOKUP(F4,Equipes!A$4:R$67,15,FALSE)<>7,ISERROR(VLOOKUP(7,A$2:A3,1,FALSE))),7,IF(AND(VLOOKUP(B4,Equipes!A$4:R$67,14,FALSE)<>8,VLOOKUP(F4,Equipes!A$4:R$67,14,FALSE)<>8,VLOOKUP(B4,Equipes!A$4:R$67,15,FALSE)<>8,VLOOKUP(F4,Equipes!A$4:R$67,15,FALSE)<>8,ISERROR(VLOOKUP(8,A$2:A3,1,FALSE))),8,\"\")))),\"\")","v":""}]
["",{"$f":"IF(Equipes!$L$3=\"\",\"\",IF(Equipes!$K$1=16,IF(K5<>\"\",K5,\"\"),IF('16eme'!$K$1=0,\"\",IF(ROW()>$L$1,IF(OFFSET('16eme'!$A$1,ROW()-$L$1+$M$1,1)=\"\",\"\",IF(OFFSET('16eme'!$A$1,ROW()-$L$1+$M$1,9)=\"\",\"\",IF(OFFSET('16eme'!$A$1,ROW()-$L$1+$M$1,9)>0,OFFSET('16eme'!$A$1,ROW()-$L$1+$M$1,1),OFFSET('16eme'!$A$1,ROW()-$L$1+$M$1,5)))),IF(OFFSET('16eme'!$A$1,(ROW()-2)*2,1)=\"\",\"\",IF(OFFSET('16eme'!$A$1,(ROW()-2)*2,9)=\"\",\"\",IF(OFFSET('16eme'!$A$1,(ROW()-2)*2,9)>0,OFFSET('16eme'!$A$1,(ROW()-2)*2,1),OFFSET('16eme'!$A$1,(ROW()-2)*2,5))))))))","v":""},{"$f":"IF($B5<>\"\",VLOOKUP($B5,Equipes!$A:$C,2,FALSE),\"\")","v":""},{"$f":"IF($B5<>\"\",VLOOKUP($B5,Equipes!$A:$C,3,FALSE),\"\")","v":""},null,{"$f":"IF(Equipes!$L$3=\"\",\"\",IF(Equipes!$K$1=16,IF(L5<>\"\",L5,\"\"),IF('16eme'!$K$1=0,\"\",IF(ROW()>$L$1,\"\",IF(OFFSET('16eme'!$A$1,(ROW()-2)*2+1,9)=\"\",\"\",IF(OFFSET('16eme'!$A$1,(ROW()-2)*2+1,9)>0,OFFSET('16eme'!$A$1,(ROW()-2)*2+1,1),OFFSET('16eme'!$A$1,(ROW()-2)*2+1,5)))))))","v":""},{"$f":"IF($F5<>\"\",IF(VLOOKUP($F5,Equipes!$A:$C,2,FALSE)=\"\",\"\",VLOOKUP($F5,Equipes!$A:$C,2,FALSE)),\"\")","v":""},{"$f":"IF($F5<>\"\",IF(VLOOKUP($F5,Equipes!$A:$C,3,FALSE)=\"\",\"\",VLOOKUP($F5,Equipes!$A:$C,3,FALSE)),\"\")","v":""},null,"",null,null,"",{"$f":"IF(AND(B5<>\"\",F5<>\"\"),IF(AND(VLOOKUP(B5,Equipes!A$4:R$67,14,FALSE)<>1,VLOOKUP(F5,Equipes!A$4:R$67,14,FALSE)<>1,VLOOKUP(B5,Equipes!A$4:R$67,15,FALSE)<>1,VLOOKUP(F5,Equipes!A$4:R$67,15,FALSE)<>1,ISERROR(VLOOKUP(1,A$2:A4,1,FALSE))),1,IF(AND(VLOOKUP(B5,Equipes!A$4:R$67,14,FALSE)<>2,VLOOKUP(F5,Equipes!A$4:R$67,14,FALSE)<>2,VLOOKUP(B5,Equipes!A$4:R$67,15,FALSE)<>2,VLOOKUP(F5,Equipes!A$4:R$67,15,FALSE)<>2,ISERROR(VLOOKUP(2,A$2:A4,1,FALSE))),2,IF(AND(VLOOKUP(B5,Equipes!A$4:R$67,14,FALSE)<>3,VLOOKUP(F5,Equipes!A$4:R$67,14,FALSE)<>3,VLOOKUP(B5,Equipes!A$4:R$67,15,FALSE)<>3,VLOOKUP(F5,Equipes!A$4:R$67,15,FALSE)<>3,ISERROR(VLOOKUP(3,A$2:A4,1,FALSE))),3,IF(AND(VLOOKUP(B5,Equipes!A$4:R$67,14,FALSE)<>4,VLOOKUP(F5,Equipes!A$4:R$67,14,FALSE)<>4,VLOOKUP(B5,Equipes!A$4:R$67,15,FALSE)<>4,VLOOKUP(F5,Equipes!A$4:R$67,15,FALSE)<>4,ISERROR(VLOOKUP(4,A$2:A4,1,FALSE))),4,\"\")))),\"\")","v":""},{"$f":"IF(AND(B5<>\"\",F5<>\"\",N5=\"\"),IF(AND(VLOOKUP(B5,Equipes!A$4:R$67,14,FALSE)<>5,VLOOKUP(F5,Equipes!A$4:R$67,14,FALSE)<>5,VLOOKUP(B5,Equipes!A$4:R$67,15,FALSE)<>5,VLOOKUP(F5,Equipes!A$4:R$67,15,FALSE)<>5,ISERROR(VLOOKUP(5,A$2:A4,1,FALSE))),5,IF(AND(VLOOKUP(B5,Equipes!A$4:R$67,14,FALSE)<>6,VLOOKUP(F5,Equipes!A$4:R$67,14,FALSE)<>6,VLOOKUP(B5,Equipes!A$4:R$67,15,FALSE)<>6,VLOOKUP(F5,Equipes!A$4:R$67,15,FALSE)<>6,ISERROR(VLOOKUP(6,A$2:A4,1,FALSE))),6,IF(AND(VLOOKUP(B5,Equipes!A$4:R$67,14,FALSE)<>7,VLOOKUP(F5,Equipes!A$4:R$67,14,FALSE)<>7,VLOOKUP(B5,Equipes!A$4:R$67,15,FALSE)<>7,VLOOKUP(F5,Equipes!A$4:R$67,15,FALSE)<>7,ISERROR(VLOOKUP(7,A$2:A4,1,FALSE))),7,IF(AND(VLOOKUP(B5,Equipes!A$4:R$67,14,FALSE)<>8,VLOOKUP(F5,Equipes!A$4:R$67,14,FALSE)<>8,VLOOKUP(B5,Equipes!A$4:R$67,15,FALSE)<>8,VLOOKUP(F5,Equipes!A$4:R$67,15,FALSE)<>8,ISERROR(VLOOKUP(8,A$2:A4,1,FALSE))),8,\"\")))),\"\")","v":""}]
["",{"$f":"IF(Equipes!$L$3=\"\",\"\",IF(Equipes!$K$1=16,IF(K6<>\"\",K6,\"\"),IF('16eme'!$K$1=0,\"\",IF(ROW()>$L$1,IF(OFFSET('16eme'!$A$1,ROW()-$L$1+$M$1,1)=\"\",\"\",IF(OFFSET('16eme'!$A$1,ROW()-$L$1+$M$1,9)=\"\",\"\",IF(OFFSET('16eme'!$A$1,ROW()-$L$1+$M$1,9)>0,OFFSET('16eme'!$A$1,ROW()-$L$1+$M$1,1),OFFSET('16eme'!$A$1,ROW()-$L$1+$M$1,5)))),IF(OFFSET('16eme'!$A$1,(ROW()-2)*2,1)=\"\",\"\",IF(OFFSET('16eme'!$A$1,(ROW()-2)*2,9)=\"\",\"\",IF(OFFSET('16eme'!$A$1,(ROW()-2)*2,9)>0,OFFSET('16eme'!$A$1,(ROW()-2)*2,1),OFFSET('16eme'!$A$1,(ROW()-2)*2,5))))))))","v":""},{"$f":"IF($B6<>\"\",VLOOKUP($B6,Equipes!$A:$C,2,FALSE),\"\")","v":""},{"$f":"IF($B6<>\"\",VLOOKUP($B6,Equipes!$A:$C,3,FALSE),\"\")","v":""},null,{"$f":"IF(Equipes!$L$3=\"\",\"\",IF(Equipes!$K$1=16,IF(L6<>\"\",L6,\"\"),IF('16eme'!$K$1=0,\"\",IF(ROW()>$L$1,\"\",IF(OFFSET('16eme'!$A$1,(ROW()-2)*2+1,9)=\"\",\"\",IF(OFFSET('16eme'!$A$1,(ROW()-2)*2+1,9)>0,OFFSET('16eme'!$A$1,(ROW()-2)*2+1,1),OFFSET('16eme'!$A$1,(ROW()-2)*2+1,5)))))))","v":""},{"$f":"IF($F6<>\"\",IF(VLOOKUP($F6,Equipes!$A:$C,2,FALSE)=\"\",\"\",VLOOKUP($F6,Equipes!$A:$C,2,FALSE)),\"\")","v":""},{"$f":"IF($F6<>\"\",IF(VLOOKUP($F6,Equipes!$A:$C,3,FALSE)=\"\",\"\",VLOOKUP($F6,Equipes!$A:$C,3,FALSE)),\"\")","v":""},null,"",null,null,"",{"$f":"IF(AND(B6<>\"\",F6<>\"\"),IF(AND(VLOOKUP(B6,Equipes!A$4:R$67,14,FALSE)<>1,VLOOKUP(F6,Equipes!A$4:R$67,14,FALSE)<>1,VLOOKUP(B6,Equipes!A$4:R$67,15,FALSE)<>1,VLOOKUP(F6,Equipes!A$4:R$67,15,FALSE)<>1,ISERROR(VLOOKUP(1,A$2:A5,1,FALSE))),1,IF(AND(VLOOKUP(B6,Equipes!A$4:R$67,14,FALSE)<>2,VLOOKUP(F6,Equipes!A$4:R$67,14,FALSE)<>2,VLOOKUP(B6,Equipes!A$4:R$67,15,FALSE)<>2,VLOOKUP(F6,Equipes!A$4:R$67,15,FALSE)<>2,ISERROR(VLOOKUP(2,A$2:A5,1,FALSE))),2,IF(AND(VLOOKUP(B6,Equipes!A$4:R$67,14,FALSE)<>3,VLOOKUP(F6,Equipes!A$4:R$67,14,FALSE)<>3,VLOOKUP(B6,Equipes!A$4:R$67,15,FALSE)<>3,VLOOKUP(F6,Equipes!A$4:R$67,15,FALSE)<>3,ISERROR(VLOOKUP(3,A$2:A5,1,FALSE))),3,IF(AND(VLOOKUP(B6,Equipes!A$4:R$67,14,FALSE)<>4,VLOOKUP(F6,Equipes!A$4:R$67,14,FALSE)<>4,VLOOKUP(B6,Equipes!A$4:R$67,15,FALSE)<>4,VLOOKUP(F6,Equipes!A$4:R$67,15,FALSE)<>4,ISERROR(VLOOKUP(4,A$2:A5,1,FALSE))),4,\"\")))),\"\")","v":""},{"$f":"IF(AND(B6<>\"\",F6<>\"\",N6=\"\"),IF(AND(VLOOKUP(B6,Equipes!A$4:R$67,14,FALSE)<>5,VLOOKUP(F6,Equipes!A$4:R$67,14,FALSE)<>5,VLOOKUP(B6,Equipes!A$4:R$67,15,FALSE)<>5,VLOOKUP(F6,Equipes!A$4:R$67,15,FALSE)<>5,ISERROR(VLOOKUP(5,A$2:A5,1,FALSE))),5,IF(AND(VLOOKUP(B6,Equipes!A$4:R$67,14,FALSE)<>6,VLOOKUP(F6,Equipes!A$4:R$67,14,FALSE)<>6,VLOOKUP(B6,Equipes!A$4:R$67,15,FALSE)<>6,VLOOKUP(F6,Equipes!A$4:R$67,15,FALSE)<>6,ISERROR(VLOOKUP(6,A$2:A5,1,FALSE))),6,IF(AND(VLOOKUP(B6,Equipes!A$4:R$67,14,FALSE)<>7,VLOOKUP(F6,Equipes!A$4:R$67,14,FALSE)<>7,VLOOKUP(B6,Equipes!A$4:R$67,15,FALSE)<>7,VLOOKUP(F6,Equipes!A$4:R$67,15,FALSE)<>7,ISERROR(VLOOKUP(7,A$2:A5,1,FALSE))),7,IF(AND(VLOOKUP(B6,Equipes!A$4:R$67,14,FALSE)<>8,VLOOKUP(F6,Equipes!A$4:R$67,14,FALSE)<>8,VLOOKUP(B6,Equipes!A$4:R$67,15,FALSE)<>8,VLOOKUP(F6,Equipes!A$4:R$67,15,FALSE)<>8,ISERROR(VLOOKUP(8,A$2:A5,1,FALSE))),8,\"\")))),\"\")","v":""}]
["",{"$f":"IF(Equipes!$L$3=\"\",\"\",IF(Equipes!$K$1=16,IF(K7<>\"\",K7,\"\"),IF('16eme'!$K$1=0,\"\",IF(ROW()>$L$1,IF(OFFSET('16eme'!$A$1,ROW()-$L$1+$M$1,1)=\"\",\"\",IF(OFFSET('16eme'!$A$1,ROW()-$L$1+$M$1,9)=\"\",\"\",IF(OFFSET('16eme'!$A$1,ROW()-$L$1+$M$1,9)>0,OFFSET('16eme'!$A$1,ROW()-$L$1+$M$1,1),OFFSET('16eme'!$A$1,ROW()-$L$1+$M$1,5)))),IF(OFFSET('16eme'!$A$1,(ROW()-2)*2,1)=\"\",\"\",IF(OFFSET('16eme'!$A$1,(ROW()-2)*2,9)=\"\",\"\",IF(OFFSET('16eme'!$A$1,(ROW()-2)*2,9)>0,OFFSET('16eme'!$A$1,(ROW()-2)*2,1),OFFSET('16eme'!$A$1,(ROW()-2)*2,5))))))))","v":""},{"$f":"IF($B7<>\"\",VLOOKUP($B7,Equipes!$A:$C,2,FALSE),\"\")","v":""},{"$f":"IF($B7<>\"\",VLOOKUP($B7,Equipes!$A:$C,3,FALSE),\"\")","v":""},null,{"$f":"IF(Equipes!$L$3=\"\",\"\",IF(Equipes!$K$1=16,IF(L7<>\"\",L7,\"\"),IF('16eme'!$K$1=0,\"\",IF(ROW()>$L$1,\"\",IF(OFFSET('16eme'!$A$1,(ROW()-2)*2+1,9)=\"\",\"\",IF(OFFSET('16eme'!$A$1,(ROW()-2)*2+1,9)>0,OFFSET('16eme'!$A$1,(ROW()-2)*2+1,1),OFFSET('16eme'!$A$1,(ROW()-2)*2+1,5)))))))","v":""},{"$f":"IF($F7<>\"\",IF(VLOOKUP($F7,Equipes!$A:$C,2,FALSE)=\"\",\"\",VLOOKUP($F7,Equipes!$A:$C,2,FALSE)),\"\")","v":""},{"$f":"IF($F7<>\"\",IF(VLOOKUP($F7,Equipes!$A:$C,3,FALSE)=\"\",\"\",VLOOKUP($F7,Equipes!$A:$C,3,FALSE)),\"\")","v":""},null,"",null,null,"",{"$f":"IF(AND(B7<>\"\",F7<>\"\"),IF(AND(VLOOKUP(B7,Equipes!A$4:R$67,14,FALSE)<>1,VLOOKUP(F7,Equipes!A$4:R$67,14,FALSE)<>1,VLOOKUP(B7,Equipes!A$4:R$67,15,FALSE)<>1,VLOOKUP(F7,Equipes!A$4:R$67,15,FALSE)<>1,ISERROR(VLOOKUP(1,A$2:A6,1,FALSE))),1,IF(AND(VLOOKUP(B7,Equipes!A$4:R$67,14,FALSE)<>2,VLOOKUP(F7,Equipes!A$4:R$67,14,FALSE)<>2,VLOOKUP(B7,Equipes!A$4:R$67,15,FALSE)<>2,VLOOKUP(F7,Equipes!A$4:R$67,15,FALSE)<>2,ISERROR(VLOOKUP(2,A$2:A6,1,FALSE))),2,IF(AND(VLOOKUP(B7,Equipes!A$4:R$67,14,FALSE)<>3,VLOOKUP(F7,Equipes!A$4:R$67,14,FALSE)<>3,VLOOKUP(B7,Equipes!A$4:R$67,15,FALSE)<>3,VLOOKUP(F7,Equipes!A$4:R$67,15,FALSE)<>3,ISERROR(VLOOKUP(3,A$2:A6,1,FALSE))),3,IF(AND(VLOOKUP(B7,Equipes!A$4:R$67,14,FALSE)<>4,VLOOKUP(F7,Equipes!A$4:R$67,14,FALSE)<>4,VLOOKUP(B7,Equipes!A$4:R$67,15,FALSE)<>4,VLOOKUP(F7,Equipes!A$4:R$67,15,FALSE)<>4,ISERROR(VLOOKUP(4,A$2:A6,1,FALSE))),4,\"\")))),\"\")","v":""},{"$f":"IF(AND(B7<>\"\",F7<>\"\",N7=\"\"),IF(AND(VLOOKUP(B7,Equipes!A$4:R$67,14,FALSE)<>5,VLOOKUP(F7,Equipes!A$4:R$67,14,FALSE)<>5,VLOOKUP(B7,Equipes!A$4:R$67,15,FALSE)<>5,VLOOKUP(F7,Equipes!A$4:R$67,15,FALSE)<>5,ISERROR(VLOOKUP(5,A$2:A6,1,FALSE))),5,IF(AND(VLOOKUP(B7,Equipes!A$4:R$67,14,FALSE)<>6,VLOOKUP(F7,Equipes!A$4:R$67,14,FALSE)<>6,VLOOKUP(B7,Equipes!A$4:R$67,15,FALSE)<>6,VLOOKUP(F7,Equipes!A$4:R$67,15,FALSE)<>6,ISERROR(VLOOKUP(6,A$2:A6,1,FALSE))),6,IF(AND(VLOOKUP(B7,Equipes!A$4:R$67,14,FALSE)<>7,VLOOKUP(F7,Equipes!A$4:R$67,14,FALSE)<>7,VLOOKUP(B7,Equipes!A$4:R$67,15,FALSE)<>7,VLOOKUP(F7,Equipes!A$4:R$67,15,FALSE)<>7,ISERROR(VLOOKUP(7,A$2:A6,1,FALSE))),7,IF(AND(VLOOKUP(B7,Equipes!A$4:R$67,14,FALSE)<>8,VLOOKUP(F7,Equipes!A$4:R$67,14,FALSE)<>8,VLOOKUP(B7,Equipes!A$4:R$67,15,FALSE)<>8,VLOOKUP(F7,Equipes!A$4:R$67,15,FALSE)<>8,ISERROR(VLOOKUP(8,A$2:A6,1,FALSE))),8,\"\")))),\"\")","v":""}]
["",{"$f":"IF(Equipes!$L$3=\"\",\"\",IF(Equipes!$K$1=16,IF(K8<>\"\",K8,\"\"),IF('16eme'!$K$1=0,\"\",IF(ROW()>$L$1,IF(OFFSET('16eme'!$A$1,ROW()-$L$1+$M$1,1)=\"\",\"\",IF(OFFSET('16eme'!$A$1,ROW()-$L$1+$M$1,9)=\"\",\"\",IF(OFFSET('16eme'!$A$1,ROW()-$L$1+$M$1,9)>0,OFFSET('16eme'!$A$1,ROW()-$L$1+$M$1,1),OFFSET('16eme'!$A$1,ROW()-$L$1+$M$1,5)))),IF(OFFSET('16eme'!$A$1,(ROW()-2)*2,1)=\"\",\"\",IF(OFFSET('16eme'!$A$1,(ROW()-2)*2,9)=\"\",\"\",IF(OFFSET('16eme'!$A$1,(ROW()-2)*2,9)>0,OFFSET('16eme'!$A$1,(ROW()-2)*2,1),OFFSET('16eme'!$A$1,(ROW()-2)*2,5))))))))","v":""},{"$f":"IF($B8<>\"\",VLOOKUP($B8,Equipes!$A:$C,2,FALSE),\"\")","v":""},{"$f":"IF($B8<>\"\",VLOOKUP($B8,Equipes!$A:$C,3,FALSE),\"\")","v":""},null,{"$f":"IF(Equipes!$L$3=\"\",\"\",IF(Equipes!$K$1=16,IF(L8<>\"\",L8,\"\"),IF('16eme'!$K$1=0,\"\",IF(ROW()>$L$1,\"\",IF(OFFSET('16eme'!$A$1,(ROW()-2)*2+1,9)=\"\",\"\",IF(OFFSET('16eme'!$A$1,(ROW()-2)*2+1,9)>0,OFFSET('16eme'!$A$1,(ROW()-2)*2+1,1),OFFSET('16eme'!$A$1,(ROW()-2)*2+1,5)))))))","v":""},{"$f":"IF($F8<>\"\",IF(VLOOKUP($F8,Equipes!$A:$C,2,FALSE)=\"\",\"\",VLOOKUP($F8,Equipes!$A:$C,2,FALSE)),\"\")","v":""},{"$f":"IF($F8<>\"\",IF(VLOOKUP($F8,Equipes!$A:$C,3,FALSE)=\"\",\"\",VLOOKUP($F8,Equipes!$A:$C,3,FALSE)),\"\")","v":""},null,"",null,null,"",{"$f":"IF(AND(B8<>\"\",F8<>\"\"),IF(AND(VLOOKUP(B8,Equipes!A$4:R$67,14,FALSE)<>1,VLOOKUP(F8,Equipes!A$4:R$67,14,FALSE)<>1,VLOOKUP(B8,Equipes!A$4:R$67,15,FALSE)<>1,VLOOKUP(F8,Equipes!A$4:R$67,15,FALSE)<>1,ISERROR(VLOOKUP(1,A$2:A7,1,FALSE))),1,IF(AND(VLOOKUP(B8,Equipes!A$4:R$67,14,FALSE)<>2,VLOOKUP(F8,Equipes!A$4:R$67,14,FALSE)<>2,VLOOKUP(B8,Equipes!A$4:R$67,15,FALSE)<>2,VLOOKUP(F8,Equipes!A$4:R$67,15,FALSE)<>2,ISERROR(VLOOKUP(2,A$2:A7,1,FALSE))),2,IF(AND(VLOOKUP(B8,Equipes!A$4:R$67,14,FALSE)<>3,VLOOKUP(F8,Equipes!A$4:R$67,14,FALSE)<>3,VLOOKUP(B8,Equipes!A$4:R$67,15,FALSE)<>3,VLOOKUP(F8,Equipes!A$4:R$67,15,FALSE)<>3,ISERROR(VLOOKUP(3,A$2:A7,1,FALSE))),3,IF(AND(VLOOKUP(B8,Equipes!A$4:R$67,14,FALSE)<>4,VLOOKUP(F8,Equipes!A$4:R$67,14,FALSE)<>4,VLOOKUP(B8,Equipes!A$4:R$67,15,FALSE)<>4,VLOOKUP(F8,Equipes!A$4:R$67,15,FALSE)<>4,ISERROR(VLOOKUP(4,A$2:A7,1,FALSE))),4,\"\")))),\"\")","v":""},{"$f":"IF(AND(B8<>\"\",F8<>\"\",N8=\"\"),IF(AND(VLOOKUP(B8,Equipes!A$4:R$67,14,FALSE)<>5,VLOOKUP(F8,Equipes!A$4:R$67,14,FALSE)<>5,VLOOKUP(B8,Equipes!A$4:R$67,15,FALSE)<>5,VLOOKUP(F8,Equipes!A$4:R$67,15,FALSE)<>5,ISERROR(VLOOKUP(5,A$2:A7,1,FALSE))),5,IF(AND(VLOOKUP(B8,Equipes!A$4:R$67,14,FALSE)<>6,VLOOKUP(F8,Equipes!A$4:R$67,14,FALSE)<>6,VLOOKUP(B8,Equipes!A$4:R$67,15,FALSE)<>6,VLOOKUP(F8,Equipes!A$4:R$67,15,FALSE)<>6,ISERROR(VLOOKUP(6,A$2:A7,1,FALSE))),6,IF(AND(VLOOKUP(B8,Equipes!A$4:R$67,14,FALSE)<>7,VLOOKUP(F8,Equipes!A$4:R$67,14,FALSE)<>7,VLOOKUP(B8,Equipes!A$4:R$67,15,FALSE)<>7,VLOOKUP(F8,Equipes!A$4:R$67,15,FALSE)<>7,ISERROR(VLOOKUP(7,A$2:A7,1,FALSE))),7,IF(AND(VLOOKUP(B8,Equipes!A$4:R$67,14,FALSE)<>8,VLOOKUP(F8,Equipes!A$4:R$67,14,FALSE)<>8,VLOOKUP(B8,Equipes!A$4:R$67,15,FALSE)<>8,VLOOKUP(F8,Equipes!A$4:R$67,15,FALSE)<>8,ISERROR(VLOOKUP(8,A$2:A7,1,FALSE))),8,\"\")))),\"\")","v":""}]
["",{"$f":"IF(Equipes!$L$3=\"\",\"\",IF(Equipes!$K$1=16,IF(K9<>\"\",K9,\"\"),IF('16eme'!$K$1=0,\"\",IF(ROW()>$L$1,IF(OFFSET('16eme'!$A$1,ROW()-$L$1+$M$1,1)=\"\",\"\",IF(OFFSET('16eme'!$A$1,ROW()-$L$1+$M$1,9)=\"\",\"\",IF(OFFSET('16eme'!$A$1,ROW()-$L$1+$M$1,9)>0,OFFSET('16eme'!$A$1,ROW()-$L$1+$M$1,1),OFFSET('16eme'!$A$1,ROW()-$L$1+$M$1,5)))),IF(OFFSET('16eme'!$A$1,(ROW()-2)*2,1)=\"\",\"\",IF(OFFSET('16eme'!$A$1,(ROW()-2)*2,9)=\"\",\"\",IF(OFFSET('16eme'!$A$1,(ROW()-2)*2,9)>0,OFFSET('16eme'!$A$1,(ROW()-2)*2,1),OFFSET('16eme'!$A$1,(ROW()-2)*2,5))))))))","v":""},{"$f":"IF($B9<>\"\",VLOOKUP($B9,Equipes!$A:$C,2,FALSE),\"\")","v":""},{"$f":"IF($B9<>\"\",VLOOKUP($B9,Equipes!$A:$C,3,FALSE),\"\")","v":""},null,{"$f":"IF(Equipes!$L$3=\"\",\"\",IF(Equipes!$K$1=16,IF(L9<>\"\",L9,\"\"),IF('16eme'!$K$1=0,\"\",IF(ROW()>$L$1,\"\",IF(OFFSET('16eme'!$A$1,(ROW()-2)*2+1,9)=\"\",\"\",IF(OFFSET('16eme'!$A$1,(ROW()-2)*2+1,9)>0,OFFSET('16eme'!$A$1,(ROW()-2)*2+1,1),OFFSET('16eme'!$A$1,(ROW()-2)*2+1,5)))))))","v":""},{"$f":"IF($F9<>\"\",IF(VLOOKUP($F9,Equipes!$A:$C,2,FALSE)=\"\",\"\",VLOOKUP($F9,Equipes!$A:$C,2,FALSE)),\"\")","v":""},{"$f":"IF($F9<>\"\",IF(VLOOKUP($F9,Equipes!$A:$C,3,FALSE)=\"\",\"\",VLOOKUP($F9,Equipes!$A:$C,3,FALSE)),\"\")","v":""},null,"",null,null,"",{"$f":"IF(AND(B9<>\"\",F9<>\"\"),IF(AND(VLOOKUP(B9,Equipes!A$4:R$67,14,FALSE)<>1,VLOOKUP(F9,Equipes!A$4:R$67,14,FALSE)<>1,VLOOKUP(B9,Equipes!A$4:R$67,15,FALSE)<>1,VLOOKUP(F9,Equipes!A$4:R$67,15,FALSE)<>1,ISERROR(VLOOKUP(1,A$2:A8,1,FALSE))),1,IF(AND(VLOOKUP(B9,Equipes!A$4:R$67,14,FALSE)<>2,VLOOKUP(F9,Equipes!A$4:R$67,14,FALSE)<>2,VLOOKUP(B9,Equipes!A$4:R$67,15,FALSE)<>2,VLOOKUP(F9,Equipes!A$4:R$67,15,FALSE)<>2,ISERROR(VLOOKUP(2,A$2:A8,1,FALSE))),2,IF(AND(VLOOKUP(B9,Equipes!A$4:R$67,14,FALSE)<>3,VLOOKUP(F9,Equipes!A$4:R$67,14,FALSE)<>3,VLOOKUP(B9,Equipes!A$4:R$67,15,FALSE)<>3,VLOOKUP(F9,Equipes!A$4:R$67,15,FALSE)<>3,ISERROR(VLOOKUP(3,A$2:A8,1,FALSE))),3,IF(AND(VLOOKUP(B9,Equipes!A$4:R$67,14,FALSE)<>4,VLOOKUP(F9,Equipes!A$4:R$67,14,FALSE)<>4,VLOOKUP(B9,Equipes!A$4:R$67,15,FALSE)<>4,VLOOKUP(F9,Equipes!A$4:R$67,15,FALSE)<>4,ISERROR(VLOOKUP(4,A$2:A8,1,FALSE))),4,\"\")))),\"\")","v":""},{"$f":"IF(AND(B9<>\"\",F9<>\"\",N9=\"\"),IF(AND(VLOOKUP(B9,Equipes!A$4:R$67,14,FALSE)<>5,VLOOKUP(F9,Equipes!A$4:R$67,14,FALSE)<>5,VLOOKUP(B9,Equipes!A$4:R$67,15,FALSE)<>5,VLOOKUP(F9,Equipes!A$4:R$67,15,FALSE)<>5,ISERROR(VLOOKUP(5,A$2:A8,1,FALSE))),5,IF(AND(VLOOKUP(B9,Equipes!A$4:R$67,14,FALSE)<>6,VLOOKUP(F9,Equipes!A$4:R$67,14,FALSE)<>6,VLOOKUP(B9,Equipes!A$4:R$67,15,FALSE)<>6,VLOOKUP(F9,Equipes!A$4:R$67,15,FALSE)<>6,ISERROR(VLOOKUP(6,A$2:A8,1,FALSE))),6,IF(AND(VLOOKUP(B9,Equipes!A$4:R$67,14,FALSE)<>7,VLOOKUP(F9,Equipes!A$4:R$67,14,FALSE)<>7,VLOOKUP(B9,Equipes!A$4:R$67,15,FALSE)<>7,VLOOKUP(F9,Equipes!A$4:R$67,15,FALSE)<>7,ISERROR(VLOOKUP(7,A$2:A8,1,FALSE))),7,IF(AND(VLOOKUP(B9,Equipes!A$4:R$67,14,FALSE)<>8,VLOOKUP(F9,Equipes!A$4:R$67,14,FALSE)<>8,VLOOKUP(B9,Equipes!A$4:R$67,15,FALSE)<>8,VLOOKUP(F9,Equipes!A$4:R$67,15,FALSE)<>8,ISERROR(VLOOKUP(8,A$2:A8,1,FALSE))),8,\"\")))),\"\")","v":""}]
["",{"$f":"IF(Equipes!$L$3=\"\",\"\",IF(Equipes!$K$1=16,IF(K10<>\"\",K10,\"\"),IF('16eme'!$K$1=0,\"\",IF(ROW()>$L$1,IF(OFFSET('16eme'!$A$1,ROW()-$L$1+$M$1,1)=\"\",\"\",IF(OFFSET('16eme'!$A$1,ROW()-$L$1+$M$1,9)=\"\",\"\",IF(OFFSET('16eme'!$A$1,ROW()-$L$1+$M$1,9)>0,OFFSET('16eme'!$A$1,ROW()-$L$1+$M$1,1),OFFSET('16eme'!$A$1,ROW()-$L$1+$M$1,5)))),IF(OFFSET('16eme'!$A$1,(ROW()-2)*2,1)=\"\",\"\",IF(OFFSET('16eme'!$A$1,(ROW()-2)*2,9)=\"\",\"\",IF(OFFSET('16eme'!$A$1,(ROW()-2)*2,9)>0,OFFSET('16eme'!$A$1,(ROW()-2)*2,1),OFFSET('16eme'!$A$1,(ROW()-2)*2,5))))))))","v":""},{"$f":"IF($B10<>\"\",VLOOKUP($B10,Equipes!$A:$C,2,FALSE),\"\")","v":""},{"$f":"IF($B10<>\"\",VLOOKUP($B10,Equipes!$A:$C,3,FALSE),\"\")","v":""},null,{"$f":"IF(Equipes!$L$3=\"\",\"\",IF(Equipes!$K$1=16,IF(L10<>\"\",L10,\"\"),IF('16eme'!$K$1=0,\"\",IF(ROW()>$L$1,\"\",IF(OFFSET('16eme'!$A$1,(ROW()-2)*2+1,9)=\"\",\"\",IF(OFFSET('16eme'!$A$1,(ROW()-2)*2+1,9)>0,OFFSET('16eme'!$A$1,(ROW()-2)*2+1,1),OFFSET('16eme'!$A$1,(ROW()-2)*2+1,5)))))))","v":""},{"$f":"IF($F10<>\"\",IF(VLOOKUP($F10,Equipes!$A:$C,2,FALSE)=\"\",\"\",VLOOKUP($F10,Equipes!$A:$C,2,FALSE)),\"\")","v":""},{"$f":"IF($F10<>\"\",IF(VLOOKUP($F10,Equipes!$A:$C,3,FALSE)=\"\",\"\",VLOOKUP($F10,Equipes!$A:$C,3,FALSE)),\"\")","v":""},null,"",null,null,"",{"$f":"IF(AND(B10<>\"\",F10<>\"\"),IF(AND(VLOOKUP(B10,Equipes!A$4:R$67,14,FALSE)<>1,VLOOKUP(F10,Equipes!A$4:R$67,14,FALSE)<>1,VLOOKUP(B10,Equipes!A$4:R$67,15,FALSE)<>1,VLOOKUP(F10,Equipes!A$4:R$67,15,FALSE)<>1,ISERROR(VLOOKUP(1,A$2:A9,1,FALSE))),1,IF(AND(VLOOKUP(B10,Equipes!A$4:R$67,14,FALSE)<>2,VLOOKUP(F10,Equipes!A$4:R$67,14,FALSE)<>2,VLOOKUP(B10,Equipes!A$4:R$67,15,FALSE)<>2,VLOOKUP(F10,Equipes!A$4:R$67,15,FALSE)<>2,ISERROR(VLOOKUP(2,A$2:A9,1,FALSE))),2,IF(AND(VLOOKUP(B10,Equipes!A$4:R$67,14,FALSE)<>3,VLOOKUP(F10,Equipes!A$4:R$67,14,FALSE)<>3,VLOOKUP(B10,Equipes!A$4:R$67,15,FALSE)<>3,VLOOKUP(F10,Equipes!A$4:R$67,15,FALSE)<>3,ISERROR(VLOOKUP(3,A$2:A9,1,FALSE))),3,IF(AND(VLOOKUP(B10,Equipes!A$4:R$67,14,FALSE)<>4,VLOOKUP(F10,Equipes!A$4:R$67,14,FALSE)<>4,VLOOKUP(B10,Equipes!A$4:R$67,15,FALSE)<>4,VLOOKUP(F10,Equipes!A$4:R$67,15,FALSE)<>4,ISERROR(VLOOKUP(4,A$2:A9,1,FALSE))),4,\"\")))),\"\")","v":""},{"$f":"IF(AND(B10<>\"\",F10<>\"\",N10=\"\"),IF(AND(VLOOKUP(B10,Equipes!A$4:R$67,14,FALSE)<>5,VLOOKUP(F10,Equipes!A$4:R$67,14,FALSE)<>5,VLOOKUP(B10,Equipes!A$4:R$67,15,FALSE)<>5,VLOOKUP(F10,Equipes!A$4:R$67,15,FALSE)<>5,ISERROR(VLOOKUP(5,A$2:A9,1,FALSE))),5,IF(AND(VLOOKUP(B10,Equipes!A$4:R$67,14,FALSE)<>6,VLOOKUP(F10,Equipes!A$4:R$67,14,FALSE)<>6,VLOOKUP(B10,Equipes!A$4:R$67,15,FALSE)<>6,VLOOKUP(F10,Equipes!A$4:R$67,15,FALSE)<>6,ISERROR(VLOOKUP(6,A$2:A9,1,FALSE))),6,IF(AND(VLOOKUP(B10,Equipes!A$4:R$67,14,FALSE)<>7,VLOOKUP(F10,Equipes!A$4:R$67,14,FALSE)<>7,VLOOKUP(B10,Equipes!A$4:R$67,15,FALSE)<>7,VLOOKUP(F10,Equipes!A$4:R$67,15,FALSE)<>7,ISERROR(VLOOKUP(7,A$2:A9,1,FALSE))),7,IF(AND(VLOOKUP(B10,Equipes!A$4:R$67,14,FALSE)<>8,VLOOKUP(F10,Equipes!A$4:R$67,14,FALSE)<>8,VLOOKUP(B10,Equipes!A$4:R$67,15,FALSE)<>8,VLOOKUP(F10,Equipes!A$4:R$67,15,FALSE)<>8,ISERROR(VLOOKUP(8,A$2:A9,1,FALSE))),8,\"\")))),\"\")","v":""}]

{"sheet":"quart","index":4,"n_rows":6,"n_cols":16,"rows_kept":6,"cut":false,"hidden":false,"merged":[[0,1,0,4],[0,5,0,8]]}
[null,null,null,null,null,null,null,null,null,{"$f":"IF(Equipes!K1=16,Equipes!K2,0)","v":0},{"$f":"SUM(E:E)+SUM(I:I)","v":0},{"$f":"6--IF($J$1/2=INT($J$1/2),INT($J$1/2),INT($J$1/2+1))","v":6},{"$f":"L1*2-3","v":9}]
["Jeu","N°","Nom","Société","Points faits (*)","N°","Nom","Société","Points faits (*)",null,null,null,null,null,null,"(*) ne pas renseigner de score pour les parties d'office"]
[{"$f":"IF(N3<>\"\",N3,IF(O3<>\"\",O3,IF(P3<>\"\",P3,IF(Q3<>\"\",Q3,\"\"))))","v":""},{"$f":"IF(Equipes!$L$3=\"\",\"\",IF(Equipes!$K$1=8,IF(K3<>\"\",K3,\"\"),IF('8eme'!$K$1=0,\"\",IF(ROW()>$L$1,IF(OFFSET('8eme'!$A$1,ROW()-$L$1+$M$1,1)=\"\",\"\",IF(OFFSET('8eme'!$A$1,ROW()-$L$1+$M$1,9)=\"\",\"\",IF(OFFSET('8eme'!$A$1,ROW()-$L$1+$M$1,9)>0,OFFSET('8eme'!$A$1,ROW()-$L$1+$M$1,1),OFFSET('8eme'!$A$1,ROW()-$L$1+$M$1,5)))),IF(OFFSET('8eme'!$A$1,(ROW()-2)*2,1)=\"\",\"\",IF(OFFSET('8eme'!$A$1,(ROW()-2)*2,9)=\"\",\"\",IF(OFFSET('8eme'!$A$1,(ROW()-2)*2,9)>0,OFFSET('8eme'!$A$1,(ROW()-2)*2,1),OFFSET('8eme'!$A$1,(ROW()-2)*2,5))))))))","v":""},{"$f":"IF($B3<>\"\",VLOOKUP($B3,Equipes!$A:$C,2,FALSE),\"\")","v":""},{"$f":"IF($B3<>\"\",VLOOKUP($B3,Equipes!$A:$C,3,FALSE),\"\")","v":""},null,{"$f":"IF(Equipes!$L$3=\"\",\"\",IF(Equipes!$K$1=8,IF(L3<>\"\",L3,\"\"),IF('8eme'!$K$1=0,\"\",IF(ROW()>$L$1,\"\",IF(OFFSET('8eme'!$A$1,(ROW()-2)*2+1,9)=\"\",\"\",IF(OFFSET('8eme'!$A$1,(ROW()-2)*2+1,9)>0,OFFSET('8eme'!$A$1,(ROW()-2)*2+1,1),OFFSET('8eme'!$A$1,(ROW()-2)*2+1,5)))))))","v":""},{"$f":"IF($F3<>\"\",IF(VLOOKUP($F3,Equipes!$A:$C,2,FALSE)=\"\",\"\",VLOOKUP($F3,Equipes!$A:$C,2,FALSE)),\"\")","v":""},{"$f":"IF($F3<>\"\",IF(VLOOKUP($F3,Equipes!$A:$C,3,FALSE)=\"\",\"\",VLOOKUP($F3,Equipes!$A:$C,3,FALSE)),\"\")","v":""},null,{"$f":"IF(C3<>\"\",IF(G3<>\"\",IF(E3<>\"\",E3-I3,\"\"),6),\"\")","v":""},null,null,{"$f":"A3","v":""},{"$f":"IF(AND(B3<>\"\",F3<>\"\"),IF(AND(VLOOKUP(B3,Equipes!A$4:R$67,14,FALSE)<>1,VLOOKUP(F3,Equipes!A$4:R$67,14,FALSE)<>1,VLOOKUP(B3,Equipes!A$4:R$67,15,FALSE)<>1,VLOOKUP(F3,Equipes!A$4:R$67,15,FALSE)<>1,VLOOKUP(B3,Equipes!A$4:R$67,16,FALSE)<>1,VLOOKUP(F3,Equipes!A$4:R$67,16,FALSE)<>1,ISERROR(VLOOKUP(1,A$2:A2,1,FALSE))),1,IF(AND(VLOOKUP(B3,Equipes!A$4:R$67,14,FALSE)<>2,VLOOKUP(F3,Equipes!A$4:R$67,14,FALSE)<>2,VLOOKUP(B3,Equipes!A$4:R$67,15,FALSE)<>2,VLOOKUP(F3,Equipes!A$4:R$67,15,FALSE)<>2,VLOOKUP(B3,Equipes!A$4:R$67,16,FALSE)<>2,VLOOKUP(F3,Equipes!A$4:R$67,16,FALSE)<>2,ISERROR(VLOOKUP(2,A$2:A2,1,FALSE))),2,IF(AND(VLOOKUP(B3,Equipes!A$4:R$67,14,FALSE)<>3,VLOOKUP(F3,Equipes!A$4:R$67,14,FALSE)<>3,VLOOKUP(B3,Equipes!A$4:R$67,15,FALSE)<>3,VLOOKUP(F3,Equipes!A$4:R$67,15,FALSE)<>3,VLOOKUP(B3,Equipes!A$4:R$67,16,FALSE)<>3,VLOOKUP(F3,Equipes!A$4:R$67,16,FALSE)<>3,ISERROR(VLOOKUP(3,A$2:A2,1,FALSE))),3,IF(AND(VLOOKUP(B3,Equipes!A$4:R$67,14,FALSE)<>4,VLOOKUP(F3,Equipes!A$4:R$67,14,FALSE)<>4,VLOOKUP(B3,Equipes!A$4:R$67,15,FALSE)<>4,VLOOKUP(F3,Equipes!A$4:R$67,15,FALSE)<>4,VLOOKUP(B3,Equipes!A$4:R$67,16,FALSE)<>4,VLOOKUP(F3,Equipes!A$4:R$67,16,FALSE)<>4,ISERROR(VLOOKUP(4,A$2:A2,1,FALSE))),4,\"\")))),\"\")","v":""},{"$f":"IF(AND(B3<>\"\",F3<>\"\",N3=\"\"),IF(AND(VLOOKUP(B3,Equipes!A$4:R$67,14,FALSE)<>5,VLOOKUP(F3,Equipes!A$4:R$67,14,FALSE)<>5,VLOOKUP(B3,Equipes!A$4:R$67,15,FALSE)<>5,VLOOKUP(F3,Equipes!A$4:R$67,15,FALSE)<>5,VLOOKUP(B3,Equipes!A$4:R$67,16,FALSE)<>5,VLOOKUP(F3,Equipes!A$4:R$67,16,FALSE)<>5,ISERROR(VLOOKUP(5,A$2:A2,1,FALSE))),5,IF(AND(VLOOKUP(B3,Equipes!A$4:R$67,14,FALSE)<>6,VLOOKUP(F3,Equipes!A$4:R$67,14,FALSE)<>6,VLOOKUP(B3,Equipes!A$4:R$67,15,FALSE)<>6,VLOOKUP(F3,Equipes!A$4:R$67,15,FALSE)<>6,VLOOKUP(B3,Equipes!A$4:R$67,16,FALSE)<>6,VLOOKUP(F3,Equipes!A$4:R$67,16,FALSE)<>6,ISERROR(VLOOKUP(6,A$2:A2,1,FALSE))),6,IF(AND(VLOOKUP(B3,Equipes!A$4:R$67,14,FALSE)<>7,VLOOKUP(F3,Equipes!A$4:R$67,14,FALSE)<>7,VLOOKUP(B3,Equipes!A$4:R$67,15,FALSE)<>7,VLOOKUP(F3,Equipes!A$4:R$67,15,FALSE)<>7,VLOOKUP(B3,Equipes!A$4:R$67,16,FALSE)<>7,VLOOKUP(F3,Equipes!A$4:R$67,16,FALSE)<>7,ISERROR(VLOOKUP(7,A$2:A2,1,FALSE))),7,IF(AND(VLOOKUP(B3,Equipes!A$4:R$67,14,FALSE)<>8,VLOOKUP(F3,Equipes!A$4:R$67,14,FALSE)<>8,VLOOKUP(B3,Equipes!A$4:R$67,15,FALSE)<>8,VLOOKUP(F3,Equipes!A$4:R$67,15,FALSE)<>8,ISERROR(VLOOKUP(8,A$2:A2,1,FALSE))),8,\"\")))),\"\")","v":""}]
[{"$f":"IF(N4<>\"\",N4,IF(O4<>\"\",O4,IF(P4<>\"\",P4,IF(Q4<>\"\",Q4,\"\"))))","v":""},{"$f":"IF(Equipes!$L$3=\"\",\"\",IF(Equipes!$K$1=8,IF(K4<>\"\",K4,\"\"),IF('8eme'!$K$1=0,\"\",IF(ROW()>$L$1,IF(OFFSET('8eme'!$A$1,ROW()-$L$1+$M$1,1)=\"\",\"\",IF(OFFSET('8eme'!$A$1,ROW()-$L$1+$M$1,9)=\"\",\"\",IF(OFFSET('8eme'!$A$1,ROW()-$L$1+$M$1,9)>0,OFFSET('8eme'!$A$1,ROW()-$L$1+$M$1,1),OFFSET('8eme'!$A$1,ROW()-$L$1+$M$1,5)))),IF(OFFSET('8eme'!$A$1,(ROW()-2)*2,1)=\"\",\"\",IF(OFFSET('8eme'!$A$1,(ROW()-2)*2,9)=\"\",\"\",IF(OFFSET('8eme'!$A$1,(ROW()-2)*2,9)>0,OFFSET('8eme'!$A$1,(ROW()-2)*2,1),OFFSET('8eme'!$A$1,(ROW()-2)*2,5))))))))","v":""},{"$f":"IF($B4<>\"\",VLOOKUP($B4,Equipes!$A:$C,2,FALSE),\"\")","v":""},{"$f":"IF($B4<>\"\",VLOOKUP($B4,Equipes!$A:$C,3,FALSE),\"\")","v":""},null,{"$f":"IF(Equipes!$L$3=\"\",\"\",IF(Equipes!$K$1=8,IF(L4<>\"\",L4,\"\"),IF('8eme'!$K$1=0,\"\",IF(ROW()>$L$1,\"\",IF(OFFSET('8eme'!$A$1,(ROW()-2)*2+1,9)=\"\",\"\",IF(OFFSET('8eme'!$A$1,(ROW()-2)*2+1,9)>0,OFFSET('8eme'!$A$1,(ROW()-2)*2+1,1),OFFSET('8eme'!$A$1,(ROW()-2)*2+1,5)))))))","v":""},{"$f":"IF($F4<>\"\",IF(VLOOKUP($F4,Equipes!$A:$C,2,FALSE)=\"\",\"\",VLOOKUP($F4,Equipes!$A:$C,2,FALSE)),\"\")","v":""},{"$f":"IF($F4<>\"\",IF(VLOOKUP($F4,Equipes!$A:$C,3,FALSE)=\"\",\"\",VLOOKUP($F4,Equipes!$A:$C,3,FALSE)),\"\")","v":""},null,{"$f":"IF(C4<>\"\",IF(G4<>\"\",IF(E4<>\"\",E4-I4,\"\"),6),\"\")","v":""},null,null,{"$f":"A4","v":""},{"$f":"IF(AND(B4<>\"\",F4<>\"\"),IF(AND(VLOOKUP(B4,Equipes!A$4:R$67,14,FALSE)<>1,VLOOKUP(F4,Equipes!A$4:R$67,14,FALSE)<>1,VLOOKUP(B4,Equipes!A$4:R$67,15,FALSE)<>1,VLOOKUP(F4,Equipes!A$4:R$67,15,FALSE)<>1,VLOOKUP(B4,Equipes!A$4:R$67,16,FALSE)<>1,VLOOKUP(F4,Equipes!A$4:R$67,16,FALSE)<>1,ISERROR(VLOOKUP(1,A$2:A3,1,FALSE))),1,IF(AND(VLOOKUP(B4,Equipes!A$4:R$67,14,FALSE)<>2,VLOOKUP(F4,Equipes!A$4:R$67,14,FALSE)<>2,VLOOKUP(B4,Equipes!A$4:R$67,15,FALSE)<>2,VLOOKUP(F4,Equipes!A$4:R$67,15,FALSE)<>2,VLOOKUP(B4,Equipes!A$4:R$67,16,FALSE)<>2,VLOOKUP(F4,Equipes!A$4:R$67,16,FALSE)<>2,ISERROR(VLOOKUP(2,A$2:A3,1,FALSE))),2,IF(AND(VLOOKUP(B4,Equipes!A$4:R$67,14,FALSE)<>3,VLOOKUP(F4,Equipes!A$4:R$67,14,FALSE)<>3,VLOOKUP(B4,Equipes!A$4:R$67,15,FALSE)<>3,VLOOKUP(F4,Equipes!A$4:R$67,15,FALSE)<>3,VLOOKUP(B4,Equipes!A$4:R$67,16,FALSE)<>3,VLOOKUP(F4,Equipes!A$4:R$67,16,FALSE)<>3,ISERROR(VLOOKUP(3,A$2:A3,1,FALSE))),3,IF(AND(VLOOKUP(B4,Equipes!A$4:R$67,14,FALSE)<>4,VLOOKUP(F4,Equipes!A$4:R$67,14,FALSE)<>4,VLOOKUP(B4,Equipes!A$4:R$67,15,FALSE)<>4,VLOOKUP(F4,Equipes!A$4:R$67,15,FALSE)<>4,VLOOKUP(B4,Equipes!A$4:R$67,16,FALSE)<>4,VLOOKUP(F4,Equipes!A$4:R$67,16,FALSE)<>4,ISERROR(VLOOKUP(4,A$2:A3,1,FALSE))),4,\"\")))),\"\")","v":""},{"$f":"IF(AND(B4<>\"\",F4<>\"\",N4=\"\"),IF(AND(VLOOKUP(B4,Equipes!A$4:R$67,14,FALSE)<>5,VLOOKUP(F4,Equipes!A$4:R$67,14,FALSE)<>5,VLOOKUP(B4,Equipes!A$4:R$67,15,FALSE)<>5,VLOOKUP(F4,Equipes!A$4:R$67,15,FALSE)<>5,VLOOKUP(B4,Equipes!A$4:R$67,16,FALSE)<>5,VLOOKUP(F4,Equipes!A$4:R$67,16,FALSE)<>5,ISERROR(VLOOKUP(5,A$2:A3,1,FALSE))),5,IF(AND(VLOOKUP(B4,Equipes!A$4:R$67,14,FALSE)<>6,VLOOKUP(F4,Equipes!A$4:R$67,14,FALSE)<>6,VLOOKUP(B4,Equipes!A$4:R$67,15,FALSE)<>6,VLOOKUP(F4,Equipes!A$4:R$67,15,FALSE)<>6,VLOOKUP(B4,Equipes!A$4:R$67,16,FALSE)<>6,VLOOKUP(F4,Equipes!A$4:R$67,16,FALSE)<>6,ISERROR(VLOOKUP(6,A$2:A3,1,FALSE))),6,IF(AND(VLOOKUP(B4,Equipes!A$4:R$67,14,FALSE)<>7,VLOOKUP(F4,Equipes!A$4:R$67,14,FALSE)<>7,VLOOKUP(B4,Equipes!A$4:R$67,15,FALSE)<>7,VLOOKUP(F4,Equipes!A$4:R$67,15,FALSE)<>7,VLOOKUP(B4,Equipes!A$4:R$67,16,FALSE)<>7,VLOOKUP(F4,Equipes!A$4:R$67,16,FALSE)<>7,ISERROR(VLOOKUP(7,A$2:A3,1,FALSE))),7,IF(AND(VLOOKUP(B4,Equipes!A$4:R$67,14,FALSE)<>8,VLOOKUP(F4,Equipes!A$4:R$67,14,FALSE)<>8,VLOOKUP(B4,Equipes!A$4:R$67,15,FALSE)<>8,VLOOKUP(F4,Equipes!A$4:R$67,15,FALSE)<>8,ISERROR(VLOOKUP(8,A$2:A3,1,FALSE))),8,\"\")))),\"\")","v":""}]
["",{"$f":"IF(Equipes!$L$3=\"\",\"\",IF(Equipes!$K$1=8,IF(K5<>\"\",K5,\"\"),IF('8eme'!$K$1=0,\"\",IF(ROW()>$L$1,IF(OFFSET('8eme'!$A$1,ROW()-$L$1+$M$1,1)=\"\",\"\",IF(OFFSET('8eme'!$A$1,ROW()-$L$1+$M$1,9)=\"\",\"\",IF(OFFSET('8eme'!$A$1,ROW()-$L$1+$M$1,9)>0,OFFSET('8eme'!$A$1,ROW()-$L$1+$M$1,1),OFFSET('8eme'!$A$1,ROW()-$L$1+$M$1,5)))),IF(OFFSET('8eme'!$A$1,(ROW()-2)*2,1)=\"\",\"\",IF(OFFSET('8eme'!$A$1,(ROW()-2)*2,9)=\"\",\"\",IF(OFFSET('8eme'!$A$1,(ROW()-2)*2,9)>0,OFFSET('8eme'!$A$1,(ROW()-2)*2,1),OFFSET('8eme'!$A$1,(ROW()-2)*2,5))))))))","v":""},{"$f":"IF($B5<>\"\",VLOOKUP($B5,Equipes!$A:$C,2,FALSE),\"\")","v":""},{"$f":"IF($B5<>\"\",VLOOKUP($B5,Equipes!$A:$C,3,FALSE),\"\")","v":""},null,{"$f":"IF(Equipes!$L$3=\"\",\"\",IF(Equipes!$K$1=8,IF(L5<>\"\",L5,\"\"),IF('8eme'!$K$1=0,\"\",IF(ROW()>$L$1,\"\",IF(OFFSET('8eme'!$A$1,(ROW()-2)*2+1,9)=\"\",\"\",IF(OFFSET('8eme'!$A$1,(ROW()-2)*2+1,9)>0,OFFSET('8eme'!$A$1,(ROW()-2)*2+1,1),OFFSET('8eme'!$A$1,(ROW()-2)*2+1,5)))))))","v":""},{"$f":"IF($F5<>\"\",IF(VLOOKUP($F5,Equipes!$A:$C,2,FALSE)=\"\",\"\",VLOOKUP($F5,Equipes!$A:$C,2,FALSE)),\"\")","v":""},{"$f":"IF($F5<>\"\",IF(VLOOKUP($F5,Equipes!$A:$C,3,FALSE)=\"\",\"\",VLOOKUP($F5,Equipes!$A:$C,3,FALSE)),\"\")","v":""},null,{"$f":"IF(C5<>\"\",IF(G5<>\"\",IF(E5<>\"\",E5-I5,\"\"),6),\"\")","v":""},null,null,{"$f":"A5","v":""},{"$f":"IF(AND(B5<>\"\",F5<>\"\"),IF(AND(VLOOKUP(B5,Equipes!A$4:R$67,14,FALSE)<>1,VLOOKUP(F5,Equipes!A$4:R$67,14,FALSE)<>1,VLOOKUP(B5,Equipes!A$4:R$67,15,FALSE)<>1,VLOOKUP(F5,Equipes!A$4:R$67,15,FALSE)<>1,VLOOKUP(B5,Equipes!A$4:R$67,16,FALSE)<>1,VLOOKUP(F5,Equipes!A$4:R$67,16,FALSE)<>1,ISERROR(VLOOKUP(1,A$2:A4,1,FALSE))),1,IF(AND(VLOOKUP(B5,Equipes!A$4:R$67,14,FALSE)<>2,VLOOKUP(F5,Equipes!A$4:R$67,14,FALSE)<>2,VLOOKUP(B5,Equipes!A$4:R$67,15,FALSE)<>2,VLOOKUP(F5,Equipes!A$4:R$67,15,FALSE)<>2,VLOOKUP(B5,Equipes!A$4:R$67,16,FALSE)<>2,VLOOKUP(F5,Equipes!A$4:R$67,16,FALSE)<>2,ISERROR(VLOOKUP(2,A$2:A4,1,FALSE))),2,IF(AND(VLOOKUP(B5,Equipes!A$4:R$67,14,FALSE)<>3,VLOOKUP(F5,Equipes!A$4:R$67,14,FALSE)<>3,VLOOKUP(B5,Equipes!A$4:R$67,15,FALSE)<>3,VLOOKUP(F5,Equipes!A$4:R$67,15,FALSE)<>3,VLOOKUP(B5,Equipes!A$4:R$67,16,FALSE)<>3,VLOOKUP(F5,Equipes!A$4:R$67,16,FALSE)<>3,ISERROR(VLOOKUP(3,A$2:A4,1,FALSE))),3,IF(AND(VLOOKUP(B5,Equipes!A$4:R$67,14,FALSE)<>4,VLOOKUP(F5,Equipes!A$4:R$67,14,FALSE)<>4,VLOOKUP(B5,Equipes!A$4:R$67,15,FALSE)<>4,VLOOKUP(F5,Equipes!A$4:R$67,15,FALSE)<>4,VLOOKUP(B5,Equipes!A$4:R$67,16,FALSE)<>4,VLOOKUP(F5,Equipes!A$4:R$67,16,FALSE)<>4,ISERROR(VLOOKUP(4,A$2:A4,1,FALSE))),4,\"\")))),\"\")","v":""},{"$f":"IF(AND(B5<>\"\",F5<>\"\",N5=\"\"),IF(AND(VLOOKUP(B5,Equipes!A$4:R$67,14,FALSE)<>5,VLOOKUP(F5,Equipes!A$4:R$67,14,FALSE)<>5,VLOOKUP(B5,Equipes!A$4:R$67,15,FALSE)<>5,VLOOKUP(F5,Equipes!A$4:R$67,15,FALSE)<>5,VLOOKUP(B5,Equipes!A$4:R$67,16,FALSE)<>5,VLOOKUP(F5,Equipes!A$4:R$67,16,FALSE)<>5,ISERROR(VLOOKUP(5,A$2:A4,1,FALSE))),5,IF(AND(VLOOKUP(B5,Equipes!A$4:R$67,14,FALSE)<>6,VLOOKUP(F5,Equipes!A$4:R$67,14,FALSE)<>6,VLOOKUP(B5,Equipes!A$4:R$67,15,FALSE)<>6,VLOOKUP(F5,Equipes!A$4:R$67,15,FALSE)<>6,VLOOKUP(B5,Equipes!A$4:R$67,16,FALSE)<>6,VLOOKUP(F5,Equipes!A$4:R$67,16,FALSE)<>6,ISERROR(VLOOKUP(6,A$2:A4,1,FALSE))),6,IF(AND(VLOOKUP(B5,Equipes!A$4:R$67,14,FALSE)<>7,VLOOKUP(F5,Equipes!A$4:R$67,14,FALSE)<>7,VLOOKUP(B5,Equipes!A$4:R$67,15,FALSE)<>7,VLOOKUP(F5,Equipes!A$4:R$67,15,FALSE)<>7,VLOOKUP(B5,Equipes!A$4:R$67,16,FALSE)<>7,VLOOKUP(F5,Equipes!A$4:R$67,16,FALSE)<>7,ISERROR(VLOOKUP(7,A$2:A4,1,FALSE))),7,IF(AND(VLOOKUP(B5,Equipes!A$4:R$67,14,FALSE)<>8,VLOOKUP(F5,Equipes!A$4:R$67,14,FALSE)<>8,VLOOKUP(B5,Equipes!A$4:R$67,15,FALSE)<>8,VLOOKUP(F5,Equipes!A$4:R$67,15,FALSE)<>8,ISERROR(VLOOKUP(8,A$2:A4,1,FALSE))),8,\"\")))),\"\")","v":""}]
["",{"$f":"IF(Equipes!$L$3=\"\",\"\",IF(Equipes!$K$1=8,IF(K6<>\"\",K6,\"\"),IF('8eme'!$K$1=0,\"\",IF(ROW()>$L$1,IF(OFFSET('8eme'!$A$1,ROW()-$L$1+$M$1,1)=\"\",\"\",IF(OFFSET('8eme'!$A$1,ROW()-$L$1+$M$1,9)=\"\",\"\",IF(OFFSET('8eme'!$A$1,ROW()-$L$1+$M$1,9)>0,OFFSET('8eme'!$A$1,ROW()-$L$1+$M$1,1),OFFSET('8eme'!$A$1,ROW()-$L$1+$M$1,5)))),IF(OFFSET('8eme'!$A$1,(ROW()-2)*2,1)=\"\",\"\",IF(OFFSET('8eme'!$A$1,(ROW()-2)*2,9)=\"\",\"\",IF(OFFSET('8eme'!$A$1,(ROW()-2)*2,9)>0,OFFSET('8eme'!$A$1,(ROW()-2)*2,1),OFFSET('8eme'!$A$1,(ROW()-2)*2,5))))))))","v":""},{"$f":"IF($B6<>\"\",VLOOKUP($B6,Equipes!$A:$C,2,FALSE),\"\")","v":""},{"$f":"IF($B6<>\"\",VLOOKUP($B6,Equipes!$A:$C,3,FALSE),\"\")","v":""},null,{"$f":"IF(Equipes!$L$3=\"\",\"\",IF(Equipes!$K$1=8,IF(L6<>\"\",L6,\"\"),IF('8eme'!$K$1=0,\"\",IF(ROW()>$L$1,\"\",IF(OFFSET('8eme'!$A$1,(ROW()-2)*2+1,9)=\"\",\"\",IF(OFFSET('8eme'!$A$1,(ROW()-2)*2+1,9)>0,OFFSET('8eme'!$A$1,(ROW()-2)*2+1,1),OFFSET('8eme'!$A$1,(ROW()-2)*2+1,5)))))))","v":""},{"$f":"IF($F6<>\"\",IF(VLOOKUP($F6,Equipes!$A:$C,2,FALSE)=\"\",\"\",VLOOKUP($F6,Equipes!$A:$C,2,FALSE)),\"\")","v":""},{"$f":"IF($F6<>\"\",IF(VLOOKUP($F6,Equipes!$A:$C,3,FALSE)=\"\",\"\",VLOOKUP($F6,Equipes!$A:$C,3,FALSE)),\"\")","v":""},null,{"$f":"IF(C6<>\"\",IF(G6<>\"\",IF(E6<>\"\",E6-I6,\"\"),6),\"\")","v":""},null,null,{"$f":"A6","v":""},{"$f":"IF(AND(B6<>\"\",F6<>\"\"),IF(AND(VLOOKUP(B6,Equipes!A$4:R$67,14,FALSE)<>1,VLOOKUP(F6,Equipes!A$4:R$67,14,FALSE)<>1,VLOOKUP(B6,Equipes!A$4:R$67,15,FALSE)<>1,VLOOKUP(F6,Equipes!A$4:R$67,15,FALSE)<>1,VLOOKUP(B6,Equipes!A$4:R$67,16,FALSE)<>1,VLOOKUP(F6,Equipes!A$4:R$67,16,FALSE)<>1,ISERROR(VLOOKUP(1,A$2:A5,1,FALSE))),1,IF(AND(VLOOKUP(B6,Equipes!A$4:R$67,14,FALSE)<>2,VLOOKUP(F6,Equipes!A$4:R$67,14,FALSE)<>2,VLOOKUP(B6,Equipes!A$4:R$67,15,FALSE)<>2,VLOOKUP(F6,Equipes!A$4:R$67,15,FALSE)<>2,VLOOKUP(B6,Equipes!A$4:R$67,16,FALSE)<>2,VLOOKUP(F6,Equipes!A$4:R$67,16,FALSE)<>2,ISERROR(VLOOKUP(2,A$2:A5,1,FALSE))),2,IF(AND(VLOOKUP(B6,Equipes!A$4:R$67,14,FALSE)<>3,VLOOKUP(F6,Equipes!A$4:R$67,14,FALSE)<>3,VLOOKUP(B6,Equipes!A$4:R$67,15,FALSE)<>3,VLOOKUP(F6,Equipes!A$4:R$67,15,FALSE)<>3,VLOOKUP(B6,Equipes!A$4:R$67,16,FALSE)<>3,VLOOKUP(F6,Equipes!A$4:R$67,16,FALSE)<>3,ISERROR(VLOOKUP(3,A$2:A5,1,FALSE))),3,IF(AND(VLOOKUP(B6,Equipes!A$4:R$67,14,FALSE)<>4,VLOOKUP(F6,Equipes!A$4:R$67,14,FALSE)<>4,VLOOKUP(B6,Equipes!A$4:R$67,15,FALSE)<>4,VLOOKUP(F6,Equipes!A$4:R$67,15,FALSE)<>4,VLOOKUP(B6,Equipes!A$4:R$67,16,FALSE)<>4,VLOOKUP(F6,Equipes!A$4:R$67,16,FALSE)<>4,ISERROR(VLOOKUP(4,A$2:A5,1,FALSE))),4,\"\")))),\"\")","v":""},{"$f":"IF(AND(B6<>\"\",F6<>\"\",N6=\"\"),IF(AND(VLOOKUP(B6,Equipes!A$4:R$67,14,FALSE)<>5,VLOOKUP(F6,Equipes!A$4:R$67,14,FALSE)<>5,VLOOKUP(B6,Equipes!A$4:R$67,15,FALSE)<>5,VLOOKUP(F6,Equipes!A$4:R$67,15,FALSE)<>5,VLOOKUP(B6,Equipes!A$4:R$67,16,FALSE)<>5,VLOOKUP(F6,Equipes!A$4:R$67,16,FALSE)<>5,ISERROR(VLOOKUP(5,A$2:A5,1,FALSE))),5,IF(AND(VLOOKUP(B6,Equipes!A$4:R$67,14,FALSE)<>6,VLOOKUP(F6,Equipes!A$4:R$67,14,FALSE)<>6,VLOOKUP(B6,Equipes!A$4:R$67,15,FALSE)<>6,VLOOKUP(F6,Equipes!A$4:R$67,15,FALSE)<>6,VLOOKUP(B6,Equipes!A$4:R$67,16,FALSE)<>6,VLOOKUP(F6,Equipes!A$4:R$67,16,FALSE)<>6,ISERROR(VLOOKUP(6,A$2:A5,1,FALSE))),6,IF(AND(VLOOKUP(B6,Equipes!A$4:R$67,14,FALSE)<>7,VLOOKUP(F6,Equipes!A$4:R$67,14,FALSE)<>7,VLOOKUP(B6,Equipes!A$4:R$67,15,FALSE)<>7,VLOOKUP(F6,Equipes!A$4:R$67,15,FALSE)<>7,VLOOKUP(B6,Equipes!A$4:R$67,16,FALSE)<>7,VLOOKUP(F6,Equipes!A$4:R$67,16,FALSE)<>7,ISERROR(VLOOKUP(7,A$2:A5,1,FALSE))),7,IF(AND(VLOOKUP(B6,Equipes!A$4:R$67,14,FALSE)<>8,VLOOKUP(F6,Equipes!A$4:R$67,14,FALSE)<>8,VLOOKUP(B6,Equipes!A$4:R$67,15,FALSE)<>8,VLOOKUP(F6,Equipes!A$4:R$67,15,FALSE)<>8,ISERROR(VLOOKUP(8,A$2:A5,1,FALSE))),8,\"\")))),\"\")","v":""}]

{"sheet":"demi","index":5,"n_rows":4,"n_cols":16,"rows_kept":4,"cut":false,"hidden":false,"merged":[[0,1,0,4],[0,5,0,8]]}
[null,null,null,null,null,null,null,null,null,null,{"$f":"SUM(E:E)+SUM(I:I)","v":0}]
["Jeu","N°","Nom","Société","Points faits (*)","N°","Nom","Société","Points faits (*)",null,null,null,null,null,null,"(*) ne pas renseigner de score pour les parties d'office"]
[{"$f":"IF(N3<>\"\",N3,IF(O3<>\"\",O3,IF(P3<>\"\",P3,IF(Q3<>\"\",Q3,\"\"))))","v":""},{"$f":"IF(OFFSET(quart!$A$1,(ROW()-2)*2,9)=\"\",\"\",IF(OFFSET(quart!$A$1,(ROW()-2)*2,9)>0,OFFSET(quart!$A$1,(ROW()-2)*2,1),OFFSET(quart!$A$1,(ROW()-2)*2,5)))","v":""},{"$f":"IF($B3<>\"\",VLOOKUP($B3,Equipes!$A:$C,2,FALSE),\"\")","v":""},{"$f":"IF($B3<>\"\",VLOOKUP($B3,Equipes!$A:$C,3,FALSE),\"\")","v":""},null,{"$f":"IF(OFFSET(quart!$A$1,(ROW()-2)*2+1,9)=\"\",\"\",IF(OFFSET(quart!$A$1,(ROW()-2)*2+1,9)>0,OFFSET(quart!$A$1,(ROW()-2)*2+1,1),OFFSET(quart!$A$1,(ROW()-2)*2+1,5)))","v":""},{"$f":"IF($F3<>\"\",IF(VLOOKUP($F3,Equipes!$A:$C,2,FALSE)=\"\",\"\",VLOOKUP($F3,Equipes!$A:$C,2,FALSE)),\"\")","v":""},{"$f":"IF($F3<>\"\",IF(VLOOKUP($F3,Equipes!$A:$C,3,FALSE)=\"\",\"\",VLOOKUP($F3,Equipes!$A:$C,3,FALSE)),\"\")","v":""},null,{"$f":"IF(C3<>\"\",IF(G3<>\"\",IF(E3<>\"\",E3-I3,\"\"),6),\"\")","v":""},null,null,{"$f":"A3","v":""},{"$f":"IF(AND(B3<>\"\",F3<>\"\"),IF(AND(VLOOKUP(B3,Equipes!A$4:R$67,14,FALSE)<>1,VLOOKUP(F3,Equipes!A$4:R$67,14,FALSE)<>1,VLOOKUP(B3,Equipes!A$4:R$67,15,FALSE)<>1,VLOOKUP(F3,Equipes!A$4:R$67,15,FALSE)<>1,VLOOKUP(B3,Equipes!A$4:R$67,16,FALSE)<>1,VLOOKUP(F3,Equipes!A$4:R$67,16,FALSE)<>1,VLOOKUP(B3,Equipes!A$4:R$67,17,FALSE)<>1,VLOOKUP(F3,Equipes!A$4:R$67,17,FALSE)<>1,ISERROR(VLOOKUP(1,A$2:A2,1,FALSE))),1,IF(AND(VLOOKUP(B3,Equipes!A$4:R$67,14,FALSE)<>2,VLOOKUP(F3,Equipes!A$4:R$67,14,FALSE)<>2,VLOOKUP(B3,Equipes!A$4:R$67,15,FALSE)<>2,VLOOKUP(F3,Equipes!A$4:R$67,15,FALSE)<>2,VLOOKUP(B3,Equipes!A$4:R$67,16,FALSE)<>2,VLOOKUP(F3,Equipes!A$4:R$67,16,FALSE)<>2,VLOOKUP(B3,Equipes!A$4:R$67,17,FALSE)<>2,VLOOKUP(F3,Equipes!A$4:R$67,17,FALSE)<>2,ISERROR(VLOOKUP(2,A$2:A2,1,FALSE))),2,IF(AND(VLOOKUP(B3,Equipes!A$4:R$67,14,FALSE)<>3,VLOOKUP(F3,Equipes!A$4:R$67,14,FALSE)<>3,VLOOKUP(B3,Equipes!A$4:R$67,15,FALSE)<>3,VLOOKUP(F3,Equipes!A$4:R$67,15,FALSE)<>3,VLOOKUP(B3,Equipes!A$4:R$67,16,FALSE)<>3,VLOOKUP(F3,Equipes!A$4:R$67,16,FALSE)<>3,VLOOKUP(B3,Equipes!A$4:R$67,17,FALSE)<>3,VLOOKUP(F3,Equipes!A$4:R$67,17,FALSE)<>3,ISERROR(VLOOKUP(3,A$2:A2,1,FALSE))),3,IF(AND(VLOOKUP(B3,Equipes!A$4:R$67,14,FALSE)<>4,VLOOKUP(F3,Equipes!A$4:R$67,14,FALSE)<>4,VLOOKUP(B3,Equipes!A$4:R$67,15,FALSE)<>4,VLOOKUP(F3,Equipes!A$4:R$67,15,FALSE)<>4,VLOOKUP(B3,Equipes!A$4:R$67,16,FALSE)<>4,VLOOKUP(F3,Equipes!A$4:R$67,16,FALSE)<>4,VLOOKUP(B3,Equipes!A$4:R$67,17,FALSE)<>4,VLOOKUP(F3,Equipes!A$4:R$67,17,FALSE)<>4,ISERROR(VLOOKUP(4,A$2:A2,1,FALSE))),4,\"\")))),\"\")","v":""},{"$f":"IF(AND(B3<>\"\",F3<>\"\",N3=\"\"),IF(AND(VLOOKUP(B3,Equipes!A$4:R$67,14,FALSE)<>5,VLOOKUP(F3,Equipes!A$4:R$67,14,FALSE)<>5,VLOOKUP(B3,Equipes!A$4:R$67,15,FALSE)<>5,VLOOKUP(F3,Equipes!A$4:R$67,15,FALSE)<>5,VLOOKUP(B3,Equipes!A$4:R$67,16,FALSE)<>5,VLOOKUP(F3,Equipes!A$4:R$67,16,FALSE)<>5,VLOOKUP(B3,Equipes!A$4:R$67,17,FALSE)<>5,VLOOKUP(F3,Equipes!A$4:R$67,17,FALSE)<>5,ISERROR(VLOOKUP(5,A$2:A2,1,FALSE))),5,IF(AND(VLOOKUP(B3,Equipes!A$4:R$67,14,FALSE)<>6,VLOOKUP(F3,Equipes!A$4:R$67,14,FALSE)<>6,VLOOKUP(B3,Equipes!A$4:R$67,15,FALSE)<>6,VLOOKUP(F3,Equipes!A$4:R$67,15,FALSE)<>6,VLOOKUP(B3,Equipes!A$4:R$67,16,FALSE)<>6,VLOOKUP(F3,Equipes!A$4:R$67,16,FALSE)<>6,VLOOKUP(B3,Equipes!A$4:R$67,17,FALSE)<>6,VLOOKUP(F3,Equipes!A$4:R$67,17,FALSE)<>6,ISERROR(VLOOKUP(6,A$2:A2,1,FALSE))),6,IF(AND(VLOOKUP(B3,Equipes!A$4:R$67,14,FALSE)<>7,VLOOKUP(F3,Equipes!A$4:R$67,14,FALSE)<>7,VLOOKUP(B3,Equipes!A$4:R$67,15,FALSE)<>7,VLOOKUP(F3,Equipes!A$4:R$67,15,FALSE)<>7,VLOOKUP(B3,Equipes!A$4:R$67,16,FALSE)<>7,VLOOKUP(F3,Equipes!A$4:R$67,16,FALSE)<>7,VLOOKUP(B3,Equipes!A$4:R$67,17,FALSE)<>7,VLOOKUP(F3,Equipes!A$4:R$67,17,FALSE)<>7,ISERROR(VLOOKUP(7,A$2:A2,1,FALSE))),7,IF(AND(VLOOKUP(B3,Equipes!A$4:R$67,14,FALSE)<>8,VLOOKUP(F3,Equipes!A$4:R$67,14,FALSE)<>8,VLOOKUP(B3,Equipes!A$4:R$67,15,FALSE)<>8,VLOOKUP(F3,Equipes!A$4:R$67,15,FALSE)<>8,VLOOKUP(B3,Equipes!A$4:R$67,17,FALSE)<>8,VLOOKUP(F3,Equipes!A$4:R$67,17,FALSE)<>8,ISERROR(VLOOKUP(8,A$2:A2,1,FALSE))),8,\"\")))),\"\")","v":""}]
[{"$f":"IF(N4<>\"\",N4,IF(O4<>\"\",O4,IF(P4<>\"\",P4,IF(Q4<>\"\",Q4,\"\"))))","v":""},{"$f":"IF(OFFSET(quart!$A$1,(ROW()-2)*2,9)=\"\",\"\",IF(OFFSET(quart!$A$1,(ROW()-2)*2,9)>0,OFFSET(quart!$A$1,(ROW()-2)*2,1),OFFSET(quart!$A$1,(ROW()-2)*2,5)))","v":""},{"$f":"IF($B4<>\"\",VLOOKUP($B4,Equipes!$A:$C,2,FALSE),\"\")","v":""},{"$f":"IF($B4<>\"\",VLOOKUP($B4,Equipes!$A:$C,3,FALSE),\"\")","v":""},null,{"$f":"IF(OFFSET(quart!$A$1,(ROW()-2)*2+1,9)=\"\",\"\",IF(OFFSET(quart!$A$1,(ROW()-2)*2+1,9)>0,OFFSET(quart!$A$1,(ROW()-2)*2+1,1),OFFSET(quart!$A$1,(ROW()-2)*2+1,5)))","v":""},{"$f":"IF($F4<>\"\",IF(VLOOKUP($F4,Equipes!$A:$C,2,FALSE)=\"\",\"\",VLOOKUP($F4,Equipes!$A:$C,2,FALSE)),\"\")","v":""},{"$f":"IF($F4<>\"\",IF(VLOOKUP($F4,Equipes!$A:$C,3,FALSE)=\"\",\"\",VLOOKUP($F4,Equipes!$A:$C,3,FALSE)),\"\")","v":""},null,{"$f":"IF(C4<>\"\",IF(G4<>\"\",IF(E4<>\"\",E4-I4,\"\"),6),\"\")","v":""},null,null,{"$f":"A4","v":""},{"$f":"IF(AND(B4<>\"\",F4<>\"\"),IF(AND(VLOOKUP(B4,Equipes!A$4:R$67,14,FALSE)<>1,VLOOKUP(F4,Equipes!A$4:R$67,14,FALSE)<>1,VLOOKUP(B4,Equipes!A$4:R$67,15,FALSE)<>1,VLOOKUP(F4,Equipes!A$4:R$67,15,FALSE)<>1,VLOOKUP(B4,Equipes!A$4:R$67,16,FALSE)<>1,VLOOKUP(F4,Equipes!A$4:R$67,16,FALSE)<>1,VLOOKUP(B4,Equipes!A$4:R$67,17,FALSE)<>1,VLOOKUP(F4,Equipes!A$4:R$67,17,FALSE)<>1,ISERROR(VLOOKUP(1,A$2:A3,1,FALSE))),1,IF(AND(VLOOKUP(B4,Equipes!A$4:R$67,14,FALSE)<>2,VLOOKUP(F4,Equipes!A$4:R$67,14,FALSE)<>2,VLOOKUP(B4,Equipes!A$4:R$67,15,FALSE)<>2,VLOOKUP(F4,Equipes!A$4:R$67,15,FALSE)<>2,VLOOKUP(B4,Equipes!A$4:R$67,16,FALSE)<>2,VLOOKUP(F4,Equipes!A$4:R$67,16,FALSE)<>2,VLOOKUP(B4,Equipes!A$4:R$67,17,FALSE)<>2,VLOOKUP(F4,Equipes!A$4:R$67,17,FALSE)<>2,ISERROR(VLOOKUP(2,A$2:A3,1,FALSE))),2,IF(AND(VLOOKUP(B4,Equipes!A$4:R$67,14,FALSE)<>3,VLOOKUP(F4,Equipes!A$4:R$67,14,FALSE)<>3,VLOOKUP(B4,Equipes!A$4:R$67,15,FALSE)<>3,VLOOKUP(F4,Equipes!A$4:R$67,15,FALSE)<>3,VLOOKUP(B4,Equipes!A$4:R$67,16,FALSE)<>3,VLOOKUP(F4,Equipes!A$4:R$67,16,FALSE)<>3,VLOOKUP(B4,Equipes!A$4:R$67,17,FALSE)<>3,VLOOKUP(F4,Equipes!A$4:R$67,17,FALSE)<>3,ISERROR(VLOOKUP(3,A$2:A3,1,FALSE))),3,IF(AND(VLOOKUP(B4,Equipes!A$4:R$67,14,FALSE)<>4,VLOOKUP(F4,Equipes!A$4:R$67,14,FALSE)<>4,VLOOKUP(B4,Equipes!A$4:R$67,15,FALSE)<>4,VLOOKUP(F4,Equipes!A$4:R$67,15,FALSE)<>4,VLOOKUP(B4,Equipes!A$4:R$67,16,FALSE)<>4,VLOOKUP(F4,Equipes!A$4:R$67,16,FALSE)<>4,VLOOKUP(B4,Equipes!A$4:R$67,17,FALSE)<>4,VLOOKUP(F4,Equipes!A$4:R$67,17,FALSE)<>4,ISERROR(VLOOKUP(4,A$2:A3,1,FALSE))),4,\"\")))),\"\")","v":""},{"$f":"IF(AND(B4<>\"\",F4<>\"\",N4=\"\"),IF(AND(VLOOKUP(B4,Equipes!A$4:R$67,14,FALSE)<>5,VLOOKUP(F4,Equipes!A$4:R$67,14,FALSE)<>5,VLOOKUP(B4,Equipes!A$4:R$67,15,FALSE)<>5,VLOOKUP(F4,Equipes!A$4:R$67,15,FALSE)<>5,VLOOKUP(B4,Equipes!A$4:R$67,16,FALSE)<>5,VLOOKUP(F4,Equipes!A$4:R$67,16,FALSE)<>5,VLOOKUP(B4,Equipes!A$4:R$67,17,FALSE)<>5,VLOOKUP(F4,Equipes!A$4:R$67,17,FALSE)<>5,ISERROR(VLOOKUP(5,A$2:A3,1,FALSE))),5,IF(AND(VLOOKUP(B4,Equipes!A$4:R$67,14,FALSE)<>6,VLOOKUP(F4,Equipes!A$4:R$67,14,FALSE)<>6,VLOOKUP(B4,Equipes!A$4:R$67,15,FALSE)<>6,VLOOKUP(F4,Equipes!A$4:R$67,15,FALSE)<>6,VLOOKUP(B4,Equipes!A$4:R$67,16,FALSE)<>6,VLOOKUP(F4,Equipes!A$4:R$67,16,FALSE)<>6,VLOOKUP(B4,Equipes!A$4:R$67,17,FALSE)<>6,VLOOKUP(F4,Equipes!A$4:R$67,17,FALSE)<>6,ISERROR(VLOOKUP(6,A$2:A3,1,FALSE))),6,IF(AND(VLOOKUP(B4,Equipes!A$4:R$67,14,FALSE)<>7,VLOOKUP(F4,Equipes!A$4:R$67,14,FALSE)<>7,VLOOKUP(B4,Equipes!A$4:R$67,15,FALSE)<>7,VLOOKUP(F4,Equipes!A$4:R$67,15,FALSE)<>7,VLOOKUP(B4,Equipes!A$4:R$67,16,FALSE)<>7,VLOOKUP(F4,Equipes!A$4:R$67,16,FALSE)<>7,VLOOKUP(B4,Equipes!A$4:R$67,17,FALSE)<>7,VLOOKUP(F4,Equipes!A$4:R$67,17,FALSE)<>7,ISERROR(VLOOKUP(7,A$2:A3,1,FALSE))),7,IF(AND(VLOOKUP(B4,Equipes!A$4:R$67,14,FALSE)<>8,VLOOKUP(F4,Equipes!A$4:R$67,14,FALSE)<>8,VLOOKUP(B4,Equipes!A$4:R$67,15,FALSE)<>8,VLOOKUP(F4,Equipes!A$4:R$67,15,FALSE)<>8,VLOOKUP(B4,Equipes!A$4:R$67,17,FALSE)<>8,VLOOKUP(F4,Equipes!A$4:R$67,17,FALSE)<>8,ISERROR(VLOOKUP(8,A$2:A3,1,FALSE))),8,\"\")))),\"\")","v":""}]

{"sheet":"finale","index":6,"n_rows":3,"n_cols":15,"rows_kept":3,"cut":false,"hidden":false,"merged":[[0,1,0,4],[0,5,0,8]]}
[null,null,null,null,null,null,null,null,null,null,{"$f":"SUM(E:E)+SUM(I:I)","v":0}]
["Jeu","N°","Nom","Société","Points faits","N°","Nom","Société","Points faits"]
[{"$f":"IF(N3<>\"\",N3,IF(O3<>\"\",O3,IF(P3<>\"\",P3,IF(Q3<>\"\",Q3,\"\"))))","v":""},{"$f":"IF(OFFSET(demi!$A$1,(ROW()-2)*2,9)=\"\",\"\",IF(OFFSET(demi!$A$1,(ROW()-2)*2,9)>0,OFFSET(demi!$A$1,(ROW()-2)*2,1),OFFSET(demi!$A$1,(ROW()-2)*2,5)))","v":""},{"$f":"IF($B3<>\"\",VLOOKUP($B3,Equipes!$A:$C,2,FALSE),\"\")","v":""},{"$f":"IF($B3<>\"\",VLOOKUP($B3,Equipes!$A:$C,3,FALSE),\"\")","v":""},null,{"$f":"IF(OFFSET(demi!$A$1,(ROW()-2)*2+1,9)=\"\",\"\",IF(OFFSET(demi!$A$1,(ROW()-2)*2+1,9)>0,OFFSET(demi!$A$1,(ROW()-2)*2+1,1),OFFSET(demi!$A$1,(ROW()-2)*2+1,5)))","v":""},{"$f":"IF($F3<>\"\",IF(VLOOKUP($F3,Equipes!$A:$C,2,FALSE)=\"\",\"\",VLOOKUP($F3,Equipes!$A:$C,2,FALSE)),\"\")","v":""},{"$f":"IF($F3<>\"\",IF(VLOOKUP($F3,Equipes!$A:$C,3,FALSE)=\"\",\"\",VLOOKUP($F3,Equipes!$A:$C,3,FALSE)),\"\")","v":""},null,{"$f":"IF(C3<>\"\",IF(G3<>\"\",IF(E3<>\"\",E3-I3,\"\"),6),\"\")","v":""},null,null,null,{"$f":"IF(AND(B3<>\"\",F3<>\"\"),IF(AND(VLOOKUP(B3,Equipes!A$4:R$67,14,FALSE)<>1,VLOOKUP(F3,Equipes!A$4:R$67,14,FALSE)<>1,VLOOKUP(B3,Equipes!A$4:R$67,15,FALSE)<>1,VLOOKUP(F3,Equipes!A$4:R$67,15,FALSE)<>1,VLOOKUP(B3,Equipes!A$4:R$67,16,FALSE)<>1,VLOOKUP(F3,Equipes!A$4:R$67,16,FALSE)<>1,VLOOKUP(B3,Equipes!A$4:R$67,17,FALSE)<>1,VLOOKUP(F3,Equipes!A$4:R$67,17,FALSE)<>1,VLOOKUP(B3,Equipes!A$4:R$67,18,FALSE)<>1,VLOOKUP(F3,Equipes!A$4:R$67,18,FALSE)<>1,ISERROR(VLOOKUP(1,A$2:A2,1,FALSE))),1,IF(AND(VLOOKUP(B3,Equipes!A$4:R$67,14,FALSE)<>2,VLOOKUP(F3,Equipes!A$4:R$67,14,FALSE)<>2,VLOOKUP(B3,Equipes!A$4:R$67,15,FALSE)<>2,VLOOKUP(F3,Equipes!A$4:R$67,15,FALSE)<>2,VLOOKUP(B3,Equipes!A$4:R$67,16,FALSE)<>2,VLOOKUP(F3,Equipes!A$4:R$67,16,FALSE)<>2,VLOOKUP(B3,Equipes!A$4:R$67,17,FALSE)<>2,VLOOKUP(F3,Equipes!A$4:R$67,17,FALSE)<>2,VLOOKUP(B3,Equipes!A$4:R$67,18,FALSE)<>2,VLOOKUP(F3,Equipes!A$4:R$67,18,FALSE)<>2,ISERROR(VLOOKUP(2,A$2:A2,1,FALSE))),2,IF(AND(VLOOKUP(B3,Equipes!A$4:R$67,14,FALSE)<>3,VLOOKUP(F3,Equipes!A$4:R$67,14,FALSE)<>3,VLOOKUP(B3,Equipes!A$4:R$67,15,FALSE)<>3,VLOOKUP(F3,Equipes!A$4:R$67,15,FALSE)<>3,VLOOKUP(B3,Equipes!A$4:R$67,16,FALSE)<>3,VLOOKUP(F3,Equipes!A$4:R$67,16,FALSE)<>3,VLOOKUP(B3,Equipes!A$4:R$67,17,FALSE)<>3,VLOOKUP(F3,Equipes!A$4:R$67,17,FALSE)<>3,VLOOKUP(B3,Equipes!A$4:R$67,18,FALSE)<>3,VLOOKUP(F3,Equipes!A$4:R$67,18,FALSE)<>3,ISERROR(VLOOKUP(3,A$2:A2,1,FALSE))),3,IF(AND(VLOOKUP(B3,Equipes!A$4:R$67,14,FALSE)<>4,VLOOKUP(F3,Equipes!A$4:R$67,14,FALSE)<>4,VLOOKUP(B3,Equipes!A$4:R$67,15,FALSE)<>4,VLOOKUP(F3,Equipes!A$4:R$67,15,FALSE)<>4,VLOOKUP(B3,Equipes!A$4:R$67,16,FALSE)<>4,VLOOKUP(F3,Equipes!A$4:R$67,16,FALSE)<>4,VLOOKUP(B3,Equipes!A$4:R$67,17,FALSE)<>4,VLOOKUP(F3,Equipes!A$4:R$67,17,FALSE)<>4,VLOOKUP(B3,Equipes!A$4:R$67,18,FALSE)<>4,VLOOKUP(F3,Equipes!A$4:R$67,18,FALSE)<>4,ISERROR(VLOOKUP(4,A$2:A2,1,FALSE))),4,\"\")))),\"\")","v":""},{"$f":"IF(AND(B3<>\"\",F3<>\"\",N3=\"\"),IF(AND(VLOOKUP(B3,Equipes!A$4:R$67,14,FALSE)<>5,VLOOKUP(F3,Equipes!A$4:R$67,14,FALSE)<>5,VLOOKUP(B3,Equipes!A$4:R$67,15,FALSE)<>5,VLOOKUP(F3,Equipes!A$4:R$67,15,FALSE)<>5,VLOOKUP(B3,Equipes!A$4:R$67,16,FALSE)<>5,VLOOKUP(F3,Equipes!A$4:R$67,16,FALSE)<>5,VLOOKUP(B3,Equipes!A$4:R$67,17,FALSE)<>5,VLOOKUP(F3,Equipes!A$4:R$67,17,FALSE)<>5,VLOOKUP(B3,Equipes!A$4:R$67,18,FALSE)<>5,VLOOKUP(F3,Equipes!A$4:R$67,18,FALSE)<>5,ISERROR(VLOOKUP(5,A$2:A2,1,FALSE))),5,IF(AND(VLOOKUP(B3,Equipes!A$4:R$67,14,FALSE)<>6,VLOOKUP(F3,Equipes!A$4:R$67,14,FALSE)<>6,VLOOKUP(B3,Equipes!A$4:R$67,15,FALSE)<>6,VLOOKUP(F3,Equipes!A$4:R$67,15,FALSE)<>6,VLOOKUP(B3,Equipes!A$4:R$67,16,FALSE)<>6,VLOOKUP(F3,Equipes!A$4:R$67,16,FALSE)<>6,VLOOKUP(B3,Equipes!A$4:R$67,17,FALSE)<>6,VLOOKUP(F3,Equipes!A$4:R$67,17,FALSE)<>6,VLOOKUP(B3,Equipes!A$4:R$67,18,FALSE)<>6,VLOOKUP(F3,Equipes!A$4:R$67,18,FALSE)<>6,ISERROR(VLOOKUP(6,A$2:A2,1,FALSE))),6,IF(AND(VLOOKUP(B3,Equipes!A$4:R$67,14,FALSE)<>7,VLOOKUP(F3,Equipes!A$4:R$67,14,FALSE)<>7,VLOOKUP(B3,Equipes!A$4:R$67,15,FALSE)<>7,VLOOKUP(F3,Equipes!A$4:R$67,15,FALSE)<>7,VLOOKUP(B3,Equipes!A$4:R$67,16,FALSE)<>7,VLOOKUP(F3,Equipes!A$4:R$67,16,FALSE)<>7,VLOOKUP(B3,Equipes!A$4:R$67,17,FALSE)<>7,VLOOKUP(F3,Equipes!A$4:R$67,17,FALSE)<>7,VLOOKUP(B3,Equipes!A$4:R$67,18,FALSE)<>7,VLOOKUP(F3,Equipes!A$4:R$67,18,FALSE)<>7,ISERROR(VLOOKUP(7,A$2:A2,1,FALSE))),7,IF(AND(VLOOKUP(B3,Equipes!A$4:R$67,14,FALSE)<>8,VLOOKUP(F3,Equipes!A$4:R$67,14,FALSE)<>8,VLOOKUP(B3,Equipes!A$4:R$67,15,FALSE)<>8,VLOOKUP(F3,Equipes!A$4:R$67,15,FALSE)<>8,VLOOKUP(B3,Equipes!A$4:R$67,17,FALSE)<>8,VLOOKUP(F3,Equipes!A$4:R$67,17,FALSE)<>8,VLOOKUP(B3,Equipes!A$4:R$67,18,FALSE)<>8,VLOOKUP(F3,Equipes!A$4:R$67,18,FALSE)<>8,ISERROR(VLOOKUP(8,A$2:A2,1,FALSE))),8,\"\")))),\"\")","v":""}]

{"sheet":"Liste Sociétés","index":7,"n_rows":175,"n_cols":4,"rows_kept":175,"cut":false,"hidden":false,"merged":[]}
[null,"Nom exact de la société à la FFSB","Commune du siège selon la FFSB","N° de société FFSB"]
["ABERGEMENT CLEMENCIAT","A.B-ABERGEMENT CLEMENCIAT","L'ABERGEMENT-CLÉMENCIAT","RHA010201"]
["AMBERIEU B. DE TIRET ","B. DE TIRET AMBERIEU","AMBÉRIEU-EN-BUGEY","RHA010803"]
["AMBERIEU EN BUGEY ASC","A.S.C AMBERIEU","AMBÉRIEU-EN-BUGEY","RHA010804"]
["AMBERIEU EN BUGEY P.T.T ","A.S.P.T.T AMBERIEU EN BUGEY","AMBÉRIEU-EN-BUGEY","RHA010801"]
["AMBERIEUX EN DOMBES","A.B.AMBERIEUX EN DOMBES","AMBÉRIEUX-EN-DOMBES","RHA010202"]
["AMBRONAY","A.B.AMBRONAY","AMBRONAY","RHA010301"]
["ARGIS","A.B. D'ARGIS","ARGIS","RHA011001"]
["ARLOD BELLEGARDE","A.B. ARLOD BELLEGARDE","ELOISE","RHA011101"]
["ARS S/FORMANS","A.B.ARS S/FORMANS","ARS-SUR-FORMANS","RHA010601"]
["ARTEMARE","A.B. ARTEMARE","VIEU","RHA010901"]
["BANEINS","A.B.DE BANEINS","BANEINS","RHA010203"]
["BEAUREGARD","A.B.BEAUREGARD","BEAUREGARD","RHA010602"]
["BELIGNEUX-LA VALBONNE","A.B. BELIGNEUX-LA VALBONNE","BÉLIGNEUX","RHA010101"]
["BELLEGARDE","C.B. DE BELLEGARDE","BELLEGARDE-SUR-VALSERINE","RHA011102"]
["BELLEGARDE B. DES CITES ","B. DES CITES BELLEGARDE","BELLEGARDE-SUR-VALSERINE","RHA011103"]
["BELLEY B. BELLEYSANNE","B. BELLEYSANNE","BELLEY","RHA010902"]
["BELLIGNAT","B.S. DE BELLIGNAT","OYONNAX","RHA010501"]
["BETTANT","A.B.BETTANT","AMBÉRIEU-EN-BUGEY","RHA010820"]
["BEYNOST","A.B.BEYNOST","BEYNOST","RHA010102"]
["BOURG 4 VENTS ","A.B 4 VENTS BOURG","BOURG-EN-BRESSE","RHA010423"]
["BOURG ESB BRESSANE","ESB BRESSANE","BOURG-EN-BRESSE","RHA010454"]
["BOURG FAUBOURG","A.B. DU FAUBOURG","BOURG-EN-BRESSE","RHA010424"]
["BOURG J.L.","J.L.BOURG","BOURG-EN-BRESSE","RHA010425"]
["BOURG RCCB","RCC BOURG","BOURG-EN-BRESSE"]
["BRION","A.B.BRION","BRION","RHA010502"]
["CERDON","A.B. CERDON","CERDON","RHA010302"]
["CERTINES","A.B CERTINES","CERTINES","RHA010402"]
["CEYZERIAT","C.S CEYZERIAT","CEYZÉRIAT","RHA010403"]
["CEYZERIEU","A.B. CEYZERIEU","CEYZÉRIEU","RHA010904"]
["CHALAMONT","A B CHALAMONT","CHALAMONT","RHA010702"]
["CHALEY","A.B. CHALEY","CHALEY","RHA011003"]
["CHALLES LA MONTAGNE","A.B. CHALLES LA MONTAGNE","SAINT-ALBAN","RHA010314"]
["CHAMPAGNE EN VALROMEY","A.B. CHAMPAGNE EN VALROMEY","BELMONT-LUTHÉZIEU","RHA010905"]
["CHAMPDOR","A.B. CHAMPDOR","CHAMPDOR","RHA011004"]
["CHANEINS","A.B.CHANEINS","CHANEINS","RHA010204"]
["CHATEAU GAILLARD","B. DE CHATEAU GAILLARD","CHÂTEAU-GAILLARD","RHA010807"]
["CHATENAY","A B CHATENAY","CHÂTENAY","RHA010703"]
["CHATILLON EN MICHAILLE","A.B.CHATILLON EN MICHAILLE","CHÂTILLON-EN-MICHAILLE","RHA011107"]
["CHATILLON LA PALUD","A.B. CHATILLON LA PALUD","CHÂTILLON-LA-PALUD","RHA010704"]
["CHATILLON SUR CHALARONNE","A.B.CHATILLON SUR CHALARONNE","CHÂTILLON-SUR-CHALARONNE","RHA010205"]
["CHAVEYRIAT","UB CHAVEYRIAT","CHAVEYRIAT","RHA011211"]
["CHAVEYRIAT-MEZERIAT-VANDEINS","UB CHAVEYRIAT-MEZERIAT-VANDEINS","CHAVEYRIAT","RHA011250"]
["CHEVROUX","A.B. CHEVROUX","CHEVROUX","RHA011302"]
["CIVRIEUX EN DOMBES","A.B CIVRIEUX EN DOMBES","CIVRIEUX","RHA010603"]
["COLLONGES","A.B. COLLONGES","COLLONGES","RHA011401"]
["CONAND","A. B. CONAND","CONAND","RHA011013"]
["CORCELLES","J.B. CORCELLES","CORCELLES","RHA693010"]
["CORMARANCHE","B.J. CORMARANCHE","CORMARANCHE-EN-BUGEY","RHA011005"]
["CRANS","A.B. CRANS","CRANS","RHA010705"]
["CRAS REYSSOUZE","A.B. CRAS REYSSOUZE","CRAS-SUR-REYSSOUZE","RHA011304"]
["CROZET","U.B. DE CROZET","AVOUZON","RHA011402"]
["CULOZ","A.B. DE CULOZ","CULOZ","RHA010908"]
["DAGNEUX","A.B DAGNEUX","DAGNEUX","RHA010104"]
["DIVONNAISE","B. DIVONNAISE","DIVONNE-LES-BAINS","RHA011403"]
["DOMMARTIN","UB DOMMARTIN","DOMMARTIN","RHA011203"]
["DOMPIERRE SUR VEYLE","A.B. DOMPIERRE SUR VEYLE","DOMPIERRE-SUR-VEYLE","RHA010706"]
["DORTAN","A.B.DORTAN","DORTAN","RHA010503"]
["DRUILLAT PLATANES","B.DRUILLAT PLATANES","SIMANDRE-SUR-SURAN","RHA010303"]
["DRUILLAT RIVES DE L'AIN","ESB RIVES DE L'AIN","DRUILLAT","RHA010353"]
["DRUILLAT TURGON","B DRUILLAT TURGON","PONT-D'AIN","RHA010304"]
["FARAMANS","A.B.FARAMANS","FARAMANS","RHA010122"]
["FAREINS","A.B.FAREINS","FAREINS","RHA010604"]
["FEILLENS","U.B. FEILLENS","FEILLENS","RHA011204"]
["FERNEY VOLTAIRE","A.B. FERNEY VOLTAIRE","DIVONNE-LES-BAINS","RHA011405"]
["FOISSIAT","A.B.FOISSIAT","FOISSIAT","RHA011306"]
["FRANS LES VERNES","A.B.FRANS LES VERNES","FRANS","RHA010605"]
["GENISSIAT","C.B. GENISSIAT","INJOUX-GÉNISSIAT","RHA011109"]
["GRIEGES","A.B. GRIEGES","GRIÈGES","RHA011205"]
["GUEREINS","A.B.GUEREINS","GUÉREINS","RHA010206"]
["HAUTEVILLE-LOMPNES","A.B. HAUTEVILLE-LOMPNES","CHAMPDOR","RHA011006"]
["HOTONNES","A.B. HOTONNES","RUFFIEU","RHA010910"]
["IZERNORE","A.B. IZERNORE","IZERNORE","RHA010506"]
["JASSANS RIOTTIER","B.F. JASSANS RIOTTIER","JASSANS-RIOTTIER","RHA010606"]
["JUJURIEUX","A B JUJURIEUX","SAINT-JEAN-LE-VIEUX","RHA010305"]
["LA BOISSE","A.B.LA BOISSE","LA BOISSE","RHA010105"]
["LAGNIEU","A.B.LAGNIEU","LAGNIEU","RHA010809"]
["LE MAS RILLIER","A.B LE MAS RILLIER","MIRIBEL","RHA010106"]
["LENT","A.B DE LENT","DOMPIERRE-SUR-VEYLE","RHA010405"]
["LEYMENT","A.B. LEYMENT","LEYMENT","RHA010810"]
["MANZIAT","A.B. DE MANZIAT","MANZIAT","RHA011206"]
["MARBOZ","A.B. MARBOZ","VILLEMOTIER","RHA011313"]
["MARCHON","A.B.MARCHON","VIEU-D'IZENAVE","RHA010507"]
["MARLIEUX","J.B. DE MARLIEUX","MARLIEUX","RHA010708"]
["MARTIGNAT","A.B. MARTIGNAT","GROISSIAT","RHA010508"]
["MASSIEUX","A.B.MASSIEUX","MASSIEUX","RHA010607"]
["MEILLONNAS","E.B DE MEILLONNAS","MEILLONNAS","RHA010406"]
["MEXIMIEUX","A.B.MEXIMIEUX","MEXIMIEUX","RHA010108"]
["MEZERIAT","B.J. DE MEZERIAT","MÉZÉRIAT","RHA011207"]
["MIONNAY","A.B.MIONNAY","MIONNAY","RHA010609"]
["MIRIBEL","A.B MIRIBEL","MIRIBEL","RHA010109"]
["MISERIEUX","A.B.MISERIEUX","MISÉRIEUX","RHA010608"]
["MOGNENEINS FLURIEUX","A.B. MOGNENEINS FLURIEUX","GENOUILLEUX","RHA010207"]
["MONTCET VANDEINS","JBI MONTCET VANDEINS","VANDEINS","RHA011208"]
["MONTLUEL","A.B MONTLUEL","MONTLUEL","RHA010111"]
["MONTMERLE","A.B. MONTMERLE","MONTMERLE-SUR-SAÔNE","RHA010208"]
["MONTREAL","A.B.MONTREAL","MONTRÉAL-LA-CLUSE","RHA010509"]
["MONTREAL LA CLUSE","CFB MONTREAL LA CLUSE","MONTRÉAL-LA-CLUSE","RHA010577"]
["MONTREVEL","U.B. MONTREVEL","MONTREVEL-EN-BRESSE","RHA011308"]
["NEUVILLE LES DAMES","A.B. NEUVILLE LES DAMES","NEUVILLE-LES-DAMES","RHA010209"]
["NEUVILLE SUR AIN","A.B NEUVILLE SUR AIN","NEUVILLE-SUR-AIN","RHA010312"]
["OUSSIAT","A.B. OUSSIAT","PONT-D'AIN","RHA010306"]
["OYONNAX","A.B. OYONNAX","OYONNAX","RHA010511"]
["PERON","A.B. DE PERON","PÉRON","RHA011406"]
["PERONNAS","A.B.PERONNAS","PÉRONNAS","RHA010422"]
["PEYRIEU","A.B.PEYRIEU","PEYRIEU","RHA010911"]
["PIZAY","A.B. PIZAY","PIZAY","RHA010115"]
["POLLIAT","A.B. DE POLLIAT","POLLIAT","RHA010407"]
["PONCIN","A B PONCIN","NEUVILLE-SUR-AIN","RHA010307"]
["PONT D'AIN B MARRONNIERS ","B MARRONNIERS PONT D'AIN","PONT-D'AIN","RHA010308"]
["PONT DE VAUX","A.S.BOULE DE PONT DE VAUX","PONT-DE-VAUX","BOU710490"]
["PONT DE VEYLE","A.B. PONT DE VEYLE","PONT-DE-VEYLE","RHA011209"]
["PORT","A.B. PORT","PORT","RHA010514"]
["PRIAY","A.B PRIAY","PRIAY","RHA010310"]
["RELEVANT","A.B. RELEVANT","CHÂTILLON-SUR-CHALARONNE","RHA010210"]
["REYRIEUX ENTENTE BOULISTE","ENTENTE BOULISTE REYRIEUX","REYRIEUX","RHA010620"]
["RIGNIEUX LE FRANC","A B.RIGNIEUX LE FRANC","RIGNIEUX-LE-FRANC","RHA010116"]
["ROISSIAT","A.B ROISSIAT","COURMANGOUX","RHA010408"]
["SAULT BRENAZ","A.B. SAULT BRENAZ","SAULT-BRÉNAZ","RHA010815"]
["SAVIGNEUX","A.B. SAVIGNEUX","SAVIGNEUX","RHA010214"]
["SERRIERES DE BRIORD","A.B. SERRIERES DE BRIORD","SERRIÈRES-DE-BRIORD","RHA010816"]
["SERVAS","B. DE SERVAS","SERVAS","RHA010412"]
["SIMANDRE SUR SURAN","A.B SIMANDRE SUR SURAN","SIMANDRE-SUR-SURAN","RHA010413"]
["ST ANDRE BX-CONDEISSIAT","ST ANDRE BX-CONDEISSIAT","CONDEISSIAT","RHA010709"]
["ST ANDRE DE CORCY","A.B. ST ANDRE DE CORCY","SAINT-ANDRÉ-DE-CORCY","RHA010612"]
["ST ANDRE S/V/JONC","A.B ST ANDRE S/V/JONC","SAINT-ANDRÉ-SUR-VIEUX-JONC","RHA010409"]
["ST BENOIT","A.B.ST BENOIT","SAINT-BENOÎT","RHA010912"]
["ST BERNARD","A.B. ST BERNARD","SAINT-BERNARD","RHA010613"]
["ST BERNARD RIVES DE SAONE","ESB RIVES DE SAONE","SAINT-BERNARD","RHA010656"]
["ST DENIS EN BUGEY","A.B. ST DENIS EN BUGEY","SAINT-DENIS-EN-BUGEY","RHA010811"]
["ST DENIS LES BOURG","A.B.ST DENIS LES BOURG","SAINT-DENIS-LÈS-BOURG","RHA010410"]
["ST DIDIER AUSSIAT","ST DIDIER AUSSIAT","BOURG-EN-BRESSE","RHA011310"]
["ST DIDIER DE FORMANS","A.B.ST DIDIER DE FORMANS","SAINT-DIDIER-DE-FORMANS","RHA010614"]
["ST ETIENNE DU BOIS","A.B ST ETIENNE DU BOIS","SAINT-ETIENNE-DU-BOIS","RHA010416"]
["ST ETIENNE SUR REYSSOUZE","A.B. ST ETIENNE SUR REYSSOUZE","PONT-DE-VAUX","RHA011311"]
["ST GENIS POUILLY","U.B. ST GENIS POUILLY","THOIRY","RHA011408"]
["ST GERMAIN DE JOUX","A.B. ST GERMAIN DE JOUX","SAINT-GERMAIN-DE-JOUX","RHA011111"]
["ST JEAN DE GONVILLE","U.B.ST JEAN DE GONVILLE","SAINT-JEAN-DE-GONVILLE","RHA011409"]
["ST JEAN LE VIEUX","A.B.ST JEAN LE VIEUX","SAINT-JEAN-LE-VIEUX","RHA010311"]
["ST JULIEN SUR REYSSOUZE","A.B. ST JULIEN SUR REYSSOUZE","LESCHEROUX","RHA011312"]
["ST JUST","A.B DE ST JUST","SAINT-JUST","RHA010411"]
["ST LAURENT","BOULE SAINT LAURENTINE","SAINT-LAURENT-SUR-SAÔNE","BOU710486"]
["ST MARTIN DU FRESNE","A.B. ST MARTIN DU FRESNE","SAINT-MARTIN-DU-FRÊNE","RHA010512"]
["ST MAURICE DE BEYNOST","A.B.ST MAURICE DE BEYNOST","SAINT-MAURICE-DE-BEYNOST","RHA010118"]
["ST MAURICE DE GOURDANS","A.B.ST MAURICE DE GOURDANS","SAINT-MAURICE-DE-GOURDANS","RHA010119"]
["ST PAUL DE VARAX","A.B. ST PAUL DE VARAX","SAINT-PAUL-DE-VARAX","RHA010711"]
["ST RAMBERT ADDAS ","A.B. ADDAS ST RAMBERT","SAINT-RAMBERT-EN-BUGEY","RHA011008"]
["ST RAMBERT B. OUVRIERE ","B. OUVRIERE ST RAMBERT","SAINT-RAMBERT-EN-BUGEY","RHA011009"]
["ST REMY","C.B.M.ST REMY","SAINT-RÉMY","RHA010404"]
["ST SORLIN","A.B.ST SORLIN","SAINT-SORLIN-EN-BUGEY","RHA010813"]
["ST TRIVIER DE COURTES","A.B. ST TRIVIER DE COURTES","SAINT-TRIVIER-DE-COURTES","RHA011314"]
["ST TRIVIER SUR MOIGNANS","A.B.ST TRIVIER SUR MOIGNANS","CRUZILLES-LÈS-MÉPILLAT","RHA010212"]
["ST VULBAS SPORT-BOULES ","SPORT-BOULES ST VULBAS","SAINT-VULBAS","RHA010814"]
["STE EUPHEMIE","A.B. STE EUPHEMIE","SAINT-DIDIER-DE-FORMANS","RHA010615"]
["SULIGNAT","A.B.SULIGNAT","SULIGNAT","RHA010215"]
["TENAY","A.B. TENAY","TENAY","RHA011010"]
["THEZILLIEU","A.B. THEZILLIEU","THÉZILLIEU","RHA011011"]
["THOISSEY","A.B.THOISSEY","THOISSEY","RHA010216"]
["TOSSIAT","A.S TOSSIAT","TOSSIAT","RHA010414"]
["TREVOUX","A.B. TREVOUX","TRÉVOUX","RHA010616"]
["VANCHY","S.B. DE VANCHY","BELLEGARDE-SUR-VALSERINE","RHA011113"]
["VAUX EN BUGEY","A.B. VAUX EN BUGEY","AMBÉRIEU-EN-BUGEY","RHA010818"]
["VILLARS LES DOMBES","A.B. VILLARS LES DOMBES","VILLARS-LES-DOMBES","RHA010713"]
["VILLEBOIS","A.B.VILLEBOIS","VILLEBOIS","RHA010819"]
["VILLENEUVE","A.B. VILLENEUVE","VILLENEUVE","RHA010617"]
["VILLEREVERSURE","A.B DE VILLEREVERSURE","VILLEREVERSURE","RHA010417"]
["VIRIAT","A.B. VIRIAT","VIRIAT","RHA010415"]
["VONNAS","A.B. DE VONNAS","VONNAS","RHA011210"]
["X ISERE"]
["X JURA"]
["X RHONE"]
["X SAONE-ET-LOIRE"]
["X SAVOIE"]
["X HAUTE-SAVOIE"]
["Z AUTRE SOCIETE"]

{"sheet":"Aide","index":8,"n_rows":22,"n_cols":1,"rows_kept":22,"cut":false,"hidden":false,"merged":[]}
["Explications:"]
["Cet outil permet de gérer les concours par élimination directe (16, 32 ou 64 équipes)"]
["- tirage au sort pour la 1ere partie en évitant de faire se rencontrer 2 équipes de la même société\n- constitution automatique des parties suivantes en fonction des résultats des parties précédentes\n- les jeux sont attribués par tirage au sort (il est possible qu'une équipe puisse jouer plusieurs fois sur un même jeu)"]
["Les résultats sont visibles au fur et à mesure de la saisie des résultats dans l'onglet \"Equipes\""]
[]
["Ce fichier est conçu pour pouvoir être réutilisé, pour cela dès qu'on lance le début du concours, un nouveau fichier est créé, fichier qui prend le nom du concours renseigné en cellule C1, et c'est dans ce fichier que vont s'enregistrer pendant tout le déroulement du concours les résultats intermédiaires et le résultat final, ainsi le fichier \"Concours boules par poules\" est disponible pour une nouvelle utilisation."]
[]
["Les différents onglets du fichier :"]
["- onglet Equipes : cet onglet permet de saisir les équipes inscrites avec leur nom en colonne B et la société en colonne C (liste déroulante reprenant les équipes renseignées dans l'onglet \"Listes sociétés\"), c'est également à partir de ce feuillet que se commande le tirage de la 1ère partie (en cliquant sur le bouton correspondant) et le calcul des résultats intermédiaires et du résultat final"]
["- selon le type de concours onglet 32eme (visible uniquement en cas de concours 64 équipes), onglet 16eme (visible uniquement en cas de concours 32 équipes), onglets 8eme, quart, demi et finale dans lesquels s'affichent les tirages des parties correspondantes et où doivent être saisis les scores des équipes "]
["- onglet \"Liste sociétés\", cet onglet contient la liste des sociétés de boules du département de l'Ain (seule la 1ère colonne est utilisée, les autres restituant des informations complémentaires sous lesquelles ces sociétés sont enregistrées à la FFSB), et en fin de liste une société dénommée Z autre société, sous laquelle peuvent être enregistrées les équipes hors département, il est également possible d'ajouter d'autres sociétés sans contrainte (les insérer de préférence dans l'ordre alphabétique pour faciliter leur recherche dans la liste déroulante)"]
["- onglet Aide (le présent onglet) fournit les explications sur le fonctionnement de cet outil"]
[]
["Le fonctionnement :"]
["- se positionner dans l'onglet \"Equipes\" et saisir le nom du concours, le type de concours, et les noms des équipes et de leur société"]
["- après avoir saisi les équipes engagées, on peut lancer le début du concours, qui permettra au programme d'effectuer un certain nombre de contrôles avant de pouvoir procéder au tirage de la 1ère partie  (renseignement correct des équipes et de leur société, type de concours, confirmation éventuelle du fait que le concours est incomplet. Ce lancement de début de concours génère l'enregistrement du fichier dans le même répertoire que celui où est enregistré le fichier de départ sous le nom du concours (d'où l'obligation d'avoir saisi un nom pour le concours)."]
["- après avoir actionné le début du concours (passage obligé), on peut lancer le tirage de la 1ère partie, tirage qui s'effectue au sort avec comme seule règle d'éviter de faire se rencontrer 2 équipes de la même société."]
["- dès que la 1ère partie est tirée, la composition des parties est créée automatiquement dans l'onglet correspondant à cette partie selon le type de concours (32eme, 16eme ou 8eme), en cas de nombre impair d'équipes, une équipe sera d'office"]
["- à la fin de la 1ère partie, saisir les scores dans l'onglet correspondant en colonnes F et J (ne pas saisir de score pour les équipes d'office)"]
["- la saisie des scores met à jour automatiquement les résultats dans l'onglet Equipes et la composition des parties pour la partie suivante (en cas d'erreur de saisie, les cellules contenant le score erroné apparaissent en rouge)"]
["- les équipes gagnantes sont automatiquement sélectionnées pour la suite du concours et la composition des parties (ainsi que le jeu attribué) sont visibles immédiatement dans l'onglet concerné (dans le cas où le nombre d'équipes gagnantes à l'issue de la 1ère partie n'est pas un multiple de 4, certaines équipes se retrouvent d'office pour qu'à l'issue de la 2eme partie, on retrouve un nombre d'équipes multiples de 4)"]
["- c'est la saisie des résultats d'une partie qui rend visible les informations pour la suite du concours"]

{"sheet":"Jeux","index":9,"n_rows":34,"n_cols":97,"rows_kept":34,"cut":false,"hidden":true,"merged":[]}
[null,"Jeux disponibles",null,null,null,null,null,null,null,null,null,null,null,null,null,null,null,"Jeux utilisés 32eme",null,null,null,null,null,null,null,null,null,null,null,null,null,null,null,"Jeux utilisés 16eme",null,null,null,null,null,null,null,null,null,null,null,null,null,null,null,"Jeux utilisés 8eme",null,null,null,null,null,null,null,null,null,null,null,null,null,null,null,"Jeux utilisés quart",null,null,null,null,null,null,null,null,null,null,null,null,null,null,null,"Jeux utilisés demi"]
["Equipes   ",1,2,3,4,5,6,7,8,9,10,11,12,13,14,15,16,1,2,3,4,5,6,7,8,9,10,11,12,13,14,15,16,1,2,3,4,5,6,7,8,9,10,11,12,13,14,15,16,1,2,3,4,5,6,7,8,9,10,11,12,13,14,15,16,1,2,3,4,5,6,7,8,9,10,11,12,13,14,15,16,1,2,3,4,5,6,7,8,9,10,11,12,13,14,15,16]
[1,{"$f":"IF(OR(R3=\"X\",AH3=\"X\",AX3=\"X\",BN3=\"X\",CD3=\"X\"),\"\",\"X\")","v":"X"},{"$f":"IF(OR(S3=\"X\",AI3=\"X\",AY3=\"X\",BO3=\"X\",CE3=\"X\"),\"\",\"X\")","v":"X"},"X","X","X","X","X","X","X","X","X","X","X","X","X","X",{"$f":"IF(ISERROR(VLOOKUP($A3,'32eme'!$B:$M,12,FALSE)),IF(ISERROR(VLOOKUP($A3,'32eme'!$F:$M,8,FALSE)),\"\",IF(VLOOKUP($A3,'32eme'!$F:$M,8,FALSE)=R$2,\"X\",\"\")),IF(VLOOKUP($A3,'32eme'!$B:$M,12,FALSE)=R$2,\"X\",\"\"))","v":""},{"$f":"IF(ISERROR(VLOOKUP($A3,'32eme'!$B:$M,12,FALSE)),IF(ISERROR(VLOOKUP($A3,'32eme'!$F:$M,8,FALSE)),\"\",IF(VLOOKUP($A3,'32eme'!$F:$M,8,FALSE)=S$2,\"X\",\"\")),IF(VLOOKUP($A3,'32eme'!$B:$M,12,FALSE)=S$2,\"X\",\"\"))","v":""},{"$f":"IF(ISERROR(VLOOKUP($A3,'32eme'!$B:$M,12,FALSE)),IF(ISERROR(VLOOKUP($A3,'32eme'!$F:$M,8,FALSE)),\"\",IF(VLOOKUP($A3,'32eme'!$F:$M,8,FALSE)=T$2,\"X\",\"\")),IF(VLOOKUP($A3,'32eme'!$B:$M,12,FALSE)=T$2,\"X\",\"\"))","v":""},{"$f":"IF(ISERROR(VLOOKUP($A3,'32eme'!$B:$M,12,FALSE)),IF(ISERROR(VLOOKUP($A3,'32eme'!$F:$M,8,FALSE)),\"\",IF(VLOOKUP($A3,'32eme'!$F:$M,8,FALSE)=U$2,\"X\",\"\")),IF(VLOOKUP($A3,'32eme'!$B:$M,12,FALSE)=U$2,\"X\",\"\"))","v":""},{"$f":"IF(ISERROR(VLOOKUP($A3,'32eme'!$B:$M,12,FALSE)),IF(ISERROR(VLOOKUP($A3,'32eme'!$F:$M,8,FALSE)),\"\",IF(VLOOKUP($A3,'32eme'!$F:$M,8,FALSE)=V$2,\"X\",\"\")),IF(VLOOKUP($A3,'32eme'!$B:$M,12,FALSE)=V$2,\"X\",\"\"))","v":""},{"$f":"IF(ISERROR(VLOOKUP($A3,'32eme'!$B:$M,12,FALSE)),IF(ISERROR(VLOOKUP($A3,'32eme'!$F:$M,8,FALSE)),\"\",IF(VLOOKUP($A3,'32eme'!$F:$M,8,FALSE)=W$2,\"X\",\"\")),IF(VLOOKUP($A3,'32eme'!$B:$M,12,FALSE)=W$2,\"X\",\"\"))","v":""},{"$f":"IF(ISERROR(VLOOKUP($A3,'32eme'!$B:$M,12,FALSE)),IF(ISERROR(VLOOKUP($A3,'32eme'!$F:$M,8,FALSE)),\"\",IF(VLOOKUP($A3,'32eme'!$F:$M,8,FALSE)=X$2,\"X\",\"\")),IF(VLOOKUP($A3,'32eme'!$B:$M,12,FALSE)=X$2,\"X\",\"\"))","v":""},{"$f":"IF(ISERROR(VLOOKUP($A3,'32eme'!$B:$M,12,FALSE)),IF(ISERROR(VLOOKUP($A3,'32eme'!$F:$M,8,FALSE)),\"\",IF(VLOOKUP($A3,'32eme'!$F:$M,8,FALSE)=Y$2,\"X\",\"\")),IF(VLOOKUP($A3,'32eme'!$B:$M,12,FALSE)=Y$2,\"X\",\"\"))","v":""},{"$f":"IF(ISERROR(VLOOKUP($A3,'32eme'!$B:$M,12,FALSE)),IF(ISERROR(VLOOKUP($A3,'32eme'!$F:$M,8,FALSE)),\"\",IF(VLOOKUP($A3,'32eme'!$F:$M,8,FALSE)=Z$2,\"X\",\"\")),IF(VLOOKUP($A3,'32eme'!$B:$M,12,FALSE)=Z$2,\"X\",\"\"))","v":""},{"$f":"IF(ISERROR(VLOOKUP($A3,'32eme'!$B:$M,12,FALSE)),IF(ISERROR(VLOOKUP($A3,'32eme'!$F:$M,8,FALSE)),\"\",IF(VLOOKUP($A3,'32eme'!$F:$M,8,FALSE)=AA$2,\"X\",\"\")),IF(VLOOKUP($A3,'32eme'!$B:$M,12,FALSE)=AA$2,\"X\",\"\"))","v":""},{"$f":"IF(ISERROR(VLOOKUP($A3,'32eme'!$B:$M,12,FALSE)),IF(ISERROR(VLOOKUP($A3,'32eme'!$F:$M,8,FALSE)),\"\",IF(VLOOKUP($A3,'32eme'!$F:$M,8,FALSE)=AB$2,\"X\",\"\")),IF(VLOOKUP($A3,'32eme'!$B:$M,12,FALSE)=AB$2,\"X\",\"\"))","v":""},{"$f":"IF(ISERROR(VLOOKUP($A3,'32eme'!$B:$M,12,FALSE)),IF(ISERROR(VLOOKUP($A3,'32eme'!$F:$M,8,FALSE)),\"\",IF(VLOOKUP($A3,'32eme'!$F:$M,8,FALSE)=AC$2,\"X\",\"\")),IF(VLOOKUP($A3,'32eme'!$B:$M,12,FALSE)=AC$2,\"X\",\"\"))","v":""},{"$f":"IF(ISERROR(VLOOKUP($A3,'32eme'!$B:$M,12,FALSE)),IF(ISERROR(VLOOKUP($A3,'32eme'!$F:$M,8,FALSE)),\"\",IF(VLOOKUP($A3,'32eme'!$F:$M,8,FALSE)=AD$2,\"X\",\"\")),IF(VLOOKUP($A3,'32eme'!$B:$M,12,FALSE)=AD$2,\"X\",\"\"))","v":""},{"$f":"IF(ISERROR(VLOOKUP($A3,'32eme'!$B:$M,12,FALSE)),IF(ISERROR(VLOOKUP($A3,'32eme'!$F:$M,8,FALSE)),\"\",IF(VLOOKUP($A3,'32eme'!$F:$M,8,FALSE)=AE$2,\"X\",\"\")),IF(VLOOKUP($A3,'32eme'!$B:$M,12,FALSE)=AE$2,\"X\",\"\"))","v":""},{"$f":"IF(ISERROR(VLOOKUP($A3,'32eme'!$B:$M,12,FALSE)),IF(ISERROR(VLOOKUP($A3,'32eme'!$F:$M,8,FALSE)),\"\",IF(VLOOKUP($A3,'32eme'!$F:$M,8,FALSE)=AF$2,\"X\",\"\")),IF(VLOOKUP($A3,'32eme'!$B:$M,12,FALSE)=AF$2,\"X\",\"\"))","v":""},{"$f":"IF(ISERROR(VLOOKUP($A3,'32eme'!$B:$M,12,FALSE)),IF(ISERROR(VLOOKUP($A3,'32eme'!$F:$M,8,FALSE)),\"\",IF(VLOOKUP($A3,'32eme'!$F:$M,8,FALSE)=AG$2,\"X\",\"\")),IF(VLOOKUP($A3,'32eme'!$B:$M,12,FALSE)=AG$2,\"X\",\"\"))","v":""},{"$f":"IF(ISERROR(VLOOKUP($A3,'16eme'!$B:$M,12,FALSE)),IF(ISERROR(VLOOKUP($A3,'16eme'!$F:$M,8,FALSE)),\"\",IF(VLOOKUP($A3,'16eme'!$F:$M,8,FALSE)=AH$2,\"X\",\"\")),IF(VLOOKUP($A3,'16eme'!$B:$M,12,FALSE)=AH$2,\"X\",\"\"))","v":""},{"$f":"IF(ISERROR(VLOOKUP($A3,'16eme'!$B:$M,12,FALSE)),IF(ISERROR(VLOOKUP($A3,'16eme'!$F:$M,8,FALSE)),\"\",IF(VLOOKUP($A3,'16eme'!$F:$M,8,FALSE)=AI$2,\"X\",\"\")),IF(VLOOKUP($A3,'16eme'!$B:$M,12,FALSE)=AI$2,\"X\",\"\"))","v":""},{"$f":"IF(ISERROR(VLOOKUP($A3,'16eme'!$B:$M,12,FALSE)),IF(ISERROR(VLOOKUP($A3,'16eme'!$F:$M,8,FALSE)),\"\",IF(VLOOKUP($A3,'16eme'!$F:$M,8,FALSE)=AJ$2,\"X\",\"\")),IF(VLOOKUP($A3,'16eme'!$B:$M,12,FALSE)=AJ$2,\"X\",\"\"))","v":""},{"$f":"IF(ISERROR(VLOOKUP($A3,'16eme'!$B:$M,12,FALSE)),IF(ISERROR(VLOOKUP($A3,'16eme'!$F:$M,8,FALSE)),\"\",IF(VLOOKUP($A3,'16eme'!$F:$M,8,FALSE)=AK$2,\"X\",\"\")),IF(VLOOKUP($A3,'16eme'!$B:$M,12,FALSE)=AK$2,\"X\",\"\"))","v":""},{"$f":"IF(ISERROR(VLOOKUP($A3,'16eme'!$B:$M,12,FALSE)),IF(ISERROR(VLOOKUP($A3,'16eme'!$F:$M,8,FALSE)),\"\",IF(VLOOKUP($A3,'16eme'!$F:$M,8,FALSE)=AL$2,\"X\",\"\")),IF(VLOOKUP($A3,'16eme'!$B:$M,12,FALSE)=AL$2,\"X\",\"\"))","v":""},{"$f":"IF(ISERROR(VLOOKUP($A3,'16eme'!$B:$M,12,FALSE)),IF(ISERROR(VLOOKUP($A3,'16eme'!$F:$M,8,FALSE)),\"\",IF(VLOOKUP($A3,'16eme'!$F:$M,8,FALSE)=AM$2,\"X\",\"\")),IF(VLOOKUP($A3,'16eme'!$B:$M,12,FALSE)=AM$2,\"X\",\"\"))","v":""},{"$f":"IF(ISERROR(VLOOKUP($A3,'16eme'!$B:$M,12,FALSE)),IF(ISERROR(VLOOKUP($A3,'16eme'!$F:$M,8,FALSE)),\"\",IF(VLOOKUP($A3,'16eme'!$F:$M,8,FALSE)=AN$2,\"X\",\"\")),IF(VLOOKUP($A3,'16eme'!$B:$M,12,FALSE)=AN$2,\"X\",\"\"))","v":""},{"$f":"IF(ISERROR(VLOOKUP($A3,'16eme'!$B:$M,12,FALSE)),IF(ISERROR(VLOOKUP($A3,'16eme'!$F:$M,8,FALSE)),\"\",IF(VLOOKUP($A3,'16eme'!$F:$M,8,FALSE)=AO$2,\"X\",\"\")),IF(VLOOKUP($A3,'16eme'!$B:$M,12,FALSE)=AO$2,\"X\",\"\"))","v":""},{"$f":"IF(ISERROR(VLOOKUP($A3,'16eme'!$B:$M,12,FALSE)),IF(ISERROR(VLOOKUP($A3,'16eme'!$F:$M,8,FALSE)),\"\",IF(VLOOKUP($A3,'16eme'!$F:$M,8,FALSE)=AP$2,\"X\",\"\")),IF(VLOOKUP($A3,'16eme'!$B:$M,12,FALSE)=AP$2,\"X\",\"\"))","v":""},{"$f":"IF(ISERROR(VLOOKUP($A3,'16eme'!$B:$M,12,FALSE)),IF(ISERROR(VLOOKUP($A3,'16eme'!$F:$M,8,FALSE)),\"\",IF(VLOOKUP($A3,'16eme'!$F:$M,8,FALSE)=AQ$2,\"X\",\"\")),IF(VLOOKUP($A3,'16eme'!$B:$M,12,FALSE)=AQ$2,\"X\",\"\"))","v":""},{"$f":"IF(ISERROR(VLOOKUP($A3,'16eme'!$B:$M,12,FALSE)),IF(ISERROR(VLOOKUP($A3,'16eme'!$F:$M,8,FALSE)),\"\",IF(VLOOKUP($A3,'16eme'!$F:$M,8,FALSE)=AR$2,\"X\",\"\")),IF(VLOOKUP($A3,'16eme'!$B:$M,12,FALSE)=AR$2,\"X\",\"\"))","v":""},{"$f":"IF(ISERROR(VLOOKUP($A3,'16eme'!$B:$M,12,FALSE)),IF(ISERROR(VLOOKUP($A3,'16eme'!$F:$M,8,FALSE)),\"\",IF(VLOOKUP($A3,'16eme'!$F:$M,8,FALSE)=AS$2,\"X\",\"\")),IF(VLOOKUP($A3,'16eme'!$B:$M,12,FALSE)=AS$2,\"X\",\"\"))","v":""},{"$f":"IF(ISERROR(VLOOKUP($A3,'16eme'!$B:$M,12,FALSE)),IF(ISERROR(VLOOKUP($A3,'16eme'!$F:$M,8,FALSE)),\"\",IF(VLOOKUP($A3,'16eme'!$F:$M,8,FALSE)=AT$2,\"X\",\"\")),IF(VLOOKUP($A3,'16eme'!$B:$M,12,FALSE)=AT$2,\"X\",\"\"))","v":""},{"$f":"IF(ISERROR(VLOOKUP($A3,'16eme'!$B:$M,12,FALSE)),IF(ISERROR(VLOOKUP($A3,'16eme'!$F:$M,8,FALSE)),\"\",IF(VLOOKUP($A3,'16eme'!$F:$M,8,FALSE)=AU$2,\"X\",\"\")),IF(VLOOKUP($A3,'16eme'!$B:$M,12,FALSE)=AU$2,\"X\",\"\"))","v":""},{"$f":"IF(ISERROR(VLOOKUP($A3,'16eme'!$B:$M,12,FALSE)),IF(ISERROR(VLOOKUP($A3,'16eme'!$F:$M,8,FALSE)),\"\",IF(VLOOKUP($A3,'16eme'!$F:$M,8,FALSE)=AV$2,\"X\",\"\")),IF(VLOOKUP($A3,'16eme'!$B:$M,12,FALSE)=AV$2,\"X\",\"\"))","v":""},{"$f":"IF(ISERROR(VLOOKUP($A3,'16eme'!$B:$M,12,FALSE)),IF(ISERROR(VLOOKUP($A3,'16eme'!$F:$M,8,FALSE)),\"\",IF(VLOOKUP($A3,'16eme'!$F:$M,8,FALSE)=AW$2,\"X\",\"\")),IF(VLOOKUP($A3,'16eme'!$B:$M,12,FALSE)=AW$2,\"X\",\"\"))","v":""},{"$f":"IF(ISERROR(VLOOKUP($A3,'8eme'!$B:$M,12,FALSE)),IF(ISERROR(VLOOKUP($A3,'8eme'!$F:$M,8,FALSE)),\"\",IF(VLOOKUP($A3,'8eme'!$F:$M,8,FALSE)=AX$2,\"X\",\"\")),IF(VLOOKUP($A3,'8eme'!$B:$M,12,FALSE)=AX$2,\"X\",\"\"))","v":""},{"$f":"IF(ISERROR(VLOOKUP($A3,'8eme'!$B:$M,12,FALSE)),IF(ISERROR(VLOOKUP($A3,'8eme'!$F:$M,8,FALSE)),\"\",IF(VLOOKUP($A3,'8eme'!$F:$M,8,FALSE)=AY$2,\"X\",\"\")),IF(VLOOKUP($A3,'8eme'!$B:$M,12,FALSE)=AY$2,\"X\",\"\"))","v":""},{"$f":"IF(ISERROR(VLOOKUP($A3,'8eme'!$B:$M,12,FALSE)),IF(ISERROR(VLOOKUP($A3,'8eme'!$F:$M,8,FALSE)),\"\",IF(VLOOKUP($A3,'8eme'!$F:$M,8,FALSE)=AZ$2,\"X\",\"\")),IF(VLOOKUP($A3,'8eme'!$B:$M,12,FALSE)=AZ$2,\"X\",\"\"))","v":""},{"$f":"IF(ISERROR(VLOOKUP($A3,'8eme'!$B:$M,12,FALSE)),IF(ISERROR(VLOOKUP($A3,'8eme'!$F:$M,8,FALSE)),\"\",IF(VLOOKUP($A3,'8eme'!$F:$M,8,FALSE)=BA$2,\"X\",\"\")),IF(VLOOKUP($A3,'8eme'!$B:$M,12,FALSE)=BA$2,\"X\",\"\"))","v":""},{"$f":"IF(ISERROR(VLOOKUP($A3,'8eme'!$B:$M,12,FALSE)),IF(ISERROR(VLOOKUP($A3,'8eme'!$F:$M,8,FALSE)),\"\",IF(VLOOKUP($A3,'8eme'!$F:$M,8,FALSE)=BB$2,\"X\",\"\")),IF(VLOOKUP($A3,'8eme'!$B:$M,12,FALSE)=BB$2,\"X\",\"\"))","v":""},{"$f":"IF(ISERROR(VLOOKUP($A3,'8eme'!$B:$M,12,FALSE)),IF(ISERROR(VLOOKUP($A3,'8eme'!$F:$M,8,FALSE)),\"\",IF(VLOOKUP($A3,'8eme'!$F:$M,8,FALSE)=BC$2,\"X\",\"\")),IF(VLOOKUP($A3,'8eme'!$B:$M,12,FALSE)=BC$2,\"X\",\"\"))","v":""},{"$f":"IF(ISERROR(VLOOKUP($A3,'8eme'!$B:$M,12,FALSE)),IF(ISERROR(VLOOKUP($A3,'8eme'!$F:$M,8,FALSE)),\"\",IF(VLOOKUP($A3,'8eme'!$F:$M,8,FALSE)=BD$2,\"X\",\"\")),IF(VLOOKUP($A3,'8eme'!$B:$M,12,FALSE)=BD$2,\"X\",\"\"))","v":""},{"$f":"IF(ISERROR(VLOOKUP($A3,'8eme'!$B:$M,12,FALSE)),IF(ISERROR(VLOOKUP($A3,'8eme'!$F:$M,8,FALSE)),\"\",IF(VLOOKUP($A3,'8eme'!$F:$M,8,FALSE)=BE$2,\"X\",\"\")),IF(VLOOKUP($A3,'8eme'!$B:$M,12,FALSE)=BE$2,\"X\",\"\"))","v":""},{"$f":"IF(ISERROR(VLOOKUP($A3,'8eme'!$B:$M,12,FALSE)),IF(ISERROR(VLOOKUP($A3,'8eme'!$F:$M,8,FALSE)),\"\",IF(VLOOKUP($A3,'8eme'!$F:$M,8,FALSE)=BF$2,\"X\",\"\")),IF(VLOOKUP($A3,'8eme'!$B:$M,12,FALSE)=BF$2,\"X\",\"\"))","v":""},{"$f":"IF(ISERROR(VLOOKUP($A3,'8eme'!$B:$M,12,FALSE)),IF(ISERROR(VLOOKUP($A3,'8eme'!$F:$M,8,FALSE)),\"\",IF(VLOOKUP($A3,'8eme'!$F:$M,8,FALSE)=BG$2,\"X\",\"\")),IF(VLOOKUP($A3,'8eme'!$B:$M,12,FALSE)=BG$2,\"X\",\"\"))","v":""},{"$f":"IF(ISERROR(VLOOKUP($A3,'8eme'!$B:$M,12,FALSE)),IF(ISERROR(VLOOKUP($A3,'8eme'!$F:$M,8,FALSE)),\"\",IF(VLOOKUP($A3,'8eme'!$F:$M,8,FALSE)=BH$2,\"X\",\"\")),IF(VLOOKUP($A3,'8eme'!$B:$M,12,FALSE)=BH$2,\"X\",\"\"))","v":""},{"$f":"IF(ISERROR(VLOOKUP($A3,'8eme'!$B:$M,12,FALSE)),IF(ISERROR(VLOOKUP($A3,'8eme'!$F:$M,8,FALSE)),\"\",IF(VLOOKUP($A3,'8eme'!$F:$M,8,FALSE)=BI$2,\"X\",\"\")),IF(VLOOKUP($A3,'8eme'!$B:$M,12,FALSE)=BI$2,\"X\",\"\"))","v":""},{"$f":"IF(ISERROR(VLOOKUP($A3,'8eme'!$B:$M,12,FALSE)),IF(ISERROR(VLOOKUP($A3,'8eme'!$F:$M,8,FALSE)),\"\",IF(VLOOKUP($A3,'8eme'!$F:$M,8,FALSE)=BJ$2,\"X\",\"\")),IF(VLOOKUP($A3,'8eme'!$B:$M,12,FALSE)=BJ$2,\"X\",\"\"))","v":""},{"$f":"IF(ISERROR(VLOOKUP($A3,'8eme'!$B:$M,12,FALSE)),IF(ISERROR(VLOOKUP($A3,'8eme'!$F:$M,8,FALSE)),\"\",IF(VLOOKUP($A3,'8eme'!$F:$M,8,FALSE)=BK$2,\"X\",\"\")),IF(VLOOKUP($A3,'8eme'!$B:$M,12,FALSE)=BK$2,\"X\",\"\"))","v":""},{"$f":"IF(ISERROR(VLOOKUP($A3,'8eme'!$B:$M,12,FALSE)),IF(ISERROR(VLOOKUP($A3,'8eme'!$F:$M,8,FALSE)),\"\",IF(VLOOKUP($A3,'8eme'!$F:$M,8,FALSE)=BL$2,\"X\",\"\")),IF(VLOOKUP($A3,'8eme'!$B:$M,12,FALSE)=BL$2,\"X\",\"\"))","v":""},{"$f":"IF(ISERROR(VLOOKUP($A3,'8eme'!$B:$M,12,FALSE)),IF(ISERROR(VLOOKUP($A3,'8eme'!$F:$M,8,FALSE)),\"\",IF(VLOOKUP($A3,'8eme'!$F:$M,8,FALSE)=BM$2,\"X\",\"\")),IF(VLOOKUP($A3,'8eme'!$B:$M,12,FALSE)=BM$2,\"X\",\"\"))","v":""},{"$f":"IF(ISERROR(VLOOKUP($A3,quart!$B:$M,12,FALSE)),IF(ISERROR(VLOOKUP($A3,quart!$F:$M,8,FALSE)),\"\",IF(VLOOKUP($A3,quart!$F:$M,8,FALSE)=BN$2,\"X\",\"\")),IF(VLOOKUP($A3,quart!$B:$M,12,FALSE)=BN$2,\"X\",\"\"))","v":""},{"$f":"IF(ISERROR(VLOOKUP($A3,quart!$B:$M,12,FALSE)),IF(ISERROR(VLOOKUP($A3,quart!$F:$M,8,FALSE)),\"\",IF(VLOOKUP($A3,quart!$F:$M,8,FALSE)=BO$2,\"X\",\"\")),IF(VLOOKUP($A3,quart!$B:$M,12,FALSE)=BO$2,\"X\",\"\"))","v":""},{"$f":"IF(ISERROR(VLOOKUP($A3,quart!$B:$M,12,FALSE)),IF(ISERROR(VLOOKUP($A3,quart!$F:$M,8,FALSE)),\"\",IF(VLOOKUP($A3,quart!$F:$M,8,FALSE)=BP$2,\"X\",\"\")),IF(VLOOKUP($A3,quart!$B:$M,12,FALSE)=BP$2,\"X\",\"\"))","v":""},{"$f":"IF(ISERROR(VLOOKUP($A3,quart!$B:$M,12,FALSE)),IF(ISERROR(VLOOKUP($A3,quart!$F:$M,8,FALSE)),\"\",IF(VLOOKUP($A3,quart!$F:$M,8,FALSE)=BQ$2,\"X\",\"\")),IF(VLOOKUP($A3,quart!$B:$M,12,FALSE)=BQ$2,\"X\",\"\"))","v":""},{"$f":"IF(ISERROR(VLOOKUP($A3,quart!$B:$M,12,FALSE)),IF(ISERROR(VLOOKUP($A3,quart!$F:$M,8,FALSE)),\"\",IF(VLOOKUP($A3,quart!$F:$M,8,FALSE)=BR$2,\"X\",\"\")),IF(VLOOKUP($A3,quart!$B:$M,12,FALSE)=BR$2,\"X\",\"\"))","v":""},{"$f":"IF(ISERROR(VLOOKUP($A3,quart!$B:$M,12,FALSE)),IF(ISERROR(VLOOKUP($A3,quart!$F:$M,8,FALSE)),\"\",IF(VLOOKUP($A3,quart!$F:$M,8,FALSE)=BS$2,\"X\",\"\")),IF(VLOOKUP($A3,quart!$B:$M,12,FALSE)=BS$2,\"X\",\"\"))","v":""},{"$f":"IF(ISERROR(VLOOKUP($A3,quart!$B:$M,12,FALSE)),IF(ISERROR(VLOOKUP($A3,quart!$F:$M,8,FALSE)),\"\",IF(VLOOKUP($A3,quart!$F:$M,8,FALSE)=BT$2,\"X\",\"\")),IF(VLOOKUP($A3,quart!$B:$M,12,FALSE)=BT$2,\"X\",\"\"))","v":""},{"$f":"IF(ISERROR(VLOOKUP($A3,quart!$B:$M,12,FALSE)),IF(ISERROR(VLOOKUP($A3,quart!$F:$M,8,FALSE)),\"\",IF(VLOOKUP($A3,quart!$F:$M,8,FALSE)=BU$2,\"X\",\"\")),IF(VLOOKUP($A3,quart!$B:$M,12,FALSE)=BU$2,\"X\",\"\"))","v":""},{"$f":"IF(ISERROR(VLOOKUP($A3,quart!$B:$M,12,FALSE)),IF(ISERROR(VLOOKUP($A3,quart!$F:$M,8,FALSE)),\"\",IF(VLOOKUP($A3,quart!$F:$M,8,FALSE)=BV$2,\"X\",\"\")),IF(VLOOKUP($A3,quart!$B:$M,12,FALSE)=BV$2,\"X\",\"\"))","v":""},{"$f":"IF(ISERROR(VLOOKUP($A3,quart!$B:$M,12,FALSE)),IF(ISERROR(VLOOKUP($A3,quart!$F:$M,8,FALSE)),\"\",IF(VLOOKUP($A3,quart!$F:$M,8,FALSE)=BW$2,\"X\",\"\")),IF(VLOOKUP($A3,quart!$B:$M,12,FALSE)=BW$2,\"X\",\"\"))","v":""},{"$f":"IF(ISERROR(VLOOKUP($A3,quart!$B:$M,12,FALSE)),IF(ISERROR(VLOOKUP($A3,quart!$F:$M,8,FALSE)),\"\",IF(VLOOKUP($A3,quart!$F:$M,8,FALSE)=BX$2,\"X\",\"\")),IF(VLOOKUP($A3,quart!$B:$M,12,FALSE)=BX$2,\"X\",\"\"))","v":""},{"$f":"IF(ISERROR(VLOOKUP($A3,quart!$B:$M,12,FALSE)),IF(ISERROR(VLOOKUP($A3,quart!$F:$M,8,FALSE)),\"\",IF(VLOOKUP($A3,quart!$F:$M,8,FALSE)=BY$2,\"X\",\"\")),IF(VLOOKUP($A3,quart!$B:$M,12,FALSE)=BY$2,\"X\",\"\"))","v":""},{"$f":"IF(ISERROR(VLOOKUP($A3,quart!$B:$M,12,FALSE)),IF(ISERROR(VLOOKUP($A3,quart!$F:$M,8,FALSE)),\"\",IF(VLOOKUP($A3,quart!$F:$M,8,FALSE)=BZ$2,\"X\",\"\")),IF(VLOOKUP($A3,quart!$B:$M,12,FALSE)=BZ$2,\"X\",\"\"))","v":""},{"$f":"IF(ISERROR(VLOOKUP($A3,quart!$B:$M,12,FALSE)),IF(ISERROR(VLOOKUP($A3,quart!$F:$M,8,FALSE)),\"\",IF(VLOOKUP($A3,quart!$F:$M,8,FALSE)=CA$2,\"X\",\"\")),IF(VLOOKUP($A3,quart!$B:$M,12,FALSE)=CA$2,\"X\",\"\"))","v":""},{"$f":"IF(ISERROR(VLOOKUP($A3,quart!$B:$M,12,FALSE)),IF(ISERROR(VLOOKUP($A3,quart!$F:$M,8,FALSE)),\"\",IF(VLOOKUP($A3,quart!$F:$M,8,FALSE)=CB$2,\"X\",\"\")),IF(VLOOKUP($A3,quart!$B:$M,12,FALSE)=CB$2,\"X\",\"\"))","v":""},{"$f":"IF(ISERROR(VLOOKUP($A3,quart!$B:$M,12,FALSE)),IF(ISERROR(VLOOKUP($A3,quart!$F:$M,8,FALSE)),\"\",IF(VLOOKUP($A3,quart!$F:$M,8,FALSE)=CC$2,\"X\",\"\")),IF(VLOOKUP($A3,quart!$B:$M,12,FALSE)=CC$2,\"X\",\"\"))","v":""},{"$f":"IF(ISERROR(VLOOKUP($A3,demi!$B:$M,12,FALSE)),IF(ISERROR(VLOOKUP($A3,demi!$F:$M,8,FALSE)),\"\",IF(VLOOKUP($A3,demi!$F:$M,8,FALSE)=CD$2,\"X\",\"\")),IF(VLOOKUP($A3,demi!$B:$M,12,FALSE)=CD$2,\"X\",\"\"))","v":""},{"$f":"IF(ISERROR(VLOOKUP($A3,demi!$B:$M,12,FALSE)),IF(ISERROR(VLOOKUP($A3,demi!$F:$M,8,FALSE)),\"\",IF(VLOOKUP($A3,demi!$F:$M,8,FALSE)=CE$2,\"X\",\"\")),IF(VLOOKUP($A3,demi!$B:$M,12,FALSE)=CE$2,\"X\",\"\"))","v":""},{"$f":"IF(ISERROR(VLOOKUP($A3,demi!$B:$M,12,FALSE)),IF(ISERROR(VLOOKUP($A3,demi!$F:$M,8,FALSE)),\"\",IF(VLOOKUP($A3,demi!$F:$M,8,FALSE)=CF$2,\"X\",\"\")),IF(VLOOKUP($A3,demi!$B:$M,12,FALSE)=CF$2,\"X\",\"\"))","v":""},{"$f":"IF(ISERROR(VLOOKUP($A3,demi!$B:$M,12,FALSE)),IF(ISERROR(VLOOKUP($A3,demi!$F:$M,8,FALSE)),\"\",IF(VLOOKUP($A3,demi!$F:$M,8,FALSE)=CG$2,\"X\",\"\")),IF(VLOOKUP($A3,demi!$B:$M,12,FALSE)=CG$2,\"X\",\"\"))","v":""},{"$f":"IF(ISERROR(VLOOKUP($A3,demi!$B:$M,12,FALSE)),IF(ISERROR(VLOOKUP($A3,demi!$F:$M,8,FALSE)),\"\",IF(VLOOKUP($A3,demi!$F:$M,8,FALSE)=CH$2,\"X\",\"\")),IF(VLOOKUP($A3,demi!$B:$M,12,FALSE)=CH$2,\"X\",\"\"))","v":""},{"$f":"IF(ISERROR(VLOOKUP($A3,demi!$B:$M,12,FALSE)),IF(ISERROR(VLOOKUP($A3,demi!$F:$M,8,FALSE)),\"\",IF(VLOOKUP($A3,demi!$F:$M,8,FALSE)=CI$2,\"X\",\"\")),IF(VLOOKUP($A3,demi!$B:$M,12,FALSE)=CI$2,\"X\",\"\"))","v":""},{"$f":"IF(ISERROR(VLOOKUP($A3,demi!$B:$M,12,FALSE)),IF(ISERROR(VLOOKUP($A3,demi!$F:$M,8,FALSE)),\"\",IF(VLOOKUP($A3,demi!$F:$M,8,FALSE)=CJ$2,\"X\",\"\")),IF(VLOOKUP($A3,demi!$B:$M,12,FALSE)=CJ$2,\"X\",\"\"))","v":""},{"$f":"IF(ISERROR(VLOOKUP($A3,demi!$B:$M,12,FALSE)),IF(ISERROR(VLOOKUP($A3,demi!$F:$M,8,FALSE)),\"\",IF(VLOOKUP($A3,demi!$F:$M,8,FALSE)=CK$2,\"X\",\"\")),IF(VLOOKUP($A3,demi!$B:$M,12,FALSE)=CK$2,\"X\",\"\"))","v":""},{"$f":"IF(ISERROR(VLOOKUP($A3,demi!$B:$M,12,FALSE)),IF(ISERROR(VLOOKUP($A3,demi!$F:$M,8,FALSE)),\"\",IF(VLOOKUP($A3,demi!$F:$M,8,FALSE)=CL$2,\"X\",\"\")),IF(VLOOKUP($A3,demi!$B:$M,12,FALSE)=CL$2,\"X\",\"\"))","v":""},{"$f":"IF(ISERROR(VLOOKUP($A3,demi!$B:$M,12,FALSE)),IF(ISERROR(VLOOKUP($A3,demi!$F:$M,8,FALSE)),\"\",IF(VLOOKUP($A3,demi!$F:$M,8,FALSE)=CM$2,\"X\",\"\")),IF(VLOOKUP($A3,demi!$B:$M,12,FALSE)=CM$2,\"X\",\"\"))","v":""},{"$f":"IF(ISERROR(VLOOKUP($A3,demi!$B:$M,12,FALSE)),IF(ISERROR(VLOOKUP($A3,demi!$F:$M,8,FALSE)),\"\",IF(VLOOKUP($A3,demi!$F:$M,8,FALSE)=CN$2,\"X\",\"\")),IF(VLOOKUP($A3,demi!$B:$M,12,FALSE)=CN$2,\"X\",\"\"))","v":""},{"$f":"IF(ISERROR(VLOOKUP($A3,demi!$B:$M,12,FALSE)),IF(ISERROR(VLOOKUP($A3,demi!$F:$M,8,FALSE)),\"\",IF(VLOOKUP($A3,demi!$F:$M,8,FALSE)=CO$2,\"X\",\"\")),IF(VLOOKUP($A3,demi!$B:$M,12,FALSE)=CO$2,\"X\",\"\"))","v":""},{"$f":"IF(ISERROR(VLOOKUP($A3,demi!$B:$M,12,FALSE)),IF(ISERROR(VLOOKUP($A3,demi!$F:$M,8,FALSE)),\"\",IF(VLOOKUP($A3,demi!$F:$M,8,FALSE)=CP$2,\"X\",\"\")),IF(VLOOKUP($A3,demi!$B:$M,12,FALSE)=CP$2,\"X\",\"\"))","v":""},{"$f":"IF(ISERROR(VLOOKUP($A3,demi!$B:$M,12,FALSE)),IF(ISERROR(VLOOKUP($A3,demi!$F:$M,8,FALSE)),\"\",IF(VLOOKUP($A3,demi!$F:$M,8,FALSE)=CQ$2,\"X\",\"\")),IF(VLOOKUP($A3,demi!$B:$M,12,FALSE)=CQ$2,\"X\",\"\"))","v":""},{"$f":"IF(ISERROR(VLOOKUP($A3,demi!$B:$M,12,FALSE)),IF(ISERROR(VLOOKUP($A3,demi!$F:$M,8,FALSE)),\"\",IF(VLOOKUP($A3,demi!$F:$M,8,FALSE)=CR$2,\"X\",\"\")),IF(VLOOKUP($A3,demi!$B:$M,12,FALSE)=CR$2,\"X\",\"\"))","v":""},{"$f":"IF(ISERROR(VLOOKUP($A3,demi!$B:$M,12,FALSE)),IF(ISERROR(VLOOKUP($A3,demi!$F:$M,8,FALSE)),\"\",IF(VLOOKUP($A3,demi!$F:$M,8,FALSE)=CS$2,\"X\",\"\")),IF(VLOOKUP($A3,demi!$B:$M,12,FALSE)=CS$2,\"X\",\"\"))","v":""}]
[2,{"$f":"IF(OR(R4=\"X\",AH4=\"X\",AX4=\"X\",BN4=\"X\",CD4=\"X\"),\"\",\"X\")","v":"X"},{"$f":"IF(OR(S4=\"X\",AI4=\"X\",AY4=\"X\",BO4=\"X\",CE4=\"X\"),\"\",\"X\")","v":"X"},{"$f":"IF(OR(T4=\"X\",AJ4=\"X\",AZ4=\"X\",BP4=\"X\",CF4=\"X\"),\"\",\"X\")","v":"X"},{"$f":"IF(OR(U4=\"X\",AK4=\"X\",BA4=\"X\",BQ4=\"X\",CG4=\"X\"),\"\",\"X\")","v":"X"},{"$f":"IF(OR(V4=\"X\",AL4=\"X\",BB4=\"X\",BR4=\"X\",CH4=\"X\"),\"\",\"X\")","v":"X"},{"$f":"IF(OR(W4=\"X\",AM4=\"X\",BC4=\"X\",BS4=\"X\",CI4=\"X\"),\"\",\"X\")","v":"X"},{"$f":"IF(OR(X4=\"X\",AN4=\"X\",BD4=\"X\",BT4=\"X\",CJ4=\"X\"),\"\",\"X\")","v":"X"},{"$f":"IF(OR(Y4=\"X\",AO4=\"X\",BE4=\"X\",BU4=\"X\",CK4=\"X\"),\"\",\"X\")","v":"X"},{"$f":"IF(OR(Z4=\"X\",AP4=\"X\",BF4=\"X\",BV4=\"X\",CL4=\"X\"),\"\",\"X\")","v":"X"},{"$f":"IF(OR(AA4=\"X\",AQ4=\"X\",BG4=\"X\",BW4=\"X\",CM4=\"X\"),\"\",\"X\")","v":"X"},{"$f":"IF(OR(AB4=\"X\",AR4=\"X\",BH4=\"X\",BX4=\"X\",CN4=\"X\"),\"\",\"X\")","v":"X"},{"$f":"IF(OR(AC4=\"X\",AS4=\"X\",BI4=\"X\",BY4=\"X\",CO4=\"X\"),\"\",\"X\")","v":"X"},{"$f":"IF(OR(AD4=\"X\",AT4=\"X\",BJ4=\"X\",BZ4=\"X\",CP4=\"X\"),\"\",\"X\")","v":"X"},{"$f":"IF(OR(AE4=\"X\",AU4=\"X\",BK4=\"X\",CA4=\"X\",CQ4=\"X\"),\"\",\"X\")","v":"X"},{"$f":"IF(OR(AF4=\"X\",AV4=\"X\",BL4=\"X\",CB4=\"X\",CR4=\"X\"),\"\",\"X\")","v":"X"},{"$f":"IF(OR(AG4=\"X\",AW4=\"X\",BM4=\"X\",CC4=\"X\",CS4=\"X\"),\"\",\"X\")","v":"X"},{"$f":"IF(ISERROR(VLOOKUP($A4,'32eme'!$B:$M,12,FALSE)),IF(ISERROR(VLOOKUP($A4,'32eme'!$F:$M,8,FALSE)),\"\",IF(VLOOKUP($A4,'32eme'!$F:$M,8,FALSE)=R$2,\"X\",\"\")),IF(VLOOKUP($A4,'32eme'!$B:$M,12,FALSE)=R$2,\"X\",\"\"))","v":""},{"$f":"IF(ISERROR(VLOOKUP($A4,'32eme'!$B:$M,12,FALSE)),IF(ISERROR(VLOOKUP($A4,'32eme'!$F:$M,8,FALSE)),\"\",IF(VLOOKUP($A4,'32eme'!$F:$M,8,FALSE)=S$2,\"X\",\"\")),IF(VLOOKUP($A4,'32eme'!$B:$M,12,FALSE)=S$2,\"X\",\"\"))","v":""},{"$f":"IF(ISERROR(VLOOKUP($A4,'32eme'!$B:$M,12,FALSE)),IF(ISERROR(VLOOKUP($A4,'32eme'!$F:$M,8,FALSE)),\"\",IF(VLOOKUP($A4,'32eme'!$F:$M,8,FALSE)=T$2,\"X\",\"\")),IF(VLOOKUP($A4,'32eme'!$B:$M,12,FALSE)=T$2,\"X\",\"\"))","v":""},{"$f":"IF(ISERROR(VLOOKUP($A4,'32eme'!$B:$M,12,FALSE)),IF(ISERROR(VLOOKUP($A4,'32eme'!$F:$M,8,FALSE)),\"\",IF(VLOOKUP($A4,'32eme'!$F:$M,8,FALSE)=U$2,\"X\",\"\")),IF(VLOOKUP($A4,'32eme'!$B:$M,12,FALSE)=U$2,\"X\",\"\"))","v":""},{"$f":"IF(ISERROR(VLOOKUP($A4,'32eme'!$B:$M,12,FALSE)),IF(ISERROR(VLOOKUP($A4,'32eme'!$F:$M,8,FALSE)),\"\",IF(VLOOKUP($A4,'32eme'!$F:$M,8,FALSE)=V$2,\"X\",\"\")),IF(VLOOKUP($A4,'32eme'!$B:$M,12,FALSE)=V$2,\"X\",\"\"))","v":""},{"$f":"IF(ISERROR(VLOOKUP($A4,'32eme'!$B:$M,12,FALSE)),IF(ISERROR(VLOOKUP($A4,'32eme'!$F:$M,8,FALSE)),\"\",IF(VLOOKUP($A4,'32eme'!$F:$M,8,FALSE)=W$2,\"X\",\"\")),IF(VLOOKUP($A4,'32eme'!$B:$M,12,FALSE)=W$2,\"X\",\"\"))","v":""},{"$f":"IF(ISERROR(VLOOKUP($A4,'32eme'!$B:$M,12,FALSE)),IF(ISERROR(VLOOKUP($A4,'32eme'!$F:$M,8,FALSE)),\"\",IF(VLOOKUP($A4,'32eme'!$F:$M,8,FALSE)=X$2,\"X\",\"\")),IF(VLOOKUP($A4,'32eme'!$B:$M,12,FALSE)=X$2,\"X\",\"\"))","v":""},{"$f":"IF(ISERROR(VLOOKUP($A4,'32eme'!$B:$M,12,FALSE)),IF(ISERROR(VLOOKUP($A4,'32eme'!$F:$M,8,FALSE)),\"\",IF(VLOOKUP($A4,'32eme'!$F:$M,8,FALSE)=Y$2,\"X\",\"\")),IF(VLOOKUP($A4,'32eme'!$B:$M,12,FALSE)=Y$2,\"X\",\"\"))","v":""},{"$f":"IF(ISERROR(VLOOKUP($A4,'32eme'!$B:$M,12,FALSE)),IF(ISERROR(VLOOKUP($A4,'32eme'!$F:$M,8,FALSE)),\"\",IF(VLOOKUP($A4,'32eme'!$F:$M,8,FALSE)=Z$2,\"X\",\"\")),IF(VLOOKUP($A4,'32eme'!$B:$M,12,FALSE)=Z$2,\"X\",\"\"))","v":""},{"$f":"IF(ISERROR(VLOOKUP($A4,'32eme'!$B:$M,12,FALSE)),IF(ISERROR(VLOOKUP($A4,'32eme'!$F:$M,8,FALSE)),\"\",IF(VLOOKUP($A4,'32eme'!$F:$M,8,FALSE)=AA$2,\"X\",\"\")),IF(VLOOKUP($A4,'32eme'!$B:$M,12,FALSE)=AA$2,\"X\",\"\"))","v":""},{"$f":"IF(ISERROR(VLOOKUP($A4,'32eme'!$B:$M,12,FALSE)),IF(ISERROR(VLOOKUP($A4,'32eme'!$F:$M,8,FALSE)),\"\",IF(VLOOKUP($A4,'32eme'!$F:$M,8,FALSE)=AB$2,\"X\",\"\")),IF(VLOOKUP($A4,'32eme'!$B:$M,12,FALSE)=AB$2,\"X\",\"\"))","v":""},{"$f":"IF(ISERROR(VLOOKUP($A4,'32eme'!$B:$M,12,FALSE)),IF(ISERROR(VLOOKUP($A4,'32eme'!$F:$M,8,FALSE)),\"\",IF(VLOOKUP($A4,'32eme'!$F:$M,8,FALSE)=AC$2,\"X\",\"\")),IF(VLOOKUP($A4,'32eme'!$B:$M,12,FALSE)=AC$2,\"X\",\"\"))","v":""},{"$f":"IF(ISERROR(VLOOKUP($A4,'32eme'!$B:$M,12,FALSE)),IF(ISERROR(VLOOKUP($A4,'32eme'!$F:$M,8,FALSE)),\"\",IF(VLOOKUP($A4,'32eme'!$F:$M,8,FALSE)=AD$2,\"X\",\"\")),IF(VLOOKUP($A4,'32eme'!$B:$M,12,FALSE)=AD$2,\"X\",\"\"))","v":""},{"$f":"IF(ISERROR(VLOOKUP($A4,'32eme'!$B:$M,12,FALSE)),IF(ISERROR(VLOOKUP($A4,'32eme'!$F:$M,8,FALSE)),\"\",IF(VLOOKUP($A4,'32eme'!$F:$M,8,FALSE)=AE$2,\"X\",\"\")),IF(VLOOKUP($A4,'32eme'!$B:$M,12,FALSE)=AE$2,\"X\",\"\"))","v":""},{"$f":"IF(ISERROR(VLOOKUP($A4,'32eme'!$B:$M,12,FALSE)),IF(ISERROR(VLOOKUP($A4,'32eme'!$F:$M,8,FALSE)),\"\",IF(VLOOKUP($A4,'32eme'!$F:$M,8,FALSE)=AF$2,\"X\",\"\")),IF(VLOOKUP($A4,'32eme'!$B:$M,12,FALSE)=AF$2,\"X\",\"\"))","v":""},{"$f":"IF(ISERROR(VLOOKUP($A4,'32eme'!$B:$M,12,FALSE)),IF(ISERROR(VLOOKUP($A4,'32eme'!$F:$M,8,FALSE)),\"\",IF(VLOOKUP($A4,'32eme'!$F:$M,8,FALSE)=AG$2,\"X\",\"\")),IF(VLOOKUP($A4,'32eme'!$B:$M,12,FALSE)=AG$2,\"X\",\"\"))","v":""},{"$f":"IF(ISERROR(VLOOKUP($A4,'16eme'!$B:$M,12,FALSE)),IF(ISERROR(VLOOKUP($A4,'16eme'!$F:$M,8,FALSE)),\"\",IF(VLOOKUP($A4,'16eme'!$F:$M,8,FALSE)=AH$2,\"X\",\"\")),IF(VLOOKUP($A4,'16eme'!$B:$M,12,FALSE)=AH$2,\"X\",\"\"))","v":""},{"$f":"IF(ISERROR(VLOOKUP($A4,'16eme'!$B:$M,12,FALSE)),IF(ISERROR(VLOOKUP($A4,'16eme'!$F:$M,8,FALSE)),\"\",IF(VLOOKUP($A4,'16eme'!$F:$M,8,FALSE)=AI$2,\"X\",\"\")),IF(VLOOKUP($A4,'16eme'!$B:$M,12,FALSE)=AI$2,\"X\",\"\"))","v":""},{"$f":"IF(ISERROR(VLOOKUP($A4,'16eme'!$B:$M,12,FALSE)),IF(ISERROR(VLOOKUP($A4,'16eme'!$F:$M,8,FALSE)),\"\",IF(VLOOKUP($A4,'16eme'!$F:$M,8,FALSE)=AJ$2,\"X\",\"\")),IF(VLOOKUP($A4,'16eme'!$B:$M,12,FALSE)=AJ$2,\"X\",\"\"))","v":""},{"$f":"IF(ISERROR(VLOOKUP($A4,'16eme'!$B:$M,12,FALSE)),IF(ISERROR(VLOOKUP($A4,'16eme'!$F:$M,8,FALSE)),\"\",IF(VLOOKUP($A4,'16eme'!$F:$M,8,FALSE)=AK$2,\"X\",\"\")),IF(VLOOKUP($A4,'16eme'!$B:$M,12,FALSE)=AK$2,\"X\",\"\"))","v":""},{"$f":"IF(ISERROR(VLOOKUP($A4,'16eme'!$B:$M,12,FALSE)),IF(ISERROR(VLOOKUP($A4,'16eme'!$F:$M,8,FALSE)),\"\",IF(VLOOKUP($A4,'16eme'!$F:$M,8,FALSE)=AL$2,\"X\",\"\")),IF(VLOOKUP($A4,'16eme'!$B:$M,12,FALSE)=AL$2,\"X\",\"\"))","v":""},{"$f":"IF(ISERROR(VLOOKUP($A4,'16eme'!$B:$M,12,FALSE)),IF(ISERROR(VLOOKUP($A4,'16eme'!$F:$M,8,FALSE)),\"\",IF(VLOOKUP($A4,'16eme'!$F:$M,8,FALSE)=AM$2,\"X\",\"\")),IF(VLOOKUP($A4,'16eme'!$B:$M,12,FALSE)=AM$2,\"X\",\"\"))","v":""},{"$f":"IF(ISERROR(VLOOKUP($A4,'16eme'!$B:$M,12,FALSE)),IF(ISERROR(VLOOKUP($A4,'16eme'!$F:$M,8,FALSE)),\"\",IF(VLOOKUP($A4,'16eme'!$F:$M,8,FALSE)=AN$2,\"X\",\"\")),IF(VLOOKUP($A4,'16eme'!$B:$M,12,FALSE)=AN$2,\"X\",\"\"))","v":""},{"$f":"IF(ISERROR(VLOOKUP($A4,'16eme'!$B:$M,12,FALSE)),IF(ISERROR(VLOOKUP($A4,'16eme'!$F:$M,8,FALSE)),\"\",IF(VLOOKUP($A4,'16eme'!$F:$M,8,FALSE)=AO$2,\"X\",\"\")),IF(VLOOKUP($A4,'16eme'!$B:$M,12,FALSE)=AO$2,\"X\",\"\"))","v":""},{"$f":"IF(ISERROR(VLOOKUP($A4,'16eme'!$B:$M,12,FALSE)),IF(ISERROR(VLOOKUP($A4,'16eme'!$F:$M,8,FALSE)),\"\",IF(VLOOKUP($A4,'16eme'!$F:$M,8,FALSE)=AP$2,\"X\",\"\")),IF(VLOOKUP($A4,'16eme'!$B:$M,12,FALSE)=AP$2,\"X\",\"\"))","v":""},{"$f":"IF(ISERROR(VLOOKUP($A4,'16eme'!$B:$M,12,FALSE)),IF(ISERROR(VLOOKUP($A4,'16eme'!$F:$M,8,FALSE)),\"\",IF(VLOOKUP($A4,'16eme'!$F:$M,8,FALSE)=AQ$2,\"X\",\"\")),IF(VLOOKUP($A4,'16eme'!$B:$M,12,FALSE)=AQ$2,\"X\",\"\"))","v":""},{"$f":"IF(ISERROR(VLOOKUP($A4,'16eme'!$B:$M,12,FALSE)),IF(ISERROR(VLOOKUP($A4,'16eme'!$F:$M,8,FALSE)),\"\",IF(VLOOKUP($A4,'16eme'!$F:$M,8,FALSE)=AR$2,\"X\",\"\")),IF(VLOOKUP($A4,'16eme'!$B:$M,12,FALSE)=AR$2,\"X\",\"\"))","v":""},{"$f":"IF(ISERROR(VLOOKUP($A4,'16eme'!$B:$M,12,FALSE)),IF(ISERROR(VLOOKUP($A4,'16eme'!$F:$M,8,FALSE)),\"\",IF(VLOOKUP($A4,'16eme'!$F:$M,8,FALSE)=AS$2,\"X\",\"\")),IF(VLOOKUP($A4,'16eme'!$B:$M,12,FALSE)=AS$2,\"X\",\"\"))","v":""},{"$f":"IF(ISERROR(VLOOKUP($A4,'16eme'!$B:$M,12,FALSE)),IF(ISERROR(VLOOKUP($A4,'16eme'!$F:$M,8,FALSE)),\"\",IF(VLOOKUP($A4,'16eme'!$F:$M,8,FALSE)=AT$2,\"X\",\"\")),IF(VLOOKUP($A4,'16eme'!$B:$M,12,FALSE)=AT$2,\"X\",\"\"))","v":""},{"$f":"IF(ISERROR(VLOOKUP($A4,'16eme'!$B:$M,12,FALSE)),IF(ISERROR(VLOOKUP($A4,'16eme'!$F:$M,8,FALSE)),\"\",IF(VLOOKUP($A4,'16eme'!$F:$M,8,FALSE)=AU$2,\"X\",\"\")),IF(VLOOKUP($A4,'16eme'!$B:$M,12,FALSE)=AU$2,\"X\",\"\"))","v":""},{"$f":"IF(ISERROR(VLOOKUP($A4,'16eme'!$B:$M,12,FALSE)),IF(ISERROR(VLOOKUP($A4,'16eme'!$F:$M,8,FALSE)),\"\",IF(VLOOKUP($A4,'16eme'!$F:$M,8,FALSE)=AV$2,\"X\",\"\")),IF(VLOOKUP($A4,'16eme'!$B:$M,12,FALSE)=AV$2,\"X\",\"\"))","v":""},{"$f":"IF(ISERROR(VLOOKUP($A4,'16eme'!$B:$M,12,FALSE)),IF(ISERROR(VLOOKUP($A4,'16eme'!$F:$M,8,FALSE)),\"\",IF(VLOOKUP($A4,'16eme'!$F:$M,8,FALSE)=AW$2,\"X\",\"\")),IF(VLOOKUP($A4,'16eme'!$B:$M,12,FALSE)=AW$2,\"X\",\"\"))","v":""},{"$f":"IF(ISERROR(VLOOKUP($A4,'8eme'!$B:$M,12,FALSE)),IF(ISERROR(VLOOKUP($A4,'8eme'!$F:$M,8,FALSE)),\"\",IF(VLOOKUP($A4,'8eme'!$F:$M,8,FALSE)=AX$2,\"X\",\"\")),IF(VLOOKUP($A4,'8eme'!$B:$M,12,FALSE)=AX$2,\"X\",\"\"))","v":""},{"$f":"IF(ISERROR(VLOOKUP($A4,'8eme'!$B:$M,12,FALSE)),IF(ISERROR(VLOOKUP($A4,'8eme'!$F:$M,8,FALSE)),\"\",IF(VLOOKUP($A4,'8eme'!$F:$M,8,FALSE)=AY$2,\"X\",\"\")),IF(VLOOKUP($A4,'8eme'!$B:$M,12,FALSE)=AY$2,\"X\",\"\"))","v":""},{"$f":"IF(ISERROR(VLOOKUP($A4,'8eme'!$B:$M,12,FALSE)),IF(ISERROR(VLOOKUP($A4,'8eme'!$F:$M,8,FALSE)),\"\",IF(VLOOKUP($A4,'8eme'!$F:$M,8,FALSE)=AZ$2,\"X\",\"\")),IF(VLOOKUP($A4,'8eme'!$B:$M,12,FALSE)=AZ$2,\"X\",\"\"))","v":""},{"$f":"IF(ISERROR(VLOOKUP($A4,'8eme'!$B:$M,12,FALSE)),IF(ISERROR(VLOOKUP($A4,'8eme'!$F:$M,8,FALSE)),\"\",IF(VLOOKUP($A4,'8eme'!$F:$M,8,FALSE)=BA$2,\"X\",\"\")),IF(VLOOKUP($A4,'8eme'!$B:$M,12,FALSE)=BA$2,\"X\",\"\"))","v":""},{"$f":"IF(ISERROR(VLOOKUP($A4,'8eme'!$B:$M,12,FALSE)),IF(ISERROR(VLOOKUP($A4,'8eme'!$F:$M,8,FALSE)),\"\",IF(VLOOKUP($A4,'8eme'!$F:$M,8,FALSE)=BB$2,\"X\",\"\")),IF(VLOOKUP($A4,'8eme'!$B:$M,12,FALSE)=BB$2,\"X\",\"\"))","v":""},{"$f":"IF(ISERROR(VLOOKUP($A4,'8eme'!$B:$M,12,FALSE)),IF(ISERROR(VLOOKUP($A4,'8eme'!$F:$M,8,FALSE)),\"\",IF(VLOOKUP($A4,'8eme'!$F:$M,8,FALSE)=BC$2,\"X\",\"\")),IF(VLOOKUP($A4,'8eme'!$B:$M,12,FALSE)=BC$2,\"X\",\"\"))","v":""},{"$f":"IF(ISERROR(VLOOKUP($A4,'8eme'!$B:$M,12,FALSE)),IF(ISERROR(VLOOKUP($A4,'8eme'!$F:$M,8,FALSE)),\"\",IF(VLOOKUP($A4,'8eme'!$F:$M,8,FALSE)=BD$2,\"X\",\"\")),IF(VLOOKUP($A4,'8eme'!$B:$M,12,FALSE)=BD$2,\"X\",\"\"))","v":""},{"$f":"IF(ISERROR(VLOOKUP($A4,'8eme'!$B:$M,12,FALSE)),IF(ISERROR(VLOOKUP($A4,'8eme'!$F:$M,8,FALSE)),\"\",IF(VLOOKUP($A4,'8eme'!$F:$M,8,FALSE)=BE$2,\"X\",\"\")),IF(VLOOKUP($A4,'8eme'!$B:$M,12,FALSE)=BE$2,\"X\",\"\"))","v":""},{"$f":"IF(ISERROR(VLOOKUP($A4,'8eme'!$B:$M,12,FALSE)),IF(ISERROR(VLOOKUP($A4,'8eme'!$F:$M,8,FALSE)),\"\",IF(VLOOKUP($A4,'8eme'!$F:$M,8,FALSE)=BF$2,\"X\",\"\")),IF(VLOOKUP($A4,'8eme'!$B:$M,12,FALSE)=BF$2,\"X\",\"\"))","v":""},{"$f":"IF(ISERROR(VLOOKUP($A4,'8eme'!$B:$M,12,FALSE)),IF(ISERROR(VLOOKUP($A4,'8eme'!$F:$M,8,FALSE)),\"\",IF(VLOOKUP($A4,'8eme'!$F:$M,8,FALSE)=BG$2,\"X\",\"\")),IF(VLOOKUP($A4,'8eme'!$B:$M,12,FALSE)=BG$2,\"X\",\"\"))","v":""},{"$f":"IF(ISERROR(VLOOKUP($A4,'8eme'!$B:$M,12,FALSE)),IF(ISERROR(VLOOKUP($A4,'8eme'!$F:$M,8,FALSE)),\"\",IF(VLOOKUP($A4,'8eme'!$F:$M,8,FALSE)=BH$2,\"X\",\"\")),IF(VLOOKUP($A4,'8eme'!$B:$M,12,FALSE)=BH$2,\"X\",\"\"))","v":""},{"$f":"IF(ISERROR(VLOOKUP($A4,'8eme'!$B:$M,12,FALSE)),IF(ISERROR(VLOOKUP($A4,'8eme'!$F:$M,8,FALSE)),\"\",IF(VLOOKUP($A4,'8eme'!$F:$M,8,FALSE)=BI$2,\"X\",\"\")),IF(VLOOKUP($A4,'8eme'!$B:$M,12,FALSE)=BI$2,\"X\",\"\"))","v":""},{"$f":"IF(ISERROR(VLOOKUP($A4,'8eme'!$B:$M,12,FALSE)),IF(ISERROR(VLOOKUP($A4,'8eme'!$F:$M,8,FALSE)),\"\",IF(VLOOKUP($A4,'8eme'!$F:$M,8,FALSE)=BJ$2,\"X\",\"\")),IF(VLOOKUP($A4,'8eme'!$B:$M,12,FALSE)=BJ$2,\"X\",\"\"))","v":""},{"$f":"IF(ISERROR(VLOOKUP($A4,'8eme'!$B:$M,12,FALSE)),IF(ISERROR(VLOOKUP($A4,'8eme'!$F:$M,8,FALSE)),\"\",IF(VLOOKUP($A4,'8eme'!$F:$M,8,FALSE)=BK$2,\"X\",\"\")),IF(VLOOKUP($A4,'8eme'!$B:$M,12,FALSE)=BK$2,\"X\",\"\"))","v":""},{"$f":"IF(ISERROR(VLOOKUP($A4,'8eme'!$B:$M,12,FALSE)),IF(ISERROR(VLOOKUP($A4,'8eme'!$F:$M,8,FALSE)),\"\",IF(VLOOKUP($A4,'8eme'!$F:$M,8,FALSE)=BL$2,\"X\",\"\")),IF(VLOOKUP($A4,'8eme'!$B:$M,12,FALSE)=BL$2,\"X\",\"\"))","v":""},{"$f":"IF(ISERROR(VLOOKUP($A4,'8eme'!$B:$M,12,FALSE)),IF(ISERROR(VLOOKUP($A4,'8eme'!$F:$M,8,FALSE)),\"\",IF(VLOOKUP($A4,'8eme'!$F:$M,8,FALSE)=BM$2,\"X\",\"\")),IF(VLOOKUP($A4,'8eme'!$B:$M,12,FALSE)=BM$2,\"X\",\"\"))","v":""},{"$f":"IF(ISERROR(VLOOKUP($A4,quart!$B:$M,12,FALSE)),IF(ISERROR(VLOOKUP($A4,quart!$F:$M,8,FALSE)),\"\",IF(VLOOKUP($A4,quart!$F:$M,8,FALSE)=BN$2,\"X\",\"\")),IF(VLOOKUP($A4,quart!$B:$M,12,FALSE)=BN$2,\"X\",\"\"))","v":""},{"$f":"IF(ISERROR(VLOOKUP($A4,quart!$B:$M,12,FALSE)),IF(ISERROR(VLOOKUP($A4,quart!$F:$M,8,FALSE)),\"\",IF(VLOOKUP($A4,quart!$F:$M,8,FALSE)=BO$2,\"X\",\"\")),IF(VLOOKUP($A4,quart!$B:$M,12,FALSE)=BO$2,\"X\",\"\"))","v":""},{"$f":"IF(ISERROR(VLOOKUP($A4,quart!$B:$M,12,FALSE)),IF(ISERROR(VLOOKUP($A4,quart!$F:$M,8,FALSE)),\"\",IF(VLOOKUP($A4,quart!$F:$M,8,FALSE)=BP$2,\"X\",\"\")),IF(VLOOKUP($A4,quart!$B:$M,12,FALSE)=BP$2,\"X\",\"\"))","v":""},{"$f":"IF(ISERROR(VLOOKUP($A4,quart!$B:$M,12,FALSE)),IF(ISERROR(VLOOKUP($A4,quart!$F:$M,8,FALSE)),\"\",IF(VLOOKUP($A4,quart!$F:$M,8,FALSE)=BQ$2,\"X\",\"\")),IF(VLOOKUP($A4,quart!$B:$M,12,FALSE)=BQ$2,\"X\",\"\"))","v":""},{"$f":"IF(ISERROR(VLOOKUP($A4,quart!$B:$M,12,FALSE)),IF(ISERROR(VLOOKUP($A4,quart!$F:$M,8,FALSE)),\"\",IF(VLOOKUP($A4,quart!$F:$M,8,FALSE)=BR$2,\"X\",\"\")),IF(VLOOKUP($A4,quart!$B:$M,12,FALSE)=BR$2,\"X\",\"\"))","v":""},{"$f":"IF(ISERROR(VLOOKUP($A4,quart!$B:$M,12,FALSE)),IF(ISERROR(VLOOKUP($A4,quart!$F:$M,8,FALSE)),\"\",IF(VLOOKUP($A4,quart!$F:$M,8,FALSE)=BS$2,\"X\",\"\")),IF(VLOOKUP($A4,quart!$B:$M,12,FALSE)=BS$2,\"X\",\"\"))","v":""},{"$f":"IF(ISERROR(VLOOKUP($A4,quart!$B:$M,12,FALSE)),IF(ISERROR(VLOOKUP($A4,quart!$F:$M,8,FALSE)),\"\",IF(VLOOKUP($A4,quart!$F:$M,8,FALSE)=BT$2,\"X\",\"\")),IF(VLOOKUP($A4,quart!$B:$M,12,FALSE)=BT$2,\"X\",\"\"))","v":""},{"$f":"IF(ISERROR(VLOOKUP($A4,quart!$B:$M,12,FALSE)),IF(ISERROR(VLOOKUP($A4,quart!$F:$M,8,FALSE)),\"\",IF(VLOOKUP($A4,quart!$F:$M,8,FALSE)=BU$2,\"X\",\"\")),IF(VLOOKUP($A4,quart!$B:$M,12,FALSE)=BU$2,\"X\",\"\"))","v":""},{"$f":"IF(ISERROR(VLOOKUP($A4,quart!$B:$M,12,FALSE)),IF(ISERROR(VLOOKUP($A4,quart!$F:$M,8,FALSE)),\"\",IF(VLOOKUP($A4,quart!$F:$M,8,FALSE)=BV$2,\"X\",\"\")),IF(VLOOKUP($A4,quart!$B:$M,12,FALSE)=BV$2,\"X\",\"\"))","v":""},{"$f":"IF(ISERROR(VLOOKUP($A4,quart!$B:$M,12,FALSE)),IF(ISERROR(VLOOKUP($A4,quart!$F:$M,8,FALSE)),\"\",IF(VLOOKUP($A4,quart!$F:$M,8,FALSE)=BW$2,\"X\",\"\")),IF(VLOOKUP($A4,quart!$B:$M,12,FALSE)=BW$2,\"X\",\"\"))","v":""},{"$f":"IF(ISERROR(VLOOKUP($A4,quart!$B:$M,12,FALSE)),IF(ISERROR(VLOOKUP($A4,quart!$F:$M,8,FALSE)),\"\",IF(VLOOKUP($A4,quart!$F:$M,8,FALSE)=BX$2,\"X\",\"\")),IF(VLOOKUP($A4,quart!$B:$M,12,FALSE)=BX$2,\"X\",\"\"))","v":""},{"$f":"IF(ISERROR(VLOOKUP($A4,quart!$B:$M,12,FALSE)),IF(ISERROR(VLOOKUP($A4,quart!$F:$M,8,FALSE)),\"\",IF(VLOOKUP($A4,quart!$F:$M,8,FALSE)=BY$2,\"X\",\"\")),IF(VLOOKUP($A4,quart!$B:$M,12,FALSE)=BY$2,\"X\",\"\"))","v":""},{"$f":"IF(ISERROR(VLOOKUP($A4,quart!$B:$M,12,FALSE)),IF(ISERROR(VLOOKUP($A4,quart!$F:$M,8,FALSE)),\"\",IF(VLOOKUP($A4,quart!$F:$M,8,FALSE)=BZ$2,\"X\",\"\")),IF(VLOOKUP($A4,quart!$B:$M,12,FALSE)=BZ$2,\"X\",\"\"))","v":""},{"$f":"IF(ISERROR(VLOOKUP($A4,quart!$B:$M,12,FALSE)),IF(ISERROR(VLOOKUP($A4,quart!$F:$M,8,FALSE)),\"\",IF(VLOOKUP($A4,quart!$F:$M,8,FALSE)=CA$2,\"X\",\"\")),IF(VLOOKUP($A4,quart!$B:$M,12,FALSE)=CA$2,\"X\",\"\"))","v":""},{"$f":"IF(ISERROR(VLOOKUP($A4,quart!$B:$M,12,FALSE)),IF(ISERROR(VLOOKUP($A4,quart!$F:$M,8,FALSE)),\"\",IF(VLOOKUP($A4,quart!$F:$M,8,FALSE)=CB$2,\"X\",\"\")),IF(VLOOKUP($A4,quart!$B:$M,12,FALSE)=CB$2,\"X\",\"\"))","v":""},{"$f":"IF(ISERROR(VLOOKUP($A4,quart!$B:$M,12,FALSE)),IF(ISERROR(VLOOKUP($A4,quart!$F:$M,8,FALSE)),\"\",IF(VLOOKUP($A4,quart!$F:$M,8,FALSE)=CC$2,\"X\",\"\")),IF(VLOOKUP($A4,quart!$B:$M,12,FALSE)=CC$2,\"X\",\"\"))","v":""},{"$f":"IF(ISERROR(VLOOKUP($A4,demi!$B:$M,12,FALSE)),IF(ISERROR(VLOOKUP($A4,demi!$F:$M,8,FALSE)),\"\",IF(VLOOKUP($A4,demi!$F:$M,8,FALSE)=CD$2,\"X\",\"\")),IF(VLOOKUP($A4,demi!$B:$M,12,FALSE)=CD$2,\"X\",\"\"))","v":""},{"$f":"IF(ISERROR(VLOOKUP($A4,demi!$B:$M,12,FALSE)),IF(ISERROR(VLOOKUP($A4,demi!$F:$M,8,FALSE)),\"\",IF(VLOOKUP($A4,demi!$F:$M,8,FALSE)=CE$2,\"X\",\"\")),IF(VLOOKUP($A4,demi!$B:$M,12,FALSE)=CE$2,\"X\",\"\"))","v":""},{"$f":"IF(ISERROR(VLOOKUP($A4,demi!$B:$M,12,FALSE)),IF(ISERROR(VLOOKUP($A4,demi!$F:$M,8,FALSE)),\"\",IF(VLOOKUP($A4,demi!$F:$M,8,FALSE)=CF$2,\"X\",\"\")),IF(VLOOKUP($A4,demi!$B:$M,12,FALSE)=CF$2,\"X\",\"\"))","v":""},{"$f":"IF(ISERROR(VLOOKUP($A4,demi!$B:$M,12,FALSE)),IF(ISERROR(VLOOKUP($A4,demi!$F:$M,8,FALSE)),\"\",IF(VLOOKUP($A4,demi!$F:$M,8,FALSE)=CG$2,\"X\",\"\")),IF(VLOOKUP($A4,demi!$B:$M,12,FALSE)=CG$2,\"X\",\"\"))","v":""},{"$f":"IF(ISERROR(VLOOKUP($A4,demi!$B:$M,12,FALSE)),IF(ISERROR(VLOOKUP($A4,demi!$F:$M,8,FALSE)),\"\",IF(VLOOKUP($A4,demi!$F:$M,8,FALSE)=CH$2,\"X\",\"\")),IF(VLOOKUP($A4,demi!$B:$M,12,FALSE)=CH$2,\"X\",\"\"))","v":""},{"$f":"IF(ISERROR(VLOOKUP($A4,demi!$B:$M,12,FALSE)),IF(ISERROR(VLOOKUP($A4,demi!$F:$M,8,FALSE)),\"\",IF(VLOOKUP($A4,demi!$F:$M,8,FALSE)=CI$2,\"X\",\"\")),IF(VLOOKUP($A4,demi!$B:$M,12,FALSE)=CI$2,\"X\",\"\"))","v":""},{"$f":"IF(ISERROR(VLOOKUP($A4,demi!$B:$M,12,FALSE)),IF(ISERROR(VLOOKUP($A4,demi!$F:$M,8,FALSE)),\"\",IF(VLOOKUP($A4,demi!$F:$M,8,FALSE)=CJ$2,\"X\",\"\")),IF(VLOOKUP($A4,demi!$B:$M,12,FALSE)=CJ$2,\"X\",\"\"))","v":""},{"$f":"IF(ISERROR(VLOOKUP($A4,demi!$B:$M,12,FALSE)),IF(ISERROR(VLOOKUP($A4,demi!$F:$M,8,FALSE)),\"\",IF(VLOOKUP($A4,demi!$F:$M,8,FALSE)=CK$2,\"X\",\"\")),IF(VLOOKUP($A4,demi!$B:$M,12,FALSE)=CK$2,\"X\",\"\"))","v":""},{"$f":"IF(ISERROR(VLOOKUP($A4,demi!$B:$M,12,FALSE)),IF(ISERROR(VLOOKUP($A4,demi!$F:$M,8,FALSE)),\"\",IF(VLOOKUP($A4,demi!$F:$M,8,FALSE)=CL$2,\"X\",\"\")),IF(VLOOKUP($A4,demi!$B:$M,12,FALSE)=CL$2,\"X\",\"\"))","v":""},{"$f":"IF(ISERROR(VLOOKUP($A4,demi!$B:$M,12,FALSE)),IF(ISERROR(VLOOKUP($A4,demi!$F:$M,8,FALSE)),\"\",IF(VLOOKUP($A4,demi!$F:$M,8,FALSE)=CM$2,\"X\",\"\")),IF(VLOOKUP($A4,demi!$B:$M,12,FALSE)=CM$2,\"X\",\"\"))","v":""},{"$f":"IF(ISERROR(VLOOKUP($A4,demi!$B:$M,12,FALSE)),IF(ISERROR(VLOOKUP($A4,demi!$F:$M,8,FALSE)),\"\",IF(VLOOKUP($A4,demi!$F:$M,8,FALSE)=CN$2,\"X\",\"\")),IF(VLOOKUP($A4,demi!$B:$M,12,FALSE)=CN$2,\"X\",\"\"))","v":""},{"$f":"IF(ISERROR(VLOOKUP($A4,demi!$B:$M,12,FALSE)),IF(ISERROR(VLOOKUP($A4,demi!$F:$M,8,FALSE)),\"\",IF(VLOOKUP($A4,demi!$F:$M,8,FALSE)=CO$2,\"X\",\"\")),IF(VLOOKUP($A4,demi!$B:$M,12,FALSE)=CO$2,\"X\",\"\"))","v":""},{"$f":"IF(ISERROR(VLOOKUP($A4,demi!$B:$M,12,FALSE)),IF(ISERROR(VLOOKUP($A4,demi!$F:$M,8,FALSE)),\"\",IF(VLOOKUP($A4,demi!$F:$M,8,FALSE)=CP$2,\"X\",\"\")),IF(VLOOKUP($A4,demi!$B:$M,12,FALSE)=CP$2,\"X\",\"\"))","v":""},{"$f":"IF(ISERROR(VLOOKUP($A4,demi!$B:$M,12,FALSE)),IF(ISERROR(VLOOKUP($A4,demi!$F:$M,8,FALSE)),\"\",IF(VLOOKUP($A4,demi!$F:$M,8,FALSE)=CQ$2,\"X\",\"\")),IF(VLOOKUP($A4,demi!$B:$M,12,FALSE)=CQ$2,\"X\",\"\"))","v":""},{"$f":"IF(ISERROR(VLOOKUP($A4,demi!$B:$M,12,FALSE)),IF(ISERROR(VLOOKUP($A4,demi!$F:$M,8,FALSE)),\"\",IF(VLOOKUP($A4,demi!$F:$M,8,FALSE)=CR$2,\"X\",\"\")),IF(VLOOKUP($A4,demi!$B:$M,12,FALSE)=CR$2,\"X\",\"\"))","v":""},{"$f":"IF(ISERROR(VLOOKUP($A4,demi!$B:$M,12,FALSE)),IF(ISERROR(VLOOKUP($A4,demi!$F:$M,8,FALSE)),\"\",IF(VLOOKUP($A4,demi!$F:$M,8,FALSE)=CS$2,\"X\",\"\")),IF(VLOOKUP($A4,demi!$B:$M,12,FALSE)=CS$2,\"X\",\"\"))","v":""}]
[3,"X","X","X","X","X","X","X","X","X","X","X","X","X","X","X","X",{"$f":"IF(ISERROR(VLOOKUP($A5,'32eme'!$B:$M,12,FALSE)),IF(ISERROR(VLOOKUP($A5,'32eme'!$F:$M,8,FALSE)),\"\",IF(VLOOKUP($A5,'32eme'!$F:$M,8,FALSE)=R$2,\"X\",\"\")),IF(VLOOKUP($A5,'32eme'!$B:$M,12,FALSE)=R$2,\"X\",\"\"))","v":""},{"$f":"IF(ISERROR(VLOOKUP($A5,'32eme'!$B:$M,12,FALSE)),IF(ISERROR(VLOOKUP($A5,'32eme'!$F:$M,8,FALSE)),\"\",IF(VLOOKUP($A5,'32eme'!$F:$M,8,FALSE)=S$2,\"X\",\"\")),IF(VLOOKUP($A5,'32eme'!$B:$M,12,FALSE)=S$2,\"X\",\"\"))","v":""},{"$f":"IF(ISERROR(VLOOKUP($A5,'32eme'!$B:$M,12,FALSE)),IF(ISERROR(VLOOKUP($A5,'32eme'!$F:$M,8,FALSE)),\"\",IF(VLOOKUP($A5,'32eme'!$F:$M,8,FALSE)=T$2,\"X\",\"\")),IF(VLOOKUP($A5,'32eme'!$B:$M,12,FALSE)=T$2,\"X\",\"\"))","v":""},{"$f":"IF(ISERROR(VLOOKUP($A5,'32eme'!$B:$M,12,FALSE)),IF(ISERROR(VLOOKUP($A5,'32eme'!$F:$M,8,FALSE)),\"\",IF(VLOOKUP($A5,'32eme'!$F:$M,8,FALSE)=U$2,\"X\",\"\")),IF(VLOOKUP($A5,'32eme'!$B:$M,12,FALSE)=U$2,\"X\",\"\"))","v":""},{"$f":"IF(ISERROR(VLOOKUP($A5,'32eme'!$B:$M,12,FALSE)),IF(ISERROR(VLOOKUP($A5,'32eme'!$F:$M,8,FALSE)),\"\",IF(VLOOKUP($A5,'32eme'!$F:$M,8,FALSE)=V$2,\"X\",\"\")),IF(VLOOKUP($A5,'32eme'!$B:$M,12,FALSE)=V$2,\"X\",\"\"))","v":""},{"$f":"IF(ISERROR(VLOOKUP($A5,'32eme'!$B:$M,12,FALSE)),IF(ISERROR(VLOOKUP($A5,'32eme'!$F:$M,8,FALSE)),\"\",IF(VLOOKUP($A5,'32eme'!$F:$M,8,FALSE)=W$2,\"X\",\"\")),IF(VLOOKUP($A5,'32eme'!$B:$M,12,FALSE)=W$2,\"X\",\"\"))","v":""},{"$f":"IF(ISERROR(VLOOKUP($A5,'32eme'!$B:$M,12,FALSE)),IF(ISERROR(VLOOKUP($A5,'32eme'!$F:$M,8,FALSE)),\"\",IF(VLOOKUP($A5,'32eme'!$F:$M,8,FALSE)=X$2,\"X\",\"\")),IF(VLOOKUP($A5,'32eme'!$B:$M,12,FALSE)=X$2,\"X\",\"\"))","v":""},{"$f":"IF(ISERROR(VLOOKUP($A5,'32eme'!$B:$M,12,FALSE)),IF(ISERROR(VLOOKUP($A5,'32eme'!$F:$M,8,FALSE)),\"\",IF(VLOOKUP($A5,'32eme'!$F:$M,8,FALSE)=Y$2,\"X\",\"\")),IF(VLOOKUP($A5,'32eme'!$B:$M,12,FALSE)=Y$2,\"X\",\"\"))","v":""},{"$f":"IF(ISERROR(VLOOKUP($A5,'32eme'!$B:$M,12,FALSE)),IF(ISERROR(VLOOKUP($A5,'32eme'!$F:$M,8,FALSE)),\"\",IF(VLOOKUP($A5,'32eme'!$F:$M,8,FALSE)=Z$2,\"X\",\"\")),IF(VLOOKUP($A5,'32eme'!$B:$M,12,FALSE)=Z$2,\"X\",\"\"))","v":""},{"$f":"IF(ISERROR(VLOOKUP($A5,'32eme'!$B:$M,12,FALSE)),IF(ISERROR(VLOOKUP($A5,'32eme'!$F:$M,8,FALSE)),\"\",IF(VLOOKUP($A5,'32eme'!$F:$M,8,FALSE)=AA$2,\"X\",\"\")),IF(VLOOKUP($A5,'32eme'!$B:$M,12,FALSE)=AA$2,\"X\",\"\"))","v":""},{"$f":"IF(ISERROR(VLOOKUP($A5,'32eme'!$B:$M,12,FALSE)),IF(ISERROR(VLOOKUP($A5,'32eme'!$F:$M,8,FALSE)),\"\",IF(VLOOKUP($A5,'32eme'!$F:$M,8,FALSE)=AB$2,\"X\",\"\")),IF(VLOOKUP($A5,'32eme'!$B:$M,12,FALSE)=AB$2,\"X\",\"\"))","v":""},{"$f":"IF(ISERROR(VLOOKUP($A5,'32eme'!$B:$M,12,FALSE)),IF(ISERROR(VLOOKUP($A5,'32eme'!$F:$M,8,FALSE)),\"\",IF(VLOOKUP($A5,'32eme'!$F:$M,8,FALSE)=AC$2,\"X\",\"\")),IF(VLOOKUP($A5,'32eme'!$B:$M,12,FALSE)=AC$2,\"X\",\"\"))","v":""},{"$f":"IF(ISERROR(VLOOKUP($A5,'32eme'!$B:$M,12,FALSE)),IF(ISERROR(VLOOKUP($A5,'32eme'!$F:$M,8,FALSE)),\"\",IF(VLOOKUP($A5,'32eme'!$F:$M,8,FALSE)=AD$2,\"X\",\"\")),IF(VLOOKUP($A5,'32eme'!$B:$M,12,FALSE)=AD$2,\"X\",\"\"))","v":""},{"$f":"IF(ISERROR(VLOOKUP($A5,'32eme'!$B:$M,12,FALSE)),IF(ISERROR(VLOOKUP($A5,'32eme'!$F:$M,8,FALSE)),\"\",IF(VLOOKUP($A5,'32eme'!$F:$M,8,FALSE)=AE$2,\"X\",\"\")),IF(VLOOKUP($A5,'32eme'!$B:$M,12,FALSE)=AE$2,\"X\",\"\"))","v":""},{"$f":"IF(ISERROR(VLOOKUP($A5,'32eme'!$B:$M,12,FALSE)),IF(ISERROR(VLOOKUP($A5,'32eme'!$F:$M,8,FALSE)),\"\",IF(VLOOKUP($A5,'32eme'!$F:$M,8,FALSE)=AF$2,\"X\",\"\")),IF(VLOOKUP($A5,'32eme'!$B:$M,12,FALSE)=AF$2,\"X\",\"\"))","v":""},{"$f":"IF(ISERROR(VLOOKUP($A5,'32eme'!$B:$M,12,FALSE)),IF(ISERROR(VLOOKUP($A5,'32eme'!$F:$M,8,FALSE)),\"\",IF(VLOOKUP($A5,'32eme'!$F:$M,8,FALSE)=AG$2,\"X\",\"\")),IF(VLOOKUP($A5,'32eme'!$B:$M,12,FALSE)=AG$2,\"X\",\"\"))","v":""},{"$f":"IF(ISERROR(VLOOKUP($A5,'16eme'!$B:$M,12,FALSE)),IF(ISERROR(VLOOKUP($A5,'16eme'!$F:$M,8,FALSE)),\"\",IF(VLOOKUP($A5,'16eme'!$F:$M,8,FALSE)=AH$2,\"X\",\"\")),IF(VLOOKUP($A5,'16eme'!$B:$M,12,FALSE)=AH$2,\"X\",\"\"))","v":""},{"$f":"IF(ISERROR(VLOOKUP($A5,'16eme'!$B:$M,12,FALSE)),IF(ISERROR(VLOOKUP($A5,'16eme'!$F:$M,8,FALSE)),\"\",IF(VLOOKUP($A5,'16eme'!$F:$M,8,FALSE)=AI$2,\"X\",\"\")),IF(VLOOKUP($A5,'16eme'!$B:$M,12,FALSE)=AI$2,\"X\",\"\"))","v":""},{"$f":"IF(ISERROR(VLOOKUP($A5,'16eme'!$B:$M,12,FALSE)),IF(ISERROR(VLOOKUP($A5,'16eme'!$F:$M,8,FALSE)),\"\",IF(VLOOKUP($A5,'16eme'!$F:$M,8,FALSE)=AJ$2,\"X\",\"\")),IF(VLOOKUP($A5,'16eme'!$B:$M,12,FALSE)=AJ$2,\"X\",\"\"))","v":""},{"$f":"IF(ISERROR(VLOOKUP($A5,'16eme'!$B:$M,12,FALSE)),IF(ISERROR(VLOOKUP($A5,'16eme'!$F:$M,8,FALSE)),\"\",IF(VLOOKUP($A5,'16eme'!$F:$M,8,FALSE)=AK$2,\"X\",\"\")),IF(VLOOKUP($A5,'16eme'!$B:$M,12,FALSE)=AK$2,\"X\",\"\"))","v":""},{"$f":"IF(ISERROR(VLOOKUP($A5,'16eme'!$B:$M,12,FALSE)),IF(ISERROR(VLOOKUP($A5,'16eme'!$F:$M,8,FALSE)),\"\",IF(VLOOKUP($A5,'16eme'!$F:$M,8,FALSE)=AL$2,\"X\",\"\")),IF(VLOOKUP($A5,'16eme'!$B:$M,12,FALSE)=AL$2,\"X\",\"\"))","v":""},{"$f":"IF(ISERROR(VLOOKUP($A5,'16eme'!$B:$M,12,FALSE)),IF(ISERROR(VLOOKUP($A5,'16eme'!$F:$M,8,FALSE)),\"\",IF(VLOOKUP($A5,'16eme'!$F:$M,8,FALSE)=AM$2,\"X\",\"\")),IF(VLOOKUP($A5,'16eme'!$B:$M,12,FALSE)=AM$2,\"X\",\"\"))","v":""},{"$f":"IF(ISERROR(VLOOKUP($A5,'16eme'!$B:$M,12,FALSE)),IF(ISERROR(VLOOKUP($A5,'16eme'!$F:$M,8,FALSE)),\"\",IF(VLOOKUP($A5,'16eme'!$F:$M,8,FALSE)=AN$2,\"X\",\"\")),IF(VLOOKUP($A5,'16eme'!$B:$M,12,FALSE)=AN$2,\"X\",\"\"))","v":""},{"$f":"IF(ISERROR(VLOOKUP($A5,'16eme'!$B:$M,12,FALSE)),IF(ISERROR(VLOOKUP($A5,'16eme'!$F:$M,8,FALSE)),\"\",IF(VLOOKUP($A5,'16eme'!$F:$M,8,FALSE)=AO$2,\"X\",\"\")),IF(VLOOKUP($A5,'16eme'!$B:$M,12,FALSE)=AO$2,\"X\",\"\"))","v":""},{"$f":"IF(ISERROR(VLOOKUP($A5,'16eme'!$B:$M,12,FALSE)),IF(ISERROR(VLOOKUP($A5,'16eme'!$F:$M,8,FALSE)),\"\",IF(VLOOKUP($A5,'16eme'!$F:$M,8,FALSE)=AP$2,\"X\",\"\")),IF(VLOOKUP($A5,'16eme'!$B:$M,12,FALSE)=AP$2,\"X\",\"\"))","v":""},{"$f":"IF(ISERROR(VLOOKUP($A5,'16eme'!$B:$M,12,FALSE)),IF(ISERROR(VLOOKUP($A5,'16eme'!$F:$M,8,FALSE)),\"\",IF(VLOOKUP($A5,'16eme'!$F:$M,8,FALSE)=AQ$2,\"X\",\"\")),IF(VLOOKUP($A5,'16eme'!$B:$M,12,FALSE)=AQ$2,\"X\",\"\"))","v":""},{"$f":"IF(ISERROR(VLOOKUP($A5,'16eme'!$B:$M,12,FALSE)),IF(ISERROR(VLOOKUP($A5,'16eme'!$F:$M,8,FALSE)),\"\",IF(VLOOKUP($A5,'16eme'!$F:$M,8,FALSE)=AR$2,\"X\",\"\")),IF(VLOOKUP($A5,'16eme'!$B:$M,12,FALSE)=AR$2,\"X\",\"\"))","v":""},{"$f":"IF(ISERROR(VLOOKUP($A5,'16eme'!$B:$M,12,FALSE)),IF(ISERROR(VLOOKUP($A5,'16eme'!$F:$M,8,FALSE)),\"\",IF(VLOOKUP($A5,'16eme'!$F:$M,8,FALSE)=AS$2,\"X\",\"\")),IF(VLOOKUP($A5,'16eme'!$B:$M,12,FALSE)=AS$2,\"X\",\"\"))","v":""},{"$f":"IF(ISERROR(VLOOKUP($A5,'16eme'!$B:$M,12,FALSE)),IF(ISERROR(VLOOKUP($A5,'16eme'!$F:$M,8,FALSE)),\"\",IF(VLOOKUP($A5,'16eme'!$F:$M,8,FALSE)=AT$2,\"X\",\"\")),IF(VLOOKUP($A5,'16eme'!$B:$M,12,FALSE)=AT$2,\"X\",\"\"))","v":""},{"$f":"IF(ISERROR(VLOOKUP($A5,'16eme'!$B:$M,12,FALSE)),IF(ISERROR(VLOOKUP($A5,'16eme'!$F:$M,8,FALSE)),\"\",IF(VLOOKUP($A5,'16eme'!$F:$M,8,FALSE)=AU$2,\"X\",\"\")),IF(VLOOKUP($A5,'16eme'!$B:$M,12,FALSE)=AU$2,\"X\",\"\"))","v":""},{"$f":"IF(ISERROR(VLOOKUP($A5,'16eme'!$B:$M,12,FALSE)),IF(ISERROR(VLOOKUP($A5,'16eme'!$F:$M,8,FALSE)),\"\",IF(VLOOKUP($A5,'16eme'!$F:$M,8,FALSE)=AV$2,\"X\",\"\")),IF(VLOOKUP($A5,'16eme'!$B:$M,12,FALSE)=AV$2,\"X\",\"\"))","v":""},{"$f":"IF(ISERROR(VLOOKUP($A5,'16eme'!$B:$M,12,FALSE)),IF(ISERROR(VLOOKUP($A5,'16eme'!$F:$M,8,FALSE)),\"\",IF(VLOOKUP($A5,'16eme'!$F:$M,8,FALSE)=AW$2,\"X\",\"\")),IF(VLOOKUP($A5,'16eme'!$B:$M,12,FALSE)=AW$2,\"X\",\"\"))","v":""},{"$f":"IF(ISERROR(VLOOKUP($A5,'8eme'!$B:$M,12,FALSE)),IF(ISERROR(VLOOKUP($A5,'8eme'!$F:$M,8,FALSE)),\"\",IF(VLOOKUP($A5,'8eme'!$F:$M,8,FALSE)=AX$2,\"X\",\"\")),IF(VLOOKUP($A5,'8eme'!$B:$M,12,FALSE)=AX$2,\"X\",\"\"))","v":""},{"$f":"IF(ISERROR(VLOOKUP($A5,'8eme'!$B:$M,12,FALSE)),IF(ISERROR(VLOOKUP($A5,'8eme'!$F:$M,8,FALSE)),\"\",IF(VLOOKUP($A5,'8eme'!$F:$M,8,FALSE)=AY$2,\"X\",\"\")),IF(VLOOKUP($A5,'8eme'!$B:$M,12,FALSE)=AY$2,\"X\",\"\"))","v":""},{"$f":"IF(ISERROR(VLOOKUP($A5,'8eme'!$B:$M,12,FALSE)),IF(ISERROR(VLOOKUP($A5,'8eme'!$F:$M,8,FALSE)),\"\",IF(VLOOKUP($A5,'8eme'!$F:$M,8,FALSE)=AZ$2,\"X\",\"\")),IF(VLOOKUP($A5,'8eme'!$B:$M,12,FALSE)=AZ$2,\"X\",\"\"))","v":""},{"$f":"IF(ISERROR(VLOOKUP($A5,'8eme'!$B:$M,12,FALSE)),IF(ISERROR(VLOOKUP($A5,'8eme'!$F:$M,8,FALSE)),\"\",IF(VLOOKUP($A5,'8eme'!$F:$M,8,FALSE)=BA$2,\"X\",\"\")),IF(VLOOKUP($A5,'8eme'!$B:$M,12,FALSE)=BA$2,\"X\",\"\"))","v":""},{"$f":"IF(ISERROR(VLOOKUP($A5,'8eme'!$B:$M,12,FALSE)),IF(ISERROR(VLOOKUP($A5,'8eme'!$F:$M,8,FALSE)),\"\",IF(VLOOKUP($A5,'8eme'!$F:$M,8,FALSE)=BB$2,\"X\",\"\")),IF(VLOOKUP($A5,'8eme'!$B:$M,12,FALSE)=BB$2,\"X\",\"\"))","v":""},{"$f":"IF(ISERROR(VLOOKUP($A5,'8eme'!$B:$M,12,FALSE)),IF(ISERROR(VLOOKUP($A5,'8eme'!$F:$M,8,FALSE)),\"\",IF(VLOOKUP($A5,'8eme'!$F:$M,8,FALSE)=BC$2,\"X\",\"\")),IF(VLOOKUP($A5,'8eme'!$B:$M,12,FALSE)=BC$2,\"X\",\"\"))","v":""},{"$f":"IF(ISERROR(VLOOKUP($A5,'8eme'!$B:$M,12,FALSE)),IF(ISERROR(VLOOKUP($A5,'8eme'!$F:$M,8,FALSE)),\"\",IF(VLOOKUP($A5,'8eme'!$F:$M,8,FALSE)=BD$2,\"X\",\"\")),IF(VLOOKUP($A5,'8eme'!$B:$M,12,FALSE)=BD$2,\"X\",\"\"))","v":""},{"$f":"IF(ISERROR(VLOOKUP($A5,'8eme'!$B:$M,12,FALSE)),IF(ISERROR(VLOOKUP($A5,'8eme'!$F:$M,8,FALSE)),\"\",IF(VLOOKUP($A5,'8eme'!$F:$M,8,FALSE)=BE$2,\"X\",\"\")),IF(VLOOKUP($A5,'8eme'!$B:$M,12,FALSE)=BE$2,\"X\",\"\"))","v":""},{"$f":"IF(ISERROR(VLOOKUP($A5,'8eme'!$B:$M,12,FALSE)),IF(ISERROR(VLOOKUP($A5,'8eme'!$F:$M,8,FALSE)),\"\",IF(VLOOKUP($A5,'8eme'!$F:$M,8,FALSE)=BF$2,\"X\",\"\")),IF(VLOOKUP($A5,'8eme'!$B:$M,12,FALSE)=BF$2,\"X\",\"\"))","v":""},{"$f":"IF(ISERROR(VLOOKUP($A5,'8eme'!$B:$M,12,FALSE)),IF(ISERROR(VLOOKUP($A5,'8eme'!$F:$M,8,FALSE)),\"\",IF(VLOOKUP($A5,'8eme'!$F:$M,8,FALSE)=BG$2,\"X\",\"\")),IF(VLOOKUP($A5,'8eme'!$B:$M,12,FALSE)=BG$2,\"X\",\"\"))","v":""},{"$f":"IF(ISERROR(VLOOKUP($A5,'8eme'!$B:$M,12,FALSE)),IF(ISERROR(VLOOKUP($A5,'8eme'!$F:$M,8,FALSE)),\"\",IF(VLOOKUP($A5,'8eme'!$F:$M,8,FALSE)=BH$2,\"X\",\"\")),IF(VLOOKUP($A5,'8eme'!$B:$M,12,FALSE)=BH$2,\"X\",\"\"))","v":""},{"$f":"IF(ISERROR(VLOOKUP($A5,'8eme'!$B:$M,12,FALSE)),IF(ISERROR(VLOOKUP($A5,'8eme'!$F:$M,8,FALSE)),\"\",IF(VLOOKUP($A5,'8eme'!$F:$M,8,FALSE)=BI$2,\"X\",\"\")),IF(VLOOKUP($A5,'8eme'!$B:$M,12,FALSE)=BI$2,\"X\",\"\"))","v":""},{"$f":"IF(ISERROR(VLOOKUP($A5,'8eme'!$B:$M,12,FALSE)),IF(ISERROR(VLOOKUP($A5,'8eme'!$F:$M,8,FALSE)),\"\",IF(VLOOKUP($A5,'8eme'!$F:$M,8,FALSE)=BJ$2,\"X\",\"\")),IF(VLOOKUP($A5,'8eme'!$B:$M,12,FALSE)=BJ$2,\"X\",\"\"))","v":""},{"$f":"IF(ISERROR(VLOOKUP($A5,'8eme'!$B:$M,12,FALSE)),IF(ISERROR(VLOOKUP($A5,'8eme'!$F:$M,8,FALSE)),\"\",IF(VLOOKUP($A5,'8eme'!$F:$M,8,FALSE)=BK$2,\"X\",\"\")),IF(VLOOKUP($A5,'8eme'!$B:$M,12,FALSE)=BK$2,\"X\",\"\"))","v":""},{"$f":"IF(ISERROR(VLOOKUP($A5,'8eme'!$B:$M,12,FALSE)),IF(ISERROR(VLOOKUP($A5,'8eme'!$F:$M,8,FALSE)),\"\",IF(VLOOKUP($A5,'8eme'!$F:$M,8,FALSE)=BL$2,\"X\",\"\")),IF(VLOOKUP($A5,'8eme'!$B:$M,12,FALSE)=BL$2,\"X\",\"\"))","v":""},{"$f":"IF(ISERROR(VLOOKUP($A5,'8eme'!$B:$M,12,FALSE)),IF(ISERROR(VLOOKUP($A5,'8eme'!$F:$M,8,FALSE)),\"\",IF(VLOOKUP($A5,'8eme'!$F:$M,8,FALSE)=BM$2,\"X\",\"\")),IF(VLOOKUP($A5,'8eme'!$B:$M,12,FALSE)=BM$2,\"X\",\"\"))","v":""},{"$f":"IF(ISERROR(VLOOKUP($A5,quart!$B:$M,12,FALSE)),IF(ISERROR(VLOOKUP($A5,quart!$F:$M,8,FALSE)),\"\",IF(VLOOKUP($A5,quart!$F:$M,8,FALSE)=BN$2,\"X\",\"\")),IF(VLOOKUP($A5,quart!$B:$M,12,FALSE)=BN$2,\"X\",\"\"))","v":""},{"$f":"IF(ISERROR(VLOOKUP($A5,quart!$B:$M,12,FALSE)),IF(ISERROR(VLOOKUP($A5,quart!$F:$M,8,FALSE)),\"\",IF(VLOOKUP($A5,quart!$F:$M,8,FALSE)=BO$2,\"X\",\"\")),IF(VLOOKUP($A5,quart!$B:$M,12,FALSE)=BO$2,\"X\",\"\"))","v":""},{"$f":"IF(ISERROR(VLOOKUP($A5,quart!$B:$M,12,FALSE)),IF(ISERROR(VLOOKUP($A5,quart!$F:$M,8,FALSE)),\"\",IF(VLOOKUP($A5,quart!$F:$M,8,FALSE)=BP$2,\"X\",\"\")),IF(VLOOKUP($A5,quart!$B:$M,12,FALSE)=BP$2,\"X\",\"\"))","v":""},{"$f":"IF(ISERROR(VLOOKUP($A5,quart!$B:$M,12,FALSE)),IF(ISERROR(VLOOKUP($A5,quart!$F:$M,8,FALSE)),\"\",IF(VLOOKUP($A5,quart!$F:$M,8,FALSE)=BQ$2,\"X\",\"\")),IF(VLOOKUP($A5,quart!$B:$M,12,FALSE)=BQ$2,\"X\",\"\"))","v":""},{"$f":"IF(ISERROR(VLOOKUP($A5,quart!$B:$M,12,FALSE)),IF(ISERROR(VLOOKUP($A5,quart!$F:$M,8,FALSE)),\"\",IF(VLOOKUP($A5,quart!$F:$M,8,FALSE)=BR$2,\"X\",\"\")),IF(VLOOKUP($A5,quart!$B:$M,12,FALSE)=BR$2,\"X\",\"\"))","v":""},{"$f":"IF(ISERROR(VLOOKUP($A5,quart!$B:$M,12,FALSE)),IF(ISERROR(VLOOKUP($A5,quart!$F:$M,8,FALSE)),\"\",IF(VLOOKUP($A5,quart!$F:$M,8,FALSE)=BS$2,\"X\",\"\")),IF(VLOOKUP($A5,quart!$B:$M,12,FALSE)=BS$2,\"X\",\"\"))","v":""},{"$f":"IF(ISERROR(VLOOKUP($A5,quart!$B:$M,12,FALSE)),IF(ISERROR(VLOOKUP($A5,quart!$F:$M,8,FALSE)),\"\",IF(VLOOKUP($A5,quart!$F:$M,8,FALSE)=BT$2,\"X\",\"\")),IF(VLOOKUP($A5,quart!$B:$M,12,FALSE)=BT$2,\"X\",\"\"))","v":""},{"$f":"IF(ISERROR(VLOOKUP($A5,quart!$B:$M,12,FALSE)),IF(ISERROR(VLOOKUP($A5,quart!$F:$M,8,FALSE)),\"\",IF(VLOOKUP($A5,quart!$F:$M,8,FALSE)=BU$2,\"X\",\"\")),IF(VLOOKUP($A5,quart!$B:$M,12,FALSE)=BU$2,\"X\",\"\"))","v":""},{"$f":"IF(ISERROR(VLOOKUP($A5,quart!$B:$M,12,FALSE)),IF(ISERROR(VLOOKUP($A5,quart!$F:$M,8,FALSE)),\"\",IF(VLOOKUP($A5,quart!$F:$M,8,FALSE)=BV$2,\"X\",\"\")),IF(VLOOKUP($A5,quart!$B:$M,12,FALSE)=BV$2,\"X\",\"\"))","v":""},{"$f":"IF(ISERROR(VLOOKUP($A5,quart!$B:$M,12,FALSE)),IF(ISERROR(VLOOKUP($A5,quart!$F:$M,8,FALSE)),\"\",IF(VLOOKUP($A5,quart!$F:$M,8,FALSE)=BW$2,\"X\",\"\")),IF(VLOOKUP($A5,quart!$B:$M,12,FALSE)=BW$2,\"X\",\"\"))","v":""},{"$f":"IF(ISERROR(VLOOKUP($A5,quart!$B:$M,12,FALSE)),IF(ISERROR(VLOOKUP($A5,quart!$F:$M,8,FALSE)),\"\",IF(VLOOKUP($A5,quart!$F:$M,8,FALSE)=BX$2,\"X\",\"\")),IF(VLOOKUP($A5,quart!$B:$M,12,FALSE)=BX$2,\"X\",\"\"))","v":""},{"$f":"IF(ISERROR(VLOOKUP($A5,quart!$B:$M,12,FALSE)),IF(ISERROR(VLOOKUP($A5,quart!$F:$M,8,FALSE)),\"\",IF(VLOOKUP($A5,quart!$F:$M,8,FALSE)=BY$2,\"X\",\"\")),IF(VLOOKUP($A5,quart!$B:$M,12,FALSE)=BY$2,\"X\",\"\"))","v":""},{"$f":"IF(ISERROR(VLOOKUP($A5,quart!$B:$M,12,FALSE)),IF(ISERROR(VLOOKUP($A5,quart!$F:$M,8,FALSE)),\"\",IF(VLOOKUP($A5,quart!$F:$M,8,FALSE)=BZ$2,\"X\",\"\")),IF(VLOOKUP($A5,quart!$B:$M,12,FALSE)=BZ$2,\"X\",\"\"))","v":""},{"$f":"IF(ISERROR(VLOOKUP($A5,quart!$B:$M,12,FALSE)),IF(ISERROR(VLOOKUP($A5,quart!$F:$M,8,FALSE)),\"\",IF(VLOOKUP($A5,quart!$F:$M,8,FALSE)=CA$2,\"X\",\"\")),IF(VLOOKUP($A5,quart!$B:$M,12,FALSE)=CA$2,\"X\",\"\"))","v":""},{"$f":"IF(ISERROR(VLOOKUP($A5,quart!$B:$M,12,FALSE)),IF(ISERROR(VLOOKUP($A5,quart!$F:$M,8,FALSE)),\"\",IF(VLOOKUP($A5,quart!$F:$M,8,FALSE)=CB$2,\"X\",\"\")),IF(VLOOKUP($A5,quart!$B:$M,12,FALSE)=CB$2,\"X\",\"\"))","v":""},{"$f":"IF(ISERROR(VLOOKUP($A5,quart!$B:$M,12,FALSE)),IF(ISERROR(VLOOKUP($A5,quart!$F:$M,8,FALSE)),\"\",IF(VLOOKUP($A5,quart!$F:$M,8,FALSE)=CC$2,\"X\",\"\")),IF(VLOOKUP($A5,quart!$B:$M,12,FALSE)=CC$2,\"X\",\"\"))","v":""},{"$f":"IF(ISERROR(VLOOKUP($A5,demi!$B:$M,12,FALSE)),IF(ISERROR(VLOOKUP($A5,demi!$F:$M,8,FALSE)),\"\",IF(VLOOKUP($A5,demi!$F:$M,8,FALSE)=CD$2,\"X\",\"\")),IF(VLOOKUP($A5,demi!$B:$M,12,FALSE)=CD$2,\"X\",\"\"))","v":""},{"$f":"IF(ISERROR(VLOOKUP($A5,demi!$B:$M,12,FALSE)),IF(ISERROR(VLOOKUP($A5,demi!$F:$M,8,FALSE)),\"\",IF(VLOOKUP($A5,demi!$F:$M,8,FALSE)=CE$2,\"X\",\"\")),IF(VLOOKUP($A5,demi!$B:$M,12,FALSE)=CE$2,\"X\",\"\"))","v":""},{"$f":"IF(ISERROR(VLOOKUP($A5,demi!$B:$M,12,FALSE)),IF(ISERROR(VLOOKUP($A5,demi!$F:$M,8,FALSE)),\"\",IF(VLOOKUP($A5,demi!$F:$M,8,FALSE)=CF$2,\"X\",\"\")),IF(VLOOKUP($A5,demi!$B:$M,12,FALSE)=CF$2,\"X\",\"\"))","v":""},{"$f":"IF(ISERROR(VLOOKUP($A5,demi!$B:$M,12,FALSE)),IF(ISERROR(VLOOKUP($A5,demi!$F:$M,8,FALSE)),\"\",IF(VLOOKUP($A5,demi!$F:$M,8,FALSE)=CG$2,\"X\",\"\")),IF(VLOOKUP($A5,demi!$B:$M,12,FALSE)=CG$2,\"X\",\"\"))","v":""},{"$f":"IF(ISERROR(VLOOKUP($A5,demi!$B:$M,12,FALSE)),IF(ISERROR(VLOOKUP($A5,demi!$F:$M,8,FALSE)),\"\",IF(VLOOKUP($A5,demi!$F:$M,8,FALSE)=CH$2,\"X\",\"\")),IF(VLOOKUP($A5,demi!$B:$M,12,FALSE)=CH$2,\"X\",\"\"))","v":""},{"$f":"IF(ISERROR(VLOOKUP($A5,demi!$B:$M,12,FALSE)),IF(ISERROR(VLOOKUP($A5,demi!$F:$M,8,FALSE)),\"\",IF(VLOOKUP($A5,demi!$F:$M,8,FALSE)=CI$2,\"X\",\"\")),IF(VLOOKUP($A5,demi!$B:$M,12,FALSE)=CI$2,\"X\",\"\"))","v":""},{"$f":"IF(ISERROR(VLOOKUP($A5,demi!$B:$M,12,FALSE)),IF(ISERROR(VLOOKUP($A5,demi!$F:$M,8,FALSE)),\"\",IF(VLOOKUP($A5,demi!$F:$M,8,FALSE)=CJ$2,\"X\",\"\")),IF(VLOOKUP($A5,demi!$B:$M,12,FALSE)=CJ$2,\"X\",\"\"))","v":""},{"$f":"IF(ISERROR(VLOOKUP($A5,demi!$B:$M,12,FALSE)),IF(ISERROR(VLOOKUP($A5,demi!$F:$M,8,FALSE)),\"\",IF(VLOOKUP($A5,demi!$F:$M,8,FALSE)=CK$2,\"X\",\"\")),IF(VLOOKUP($A5,demi!$B:$M,12,FALSE)=CK$2,\"X\",\"\"))","v":""},{"$f":"IF(ISERROR(VLOOKUP($A5,demi!$B:$M,12,FALSE)),IF(ISERROR(VLOOKUP($A5,demi!$F:$M,8,FALSE)),\"\",IF(VLOOKUP($A5,demi!$F:$M,8,FALSE)=CL$2,\"X\",\"\")),IF(VLOOKUP($A5,demi!$B:$M,12,FALSE)=CL$2,\"X\",\"\"))","v":""},{"$f":"IF(ISERROR(VLOOKUP($A5,demi!$B:$M,12,FALSE)),IF(ISERROR(VLOOKUP($A5,demi!$F:$M,8,FALSE)),\"\",IF(VLOOKUP($A5,demi!$F:$M,8,FALSE)=CM$2,\"X\",\"\")),IF(VLOOKUP($A5,demi!$B:$M,12,FALSE)=CM$2,\"X\",\"\"))","v":""},{"$f":"IF(ISERROR(VLOOKUP($A5,demi!$B:$M,12,FALSE)),IF(ISERROR(VLOOKUP($A5,demi!$F:$M,8,FALSE)),\"\",IF(VLOOKUP($A5,demi!$F:$M,8,FALSE)=CN$2,\"X\",\"\")),IF(VLOOKUP($A5,demi!$B:$M,12,FALSE)=CN$2,\"X\",\"\"))","v":""},{"$f":"IF(ISERROR(VLOOKUP($A5,demi!$B:$M,12,FALSE)),IF(ISERROR(VLOOKUP($A5,demi!$F:$M,8,FALSE)),\"\",IF(VLOOKUP($A5,demi!$F:$M,8,FALSE)=CO$2,\"X\",\"\")),IF(VLOOKUP($A5,demi!$B:$M,12,FALSE)=CO$2,\"X\",\"\"))","v":""},{"$f":"IF(ISERROR(VLOOKUP($A5,demi!$B:$M,12,FALSE)),IF(ISERROR(VLOOKUP($A5,demi!$F:$M,8,FALSE)),\"\",IF(VLOOKUP($A5,demi!$F:$M,8,FALSE)=CP$2,\"X\",\"\")),IF(VLOOKUP($A5,demi!$B:$M,12,FALSE)=CP$2,\"X\",\"\"))","v":""},{"$f":"IF(ISERROR(VLOOKUP($A5,demi!$B:$M,12,FALSE)),IF(ISERROR(VLOOKUP($A5,demi!$F:$M,8,FALSE)),\"\",IF(VLOOKUP($A5,demi!$F:$M,8,FALSE)=CQ$2,\"X\",\"\")),IF(VLOOKUP($A5,demi!$B:$M,12,FALSE)=CQ$2,\"X\",\"\"))","v":""},{"$f":"IF(ISERROR(VLOOKUP($A5,demi!$B:$M,12,FALSE)),IF(ISERROR(VLOOKUP($A5,demi!$F:$M,8,FALSE)),\"\",IF(VLOOKUP($A5,demi!$F:$M,8,FALSE)=CR$2,\"X\",\"\")),IF(VLOOKUP($A5,demi!$B:$M,12,FALSE)=CR$2,\"X\",\"\"))","v":""},{"$f":"IF(ISERROR(VLOOKUP($A5,demi!$B:$M,12,FALSE)),IF(ISERROR(VLOOKUP($A5,demi!$F:$M,8,FALSE)),\"\",IF(VLOOKUP($A5,demi!$F:$M,8,FALSE)=CS$2,\"X\",\"\")),IF(VLOOKUP($A5,demi!$B:$M,12,FALSE)=CS$2,\"X\",\"\"))","v":""}]
[4,"X","X","X","X","X","X","X","X","X","X","X","X","X","X","X","X",{"$f":"IF(ISERROR(VLOOKUP($A6,'32eme'!$B:$M,12,FALSE)),IF(ISERROR(VLOOKUP($A6,'32eme'!$F:$M,8,FALSE)),\"\",IF(VLOOKUP($A6,'32eme'!$F:$M,8,FALSE)=R$2,\"X\",\"\")),IF(VLOOKUP($A6,'32eme'!$B:$M,12,FALSE)=R$2,\"X\",\"\"))","v":""},{"$f":"IF(ISERROR(VLOOKUP($A6,'32eme'!$B:$M,12,FALSE)),IF(ISERROR(VLOOKUP($A6,'32eme'!$F:$M,8,FALSE)),\"\",IF(VLOOKUP($A6,'32eme'!$F:$M,8,FALSE)=S$2,\"X\",\"\")),IF(VLOOKUP($A6,'32eme'!$B:$M,12,FALSE)=S$2,\"X\",\"\"))","v":""},{"$f":"IF(ISERROR(VLOOKUP($A6,'32eme'!$B:$M,12,FALSE)),IF(ISERROR(VLOOKUP($A6,'32eme'!$F:$M,8,FALSE)),\"\",IF(VLOOKUP($A6,'32eme'!$F:$M,8,FALSE)=T$2,\"X\",\"\")),IF(VLOOKUP($A6,'32eme'!$B:$M,12,FALSE)=T$2,\"X\",\"\"))","v":""},{"$f":"IF(ISERROR(VLOOKUP($A6,'32eme'!$B:$M,12,FALSE)),IF(ISERROR(VLOOKUP($A6,'32eme'!$F:$M,8,FALSE)),\"\",IF(VLOOKUP($A6,'32eme'!$F:$M,8,FALSE)=U$2,\"X\",\"\")),IF(VLOOKUP($A6,'32eme'!$B:$M,12,FALSE)=U$2,\"X\",\"\"))","v":""},{"$f":"IF(ISERROR(VLOOKUP($A6,'32eme'!$B:$M,12,FALSE)),IF(ISERROR(VLOOKUP($A6,'32eme'!$F:$M,8,FALSE)),\"\",IF(VLOOKUP($A6,'32eme'!$F:$M,8,FALSE)=V$2,\"X\",\"\")),IF(VLOOKUP($A6,'32eme'!$B:$M,12,FALSE)=V$2,\"X\",\"\"))","v":""},{"$f":"IF(ISERROR(VLOOKUP($A6,'32eme'!$B:$M,12,FALSE)),IF(ISERROR(VLOOKUP($A6,'32eme'!$F:$M,8,FALSE)),\"\",IF(VLOOKUP($A6,'32eme'!$F:$M,8,FALSE)=W$2,\"X\",\"\")),IF(VLOOKUP($A6,'32eme'!$B:$M,12,FALSE)=W$2,\"X\",\"\"))","v":""},{"$f":"IF(ISERROR(VLOOKUP($A6,'32eme'!$B:$M,12,FALSE)),IF(ISERROR(VLOOKUP($A6,'32eme'!$F:$M,8,FALSE)),\"\",IF(VLOOKUP($A6,'32eme'!$F:$M,8,FALSE)=X$2,\"X\",\"\")),IF(VLOOKUP($A6,'32eme'!$B:$M,12,FALSE)=X$2,\"X\",\"\"))","v":""},{"$f":"IF(ISERROR(VLOOKUP($A6,'32eme'!$B:$M,12,FALSE)),IF(ISERROR(VLOOKUP($A6,'32eme'!$F:$M,8,FALSE)),\"\",IF(VLOOKUP($A6,'32eme'!$F:$M,8,FALSE)=Y$2,\"X\",\"\")),IF(VLOOKUP($A6,'32eme'!$B:$M,12,FALSE)=Y$2,\"X\",\"\"))","v":""},{"$f":"IF(ISERROR(VLOOKUP($A6,'32eme'!$B:$M,12,FALSE)),IF(ISERROR(VLOOKUP($A6,'32eme'!$F:$M,8,FALSE)),\"\",IF(VLOOKUP($A6,'32eme'!$F:$M,8,FALSE)=Z$2,\"X\",\"\")),IF(VLOOKUP($A6,'32eme'!$B:$M,12,FALSE)=Z$2,\"X\",\"\"))","v":""},{"$f":"IF(ISERROR(VLOOKUP($A6,'32eme'!$B:$M,12,FALSE)),IF(ISERROR(VLOOKUP($A6,'32eme'!$F:$M,8,FALSE)),\"\",IF(VLOOKUP($A6,'32eme'!$F:$M,8,FALSE)=AA$2,\"X\",\"\")),IF(VLOOKUP($A6,'32eme'!$B:$M,12,FALSE)=AA$2,\"X\",\"\"))","v":""},{"$f":"IF(ISERROR(VLOOKUP($A6,'32eme'!$B:$M,12,FALSE)),IF(ISERROR(VLOOKUP($A6,'32eme'!$F:$M,8,FALSE)),\"\",IF(VLOOKUP($A6,'32eme'!$F:$M,8,FALSE)=AB$2,\"X\",\"\")),IF(VLOOKUP($A6,'32eme'!$B:$M,12,FALSE)=AB$2,\"X\",\"\"))","v":""},{"$f":"IF(ISERROR(VLOOKUP($A6,'32eme'!$B:$M,12,FALSE)),IF(ISERROR(VLOOKUP($A6,'32eme'!$F:$M,8,FALSE)),\"\",IF(VLOOKUP($A6,'32eme'!$F:$M,8,FALSE)=AC$2,\"X\",\"\")),IF(VLOOKUP($A6,'32eme'!$B:$M,12,FALSE)=AC$2,\"X\",\"\"))","v":""},{"$f":"IF(ISERROR(VLOOKUP($A6,'32eme'!$B:$M,12,FALSE)),IF(ISERROR(VLOOKUP($A6,'32eme'!$F:$M,8,FALSE)),\"\",IF(VLOOKUP($A6,'32eme'!$F:$M,8,FALSE)=AD$2,\"X\",\"\")),IF(VLOOKUP($A6,'32eme'!$B:$M,12,FALSE)=AD$2,\"X\",\"\"))","v":""},{"$f":"IF(ISERROR(VLOOKUP($A6,'32eme'!$B:$M,12,FALSE)),IF(ISERROR(VLOOKUP($A6,'32eme'!$F:$M,8,FALSE)),\"\",IF(VLOOKUP($A6,'32eme'!$F:$M,8,FALSE)=AE$2,\"X\",\"\")),IF(VLOOKUP($A6,'32eme'!$B:$M,12,FALSE)=AE$2,\"X\",\"\"))","v":""},{"$f":"IF(ISERROR(VLOOKUP($A6,'32eme'!$B:$M,12,FALSE)),IF(ISERROR(VLOOKUP($A6,'32eme'!$F:$M,8,FALSE)),\"\",IF(VLOOKUP($A6,'32eme'!$F:$M,8,FALSE)=AF$2,\"X\",\"\")),IF(VLOOKUP($A6,'32eme'!$B:$M,12,FALSE)=AF$2,\"X\",\"\"))","v":""},{"$f":"IF(ISERROR(VLOOKUP($A6,'32eme'!$B:$M,12,FALSE)),IF(ISERROR(VLOOKUP($A6,'32eme'!$F:$M,8,FALSE)),\"\",IF(VLOOKUP($A6,'32eme'!$F:$M,8,FALSE)=AG$2,\"X\",\"\")),IF(VLOOKUP($A6,'32eme'!$B:$M,12,FALSE)=AG$2,\"X\",\"\"))","v":""},{"$f":"IF(ISERROR(VLOOKUP($A6,'16eme'!$B:$M,12,FALSE)),IF(ISERROR(VLOOKUP($A6,'16eme'!$F:$M,8,FALSE)),\"\",IF(VLOOKUP($A6,'16eme'!$F:$M,8,FALSE)=AH$2,\"X\",\"\")),IF(VLOOKUP($A6,'16eme'!$B:$M,12,FALSE)=AH$2,\"X\",\"\"))","v":""},{"$f":"IF(ISERROR(VLOOKUP($A6,'16eme'!$B:$M,12,FALSE)),IF(ISERROR(VLOOKUP($A6,'16eme'!$F:$M,8,FALSE)),\"\",IF(VLOOKUP($A6,'16eme'!$F:$M,8,FALSE)=AI$2,\"X\",\"\")),IF(VLOOKUP($A6,'16eme'!$B:$M,12,FALSE)=AI$2,\"X\",\"\"))","v":""},{"$f":"IF(ISERROR(VLOOKUP($A6,'16eme'!$B:$M,12,FALSE)),IF(ISERROR(VLOOKUP($A6,'16eme'!$F:$M,8,FALSE)),\"\",IF(VLOOKUP($A6,'16eme'!$F:$M,8,FALSE)=AJ$2,\"X\",\"\")),IF(VLOOKUP($A6,'16eme'!$B:$M,12,FALSE)=AJ$2,\"X\",\"\"))","v":""},{"$f":"IF(ISERROR(VLOOKUP($A6,'16eme'!$B:$M,12,FALSE)),IF(ISERROR(VLOOKUP($A6,'16eme'!$F:$M,8,FALSE)),\"\",IF(VLOOKUP($A6,'16eme'!$F:$M,8,FALSE)=AK$2,\"X\",\"\")),IF(VLOOKUP($A6,'16eme'!$B:$M,12,FALSE)=AK$2,\"X\",\"\"))","v":""},{"$f":"IF(ISERROR(VLOOKUP($A6,'16eme'!$B:$M,12,FALSE)),IF(ISERROR(VLOOKUP($A6,'16eme'!$F:$M,8,FALSE)),\"\",IF(VLOOKUP($A6,'16eme'!$F:$M,8,FALSE)=AL$2,\"X\",\"\")),IF(VLOOKUP($A6,'16eme'!$B:$M,12,FALSE)=AL$2,\"X\",\"\"))","v":""},{"$f":"IF(ISERROR(VLOOKUP($A6,'16eme'!$B:$M,12,FALSE)),IF(ISERROR(VLOOKUP($A6,'16eme'!$F:$M,8,FALSE)),\"\",IF(VLOOKUP($A6,'16eme'!$F:$M,8,FALSE)=AM$2,\"X\",\"\")),IF(VLOOKUP($A6,'16eme'!$B:$M,12,FALSE)=AM$2,\"X\",\"\"))","v":""},{"$f":"IF(ISERROR(VLOOKUP($A6,'16eme'!$B:$M,12,FALSE)),IF(ISERROR(VLOOKUP($A6,'16eme'!$F:$M,8,FALSE)),\"\",IF(VLOOKUP($A6,'16eme'!$F:$M,8,FALSE)=AN$2,\"X\",\"\")),IF(VLOOKUP($A6,'16eme'!$B:$M,12,FALSE)=AN$2,\"X\",\"\"))","v":""},{"$f":"IF(ISERROR(VLOOKUP($A6,'16eme'!$B:$M,12,FALSE)),IF(ISERROR(VLOOKUP($A6,'16eme'!$F:$M,8,FALSE)),\"\",IF(VLOOKUP($A6,'16eme'!$F:$M,8,FALSE)=AO$2,\"X\",\"\")),IF(VLOOKUP($A6,'16eme'!$B:$M,12,FALSE)=AO$2,\"X\",\"\"))","v":""},{"$f":"IF(ISERROR(VLOOKUP($A6,'16eme'!$B:$M,12,FALSE)),IF(ISERROR(VLOOKUP($A6,'16eme'!$F:$M,8,FALSE)),\"\",IF(VLOOKUP($A6,'16eme'!$F:$M,8,FALSE)=AP$2,\"X\",\"\")),IF(VLOOKUP($A6,'16eme'!$B:$M,12,FALSE)=AP$2,\"X\",\"\"))","v":""},{"$f":"IF(ISERROR(VLOOKUP($A6,'16eme'!$B:$M,12,FALSE)),IF(ISERROR(VLOOKUP($A6,'16eme'!$F:$M,8,FALSE)),\"\",IF(VLOOKUP($A6,'16eme'!$F:$M,8,FALSE)=AQ$2,\"X\",\"\")),IF(VLOOKUP($A6,'16eme'!$B:$M,12,FALSE)=AQ$2,\"X\",\"\"))","v":""},{"$f":"IF(ISERROR(VLOOKUP($A6,'16eme'!$B:$M,12,FALSE)),IF(ISERROR(VLOOKUP($A6,'16eme'!$F:$M,8,FALSE)),\"\",IF(VLOOKUP($A6,'16eme'!$F:$M,8,FALSE)=AR$2,\"X\",\"\")),IF(VLOOKUP($A6,'16eme'!$B:$M,12,FALSE)=AR$2,\"X\",\"\"))","v":""},{"$f":"IF(ISERROR(VLOOKUP($A6,'16eme'!$B:$M,12,FALSE)),IF(ISERROR(VLOOKUP($A6,'16eme'!$F:$M,8,FALSE)),\"\",IF(VLOOKUP($A6,'16eme'!$F:$M,8,FALSE)=AS$2,\"X\",\"\")),IF(VLOOKUP($A6,'16eme'!$B:$M,12,FALSE)=AS$2,\"X\",\"\"))","v":""},{"$f":"IF(ISERROR(VLOOKUP($A6,'16eme'!$B:$M,12,FALSE)),IF(ISERROR(VLOOKUP($A6,'16eme'!$F:$M,8,FALSE)),\"\",IF(VLOOKUP($A6,'16eme'!$F:$M,8,FALSE)=AT$2,\"X\",\"\")),IF(VLOOKUP($A6,'16eme'!$B:$M,12,FALSE)=AT$2,\"X\",\"\"))","v":""},{"$f":"IF(ISERROR(VLOOKUP($A6,'16eme'!$B:$M,12,FALSE)),IF(ISERROR(VLOOKUP($A6,'16eme'!$F:$M,8,FALSE)),\"\",IF(VLOOKUP($A6,'16eme'!$F:$M,8,FALSE)=AU$2,\"X\",\"\")),IF(VLOOKUP($A6,'16eme'!$B:$M,12,FALSE)=AU$2,\"X\",\"\"))","v":""},{"$f":"IF(ISERROR(VLOOKUP($A6,'16eme'!$B:$M,12,FALSE)),IF(ISERROR(VLOOKUP($A6,'16eme'!$F:$M,8,FALSE)),\"\",IF(VLOOKUP($A6,'16eme'!$F:$M,8,FALSE)=AV$2,\"X\",\"\")),IF(VLOOKUP($A6,'16eme'!$B:$M,12,FALSE)=AV$2,\"X\",\"\"))","v":""},{"$f":"IF(ISERROR(VLOOKUP($A6,'16eme'!$B:$M,12,FALSE)),IF(ISERROR(VLOOKUP($A6,'16eme'!$F:$M,8,FALSE)),\"\",IF(VLOOKUP($A6,'16eme'!$F:$M,8,FALSE)=AW$2,\"X\",\"\")),IF(VLOOKUP($A6,'16eme'!$B:$M,12,FALSE)=AW$2,\"X\",\"\"))","v":""},{"$f":"IF(ISERROR(VLOOKUP($A6,'8eme'!$B:$M,12,FALSE)),IF(ISERROR(VLOOKUP($A6,'8eme'!$F:$M,8,FALSE)),\"\",IF(VLOOKUP($A6,'8eme'!$F:$M,8,FALSE)=AX$2,\"X\",\"\")),IF(VLOOKUP($A6,'8eme'!$B:$M,12,FALSE)=AX$2,\"X\",\"\"))","v":""},{"$f":"IF(ISERROR(VLOOKUP($A6,'8eme'!$B:$M,12,FALSE)),IF(ISERROR(VLOOKUP($A6,'8eme'!$F:$M,8,FALSE)),\"\",IF(VLOOKUP($A6,'8eme'!$F:$M,8,FALSE)=AY$2,\"X\",\"\")),IF(VLOOKUP($A6,'8eme'!$B:$M,12,FALSE)=AY$2,\"X\",\"\"))","v":""},{"$f":"IF(ISERROR(VLOOKUP($A6,'8eme'!$B:$M,12,FALSE)),IF(ISERROR(VLOOKUP($A6,'8eme'!$F:$M,8,FALSE)),\"\",IF(VLOOKUP($A6,'8eme'!$F:$M,8,FALSE)=AZ$2,\"X\",\"\")),IF(VLOOKUP($A6,'8eme'!$B:$M,12,FALSE)=AZ$2,\"X\",\"\"))","v":""},{"$f":"IF(ISERROR(VLOOKUP($A6,'8eme'!$B:$M,12,FALSE)),IF(ISERROR(VLOOKUP($A6,'8eme'!$F:$M,8,FALSE)),\"\",IF(VLOOKUP($A6,'8eme'!$F:$M,8,FALSE)=BA$2,\"X\",\"\")),IF(VLOOKUP($A6,'8eme'!$B:$M,12,FALSE)=BA$2,\"X\",\"\"))","v":""},{"$f":"IF(ISERROR(VLOOKUP($A6,'8eme'!$B:$M,12,FALSE)),IF(ISERROR(VLOOKUP($A6,'8eme'!$F:$M,8,FALSE)),\"\",IF(VLOOKUP($A6,'8eme'!$F:$M,8,FALSE)=BB$2,\"X\",\"\")),IF(VLOOKUP($A6,'8eme'!$B:$M,12,FALSE)=BB$2,\"X\",\"\"))","v":""},{"$f":"IF(ISERROR(VLOOKUP($A6,'8eme'!$B:$M,12,FALSE)),IF(ISERROR(VLOOKUP($A6,'8eme'!$F:$M,8,FALSE)),\"\",IF(VLOOKUP($A6,'8eme'!$F:$M,8,FALSE)=BC$2,\"X\",\"\")),IF(VLOOKUP($A6,'8eme'!$B:$M,12,FALSE)=BC$2,\"X\",\"\"))","v":""},{"$f":"IF(ISERROR(VLOOKUP($A6,'8eme'!$B:$M,12,FALSE)),IF(ISERROR(VLOOKUP($A6,'8eme'!$F:$M,8,FALSE)),\"\",IF(VLOOKUP($A6,'8eme'!$F:$M,8,FALSE)=BD$2,\"X\",\"\")),IF(VLOOKUP($A6,'8eme'!$B:$M,12,FALSE)=BD$2,\"X\",\"\"))","v":""},{"$f":"IF(ISERROR(VLOOKUP($A6,'8eme'!$B:$M,12,FALSE)),IF(ISERROR(VLOOKUP($A6,'8eme'!$F:$M,8,FALSE)),\"\",IF(VLOOKUP($A6,'8eme'!$F:$M,8,FALSE)=BE$2,\"X\",\"\")),IF(VLOOKUP($A6,'8eme'!$B:$M,12,FALSE)=BE$2,\"X\",\"\"))","v":""},{"$f":"IF(ISERROR(VLOOKUP($A6,'8eme'!$B:$M,12,FALSE)),IF(ISERROR(VLOOKUP($A6,'8eme'!$F:$M,8,FALSE)),\"\",IF(VLOOKUP($A6,'8eme'!$F:$M,8,FALSE)=BF$2,\"X\",\"\")),IF(VLOOKUP($A6,'8eme'!$B:$M,12,FALSE)=BF$2,\"X\",\"\"))","v":""},{"$f":"IF(ISERROR(VLOOKUP($A6,'8eme'!$B:$M,12,FALSE)),IF(ISERROR(VLOOKUP($A6,'8eme'!$F:$M,8,FALSE)),\"\",IF(VLOOKUP($A6,'8eme'!$F:$M,8,FALSE)=BG$2,\"X\",\"\")),IF(VLOOKUP($A6,'8eme'!$B:$M,12,FALSE)=BG$2,\"X\",\"\"))","v":""},{"$f":"IF(ISERROR(VLOOKUP($A6,'8eme'!$B:$M,12,FALSE)),IF(ISERROR(VLOOKUP($A6,'8eme'!$F:$M,8,FALSE)),\"\",IF(VLOOKUP($A6,'8eme'!$F:$M,8,FALSE)=BH$2,\"X\",\"\")),IF(VLOOKUP($A6,'8eme'!$B:$M,12,FALSE)=BH$2,\"X\",\"\"))","v":""},{"$f":"IF(ISERROR(VLOOKUP($A6,'8eme'!$B:$M,12,FALSE)),IF(ISERROR(VLOOKUP($A6,'8eme'!$F:$M,8,FALSE)),\"\",IF(VLOOKUP($A6,'8eme'!$F:$M,8,FALSE)=BI$2,\"X\",\"\")),IF(VLOOKUP($A6,'8eme'!$B:$M,12,FALSE)=BI$2,\"X\",\"\"))","v":""},{"$f":"IF(ISERROR(VLOOKUP($A6,'8eme'!$B:$M,12,FALSE)),IF(ISERROR(VLOOKUP($A6,'8eme'!$F:$M,8,FALSE)),\"\",IF(VLOOKUP($A6,'8eme'!$F:$M,8,FALSE)=BJ$2,\"X\",\"\")),IF(VLOOKUP($A6,'8eme'!$B:$M,12,FALSE)=BJ$2,\"X\",\"\"))","v":""},{"$f":"IF(ISERROR(VLOOKUP($A6,'8eme'!$B:$M,12,FALSE)),IF(ISERROR(VLOOKUP($A6,'8eme'!$F:$M,8,FALSE)),\"\",IF(VLOOKUP($A6,'8eme'!$F:$M,8,FALSE)=BK$2,\"X\",\"\")),IF(VLOOKUP($A6,'8eme'!$B:$M,12,FALSE)=BK$2,\"X\",\"\"))","v":""},{"$f":"IF(ISERROR(VLOOKUP($A6,'8eme'!$B:$M,12,FALSE)),IF(ISERROR(VLOOKUP($A6,'8eme'!$F:$M,8,FALSE)),\"\",IF(VLOOKUP($A6,'8eme'!$F:$M,8,FALSE)=BL$2,\"X\",\"\")),IF(VLOOKUP($A6,'8eme'!$B:$M,12,FALSE)=BL$2,\"X\",\"\"))","v":""},{"$f":"IF(ISERROR(VLOOKUP($A6,'8eme'!$B:$M,12,FALSE)),IF(ISERROR(VLOOKUP($A6,'8eme'!$F:$M,8,FALSE)),\"\",IF(VLOOKUP($A6,'8eme'!$F:$M,8,FALSE)=BM$2,\"X\",\"\")),IF(VLOOKUP($A6,'8eme'!$B:$M,12,FALSE)=BM$2,\"X\",\"\"))","v":""},{"$f":"IF(ISERROR(VLOOKUP($A6,quart!$B:$M,12,FALSE)),IF(ISERROR(VLOOKUP($A6,quart!$F:$M,8,FALSE)),\"\",IF(VLOOKUP($A6,quart!$F:$M,8,FALSE)=BN$2,\"X\",\"\")),IF(VLOOKUP($A6,quart!$B:$M,12,FALSE)=BN$2,\"X\",\"\"))","v":""},{"$f":"IF(ISERROR(VLOOKUP($A6,quart!$B:$M,12,FALSE)),IF(ISERROR(VLOOKUP($A6,quart!$F:$M,8,FALSE)),\"\",IF(VLOOKUP($A6,quart!$F:$M,8,FALSE)=BO$2,\"X\",\"\")),IF(VLOOKUP($A6,quart!$B:$M,12,FALSE)=BO$2,\"X\",\"\"))","v":""},{"$f":"IF(ISERROR(VLOOKUP($A6,quart!$B:$M,12,FALSE)),IF(ISERROR(VLOOKUP($A6,quart!$F:$M,8,FALSE)),\"\",IF(VLOOKUP($A6,quart!$F:$M,8,FALSE)=BP$2,\"X\",\"\")),IF(VLOOKUP($A6,quart!$B:$M,12,FALSE)=BP$2,\"X\",\"\"))","v":""},{"$f":"IF(ISERROR(VLOOKUP($A6,quart!$B:$M,12,FALSE)),IF(ISERROR(VLOOKUP($A6,quart!$F:$M,8,FALSE)),\"\",IF(VLOOKUP($A6,quart!$F:$M,8,FALSE)=BQ$2,\"X\",\"\")),IF(VLOOKUP($A6,quart!$B:$M,12,FALSE)=BQ$2,\"X\",\"\"))","v":""},{"$f":"IF(ISERROR(VLOOKUP($A6,quart!$B:$M,12,FALSE)),IF(ISERROR(VLOOKUP($A6,quart!$F:$M,8,FALSE)),\"\",IF(VLOOKUP($A6,quart!$F:$M,8,FALSE)=BR$2,\"X\",\"\")),IF(VLOOKUP($A6,quart!$B:$M,12,FALSE)=BR$2,\"X\",\"\"))","v":""},{"$f":"IF(ISERROR(VLOOKUP($A6,quart!$B:$M,12,FALSE)),IF(ISERROR(VLOOKUP($A6,quart!$F:$M,8,FALSE)),\"\",IF(VLOOKUP($A6,quart!$F:$M,8,FALSE)=BS$2,\"X\",\"\")),IF(VLOOKUP($A6,quart!$B:$M,12,FALSE)=BS$2,\"X\",\"\"))","v":""},{"$f":"IF(ISERROR(VLOOKUP($A6,quart!$B:$M,12,FALSE)),IF(ISERROR(VLOOKUP($A6,quart!$F:$M,8,FALSE)),\"\",IF(VLOOKUP($A6,quart!$F:$M,8,FALSE)=BT$2,\"X\",\"\")),IF(VLOOKUP($A6,quart!$B:$M,12,FALSE)=BT$2,\"X\",\"\"))","v":""},{"$f":"IF(ISERROR(VLOOKUP($A6,quart!$B:$M,12,FALSE)),IF(ISERROR(VLOOKUP($A6,quart!$F:$M,8,FALSE)),\"\",IF(VLOOKUP($A6,quart!$F:$M,8,FALSE)=BU$2,\"X\",\"\")),IF(VLOOKUP($A6,quart!$B:$M,12,FALSE)=BU$2,\"X\",\"\"))","v":""},{"$f":"IF(ISERROR(VLOOKUP($A6,quart!$B:$M,12,FALSE)),IF(ISERROR(VLOOKUP($A6,quart!$F:$M,8,FALSE)),\"\",IF(VLOOKUP($A6,quart!$F:$M,8,FALSE)=BV$2,\"X\",\"\")),IF(VLOOKUP($A6,quart!$B:$M,12,FALSE)=BV$2,\"X\",\"\"))","v":""},{"$f":"IF(ISERROR(VLOOKUP($A6,quart!$B:$M,12,FALSE)),IF(ISERROR(VLOOKUP($A6,quart!$F:$M,8,FALSE)),\"\",IF(VLOOKUP($A6,quart!$F:$M,8,FALSE)=BW$2,\"X\",\"\")),IF(VLOOKUP($A6,quart!$B:$M,12,FALSE)=BW$2,\"X\",\"\"))","v":""},{"$f":"IF(ISERROR(VLOOKUP($A6,quart!$B:$M,12,FALSE)),IF(ISERROR(VLOOKUP($A6,quart!$F:$M,8,FALSE)),\"\",IF(VLOOKUP($A6,quart!$F:$M,8,FALSE)=BX$2,\"X\",\"\")),IF(VLOOKUP($A6,quart!$B:$M,12,FALSE)=BX$2,\"X\",\"\"))","v":""},{"$f":"IF(ISERROR(VLOOKUP($A6,quart!$B:$M,12,FALSE)),IF(ISERROR(VLOOKUP($A6,quart!$F:$M,8,FALSE)),\"\",IF(VLOOKUP($A6,quart!$F:$M,8,FALSE)=BY$2,\"X\",\"\")),IF(VLOOKUP($A6,quart!$B:$M,12,FALSE)=BY$2,\"X\",\"\"))","v":""},{"$f":"IF(ISERROR(VLOOKUP($A6,quart!$B:$M,12,FALSE)),IF(ISERROR(VLOOKUP($A6,quart!$F:$M,8,FALSE)),\"\",IF(VLOOKUP($A6,quart!$F:$M,8,FALSE)=BZ$2,\"X\",\"\")),IF(VLOOKUP($A6,quart!$B:$M,12,FALSE)=BZ$2,\"X\",\"\"))","v":""},{"$f":"IF(ISERROR(VLOOKUP($A6,quart!$B:$M,12,FALSE)),IF(ISERROR(VLOOKUP($A6,quart!$F:$M,8,FALSE)),\"\",IF(VLOOKUP($A6,quart!$F:$M,8,FALSE)=CA$2,\"X\",\"\")),IF(VLOOKUP($A6,quart!$B:$M,12,FALSE)=CA$2,\"X\",\"\"))","v":""},{"$f":"IF(ISERROR(VLOOKUP($A6,quart!$B:$M,12,FALSE)),IF(ISERROR(VLOOKUP($A6,quart!$F:$M,8,FALSE)),\"\",IF(VLOOKUP($A6,quart!$F:$M,8,FALSE)=CB$2,\"X\",\"\")),IF(VLOOKUP($A6,quart!$B:$M,12,FALSE)=CB$2,\"X\",\"\"))","v":""},{"$f":"IF(ISERROR(VLOOKUP($A6,quart!$B:$M,12,FALSE)),IF(ISERROR(VLOOKUP($A6,quart!$F:$M,8,FALSE)),\"\",IF(VLOOKUP($A6,quart!$F:$M,8,FALSE)=CC$2,\"X\",\"\")),IF(VLOOKUP($A6,quart!$B:$M,12,FALSE)=CC$2,\"X\",\"\"))","v":""},{"$f":"IF(ISERROR(VLOOKUP($A6,demi!$B:$M,12,FALSE)),IF(ISERROR(VLOOKUP($A6,demi!$F:$M,8,FALSE)),\"\",IF(VLOOKUP($A6,demi!$F:$M,8,FALSE)=CD$2,\"X\",\"\")),IF(VLOOKUP($A6,demi!$B:$M,12,FALSE)=CD$2,\"X\",\"\"))","v":""},{"$f":"IF(ISERROR(VLOOKUP($A6,demi!$B:$M,12,FALSE)),IF(ISERROR(VLOOKUP($A6,demi!$F:$M,8,FALSE)),\"\",IF(VLOOKUP($A6,demi!$F:$M,8,FALSE)=CE$2,\"X\",\"\")),IF(VLOOKUP($A6,demi!$B:$M,12,FALSE)=CE$2,\"X\",\"\"))","v":""},{"$f":"IF(ISERROR(VLOOKUP($A6,demi!$B:$M,12,FALSE)),IF(ISERROR(VLOOKUP($A6,demi!$F:$M,8,FALSE)),\"\",IF(VLOOKUP($A6,demi!$F:$M,8,FALSE)=CF$2,\"X\",\"\")),IF(VLOOKUP($A6,demi!$B:$M,12,FALSE)=CF$2,\"X\",\"\"))","v":""},{"$f":"IF(ISERROR(VLOOKUP($A6,demi!$B:$M,12,FALSE)),IF(ISERROR(VLOOKUP($A6,demi!$F:$M,8,FALSE)),\"\",IF(VLOOKUP($A6,demi!$F:$M,8,FALSE)=CG$2,\"X\",\"\")),IF(VLOOKUP($A6,demi!$B:$M,12,FALSE)=CG$2,\"X\",\"\"))","v":""},{"$f":"IF(ISERROR(VLOOKUP($A6,demi!$B:$M,12,FALSE)),IF(ISERROR(VLOOKUP($A6,demi!$F:$M,8,FALSE)),\"\",IF(VLOOKUP($A6,demi!$F:$M,8,FALSE)=CH$2,\"X\",\"\")),IF(VLOOKUP($A6,demi!$B:$M,12,FALSE)=CH$2,\"X\",\"\"))","v":""},{"$f":"IF(ISERROR(VLOOKUP($A6,demi!$B:$M,12,FALSE)),IF(ISERROR(VLOOKUP($A6,demi!$F:$M,8,FALSE)),\"\",IF(VLOOKUP($A6,demi!$F:$M,8,FALSE)=CI$2,\"X\",\"\")),IF(VLOOKUP($A6,demi!$B:$M,12,FALSE)=CI$2,\"X\",\"\"))","v":""},{"$f":"IF(ISERROR(VLOOKUP($A6,demi!$B:$M,12,FALSE)),IF(ISERROR(VLOOKUP($A6,demi!$F:$M,8,FALSE)),\"\",IF(VLOOKUP($A6,demi!$F:$M,8,FALSE)=CJ$2,\"X\",\"\")),IF(VLOOKUP($A6,demi!$B:$M,12,FALSE)=CJ$2,\"X\",\"\"))","v":""},{"$f":"IF(ISERROR(VLOOKUP($A6,demi!$B:$M,12,FALSE)),IF(ISERROR(VLOOKUP($A6,demi!$F:$M,8,FALSE)),\"\",IF(VLOOKUP($A6,demi!$F:$M,8,FALSE)=CK$2,\"X\",\"\")),IF(VLOOKUP($A6,demi!$B:$M,12,FALSE)=CK$2,\"X\",\"\"))","v":""},{"$f":"IF(ISERROR(VLOOKUP($A6,demi!$B:$M,12,FALSE)),IF(ISERROR(VLOOKUP($A6,demi!$F:$M,8,FALSE)),\"\",IF(VLOOKUP($A6,demi!$F:$M,8,FALSE)=CL$2,\"X\",\"\")),IF(VLOOKUP($A6,demi!$B:$M,12,FALSE)=CL$2,\"X\",\"\"))","v":""},{"$f":"IF(ISERROR(VLOOKUP($A6,demi!$B:$M,12,FALSE)),IF(ISERROR(VLOOKUP($A6,demi!$F:$M,8,FALSE)),\"\",IF(VLOOKUP($A6,demi!$F:$M,8,FALSE)=CM$2,\"X\",\"\")),IF(VLOOKUP($A6,demi!$B:$M,12,FALSE)=CM$2,\"X\",\"\"))","v":""},{"$f":"IF(ISERROR(VLOOKUP($A6,demi!$B:$M,12,FALSE)),IF(ISERROR(VLOOKUP($A6,demi!$F:$M,8,FALSE)),\"\",IF(VLOOKUP($A6,demi!$F:$M,8,FALSE)=CN$2,\"X\",\"\")),IF(VLOOKUP($A6,demi!$B:$M,12,FALSE)=CN$2,\"X\",\"\"))","v":""},{"$f":"IF(ISERROR(VLOOKUP($A6,demi!$B:$M,12,FALSE)),IF(ISERROR(VLOOKUP($A6,demi!$F:$M,8,FALSE)),\"\",IF(VLOOKUP($A6,demi!$F:$M,8,FALSE)=CO$2,\"X\",\"\")),IF(VLOOKUP($A6,demi!$B:$M,12,FALSE)=CO$2,\"X\",\"\"))","v":""},{"$f":"IF(ISERROR(VLOOKUP($A6,demi!$B:$M,12,FALSE)),IF(ISERROR(VLOOKUP($A6,demi!$F:$M,8,FALSE)),\"\",IF(VLOOKUP($A6,demi!$F:$M,8,FALSE)=CP$2,\"X\",\"\")),IF(VLOOKUP($A6,demi!$B:$M,12,FALSE)=CP$2,\"X\",\"\"))","v":""},{"$f":"IF(ISERROR(VLOOKUP($A6,demi!$B:$M,12,FALSE)),IF(ISERROR(VLOOKUP($A6,demi!$F:$M,8,FALSE)),\"\",IF(VLOOKUP($A6,demi!$F:$M,8,FALSE)=CQ$2,\"X\",\"\")),IF(VLOOKUP($A6,demi!$B:$M,12,FALSE)=CQ$2,\"X\",\"\"))","v":""},{"$f":"IF(ISERROR(VLOOKUP($A6,demi!$B:$M,12,FALSE)),IF(ISERROR(VLOOKUP($A6,demi!$F:$M,8,FALSE)),\"\",IF(VLOOKUP($A6,demi!$F:$M,8,FALSE)=CR$2,\"X\",\"\")),IF(VLOOKUP($A6,demi!$B:$M,12,FALSE)=CR$2,\"X\",\"\"))","v":""},{"$f":"IF(ISERROR(VLOOKUP($A6,demi!$B:$M,12,FALSE)),IF(ISERROR(VLOOKUP($A6,demi!$F:$M,8,FALSE)),\"\",IF(VLOOKUP($A6,demi!$F:$M,8,FALSE)=CS$2,\"X\",\"\")),IF(VLOOKUP($A6,demi!$B:$M,12,FALSE)=CS$2,\"X\",\"\"))","v":""}]
[5,"X","X","X","X","X","X","X","X","X","X","X","X","X","X","X","X",{"$f":"IF(ISERROR(VLOOKUP($A7,'32eme'!$B:$M,12,FALSE)),IF(ISERROR(VLOOKUP($A7,'32eme'!$F:$M,8,FALSE)),\"\",IF(VLOOKUP($A7,'32eme'!$F:$M,8,FALSE)=R$2,\"X\",\"\")),IF(VLOOKUP($A7,'32eme'!$B:$M,12,FALSE)=R$2,\"X\",\"\"))","v":""},{"$f":"IF(ISERROR(VLOOKUP($A7,'32eme'!$B:$M,12,FALSE)),IF(ISERROR(VLOOKUP($A7,'32eme'!$F:$M,8,FALSE)),\"\",IF(VLOOKUP($A7,'32eme'!$F:$M,8,FALSE)=S$2,\"X\",\"\")),IF(VLOOKUP($A7,'32eme'!$B:$M,12,FALSE)=S$2,\"X\",\"\"))","v":""},{"$f":"IF(ISERROR(VLOOKUP($A7,'32eme'!$B:$M,12,FALSE)),IF(ISERROR(VLOOKUP($A7,'32eme'!$F:$M,8,FALSE)),\"\",IF(VLOOKUP($A7,'32eme'!$F:$M,8,FALSE)=T$2,\"X\",\"\")),IF(VLOOKUP($A7,'32eme'!$B:$M,12,FALSE)=T$2,\"X\",\"\"))","v":""},{"$f":"IF(ISERROR(VLOOKUP($A7,'32eme'!$B:$M,12,FALSE)),IF(ISERROR(VLOOKUP($A7,'32eme'!$F:$M,8,FALSE)),\"\",IF(VLOOKUP($A7,'32eme'!$F:$M,8,FALSE)=U$2,\"X\",\"\")),IF(VLOOKUP($A7,'32eme'!$B:$M,12,FALSE)=U$2,\"X\",\"\"))","v":""},{"$f":"IF(ISERROR(VLOOKUP($A7,'32eme'!$B:$M,12,FALSE)),IF(ISERROR(VLOOKUP($A7,'32eme'!$F:$M,8,FALSE)),\"\",IF(VLOOKUP($A7,'32eme'!$F:$M,8,FALSE)=V$2,\"X\",\"\")),IF(VLOOKUP($A7,'32eme'!$B:$M,12,FALSE)=V$2,\"X\",\"\"))","v":""},{"$f":"IF(ISERROR(VLOOKUP($A7,'32eme'!$B:$M,12,FALSE)),IF(ISERROR(VLOOKUP($A7,'32eme'!$F:$M,8,FALSE)),\"\",IF(VLOOKUP($A7,'32eme'!$F:$M,8,FALSE)=W$2,\"X\",\"\")),IF(VLOOKUP($A7,'32eme'!$B:$M,12,FALSE)=W$2,\"X\",\"\"))","v":""},{"$f":"IF(ISERROR(VLOOKUP($A7,'32eme'!$B:$M,12,FALSE)),IF(ISERROR(VLOOKUP($A7,'32eme'!$F:$M,8,FALSE)),\"\",IF(VLOOKUP($A7,'32eme'!$F:$M,8,FALSE)=X$2,\"X\",\"\")),IF(VLOOKUP($A7,'32eme'!$B:$M,12,FALSE)=X$2,\"X\",\"\"))","v":""},{"$f":"IF(ISERROR(VLOOKUP($A7,'32eme'!$B:$M,12,FALSE)),IF(ISERROR(VLOOKUP($A7,'32eme'!$F:$M,8,FALSE)),\"\",IF(VLOOKUP($A7,'32eme'!$F:$M,8,FALSE)=Y$2,\"X\",\"\")),IF(VLOOKUP($A7,'32eme'!$B:$M,12,FALSE)=Y$2,\"X\",\"\"))","v":""},{"$f":"IF(ISERROR(VLOOKUP($A7,'32eme'!$B:$M,12,FALSE)),IF(ISERROR(VLOOKUP($A7,'32eme'!$F:$M,8,FALSE)),\"\",IF(VLOOKUP($A7,'32eme'!$F:$M,8,FALSE)=Z$2,\"X\",\"\")),IF(VLOOKUP($A7,'32eme'!$B:$M,12,FALSE)=Z$2,\"X\",\"\"))","v":""},{"$f":"IF(ISERROR(VLOOKUP($A7,'32eme'!$B:$M,12,FALSE)),IF(ISERROR(VLOOKUP($A7,'32eme'!$F:$M,8,FALSE)),\"\",IF(VLOOKUP($A7,'32eme'!$F:$M,8,FALSE)=AA$2,\"X\",\"\")),IF(VLOOKUP($A7,'32eme'!$B:$M,12,FALSE)=AA$2,\"X\",\"\"))","v":""},{"$f":"IF(ISERROR(VLOOKUP($A7,'32eme'!$B:$M,12,FALSE)),IF(ISERROR(VLOOKUP($A7,'32eme'!$F:$M,8,FALSE)),\"\",IF(VLOOKUP($A7,'32eme'!$F:$M,8,FALSE)=AB$2,\"X\",\"\")),IF(VLOOKUP($A7,'32eme'!$B:$M,12,FALSE)=AB$2,\"X\",\"\"))","v":""},{"$f":"IF(ISERROR(VLOOKUP($A7,'32eme'!$B:$M,12,FALSE)),IF(ISERROR(VLOOKUP($A7,'32eme'!$F:$M,8,FALSE)),\"\",IF(VLOOKUP($A7,'32eme'!$F:$M,8,FALSE)=AC$2,\"X\",\"\")),IF(VLOOKUP($A7,'32eme'!$B:$M,12,FALSE)=AC$2,\"X\",\"\"))","v":""},{"$f":"IF(ISERROR(VLOOKUP($A7,'32eme'!$B:$M,12,FALSE)),IF(ISERROR(VLOOKUP($A7,'32eme'!$F:$M,8,FALSE)),\"\",IF(VLOOKUP($A7,'32eme'!$F:$M,8,FALSE)=AD$2,\"X\",\"\")),IF(VLOOKUP($A7,'32eme'!$B:$M,12,FALSE)=AD$2,\"X\",\"\"))","v":""},{"$f":"IF(ISERROR(VLOOKUP($A7,'32eme'!$B:$M,12,FALSE)),IF(ISERROR(VLOOKUP($A7,'32eme'!$F:$M,8,FALSE)),\"\",IF(VLOOKUP($A7,'32eme'!$F:$M,8,FALSE)=AE$2,\"X\",\"\")),IF(VLOOKUP($A7,'32eme'!$B:$M,12,FALSE)=AE$2,\"X\",\"\"))","v":""},{"$f":"IF(ISERROR(VLOOKUP($A7,'32eme'!$B:$M,12,FALSE)),IF(ISERROR(VLOOKUP($A7,'32eme'!$F:$M,8,FALSE)),\"\",IF(VLOOKUP($A7,'32eme'!$F:$M,8,FALSE)=AF$2,\"X\",\"\")),IF(VLOOKUP($A7,'32eme'!$B:$M,12,FALSE)=AF$2,\"X\",\"\"))","v":""},{"$f":"IF(ISERROR(VLOOKUP($A7,'32eme'!$B:$M,12,FALSE)),IF(ISERROR(VLOOKUP($A7,'32eme'!$F:$M,8,FALSE)),\"\",IF(VLOOKUP($A7,'32eme'!$F:$M,8,FALSE)=AG$2,\"X\",\"\")),IF(VLOOKUP($A7,'32eme'!$B:$M,12,FALSE)=AG$2,\"X\",\"\"))","v":""},{"$f":"IF(ISERROR(VLOOKUP($A7,'16eme'!$B:$M,12,FALSE)),IF(ISERROR(VLOOKUP($A7,'16eme'!$F:$M,8,FALSE)),\"\",IF(VLOOKUP($A7,'16eme'!$F:$M,8,FALSE)=AH$2,\"X\",\"\")),IF(VLOOKUP($A7,'16eme'!$B:$M,12,FALSE)=AH$2,\"X\",\"\"))","v":""},{"$f":"IF(ISERROR(VLOOKUP($A7,'16eme'!$B:$M,12,FALSE)),IF(ISERROR(VLOOKUP($A7,'16eme'!$F:$M,8,FALSE)),\"\",IF(VLOOKUP($A7,'16eme'!$F:$M,8,FALSE)=AI$2,\"X\",\"\")),IF(VLOOKUP($A7,'16eme'!$B:$M,12,FALSE)=AI$2,\"X\",\"\"))","v":""},{"$f":"IF(ISERROR(VLOOKUP($A7,'16eme'!$B:$M,12,FALSE)),IF(ISERROR(VLOOKUP($A7,'16eme'!$F:$M,8,FALSE)),\"\",IF(VLOOKUP($A7,'16eme'!$F:$M,8,FALSE)=AJ$2,\"X\",\"\")),IF(VLOOKUP($A7,'16eme'!$B:$M,12,FALSE)=AJ$2,\"X\",\"\"))","v":""},{"$f":"IF(ISERROR(VLOOKUP($A7,'16eme'!$B:$M,12,FALSE)),IF(ISERROR(VLOOKUP($A7,'16eme'!$F:$M,8,FALSE)),\"\",IF(VLOOKUP($A7,'16eme'!$F:$M,8,FALSE)=AK$2,\"X\",\"\")),IF(VLOOKUP($A7,'16eme'!$B:$M,12,FALSE)=AK$2,\"X\",\"\"))","v":""},{"$f":"IF(ISERROR(VLOOKUP($A7,'16eme'!$B:$M,12,FALSE)),IF(ISERROR(VLOOKUP($A7,'16eme'!$F:$M,8,FALSE)),\"\",IF(VLOOKUP($A7,'16eme'!$F:$M,8,FALSE)=AL$2,\"X\",\"\")),IF(VLOOKUP($A7,'16eme'!$B:$M,12,FALSE)=AL$2,\"X\",\"\"))","v":""},{"$f":"IF(ISERROR(VLOOKUP($A7,'16eme'!$B:$M,12,FALSE)),IF(ISERROR(VLOOKUP($A7,'16eme'!$F:$M,8,FALSE)),\"\",IF(VLOOKUP($A7,'16eme'!$F:$M,8,FALSE)=AM$2,\"X\",\"\")),IF(VLOOKUP($A7,'16eme'!$B:$M,12,FALSE)=AM$2,\"X\",\"\"))","v":""},{"$f":"IF(ISERROR(VLOOKUP($A7,'16eme'!$B:$M,12,FALSE)),IF(ISERROR(VLOOKUP($A7,'16eme'!$F:$M,8,FALSE)),\"\",IF(VLOOKUP($A7,'16eme'!$F:$M,8,FALSE)=AN$2,\"X\",\"\")),IF(VLOOKUP($A7,'16eme'!$B:$M,12,FALSE)=AN$2,\"X\",\"\"))","v":""},{"$f":"IF(ISERROR(VLOOKUP($A7,'16eme'!$B:$M,12,FALSE)),IF(ISERROR(VLOOKUP($A7,'16eme'!$F:$M,8,FALSE)),\"\",IF(VLOOKUP($A7,'16eme'!$F:$M,8,FALSE)=AO$2,\"X\",\"\")),IF(VLOOKUP($A7,'16eme'!$B:$M,12,FALSE)=AO$2,\"X\",\"\"))","v":""},{"$f":"IF(ISERROR(VLOOKUP($A7,'16eme'!$B:$M,12,FALSE)),IF(ISERROR(VLOOKUP($A7,'16eme'!$F:$M,8,FALSE)),\"\",IF(VLOOKUP($A7,'16eme'!$F:$M,8,FALSE)=AP$2,\"X\",\"\")),IF(VLOOKUP($A7,'16eme'!$B:$M,12,FALSE)=AP$2,\"X\",\"\"))","v":""},{"$f":"IF(ISERROR(VLOOKUP($A7,'16eme'!$B:$M,12,FALSE)),IF(ISERROR(VLOOKUP($A7,'16eme'!$F:$M,8,FALSE)),\"\",IF(VLOOKUP($A7,'16eme'!$F:$M,8,FALSE)=AQ$2,\"X\",\"\")),IF(VLOOKUP($A7,'16eme'!$B:$M,12,FALSE)=AQ$2,\"X\",\"\"))","v":""},{"$f":"IF(ISERROR(VLOOKUP($A7,'16eme'!$B:$M,12,FALSE)),IF(ISERROR(VLOOKUP($A7,'16eme'!$F:$M,8,FALSE)),\"\",IF(VLOOKUP($A7,'16eme'!$F:$M,8,FALSE)=AR$2,\"X\",\"\")),IF(VLOOKUP($A7,'16eme'!$B:$M,12,FALSE)=AR$2,\"X\",\"\"))","v":""},{"$f":"IF(ISERROR(VLOOKUP($A7,'16eme'!$B:$M,12,FALSE)),IF(ISERROR(VLOOKUP($A7,'16eme'!$F:$M,8,FALSE)),\"\",IF(VLOOKUP($A7,'16eme'!$F:$M,8,FALSE)=AS$2,\"X\",\"\")),IF(VLOOKUP($A7,'16eme'!$B:$M,12,FALSE)=AS$2,\"X\",\"\"))","v":""},{"$f":"IF(ISERROR(VLOOKUP($A7,'16eme'!$B:$M,12,FALSE)),IF(ISERROR(VLOOKUP($A7,'16eme'!$F:$M,8,FALSE)),\"\",IF(VLOOKUP($A7,'16eme'!$F:$M,8,FALSE)=AT$2,\"X\",\"\")),IF(VLOOKUP($A7,'16eme'!$B:$M,12,FALSE)=AT$2,\"X\",\"\"))","v":""},{"$f":"IF(ISERROR(VLOOKUP($A7,'16eme'!$B:$M,12,FALSE)),IF(ISERROR(VLOOKUP($A7,'16eme'!$F:$M,8,FALSE)),\"\",IF(VLOOKUP($A7,'16eme'!$F:$M,8,FALSE)=AU$2,\"X\",\"\")),IF(VLOOKUP($A7,'16eme'!$B:$M,12,FALSE)=AU$2,\"X\",\"\"))","v":""},{"$f":"IF(ISERROR(VLOOKUP($A7,'16eme'!$B:$M,12,FALSE)),IF(ISERROR(VLOOKUP($A7,'16eme'!$F:$M,8,FALSE)),\"\",IF(VLOOKUP($A7,'16eme'!$F:$M,8,FALSE)=AV$2,\"X\",\"\")),IF(VLOOKUP($A7,'16eme'!$B:$M,12,FALSE)=AV$2,\"X\",\"\"))","v":""},{"$f":"IF(ISERROR(VLOOKUP($A7,'16eme'!$B:$M,12,FALSE)),IF(ISERROR(VLOOKUP($A7,'16eme'!$F:$M,8,FALSE)),\"\",IF(VLOOKUP($A7,'16eme'!$F:$M,8,FALSE)=AW$2,\"X\",\"\")),IF(VLOOKUP($A7,'16eme'!$B:$M,12,FALSE)=AW$2,\"X\",\"\"))","v":""},{"$f":"IF(ISERROR(VLOOKUP($A7,'8eme'!$B:$M,12,FALSE)),IF(ISERROR(VLOOKUP($A7,'8eme'!$F:$M,8,FALSE)),\"\",IF(VLOOKUP($A7,'8eme'!$F:$M,8,FALSE)=AX$2,\"X\",\"\")),IF(VLOOKUP($A7,'8eme'!$B:$M,12,FALSE)=AX$2,\"X\",\"\"))","v":""},{"$f":"IF(ISERROR(VLOOKUP($A7,'8eme'!$B:$M,12,FALSE)),IF(ISERROR(VLOOKUP($A7,'8eme'!$F:$M,8,FALSE)),\"\",IF(VLOOKUP($A7,'8eme'!$F:$M,8,FALSE)=AY$2,\"X\",\"\")),IF(VLOOKUP($A7,'8eme'!$B:$M,12,FALSE)=AY$2,\"X\",\"\"))","v":""},{"$f":"IF(ISERROR(VLOOKUP($A7,'8eme'!$B:$M,12,FALSE)),IF(ISERROR(VLOOKUP($A7,'8eme'!$F:$M,8,FALSE)),\"\",IF(VLOOKUP($A7,'8eme'!$F:$M,8,FALSE)=AZ$2,\"X\",\"\")),IF(VLOOKUP($A7,'8eme'!$B:$M,12,FALSE)=AZ$2,\"X\",\"\"))","v":""},{"$f":"IF(ISERROR(VLOOKUP($A7,'8eme'!$B:$M,12,FALSE)),IF(ISERROR(VLOOKUP($A7,'8eme'!$F:$M,8,FALSE)),\"\",IF(VLOOKUP($A7,'8eme'!$F:$M,8,FALSE)=BA$2,\"X\",\"\")),IF(VLOOKUP($A7,'8eme'!$B:$M,12,FALSE)=BA$2,\"X\",\"\"))","v":""},{"$f":"IF(ISERROR(VLOOKUP($A7,'8eme'!$B:$M,12,FALSE)),IF(ISERROR(VLOOKUP($A7,'8eme'!$F:$M,8,FALSE)),\"\",IF(VLOOKUP($A7,'8eme'!$F:$M,8,FALSE)=BB$2,\"X\",\"\")),IF(VLOOKUP($A7,'8eme'!$B:$M,12,FALSE)=BB$2,\"X\",\"\"))","v":""},{"$f":"IF(ISERROR(VLOOKUP($A7,'8eme'!$B:$M,12,FALSE)),IF(ISERROR(VLOOKUP($A7,'8eme'!$F:$M,8,FALSE)),\"\",IF(VLOOKUP($A7,'8eme'!$F:$M,8,FALSE)=BC$2,\"X\",\"\")),IF(VLOOKUP($A7,'8eme'!$B:$M,12,FALSE)=BC$2,\"X\",\"\"))","v":""},{"$f":"IF(ISERROR(VLOOKUP($A7,'8eme'!$B:$M,12,FALSE)),IF(ISERROR(VLOOKUP($A7,'8eme'!$F:$M,8,FALSE)),\"\",IF(VLOOKUP($A7,'8eme'!$F:$M,8,FALSE)=BD$2,\"X\",\"\")),IF(VLOOKUP($A7,'8eme'!$B:$M,12,FALSE)=BD$2,\"X\",\"\"))","v":""},{"$f":"IF(ISERROR(VLOOKUP($A7,'8eme'!$B:$M,12,FALSE)),IF(ISERROR(VLOOKUP($A7,'8eme'!$F:$M,8,FALSE)),\"\",IF(VLOOKUP($A7,'8eme'!$F:$M,8,FALSE)=BE$2,\"X\",\"\")),IF(VLOOKUP($A7,'8eme'!$B:$M,12,FALSE)=BE$2,\"X\",\"\"))","v":""},{"$f":"IF(ISERROR(VLOOKUP($A7,'8eme'!$B:$M,12,FALSE)),IF(ISERROR(VLOOKUP($A7,'8eme'!$F:$M,8,FALSE)),\"\",IF(VLOOKUP($A7,'8eme'!$F:$M,8,FALSE)=BF$2,\"X\",\"\")),IF(VLOOKUP($A7,'8eme'!$B:$M,12,FALSE)=BF$2,\"X\",\"\"))","v":""},{"$f":"IF(ISERROR(VLOOKUP($A7,'8eme'!$B:$M,12,FALSE)),IF(ISERROR(VLOOKUP($A7,'8eme'!$F:$M,8,FALSE)),\"\",IF(VLOOKUP($A7,'8eme'!$F:$M,8,FALSE)=BG$2,\"X\",\"\")),IF(VLOOKUP($A7,'8eme'!$B:$M,12,FALSE)=BG$2,\"X\",\"\"))","v":""},{"$f":"IF(ISERROR(VLOOKUP($A7,'8eme'!$B:$M,12,FALSE)),IF(ISERROR(VLOOKUP($A7,'8eme'!$F:$M,8,FALSE)),\"\",IF(VLOOKUP($A7,'8eme'!$F:$M,8,FALSE)=BH$2,\"X\",\"\")),IF(VLOOKUP($A7,'8eme'!$B:$M,12,FALSE)=BH$2,\"X\",\"\"))","v":""},{"$f":"IF(ISERROR(VLOOKUP($A7,'8eme'!$B:$M,12,FALSE)),IF(ISERROR(VLOOKUP($A7,'8eme'!$F:$M,8,FALSE)),\"\",IF(VLOOKUP($A7,'8eme'!$F:$M,8,FALSE)=BI$2,\"X\",\"\")),IF(VLOOKUP($A7,'8eme'!$B:$M,12,FALSE)=BI$2,\"X\",\"\"))","v":""},{"$f":"IF(ISERROR(VLOOKUP($A7,'8eme'!$B:$M,12,FALSE)),IF(ISERROR(VLOOKUP($A7,'8eme'!$F:$M,8,FALSE)),\"\",IF(VLOOKUP($A7,'8eme'!$F:$M,8,FALSE)=BJ$2,\"X\",\"\")),IF(VLOOKUP($A7,'8eme'!$B:$M,12,FALSE)=BJ$2,\"X\",\"\"))","v":""},{"$f":"IF(ISERROR(VLOOKUP($A7,'8eme'!$B:$M,12,FALSE)),IF(ISERROR(VLOOKUP($A7,'8eme'!$F:$M,8,FALSE)),\"\",IF(VLOOKUP($A7,'8eme'!$F:$M,8,FALSE)=BK$2,\"X\",\"\")),IF(VLOOKUP($A7,'8eme'!$B:$M,12,FALSE)=BK$2,\"X\",\"\"))","v":""},{"$f":"IF(ISERROR(VLOOKUP($A7,'8eme'!$B:$M,12,FALSE)),IF(ISERROR(VLOOKUP($A7,'8eme'!$F:$M,8,FALSE)),\"\",IF(VLOOKUP($A7,'8eme'!$F:$M,8,FALSE)=BL$2,\"X\",\"\")),IF(VLOOKUP($A7,'8eme'!$B:$M,12,FALSE)=BL$2,\"X\",\"\"))","v":""},{"$f":"IF(ISERROR(VLOOKUP($A7,'8eme'!$B:$M,12,FALSE)),IF(ISERROR(VLOOKUP($A7,'8eme'!$F:$M,8,FALSE)),\"\",IF(VLOOKUP($A7,'8eme'!$F:$M,8,FALSE)=BM$2,\"X\",\"\")),IF(VLOOKUP($A7,'8eme'!$B:$M,12,FALSE)=BM$2,\"X\",\"\"))","v":""},{"$f":"IF(ISERROR(VLOOKUP($A7,quart!$B:$M,12,FALSE)),IF(ISERROR(VLOOKUP($A7,quart!$F:$M,8,FALSE)),\"\",IF(VLOOKUP($A7,quart!$F:$M,8,FALSE)=BN$2,\"X\",\"\")),IF(VLOOKUP($A7,quart!$B:$M,12,FALSE)=BN$2,\"X\",\"\"))","v":""},{"$f":"IF(ISERROR(VLOOKUP($A7,quart!$B:$M,12,FALSE)),IF(ISERROR(VLOOKUP($A7,quart!$F:$M,8,FALSE)),\"\",IF(VLOOKUP($A7,quart!$F:$M,8,FALSE)=BO$2,\"X\",\"\")),IF(VLOOKUP($A7,quart!$B:$M,12,FALSE)=BO$2,\"X\",\"\"))","v":""},{"$f":"IF(ISERROR(VLOOKUP($A7,quart!$B:$M,12,FALSE)),IF(ISERROR(VLOOKUP($A7,quart!$F:$M,8,FALSE)),\"\",IF(VLOOKUP($A7,quart!$F:$M,8,FALSE)=BP$2,\"X\",\"\")),IF(VLOOKUP($A7,quart!$B:$M,12,FALSE)=BP$2,\"X\",\"\"))","v":""},{"$f":"IF(ISERROR(VLOOKUP($A7,quart!$B:$M,12,FALSE)),IF(ISERROR(VLOOKUP($A7,quart!$F:$M,8,FALSE)),\"\",IF(VLOOKUP($A7,quart!$F:$M,8,FALSE)=BQ$2,\"X\",\"\")),IF(VLOOKUP($A7,quart!$B:$M,12,FALSE)=BQ$2,\"X\",\"\"))","v":""},{"$f":"IF(ISERROR(VLOOKUP($A7,quart!$B:$M,12,FALSE)),IF(ISERROR(VLOOKUP($A7,quart!$F:$M,8,FALSE)),\"\",IF(VLOOKUP($A7,quart!$F:$M,8,FALSE)=BR$2,\"X\",\"\")),IF(VLOOKUP($A7,quart!$B:$M,12,FALSE)=BR$2,\"X\",\"\"))","v":""},{"$f":"IF(ISERROR(VLOOKUP($A7,quart!$B:$M,12,FALSE)),IF(ISERROR(VLOOKUP($A7,quart!$F:$M,8,FALSE)),\"\",IF(VLOOKUP($A7,quart!$F:$M,8,FALSE)=BS$2,\"X\",\"\")),IF(VLOOKUP($A7,quart!$B:$M,12,FALSE)=BS$2,\"X\",\"\"))","v":""},{"$f":"IF(ISERROR(VLOOKUP($A7,quart!$B:$M,12,FALSE)),IF(ISERROR(VLOOKUP($A7,quart!$F:$M,8,FALSE)),\"\",IF(VLOOKUP($A7,quart!$F:$M,8,FALSE)=BT$2,\"X\",\"\")),IF(VLOOKUP($A7,quart!$B:$M,12,FALSE)=BT$2,\"X\",\"\"))","v":""},{"$f":"IF(ISERROR(VLOOKUP($A7,quart!$B:$M,12,FALSE)),IF(ISERROR(VLOOKUP($A7,quart!$F:$M,8,FALSE)),\"\",IF(VLOOKUP($A7,quart!$F:$M,8,FALSE)=BU$2,\"X\",\"\")),IF(VLOOKUP($A7,quart!$B:$M,12,FALSE)=BU$2,\"X\",\"\"))","v":""},{"$f":"IF(ISERROR(VLOOKUP($A7,quart!$B:$M,12,FALSE)),IF(ISERROR(VLOOKUP($A7,quart!$F:$M,8,FALSE)),\"\",IF(VLOOKUP($A7,quart!$F:$M,8,FALSE)=BV$2,\"X\",\"\")),IF(VLOOKUP($A7,quart!$B:$M,12,FALSE)=BV$2,\"X\",\"\"))","v":""},{"$f":"IF(ISERROR(VLOOKUP($A7,quart!$B:$M,12,FALSE)),IF(ISERROR(VLOOKUP($A7,quart!$F:$M,8,FALSE)),\"\",IF(VLOOKUP($A7,quart!$F:$M,8,FALSE)=BW$2,\"X\",\"\")),IF(VLOOKUP($A7,quart!$B:$M,12,FALSE)=BW$2,\"X\",\"\"))","v":""},{"$f":"IF(ISERROR(VLOOKUP($A7,quart!$B:$M,12,FALSE)),IF(ISERROR(VLOOKUP($A7,quart!$F:$M,8,FALSE)),\"\",IF(VLOOKUP($A7,quart!$F:$M,8,FALSE)=BX$2,\"X\",\"\")),IF(VLOOKUP($A7,quart!$B:$M,12,FALSE)=BX$2,\"X\",\"\"))","v":""},{"$f":"IF(ISERROR(VLOOKUP($A7,quart!$B:$M,12,FALSE)),IF(ISERROR(VLOOKUP($A7,quart!$F:$M,8,FALSE)),\"\",IF(VLOOKUP($A7,quart!$F:$M,8,FALSE)=BY$2,\"X\",\"\")),IF(VLOOKUP($A7,quart!$B:$M,12,FALSE)=BY$2,\"X\",\"\"))","v":""},{"$f":"IF(ISERROR(VLOOKUP($A7,quart!$B:$M,12,FALSE)),IF(ISERROR(VLOOKUP($A7,quart!$F:$M,8,FALSE)),\"\",IF(VLOOKUP($A7,quart!$F:$M,8,FALSE)=BZ$2,\"X\",\"\")),IF(VLOOKUP($A7,quart!$B:$M,12,FALSE)=BZ$2,\"X\",\"\"))","v":""},{"$f":"IF(ISERROR(VLOOKUP($A7,quart!$B:$M,12,FALSE)),IF(ISERROR(VLOOKUP($A7,quart!$F:$M,8,FALSE)),\"\",IF(VLOOKUP($A7,quart!$F:$M,8,FALSE)=CA$2,\"X\",\"\")),IF(VLOOKUP($A7,quart!$B:$M,12,FALSE)=CA$2,\"X\",\"\"))","v":""},{"$f":"IF(ISERROR(VLOOKUP($A7,quart!$B:$M,12,FALSE)),IF(ISERROR(VLOOKUP($A7,quart!$F:$M,8,FALSE)),\"\",IF(VLOOKUP($A7,quart!$F:$M,8,FALSE)=CB$2,\"X\",\"\")),IF(VLOOKUP($A7,quart!$B:$M,12,FALSE)=CB$2,\"X\",\"\"))","v":""},{"$f":"IF(ISERROR(VLOOKUP($A7,quart!$B:$M,12,FALSE)),IF(ISERROR(VLOOKUP($A7,quart!$F:$M,8,FALSE)),\"\",IF(VLOOKUP($A7,quart!$F:$M,8,FALSE)=CC$2,\"X\",\"\")),IF(VLOOKUP($A7,quart!$B:$M,12,FALSE)=CC$2,\"X\",\"\"))","v":""},{"$f":"IF(ISERROR(VLOOKUP($A7,demi!$B:$M,12,FALSE)),IF(ISERROR(VLOOKUP($A7,demi!$F:$M,8,FALSE)),\"\",IF(VLOOKUP($A7,demi!$F:$M,8,FALSE)=CD$2,\"X\",\"\")),IF(VLOOKUP($A7,demi!$B:$M,12,FALSE)=CD$2,\"X\",\"\"))","v":""},{"$f":"IF(ISERROR(VLOOKUP($A7,demi!$B:$M,12,FALSE)),IF(ISERROR(VLOOKUP($A7,demi!$F:$M,8,FALSE)),\"\",IF(VLOOKUP($A7,demi!$F:$M,8,FALSE)=CE$2,\"X\",\"\")),IF(VLOOKUP($A7,demi!$B:$M,12,FALSE)=CE$2,\"X\",\"\"))","v":""},{"$f":"IF(ISERROR(VLOOKUP($A7,demi!$B:$M,12,FALSE)),IF(ISERROR(VLOOKUP($A7,demi!$F:$M,8,FALSE)),\"\",IF(VLOOKUP($A7,demi!$F:$M,8,FALSE)=CF$2,\"X\",\"\")),IF(VLOOKUP($A7,demi!$B:$M,12,FALSE)=CF$2,\"X\",\"\"))","v":""},{"$f":"IF(ISERROR(VLOOKUP($A7,demi!$B:$M,12,FALSE)),IF(ISERROR(VLOOKUP($A7,demi!$F:$M,8,FALSE)),\"\",IF(VLOOKUP($A7,demi!$F:$M,8,FALSE)=CG$2,\"X\",\"\")),IF(VLOOKUP($A7,demi!$B:$M,12,FALSE)=CG$2,\"X\",\"\"))","v":""},{"$f":"IF(ISERROR(VLOOKUP($A7,demi!$B:$M,12,FALSE)),IF(ISERROR(VLOOKUP($A7,demi!$F:$M,8,FALSE)),\"\",IF(VLOOKUP($A7,demi!$F:$M,8,FALSE)=CH$2,\"X\",\"\")),IF(VLOOKUP($A7,demi!$B:$M,12,FALSE)=CH$2,\"X\",\"\"))","v":""},{"$f":"IF(ISERROR(VLOOKUP($A7,demi!$B:$M,12,FALSE)),IF(ISERROR(VLOOKUP($A7,demi!$F:$M,8,FALSE)),\"\",IF(VLOOKUP($A7,demi!$F:$M,8,FALSE)=CI$2,\"X\",\"\")),IF(VLOOKUP($A7,demi!$B:$M,12,FALSE)=CI$2,\"X\",\"\"))","v":""},{"$f":"IF(ISERROR(VLOOKUP($A7,demi!$B:$M,12,FALSE)),IF(ISERROR(VLOOKUP($A7,demi!$F:$M,8,FALSE)),\"\",IF(VLOOKUP($A7,demi!$F:$M,8,FALSE)=CJ$2,\"X\",\"\")),IF(VLOOKUP($A7,demi!$B:$M,12,FALSE)=CJ$2,\"X\",\"\"))","v":""},{"$f":"IF(ISERROR(VLOOKUP($A7,demi!$B:$M,12,FALSE)),IF(ISERROR(VLOOKUP($A7,demi!$F:$M,8,FALSE)),\"\",IF(VLOOKUP($A7,demi!$F:$M,8,FALSE)=CK$2,\"X\",\"\")),IF(VLOOKUP($A7,demi!$B:$M,12,FALSE)=CK$2,\"X\",\"\"))","v":""},{"$f":"IF(ISERROR(VLOOKUP($A7,demi!$B:$M,12,FALSE)),IF(ISERROR(VLOOKUP($A7,demi!$F:$M,8,FALSE)),\"\",IF(VLOOKUP($A7,demi!$F:$M,8,FALSE)=CL$2,\"X\",\"\")),IF(VLOOKUP($A7,demi!$B:$M,12,FALSE)=CL$2,\"X\",\"\"))","v":""},{"$f":"IF(ISERROR(VLOOKUP($A7,demi!$B:$M,12,FALSE)),IF(ISERROR(VLOOKUP($A7,demi!$F:$M,8,FALSE)),\"\",IF(VLOOKUP($A7,demi!$F:$M,8,FALSE)=CM$2,\"X\",\"\")),IF(VLOOKUP($A7,demi!$B:$M,12,FALSE)=CM$2,\"X\",\"\"))","v":""},{"$f":"IF(ISERROR(VLOOKUP($A7,demi!$B:$M,12,FALSE)),IF(ISERROR(VLOOKUP($A7,demi!$F:$M,8,FALSE)),\"\",IF(VLOOKUP($A7,demi!$F:$M,8,FALSE)=CN$2,\"X\",\"\")),IF(VLOOKUP($A7,demi!$B:$M,12,FALSE)=CN$2,\"X\",\"\"))","v":""},{"$f":"IF(ISERROR(VLOOKUP($A7,demi!$B:$M,12,FALSE)),IF(ISERROR(VLOOKUP($A7,demi!$F:$M,8,FALSE)),\"\",IF(VLOOKUP($A7,demi!$F:$M,8,FALSE)=CO$2,\"X\",\"\")),IF(VLOOKUP($A7,demi!$B:$M,12,FALSE)=CO$2,\"X\",\"\"))","v":""},{"$f":"IF(ISERROR(VLOOKUP($A7,demi!$B:$M,12,FALSE)),IF(ISERROR(VLOOKUP($A7,demi!$F:$M,8,FALSE)),\"\",IF(VLOOKUP($A7,demi!$F:$M,8,FALSE)=CP$2,\"X\",\"\")),IF(VLOOKUP($A7,demi!$B:$M,12,FALSE)=CP$2,\"X\",\"\"))","v":""},{"$f":"IF(ISERROR(VLOOKUP($A7,demi!$B:$M,12,FALSE)),IF(ISERROR(VLOOKUP($A7,demi!$F:$M,8,FALSE)),\"\",IF(VLOOKUP($A7,demi!$F:$M,8,FALSE)=CQ$2,\"X\",\"\")),IF(VLOOKUP($A7,demi!$B:$M,12,FALSE)=CQ$2,\"X\",\"\"))","v":""},{"$f":"IF(ISERROR(VLOOKUP($A7,demi!$B:$M,12,FALSE)),IF(ISERROR(VLOOKUP($A7,demi!$F:$M,8,FALSE)),\"\",IF(VLOOKUP($A7,demi!$F:$M,8,FALSE)=CR$2,\"X\",\"\")),IF(VLOOKUP($A7,demi!$B:$M,12,FALSE)=CR$2,\"X\",\"\"))","v":""},{"$f":"IF(ISERROR(VLOOKUP($A7,demi!$B:$M,12,FALSE)),IF(ISERROR(VLOOKUP($A7,demi!$F:$M,8,FALSE)),\"\",IF(VLOOKUP($A7,demi!$F:$M,8,FALSE)=CS$2,\"X\",\"\")),IF(VLOOKUP($A7,demi!$B:$M,12,FALSE)=CS$2,\"X\",\"\"))","v":""}]
[6,"X","X","X","X","X","X","X","X","X","X","X","X","X","X","X","X",{"$f":"IF(ISERROR(VLOOKUP($A8,'32eme'!$B:$M,12,FALSE)),IF(ISERROR(VLOOKUP($A8,'32eme'!$F:$M,8,FALSE)),\"\",IF(VLOOKUP($A8,'32eme'!$F:$M,8,FALSE)=R$2,\"X\",\"\")),IF(VLOOKUP($A8,'32eme'!$B:$M,12,FALSE)=R$2,\"X\",\"\"))","v":""},{"$f":"IF(ISERROR(VLOOKUP($A8,'32eme'!$B:$M,12,FALSE)),IF(ISERROR(VLOOKUP($A8,'32eme'!$F:$M,8,FALSE)),\"\",IF(VLOOKUP($A8,'32eme'!$F:$M,8,FALSE)=S$2,\"X\",\"\")),IF(VLOOKUP($A8,'32eme'!$B:$M,12,FALSE)=S$2,\"X\",\"\"))","v":""},{"$f":"IF(ISERROR(VLOOKUP($A8,'32eme'!$B:$M,12,FALSE)),IF(ISERROR(VLOOKUP($A8,'32eme'!$F:$M,8,FALSE)),\"\",IF(VLOOKUP($A8,'32eme'!$F:$M,8,FALSE)=T$2,\"X\",\"\")),IF(VLOOKUP($A8,'32eme'!$B:$M,12,FALSE)=T$2,\"X\",\"\"))","v":""},{"$f":"IF(ISERROR(VLOOKUP($A8,'32eme'!$B:$M,12,FALSE)),IF(ISERROR(VLOOKUP($A8,'32eme'!$F:$M,8,FALSE)),\"\",IF(VLOOKUP($A8,'32eme'!$F:$M,8,FALSE)=U$2,\"X\",\"\")),IF(VLOOKUP($A8,'32eme'!$B:$M,12,FALSE)=U$2,\"X\",\"\"))","v":""},{"$f":"IF(ISERROR(VLOOKUP($A8,'32eme'!$B:$M,12,FALSE)),IF(ISERROR(VLOOKUP($A8,'32eme'!$F:$M,8,FALSE)),\"\",IF(VLOOKUP($A8,'32eme'!$F:$M,8,FALSE)=V$2,\"X\",\"\")),IF(VLOOKUP($A8,'32eme'!$B:$M,12,FALSE)=V$2,\"X\",\"\"))","v":""},{"$f":"IF(ISERROR(VLOOKUP($A8,'32eme'!$B:$M,12,FALSE)),IF(ISERROR(VLOOKUP($A8,'32eme'!$F:$M,8,FALSE)),\"\",IF(VLOOKUP($A8,'32eme'!$F:$M,8,FALSE)=W$2,\"X\",\"\")),IF(VLOOKUP($A8,'32eme'!$B:$M,12,FALSE)=W$2,\"X\",\"\"))","v":""},{"$f":"IF(ISERROR(VLOOKUP($A8,'32eme'!$B:$M,12,FALSE)),IF(ISERROR(VLOOKUP($A8,'32eme'!$F:$M,8,FALSE)),\"\",IF(VLOOKUP($A8,'32eme'!$F:$M,8,FALSE)=X$2,\"X\",\"\")),IF(VLOOKUP($A8,'32eme'!$B:$M,12,FALSE)=X$2,\"X\",\"\"))","v":""},{"$f":"IF(ISERROR(VLOOKUP($A8,'32eme'!$B:$M,12,FALSE)),IF(ISERROR(VLOOKUP($A8,'32eme'!$F:$M,8,FALSE)),\"\",IF(VLOOKUP($A8,'32eme'!$F:$M,8,FALSE)=Y$2,\"X\",\"\")),IF(VLOOKUP($A8,'32eme'!$B:$M,12,FALSE)=Y$2,\"X\",\"\"))","v":""},{"$f":"IF(ISERROR(VLOOKUP($A8,'32eme'!$B:$M,12,FALSE)),IF(ISERROR(VLOOKUP($A8,'32eme'!$F:$M,8,FALSE)),\"\",IF(VLOOKUP($A8,'32eme'!$F:$M,8,FALSE)=Z$2,\"X\",\"\")),IF(VLOOKUP($A8,'32eme'!$B:$M,12,FALSE)=Z$2,\"X\",\"\"))","v":""},{"$f":"IF(ISERROR(VLOOKUP($A8,'32eme'!$B:$M,12,FALSE)),IF(ISERROR(VLOOKUP($A8,'32eme'!$F:$M,8,FALSE)),\"\",IF(VLOOKUP($A8,'32eme'!$F:$M,8,FALSE)=AA$2,\"X\",\"\")),IF(VLOOKUP($A8,'32eme'!$B:$M,12,FALSE)=AA$2,\"X\",\"\"))","v":""},{"$f":"IF(ISERROR(VLOOKUP($A8,'32eme'!$B:$M,12,FALSE)),IF(ISERROR(VLOOKUP($A8,'32eme'!$F:$M,8,FALSE)),\"\",IF(VLOOKUP($A8,'32eme'!$F:$M,8,FALSE)=AB$2,\"X\",\"\")),IF(VLOOKUP($A8,'32eme'!$B:$M,12,FALSE)=AB$2,\"X\",\"\"))","v":""},{"$f":"IF(ISERROR(VLOOKUP($A8,'32eme'!$B:$M,12,FALSE)),IF(ISERROR(VLOOKUP($A8,'32eme'!$F:$M,8,FALSE)),\"\",IF(VLOOKUP($A8,'32eme'!$F:$M,8,FALSE)=AC$2,\"X\",\"\")),IF(VLOOKUP($A8,'32eme'!$B:$M,12,FALSE)=AC$2,\"X\",\"\"))","v":""},{"$f":"IF(ISERROR(VLOOKUP($A8,'32eme'!$B:$M,12,FALSE)),IF(ISERROR(VLOOKUP($A8,'32eme'!$F:$M,8,FALSE)),\"\",IF(VLOOKUP($A8,'32eme'!$F:$M,8,FALSE)=AD$2,\"X\",\"\")),IF(VLOOKUP($A8,'32eme'!$B:$M,12,FALSE)=AD$2,\"X\",\"\"))","v":""},{"$f":"IF(ISERROR(VLOOKUP($A8,'32eme'!$B:$M,12,FALSE)),IF(ISERROR(VLOOKUP($A8,'32eme'!$F:$M,8,FALSE)),\"\",IF(VLOOKUP($A8,'32eme'!$F:$M,8,FALSE)=AE$2,\"X\",\"\")),IF(VLOOKUP($A8,'32eme'!$B:$M,12,FALSE)=AE$2,\"X\",\"\"))","v":""},{"$f":"IF(ISERROR(VLOOKUP($A8,'32eme'!$B:$M,12,FALSE)),IF(ISERROR(VLOOKUP($A8,'32eme'!$F:$M,8,FALSE)),\"\",IF(VLOOKUP($A8,'32eme'!$F:$M,8,FALSE)=AF$2,\"X\",\"\")),IF(VLOOKUP($A8,'32eme'!$B:$M,12,FALSE)=AF$2,\"X\",\"\"))","v":""},{"$f":"IF(ISERROR(VLOOKUP($A8,'32eme'!$B:$M,12,FALSE)),IF(ISERROR(VLOOKUP($A8,'32eme'!$F:$M,8,FALSE)),\"\",IF(VLOOKUP($A8,'32eme'!$F:$M,8,FALSE)=AG$2,\"X\",\"\")),IF(VLOOKUP($A8,'32eme'!$B:$M,12,FALSE)=AG$2,\"X\",\"\"))","v":""},{"$f":"IF(ISERROR(VLOOKUP($A8,'16eme'!$B:$M,12,FALSE)),IF(ISERROR(VLOOKUP($A8,'16eme'!$F:$M,8,FALSE)),\"\",IF(VLOOKUP($A8,'16eme'!$F:$M,8,FALSE)=AH$2,\"X\",\"\")),IF(VLOOKUP($A8,'16eme'!$B:$M,12,FALSE)=AH$2,\"X\",\"\"))","v":""},{"$f":"IF(ISERROR(VLOOKUP($A8,'16eme'!$B:$M,12,FALSE)),IF(ISERROR(VLOOKUP($A8,'16eme'!$F:$M,8,FALSE)),\"\",IF(VLOOKUP($A8,'16eme'!$F:$M,8,FALSE)=AI$2,\"X\",\"\")),IF(VLOOKUP($A8,'16eme'!$B:$M,12,FALSE)=AI$2,\"X\",\"\"))","v":""},{"$f":"IF(ISERROR(VLOOKUP($A8,'16eme'!$B:$M,12,FALSE)),IF(ISERROR(VLOOKUP($A8,'16eme'!$F:$M,8,FALSE)),\"\",IF(VLOOKUP($A8,'16eme'!$F:$M,8,FALSE)=AJ$2,\"X\",\"\")),IF(VLOOKUP($A8,'16eme'!$B:$M,12,FALSE)=AJ$2,\"X\",\"\"))","v":""},{"$f":"IF(ISERROR(VLOOKUP($A8,'16eme'!$B:$M,12,FALSE)),IF(ISERROR(VLOOKUP($A8,'16eme'!$F:$M,8,FALSE)),\"\",IF(VLOOKUP($A8,'16eme'!$F:$M,8,FALSE)=AK$2,\"X\",\"\")),IF(VLOOKUP($A8,'16eme'!$B:$M,12,FALSE)=AK$2,\"X\",\"\"))","v":""},{"$f":"IF(ISERROR(VLOOKUP($A8,'16eme'!$B:$M,12,FALSE)),IF(ISERROR(VLOOKUP($A8,'16eme'!$F:$M,8,FALSE)),\"\",IF(VLOOKUP($A8,'16eme'!$F:$M,8,FALSE)=AL$2,\"X\",\"\")),IF(VLOOKUP($A8,'16eme'!$B:$M,12,FALSE)=AL$2,\"X\",\"\"))","v":""},{"$f":"IF(ISERROR(VLOOKUP($A8,'16eme'!$B:$M,12,FALSE)),IF(ISERROR(VLOOKUP($A8,'16eme'!$F:$M,8,FALSE)),\"\",IF(VLOOKUP($A8,'16eme'!$F:$M,8,FALSE)=AM$2,\"X\",\"\")),IF(VLOOKUP($A8,'16eme'!$B:$M,12,FALSE)=AM$2,\"X\",\"\"))","v":""},{"$f":"IF(ISERROR(VLOOKUP($A8,'16eme'!$B:$M,12,FALSE)),IF(ISERROR(VLOOKUP($A8,'16eme'!$F:$M,8,FALSE)),\"\",IF(VLOOKUP($A8,'16eme'!$F:$M,8,FALSE)=AN$2,\"X\",\"\")),IF(VLOOKUP($A8,'16eme'!$B:$M,12,FALSE)=AN$2,\"X\",\"\"))","v":""},{"$f":"IF(ISERROR(VLOOKUP($A8,'16eme'!$B:$M,12,FALSE)),IF(ISERROR(VLOOKUP($A8,'16eme'!$F:$M,8,FALSE)),\"\",IF(VLOOKUP($A8,'16eme'!$F:$M,8,FALSE)=AO$2,\"X\",\"\")),IF(VLOOKUP($A8,'16eme'!$B:$M,12,FALSE)=AO$2,\"X\",\"\"))","v":""},{"$f":"IF(ISERROR(VLOOKUP($A8,'16eme'!$B:$M,12,FALSE)),IF(ISERROR(VLOOKUP($A8,'16eme'!$F:$M,8,FALSE)),\"\",IF(VLOOKUP($A8,'16eme'!$F:$M,8,FALSE)=AP$2,\"X\",\"\")),IF(VLOOKUP($A8,'16eme'!$B:$M,12,FALSE)=AP$2,\"X\",\"\"))","v":""},{"$f":"IF(ISERROR(VLOOKUP($A8,'16eme'!$B:$M,12,FALSE)),IF(ISERROR(VLOOKUP($A8,'16eme'!$F:$M,8,FALSE)),\"\",IF(VLOOKUP($A8,'16eme'!$F:$M,8,FALSE)=AQ$2,\"X\",\"\")),IF(VLOOKUP($A8,'16eme'!$B:$M,12,FALSE)=AQ$2,\"X\",\"\"))","v":""},{"$f":"IF(ISERROR(VLOOKUP($A8,'16eme'!$B:$M,12,FALSE)),IF(ISERROR(VLOOKUP($A8,'16eme'!$F:$M,8,FALSE)),\"\",IF(VLOOKUP($A8,'16eme'!$F:$M,8,FALSE)=AR$2,\"X\",\"\")),IF(VLOOKUP($A8,'16eme'!$B:$M,12,FALSE)=AR$2,\"X\",\"\"))","v":""},{"$f":"IF(ISERROR(VLOOKUP($A8,'16eme'!$B:$M,12,FALSE)),IF(ISERROR(VLOOKUP($A8,'16eme'!$F:$M,8,FALSE)),\"\",IF(VLOOKUP($A8,'16eme'!$F:$M,8,FALSE)=AS$2,\"X\",\"\")),IF(VLOOKUP($A8,'16eme'!$B:$M,12,FALSE)=AS$2,\"X\",\"\"))","v":""},{"$f":"IF(ISERROR(VLOOKUP($A8,'16eme'!$B:$M,12,FALSE)),IF(ISERROR(VLOOKUP($A8,'16eme'!$F:$M,8,FALSE)),\"\",IF(VLOOKUP($A8,'16eme'!$F:$M,8,FALSE)=AT$2,\"X\",\"\")),IF(VLOOKUP($A8,'16eme'!$B:$M,12,FALSE)=AT$2,\"X\",\"\"))","v":""},{"$f":"IF(ISERROR(VLOOKUP($A8,'16eme'!$B:$M,12,FALSE)),IF(ISERROR(VLOOKUP($A8,'16eme'!$F:$M,8,FALSE)),\"\",IF(VLOOKUP($A8,'16eme'!$F:$M,8,FALSE)=AU$2,\"X\",\"\")),IF(VLOOKUP($A8,'16eme'!$B:$M,12,FALSE)=AU$2,\"X\",\"\"))","v":""},{"$f":"IF(ISERROR(VLOOKUP($A8,'16eme'!$B:$M,12,FALSE)),IF(ISERROR(VLOOKUP($A8,'16eme'!$F:$M,8,FALSE)),\"\",IF(VLOOKUP($A8,'16eme'!$F:$M,8,FALSE)=AV$2,\"X\",\"\")),IF(VLOOKUP($A8,'16eme'!$B:$M,12,FALSE)=AV$2,\"X\",\"\"))","v":""},{"$f":"IF(ISERROR(VLOOKUP($A8,'16eme'!$B:$M,12,FALSE)),IF(ISERROR(VLOOKUP($A8,'16eme'!$F:$M,8,FALSE)),\"\",IF(VLOOKUP($A8,'16eme'!$F:$M,8,FALSE)=AW$2,\"X\",\"\")),IF(VLOOKUP($A8,'16eme'!$B:$M,12,FALSE)=AW$2,\"X\",\"\"))","v":""},{"$f":"IF(ISERROR(VLOOKUP($A8,'8eme'!$B:$M,12,FALSE)),IF(ISERROR(VLOOKUP($A8,'8eme'!$F:$M,8,FALSE)),\"\",IF(VLOOKUP($A8,'8eme'!$F:$M,8,FALSE)=AX$2,\"X\",\"\")),IF(VLOOKUP($A8,'8eme'!$B:$M,12,FALSE)=AX$2,\"X\",\"\"))","v":""},{"$f":"IF(ISERROR(VLOOKUP($A8,'8eme'!$B:$M,12,FALSE)),IF(ISERROR(VLOOKUP($A8,'8eme'!$F:$M,8,FALSE)),\"\",IF(VLOOKUP($A8,'8eme'!$F:$M,8,FALSE)=AY$2,\"X\",\"\")),IF(VLOOKUP($A8,'8eme'!$B:$M,12,FALSE)=AY$2,\"X\",\"\"))","v":""},{"$f":"IF(ISERROR(VLOOKUP($A8,'8eme'!$B:$M,12,FALSE)),IF(ISERROR(VLOOKUP($A8,'8eme'!$F:$M,8,FALSE)),\"\",IF(VLOOKUP($A8,'8eme'!$F:$M,8,FALSE)=AZ$2,\"X\",\"\")),IF(VLOOKUP($A8,'8eme'!$B:$M,12,FALSE)=AZ$2,\"X\",\"\"))","v":""},{"$f":"IF(ISERROR(VLOOKUP($A8,'8eme'!$B:$M,12,FALSE)),IF(ISERROR(VLOOKUP($A8,'8eme'!$F:$M,8,FALSE)),\"\",IF(VLOOKUP($A8,'8eme'!$F:$M,8,FALSE)=BA$2,\"X\",\"\")),IF(VLOOKUP($A8,'8eme'!$B:$M,12,FALSE)=BA$2,\"X\",\"\"))","v":""},{"$f":"IF(ISERROR(VLOOKUP($A8,'8eme'!$B:$M,12,FALSE)),IF(ISERROR(VLOOKUP($A8,'8eme'!$F:$M,8,FALSE)),\"\",IF(VLOOKUP($A8,'8eme'!$F:$M,8,FALSE)=BB$2,\"X\",\"\")),IF(VLOOKUP($A8,'8eme'!$B:$M,12,FALSE)=BB$2,\"X\",\"\"))","v":""},{"$f":"IF(ISERROR(VLOOKUP($A8,'8eme'!$B:$M,12,FALSE)),IF(ISERROR(VLOOKUP($A8,'8eme'!$F:$M,8,FALSE)),\"\",IF(VLOOKUP($A8,'8eme'!$F:$M,8,FALSE)=BC$2,\"X\",\"\")),IF(VLOOKUP($A8,'8eme'!$B:$M,12,FALSE)=BC$2,\"X\",\"\"))","v":""},{"$f":"IF(ISERROR(VLOOKUP($A8,'8eme'!$B:$M,12,FALSE)),IF(ISERROR(VLOOKUP($A8,'8eme'!$F:$M,8,FALSE)),\"\",IF(VLOOKUP($A8,'8eme'!$F:$M,8,FALSE)=BD$2,\"X\",\"\")),IF(VLOOKUP($A8,'8eme'!$B:$M,12,FALSE)=BD$2,\"X\",\"\"))","v":""},{"$f":"IF(ISERROR(VLOOKUP($A8,'8eme'!$B:$M,12,FALSE)),IF(ISERROR(VLOOKUP($A8,'8eme'!$F:$M,8,FALSE)),\"\",IF(VLOOKUP($A8,'8eme'!$F:$M,8,FALSE)=BE$2,\"X\",\"\")),IF(VLOOKUP($A8,'8eme'!$B:$M,12,FALSE)=BE$2,\"X\",\"\"))","v":""},{"$f":"IF(ISERROR(VLOOKUP($A8,'8eme'!$B:$M,12,FALSE)),IF(ISERROR(VLOOKUP($A8,'8eme'!$F:$M,8,FALSE)),\"\",IF(VLOOKUP($A8,'8eme'!$F:$M,8,FALSE)=BF$2,\"X\",\"\")),IF(VLOOKUP($A8,'8eme'!$B:$M,12,FALSE)=BF$2,\"X\",\"\"))","v":""},{"$f":"IF(ISERROR(VLOOKUP($A8,'8eme'!$B:$M,12,FALSE)),IF(ISERROR(VLOOKUP($A8,'8eme'!$F:$M,8,FALSE)),\"\",IF(VLOOKUP($A8,'8eme'!$F:$M,8,FALSE)=BG$2,\"X\",\"\")),IF(VLOOKUP($A8,'8eme'!$B:$M,12,FALSE)=BG$2,\"X\",\"\"))","v":""},{"$f":"IF(ISERROR(VLOOKUP($A8,'8eme'!$B:$M,12,FALSE)),IF(ISERROR(VLOOKUP($A8,'8eme'!$F:$M,8,FALSE)),\"\",IF(VLOOKUP($A8,'8eme'!$F:$M,8,FALSE)=BH$2,\"X\",\"\")),IF(VLOOKUP($A8,'8eme'!$B:$M,12,FALSE)=BH$2,\"X\",\"\"))","v":""},{"$f":"IF(ISERROR(VLOOKUP($A8,'8eme'!$B:$M,12,FALSE)),IF(ISERROR(VLOOKUP($A8,'8eme'!$F:$M,8,FALSE)),\"\",IF(VLOOKUP($A8,'8eme'!$F:$M,8,FALSE)=BI$2,\"X\",\"\")),IF(VLOOKUP($A8,'8eme'!$B:$M,12,FALSE)=BI$2,\"X\",\"\"))","v":""},{"$f":"IF(ISERROR(VLOOKUP($A8,'8eme'!$B:$M,12,FALSE)),IF(ISERROR(VLOOKUP($A8,'8eme'!$F:$M,8,FALSE)),\"\",IF(VLOOKUP($A8,'8eme'!$F:$M,8,FALSE)=BJ$2,\"X\",\"\")),IF(VLOOKUP($A8,'8eme'!$B:$M,12,FALSE)=BJ$2,\"X\",\"\"))","v":""},{"$f":"IF(ISERROR(VLOOKUP($A8,'8eme'!$B:$M,12,FALSE)),IF(ISERROR(VLOOKUP($A8,'8eme'!$F:$M,8,FALSE)),\"\",IF(VLOOKUP($A8,'8eme'!$F:$M,8,FALSE)=BK$2,\"X\",\"\")),IF(VLOOKUP($A8,'8eme'!$B:$M,12,FALSE)=BK$2,\"X\",\"\"))","v":""},{"$f":"IF(ISERROR(VLOOKUP($A8,'8eme'!$B:$M,12,FALSE)),IF(ISERROR(VLOOKUP($A8,'8eme'!$F:$M,8,FALSE)),\"\",IF(VLOOKUP($A8,'8eme'!$F:$M,8,FALSE)=BL$2,\"X\",\"\")),IF(VLOOKUP($A8,'8eme'!$B:$M,12,FALSE)=BL$2,\"X\",\"\"))","v":""},{"$f":"IF(ISERROR(VLOOKUP($A8,'8eme'!$B:$M,12,FALSE)),IF(ISERROR(VLOOKUP($A8,'8eme'!$F:$M,8,FALSE)),\"\",IF(VLOOKUP($A8,'8eme'!$F:$M,8,FALSE)=BM$2,\"X\",\"\")),IF(VLOOKUP($A8,'8eme'!$B:$M,12,FALSE)=BM$2,\"X\",\"\"))","v":""},{"$f":"IF(ISERROR(VLOOKUP($A8,quart!$B:$M,12,FALSE)),IF(ISERROR(VLOOKUP($A8,quart!$F:$M,8,FALSE)),\"\",IF(VLOOKUP($A8,quart!$F:$M,8,FALSE)=BN$2,\"X\",\"\")),IF(VLOOKUP($A8,quart!$B:$M,12,FALSE)=BN$2,\"X\",\"\"))","v":""},{"$f":"IF(ISERROR(VLOOKUP($A8,quart!$B:$M,12,FALSE)),IF(ISERROR(VLOOKUP($A8,quart!$F:$M,8,FALSE)),\"\",IF(VLOOKUP($A8,quart!$F:$M,8,FALSE)=BO$2,\"X\",\"\")),IF(VLOOKUP($A8,quart!$B:$M,12,FALSE)=BO$2,\"X\",\"\"))","v":""},{"$f":"IF(ISERROR(VLOOKUP($A8,quart!$B:$M,12,FALSE)),IF(ISERROR(VLOOKUP($A8,quart!$F:$M,8,FALSE)),\"\",IF(VLOOKUP($A8,quart!$F:$M,8,FALSE)=BP$2,\"X\",\"\")),IF(VLOOKUP($A8,quart!$B:$M,12,FALSE)=BP$2,\"X\",\"\"))","v":""},{"$f":"IF(ISERROR(VLOOKUP($A8,quart!$B:$M,12,FALSE)),IF(ISERROR(VLOOKUP($A8,quart!$F:$M,8,FALSE)),\"\",IF(VLOOKUP($A8,quart!$F:$M,8,FALSE)=BQ$2,\"X\",\"\")),IF(VLOOKUP($A8,quart!$B:$M,12,FALSE)=BQ$2,\"X\",\"\"))","v":""},{"$f":"IF(ISERROR(VLOOKUP($A8,quart!$B:$M,12,FALSE)),IF(ISERROR(VLOOKUP($A8,quart!$F:$M,8,FALSE)),\"\",IF(VLOOKUP($A8,quart!$F:$M,8,FALSE)=BR$2,\"X\",\"\")),IF(VLOOKUP($A8,quart!$B:$M,12,FALSE)=BR$2,\"X\",\"\"))","v":""},{"$f":"IF(ISERROR(VLOOKUP($A8,quart!$B:$M,12,FALSE)),IF(ISERROR(VLOOKUP($A8,quart!$F:$M,8,FALSE)),\"\",IF(VLOOKUP($A8,quart!$F:$M,8,FALSE)=BS$2,\"X\",\"\")),IF(VLOOKUP($A8,quart!$B:$M,12,FALSE)=BS$2,\"X\",\"\"))","v":""},{"$f":"IF(ISERROR(VLOOKUP($A8,quart!$B:$M,12,FALSE)),IF(ISERROR(VLOOKUP($A8,quart!$F:$M,8,FALSE)),\"\",IF(VLOOKUP($A8,quart!$F:$M,8,FALSE)=BT$2,\"X\",\"\")),IF(VLOOKUP($A8,quart!$B:$M,12,FALSE)=BT$2,\"X\",\"\"))","v":""},{"$f":"IF(ISERROR(VLOOKUP($A8,quart!$B:$M,12,FALSE)),IF(ISERROR(VLOOKUP($A8,quart!$F:$M,8,FALSE)),\"\",IF(VLOOKUP($A8,quart!$F:$M,8,FALSE)=BU$2,\"X\",\"\")),IF(VLOOKUP($A8,quart!$B:$M,12,FALSE)=BU$2,\"X\",\"\"))","v":""},{"$f":"IF(ISERROR(VLOOKUP($A8,quart!$B:$M,12,FALSE)),IF(ISERROR(VLOOKUP($A8,quart!$F:$M,8,FALSE)),\"\",IF(VLOOKUP($A8,quart!$F:$M,8,FALSE)=BV$2,\"X\",\"\")),IF(VLOOKUP($A8,quart!$B:$M,12,FALSE)=BV$2,\"X\",\"\"))","v":""},{"$f":"IF(ISERROR(VLOOKUP($A8,quart!$B:$M,12,FALSE)),IF(ISERROR(VLOOKUP($A8,quart!$F:$M,8,FALSE)),\"\",IF(VLOOKUP($A8,quart!$F:$M,8,FALSE)=BW$2,\"X\",\"\")),IF(VLOOKUP($A8,quart!$B:$M,12,FALSE)=BW$2,\"X\",\"\"))","v":""},{"$f":"IF(ISERROR(VLOOKUP($A8,quart!$B:$M,12,FALSE)),IF(ISERROR(VLOOKUP($A8,quart!$F:$M,8,FALSE)),\"\",IF(VLOOKUP($A8,quart!$F:$M,8,FALSE)=BX$2,\"X\",\"\")),IF(VLOOKUP($A8,quart!$B:$M,12,FALSE)=BX$2,\"X\",\"\"))","v":""},{"$f":"IF(ISERROR(VLOOKUP($A8,quart!$B:$M,12,FALSE)),IF(ISERROR(VLOOKUP($A8,quart!$F:$M,8,FALSE)),\"\",IF(VLOOKUP($A8,quart!$F:$M,8,FALSE)=BY$2,\"X\",\"\")),IF(VLOOKUP($A8,quart!$B:$M,12,FALSE)=BY$2,\"X\",\"\"))","v":""},{"$f":"IF(ISERROR(VLOOKUP($A8,quart!$B:$M,12,FALSE)),IF(ISERROR(VLOOKUP($A8,quart!$F:$M,8,FALSE)),\"\",IF(VLOOKUP($A8,quart!$F:$M,8,FALSE)=BZ$2,\"X\",\"\")),IF(VLOOKUP($A8,quart!$B:$M,12,FALSE)=BZ$2,\"X\",\"\"))","v":""},{"$f":"IF(ISERROR(VLOOKUP($A8,quart!$B:$M,12,FALSE)),IF(ISERROR(VLOOKUP($A8,quart!$F:$M,8,FALSE)),\"\",IF(VLOOKUP($A8,quart!$F:$M,8,FALSE)=CA$2,\"X\",\"\")),IF(VLOOKUP($A8,quart!$B:$M,12,FALSE)=CA$2,\"X\",\"\"))","v":""},{"$f":"IF(ISERROR(VLOOKUP($A8,quart!$B:$M,12,FALSE)),IF(ISERROR(VLOOKUP($A8,quart!$F:$M,8,FALSE)),\"\",IF(VLOOKUP($A8,quart!$F:$M,8,FALSE)=CB$2,\"X\",\"\")),IF(VLOOKUP($A8,quart!$B:$M,12,FALSE)=CB$2,\"X\",\"\"))","v":""},{"$f":"IF(ISERROR(VLOOKUP($A8,quart!$B:$M,12,FALSE)),IF(ISERROR(VLOOKUP($A8,quart!$F:$M,8,FALSE)),\"\",IF(VLOOKUP($A8,quart!$F:$M,8,FALSE)=CC$2,\"X\",\"\")),IF(VLOOKUP($A8,quart!$B:$M,12,FALSE)=CC$2,\"X\",\"\"))","v":""},{"$f":"IF(ISERROR(VLOOKUP($A8,demi!$B:$M,12,FALSE)),IF(ISERROR(VLOOKUP($A8,demi!$F:$M,8,FALSE)),\"\",IF(VLOOKUP($A8,demi!$F:$M,8,FALSE)=CD$2,\"X\",\"\")),IF(VLOOKUP($A8,demi!$B:$M,12,FALSE)=CD$2,\"X\",\"\"))","v":""},{"$f":"IF(ISERROR(VLOOKUP($A8,demi!$B:$M,12,FALSE)),IF(ISERROR(VLOOKUP($A8,demi!$F:$M,8,FALSE)),\"\",IF(VLOOKUP($A8,demi!$F:$M,8,FALSE)=CE$2,\"X\",\"\")),IF(VLOOKUP($A8,demi!$B:$M,12,FALSE)=CE$2,\"X\",\"\"))","v":""},{"$f":"IF(ISERROR(VLOOKUP($A8,demi!$B:$M,12,FALSE)),IF(ISERROR(VLOOKUP($A8,demi!$F:$M,8,FALSE)),\"\",IF(VLOOKUP($A8,demi!$F:$M,8,FALSE)=CF$2,\"X\",\"\")),IF(VLOOKUP($A8,demi!$B:$M,12,FALSE)=CF$2,\"X\",\"\"))","v":""},{"$f":"IF(ISERROR(VLOOKUP($A8,demi!$B:$M,12,FALSE)),IF(ISERROR(VLOOKUP($A8,demi!$F:$M,8,FALSE)),\"\",IF(VLOOKUP($A8,demi!$F:$M,8,FALSE)=CG$2,\"X\",\"\")),IF(VLOOKUP($A8,demi!$B:$M,12,FALSE)=CG$2,\"X\",\"\"))","v":""},{"$f":"IF(ISERROR(VLOOKUP($A8,demi!$B:$M,12,FALSE)),IF(ISERROR(VLOOKUP($A8,demi!$F:$M,8,FALSE)),\"\",IF(VLOOKUP($A8,demi!$F:$M,8,FALSE)=CH$2,\"X\",\"\")),IF(VLOOKUP($A8,demi!$B:$M,12,FALSE)=CH$2,\"X\",\"\"))","v":""},{"$f":"IF(ISERROR(VLOOKUP($A8,demi!$B:$M,12,FALSE)),IF(ISERROR(VLOOKUP($A8,demi!$F:$M,8,FALSE)),\"\",IF(VLOOKUP($A8,demi!$F:$M,8,FALSE)=CI$2,\"X\",\"\")),IF(VLOOKUP($A8,demi!$B:$M,12,FALSE)=CI$2,\"X\",\"\"))","v":""},{"$f":"IF(ISERROR(VLOOKUP($A8,demi!$B:$M,12,FALSE)),IF(ISERROR(VLOOKUP($A8,demi!$F:$M,8,FALSE)),\"\",IF(VLOOKUP($A8,demi!$F:$M,8,FALSE)=CJ$2,\"X\",\"\")),IF(VLOOKUP($A8,demi!$B:$M,12,FALSE)=CJ$2,\"X\",\"\"))","v":""},{"$f":"IF(ISERROR(VLOOKUP($A8,demi!$B:$M,12,FALSE)),IF(ISERROR(VLOOKUP($A8,demi!$F:$M,8,FALSE)),\"\",IF(VLOOKUP($A8,demi!$F:$M,8,FALSE)=CK$2,\"X\",\"\")),IF(VLOOKUP($A8,demi!$B:$M,12,FALSE)=CK$2,\"X\",\"\"))","v":""},{"$f":"IF(ISERROR(VLOOKUP($A8,demi!$B:$M,12,FALSE)),IF(ISERROR(VLOOKUP($A8,demi!$F:$M,8,FALSE)),\"\",IF(VLOOKUP($A8,demi!$F:$M,8,FALSE)=CL$2,\"X\",\"\")),IF(VLOOKUP($A8,demi!$B:$M,12,FALSE)=CL$2,\"X\",\"\"))","v":""},{"$f":"IF(ISERROR(VLOOKUP($A8,demi!$B:$M,12,FALSE)),IF(ISERROR(VLOOKUP($A8,demi!$F:$M,8,FALSE)),\"\",IF(VLOOKUP($A8,demi!$F:$M,8,FALSE)=CM$2,\"X\",\"\")),IF(VLOOKUP($A8,demi!$B:$M,12,FALSE)=CM$2,\"X\",\"\"))","v":""},{"$f":"IF(ISERROR(VLOOKUP($A8,demi!$B:$M,12,FALSE)),IF(ISERROR(VLOOKUP($A8,demi!$F:$M,8,FALSE)),\"\",IF(VLOOKUP($A8,demi!$F:$M,8,FALSE)=CN$2,\"X\",\"\")),IF(VLOOKUP($A8,demi!$B:$M,12,FALSE)=CN$2,\"X\",\"\"))","v":""},{"$f":"IF(ISERROR(VLOOKUP($A8,demi!$B:$M,12,FALSE)),IF(ISERROR(VLOOKUP($A8,demi!$F:$M,8,FALSE)),\"\",IF(VLOOKUP($A8,demi!$F:$M,8,FALSE)=CO$2,\"X\",\"\")),IF(VLOOKUP($A8,demi!$B:$M,12,FALSE)=CO$2,\"X\",\"\"))","v":""},{"$f":"IF(ISERROR(VLOOKUP($A8,demi!$B:$M,12,FALSE)),IF(ISERROR(VLOOKUP($A8,demi!$F:$M,8,FALSE)),\"\",IF(VLOOKUP($A8,demi!$F:$M,8,FALSE)=CP$2,\"X\",\"\")),IF(VLOOKUP($A8,demi!$B:$M,12,FALSE)=CP$2,\"X\",\"\"))","v":""},{"$f":"IF(ISERROR(VLOOKUP($A8,demi!$B:$M,12,FALSE)),IF(ISERROR(VLOOKUP($A8,demi!$F:$M,8,FALSE)),\"\",IF(VLOOKUP($A8,demi!$F:$M,8,FALSE)=CQ$2,\"X\",\"\")),IF(VLOOKUP($A8,demi!$B:$M,12,FALSE)=CQ$2,\"X\",\"\"))","v":""},{"$f":"IF(ISERROR(VLOOKUP($A8,demi!$B:$M,12,FALSE)),IF(ISERROR(VLOOKUP($A8,demi!$F:$M,8,FALSE)),\"\",IF(VLOOKUP($A8,demi!$F:$M,8,FALSE)=CR$2,\"X\",\"\")),IF(VLOOKUP($A8,demi!$B:$M,12,FALSE)=CR$2,\"X\",\"\"))","v":""},{"$f":"IF(ISERROR(VLOOKUP($A8,demi!$B:$M,12,FALSE)),IF(ISERROR(VLOOKUP($A8,demi!$F:$M,8,FALSE)),\"\",IF(VLOOKUP($A8,demi!$F:$M,8,FALSE)=CS$2,\"X\",\"\")),IF(VLOOKUP($A8,demi!$B:$M,12,FALSE)=CS$2,\"X\",\"\"))","v":""}]
[7,"X","X","X","X","X","X","X","X","X","X","X","X","X","X","X","X",{"$f":"IF(ISERROR(VLOOKUP($A9,'32eme'!$B:$M,12,FALSE)),IF(ISERROR(VLOOKUP($A9,'32eme'!$F:$M,8,FALSE)),\"\",IF(VLOOKUP($A9,'32eme'!$F:$M,8,FALSE)=R$2,\"X\",\"\")),IF(VLOOKUP($A9,'32eme'!$B:$M,12,FALSE)=R$2,\"X\",\"\"))","v":""},{"$f":"IF(ISERROR(VLOOKUP($A9,'32eme'!$B:$M,12,FALSE)),IF(ISERROR(VLOOKUP($A9,'32eme'!$F:$M,8,FALSE)),\"\",IF(VLOOKUP($A9,'32eme'!$F:$M,8,FALSE)=S$2,\"X\",\"\")),IF(VLOOKUP($A9,'32eme'!$B:$M,12,FALSE)=S$2,\"X\",\"\"))","v":""},{"$f":"IF(ISERROR(VLOOKUP($A9,'32eme'!$B:$M,12,FALSE)),IF(ISERROR(VLOOKUP($A9,'32eme'!$F:$M,8,FALSE)),\"\",IF(VLOOKUP($A9,'32eme'!$F:$M,8,FALSE)=T$2,\"X\",\"\")),IF(VLOOKUP($A9,'32eme'!$B:$M,12,FALSE)=T$2,\"X\",\"\"))","v":""},{"$f":"IF(ISERROR(VLOOKUP($A9,'32eme'!$B:$M,12,FALSE)),IF(ISERROR(VLOOKUP($A9,'32eme'!$F:$M,8,FALSE)),\"\",IF(VLOOKUP($A9,'32eme'!$F:$M,8,FALSE)=U$2,\"X\",\"\")),IF(VLOOKUP($A9,'32eme'!$B:$M,12,FALSE)=U$2,\"X\",\"\"))","v":""},{"$f":"IF(ISERROR(VLOOKUP($A9,'32eme'!$B:$M,12,FALSE)),IF(ISERROR(VLOOKUP($A9,'32eme'!$F:$M,8,FALSE)),\"\",IF(VLOOKUP($A9,'32eme'!$F:$M,8,FALSE)=V$2,\"X\",\"\")),IF(VLOOKUP($A9,'32eme'!$B:$M,12,FALSE)=V$2,\"X\",\"\"))","v":""},{"$f":"IF(ISERROR(VLOOKUP($A9,'32eme'!$B:$M,12,FALSE)),IF(ISERROR(VLOOKUP($A9,'32eme'!$F:$M,8,FALSE)),\"\",IF(VLOOKUP($A9,'32eme'!$F:$M,8,FALSE)=W$2,\"X\",\"\")),IF(VLOOKUP($A9,'32eme'!$B:$M,12,FALSE)=W$2,\"X\",\"\"))","v":""},{"$f":"IF(ISERROR(VLOOKUP($A9,'32eme'!$B:$M,12,FALSE)),IF(ISERROR(VLOOKUP($A9,'32eme'!$F:$M,8,FALSE)),\"\",IF(VLOOKUP($A9,'32eme'!$F:$M,8,FALSE)=X$2,\"X\",\"\")),IF(VLOOKUP($A9,'32eme'!$B:$M,12,FALSE)=X$2,\"X\",\"\"))","v":""},{"$f":"IF(ISERROR(VLOOKUP($A9,'32eme'!$B:$M,12,FALSE)),IF(ISERROR(VLOOKUP($A9,'32eme'!$F:$M,8,FALSE)),\"\",IF(VLOOKUP($A9,'32eme'!$F:$M,8,FALSE)=Y$2,\"X\",\"\")),IF(VLOOKUP($A9,'32eme'!$B:$M,12,FALSE)=Y$2,\"X\",\"\"))","v":""},{"$f":"IF(ISERROR(VLOOKUP($A9,'32eme'!$B:$M,12,FALSE)),IF(ISERROR(VLOOKUP($A9,'32eme'!$F:$M,8,FALSE)),\"\",IF(VLOOKUP($A9,'32eme'!$F:$M,8,FALSE)=Z$2,\"X\",\"\")),IF(VLOOKUP($A9,'32eme'!$B:$M,12,FALSE)=Z$2,\"X\",\"\"))","v":""},{"$f":"IF(ISERROR(VLOOKUP($A9,'32eme'!$B:$M,12,FALSE)),IF(ISERROR(VLOOKUP($A9,'32eme'!$F:$M,8,FALSE)),\"\",IF(VLOOKUP($A9,'32eme'!$F:$M,8,FALSE)=AA$2,\"X\",\"\")),IF(VLOOKUP($A9,'32eme'!$B:$M,12,FALSE)=AA$2,\"X\",\"\"))","v":""},{"$f":"IF(ISERROR(VLOOKUP($A9,'32eme'!$B:$M,12,FALSE)),IF(ISERROR(VLOOKUP($A9,'32eme'!$F:$M,8,FALSE)),\"\",IF(VLOOKUP($A9,'32eme'!$F:$M,8,FALSE)=AB$2,\"X\",\"\")),IF(VLOOKUP($A9,'32eme'!$B:$M,12,FALSE)=AB$2,\"X\",\"\"))","v":""},{"$f":"IF(ISERROR(VLOOKUP($A9,'32eme'!$B:$M,12,FALSE)),IF(ISERROR(VLOOKUP($A9,'32eme'!$F:$M,8,FALSE)),\"\",IF(VLOOKUP($A9,'32eme'!$F:$M,8,FALSE)=AC$2,\"X\",\"\")),IF(VLOOKUP($A9,'32eme'!$B:$M,12,FALSE)=AC$2,\"X\",\"\"))","v":""},{"$f":"IF(ISERROR(VLOOKUP($A9,'32eme'!$B:$M,12,FALSE)),IF(ISERROR(VLOOKUP($A9,'32eme'!$F:$M,8,FALSE)),\"\",IF(VLOOKUP($A9,'32eme'!$F:$M,8,FALSE)=AD$2,\"X\",\"\")),IF(VLOOKUP($A9,'32eme'!$B:$M,12,FALSE)=AD$2,\"X\",\"\"))","v":""},{"$f":"IF(ISERROR(VLOOKUP($A9,'32eme'!$B:$M,12,FALSE)),IF(ISERROR(VLOOKUP($A9,'32eme'!$F:$M,8,FALSE)),\"\",IF(VLOOKUP($A9,'32eme'!$F:$M,8,FALSE)=AE$2,\"X\",\"\")),IF(VLOOKUP($A9,'32eme'!$B:$M,12,FALSE)=AE$2,\"X\",\"\"))","v":""},{"$f":"IF(ISERROR(VLOOKUP($A9,'32eme'!$B:$M,12,FALSE)),IF(ISERROR(VLOOKUP($A9,'32eme'!$F:$M,8,FALSE)),\"\",IF(VLOOKUP($A9,'32eme'!$F:$M,8,FALSE)=AF$2,\"X\",\"\")),IF(VLOOKUP($A9,'32eme'!$B:$M,12,FALSE)=AF$2,\"X\",\"\"))","v":""},{"$f":"IF(ISERROR(VLOOKUP($A9,'32eme'!$B:$M,12,FALSE)),IF(ISERROR(VLOOKUP($A9,'32eme'!$F:$M,8,FALSE)),\"\",IF(VLOOKUP($A9,'32eme'!$F:$M,8,FALSE)=AG$2,\"X\",\"\")),IF(VLOOKUP($A9,'32eme'!$B:$M,12,FALSE)=AG$2,\"X\",\"\"))","v":""},{"$f":"IF(ISERROR(VLOOKUP($A9,'16eme'!$B:$M,12,FALSE)),IF(ISERROR(VLOOKUP($A9,'16eme'!$F:$M,8,FALSE)),\"\",IF(VLOOKUP($A9,'16eme'!$F:$M,8,FALSE)=AH$2,\"X\",\"\")),IF(VLOOKUP($A9,'16eme'!$B:$M,12,FALSE)=AH$2,\"X\",\"\"))","v":""},{"$f":"IF(ISERROR(VLOOKUP($A9,'16eme'!$B:$M,12,FALSE)),IF(ISERROR(VLOOKUP($A9,'16eme'!$F:$M,8,FALSE)),\"\",IF(VLOOKUP($A9,'16eme'!$F:$M,8,FALSE)=AI$2,\"X\",\"\")),IF(VLOOKUP($A9,'16eme'!$B:$M,12,FALSE)=AI$2,\"X\",\"\"))","v":""},{"$f":"IF(ISERROR(VLOOKUP($A9,'16eme'!$B:$M,12,FALSE)),IF(ISERROR(VLOOKUP($A9,'16eme'!$F:$M,8,FALSE)),\"\",IF(VLOOKUP($A9,'16eme'!$F:$M,8,FALSE)=AJ$2,\"X\",\"\")),IF(VLOOKUP($A9,'16eme'!$B:$M,12,FALSE)=AJ$2,\"X\",\"\"))","v":""},{"$f":"IF(ISERROR(VLOOKUP($A9,'16eme'!$B:$M,12,FALSE)),IF(ISERROR(VLOOKUP($A9,'16eme'!$F:$M,8,FALSE)),\"\",IF(VLOOKUP($A9,'16eme'!$F:$M,8,FALSE)=AK$2,\"X\",\"\")),IF(VLOOKUP($A9,'16eme'!$B:$M,12,FALSE)=AK$2,\"X\",\"\"))","v":""},{"$f":"IF(ISERROR(VLOOKUP($A9,'16eme'!$B:$M,12,FALSE)),IF(ISERROR(VLOOKUP($A9,'16eme'!$F:$M,8,FALSE)),\"\",IF(VLOOKUP($A9,'16eme'!$F:$M,8,FALSE)=AL$2,\"X\",\"\")),IF(VLOOKUP($A9,'16eme'!$B:$M,12,FALSE)=AL$2,\"X\",\"\"))","v":""},{"$f":"IF(ISERROR(VLOOKUP($A9,'16eme'!$B:$M,12,FALSE)),IF(ISERROR(VLOOKUP($A9,'16eme'!$F:$M,8,FALSE)),\"\",IF(VLOOKUP($A9,'16eme'!$F:$M,8,FALSE)=AM$2,\"X\",\"\")),IF(VLOOKUP($A9,'16eme'!$B:$M,12,FALSE)=AM$2,\"X\",\"\"))","v":""},{"$f":"IF(ISERROR(VLOOKUP($A9,'16eme'!$B:$M,12,FALSE)),IF(ISERROR(VLOOKUP($A9,'16eme'!$F:$M,8,FALSE)),\"\",IF(VLOOKUP($A9,'16eme'!$F:$M,8,FALSE)=AN$2,\"X\",\"\")),IF(VLOOKUP($A9,'16eme'!$B:$M,12,FALSE)=AN$2,\"X\",\"\"))","v":""},{"$f":"IF(ISERROR(VLOOKUP($A9,'16eme'!$B:$M,12,FALSE)),IF(ISERROR(VLOOKUP($A9,'16eme'!$F:$M,8,FALSE)),\"\",IF(VLOOKUP($A9,'16eme'!$F:$M,8,FALSE)=AO$2,\"X\",\"\")),IF(VLOOKUP($A9,'16eme'!$B:$M,12,FALSE)=AO$2,\"X\",\"\"))","v":""},{"$f":"IF(ISERROR(VLOOKUP($A9,'16eme'!$B:$M,12,FALSE)),IF(ISERROR(VLOOKUP($A9,'16eme'!$F:$M,8,FALSE)),\"\",IF(VLOOKUP($A9,'16eme'!$F:$M,8,FALSE)=AP$2,\"X\",\"\")),IF(VLOOKUP($A9,'16eme'!$B:$M,12,FALSE)=AP$2,\"X\",\"\"))","v":""},{"$f":"IF(ISERROR(VLOOKUP($A9,'16eme'!$B:$M,12,FALSE)),IF(ISERROR(VLOOKUP($A9,'16eme'!$F:$M,8,FALSE)),\"\",IF(VLOOKUP($A9,'16eme'!$F:$M,8,FALSE)=AQ$2,\"X\",\"\")),IF(VLOOKUP($A9,'16eme'!$B:$M,12,FALSE)=AQ$2,\"X\",\"\"))","v":""},{"$f":"IF(ISERROR(VLOOKUP($A9,'16eme'!$B:$M,12,FALSE)),IF(ISERROR(VLOOKUP($A9,'16eme'!$F:$M,8,FALSE)),\"\",IF(VLOOKUP($A9,'16eme'!$F:$M,8,FALSE)=AR$2,\"X\",\"\")),IF(VLOOKUP($A9,'16eme'!$B:$M,12,FALSE)=AR$2,\"X\",\"\"))","v":""},{"$f":"IF(ISERROR(VLOOKUP($A9,'16eme'!$B:$M,12,FALSE)),IF(ISERROR(VLOOKUP($A9,'16eme'!$F:$M,8,FALSE)),\"\",IF(VLOOKUP($A9,'16eme'!$F:$M,8,FALSE)=AS$2,\"X\",\"\")),IF(VLOOKUP($A9,'16eme'!$B:$M,12,FALSE)=AS$2,\"X\",\"\"))","v":""},{"$f":"IF(ISERROR(VLOOKUP($A9,'16eme'!$B:$M,12,FALSE)),IF(ISERROR(VLOOKUP($A9,'16eme'!$F:$M,8,FALSE)),\"\",IF(VLOOKUP($A9,'16eme'!$F:$M,8,FALSE)=AT$2,\"X\",\"\")),IF(VLOOKUP($A9,'16eme'!$B:$M,12,FALSE)=AT$2,\"X\",\"\"))","v":""},{"$f":"IF(ISERROR(VLOOKUP($A9,'16eme'!$B:$M,12,FALSE)),IF(ISERROR(VLOOKUP($A9,'16eme'!$F:$M,8,FALSE)),\"\",IF(VLOOKUP($A9,'16eme'!$F:$M,8,FALSE)=AU$2,\"X\",\"\")),IF(VLOOKUP($A9,'16eme'!$B:$M,12,FALSE)=AU$2,\"X\",\"\"))","v":""},{"$f":"IF(ISERROR(VLOOKUP($A9,'16eme'!$B:$M,12,FALSE)),IF(ISERROR(VLOOKUP($A9,'16eme'!$F:$M,8,FALSE)),\"\",IF(VLOOKUP($A9,'16eme'!$F:$M,8,FALSE)=AV$2,\"X\",\"\")),IF(VLOOKUP($A9,'16eme'!$B:$M,12,FALSE)=AV$2,\"X\",\"\"))","v":""},{"$f":"IF(ISERROR(VLOOKUP($A9,'16eme'!$B:$M,12,FALSE)),IF(ISERROR(VLOOKUP($A9,'16eme'!$F:$M,8,FALSE)),\"\",IF(VLOOKUP($A9,'16eme'!$F:$M,8,FALSE)=AW$2,\"X\",\"\")),IF(VLOOKUP($A9,'16eme'!$B:$M,12,FALSE)=AW$2,\"X\",\"\"))","v":""},{"$f":"IF(ISERROR(VLOOKUP($A9,'8eme'!$B:$M,12,FALSE)),IF(ISERROR(VLOOKUP($A9,'8eme'!$F:$M,8,FALSE)),\"\",IF(VLOOKUP($A9,'8eme'!$F:$M,8,FALSE)=AX$2,\"X\",\"\")),IF(VLOOKUP($A9,'8eme'!$B:$M,12,FALSE)=AX$2,\"X\",\"\"))","v":""},{"$f":"IF(ISERROR(VLOOKUP($A9,'8eme'!$B:$M,12,FALSE)),IF(ISERROR(VLOOKUP($A9,'8eme'!$F:$M,8,FALSE)),\"\",IF(VLOOKUP($A9,'8eme'!$F:$M,8,FALSE)=AY$2,\"X\",\"\")),IF(VLOOKUP($A9,'8eme'!$B:$M,12,FALSE)=AY$2,\"X\",\"\"))","v":""},{"$f":"IF(ISERROR(VLOOKUP($A9,'8eme'!$B:$M,12,FALSE)),IF(ISERROR(VLOOKUP($A9,'8eme'!$F:$M,8,FALSE)),\"\",IF(VLOOKUP($A9,'8eme'!$F:$M,8,FALSE)=AZ$2,\"X\",\"\")),IF(VLOOKUP($A9,'8eme'!$B:$M,12,FALSE)=AZ$2,\"X\",\"\"))","v":""},{"$f":"IF(ISERROR(VLOOKUP($A9,'8eme'!$B:$M,12,FALSE)),IF(ISERROR(VLOOKUP($A9,'8eme'!$F:$M,8,FALSE)),\"\",IF(VLOOKUP($A9,'8eme'!$F:$M,8,FALSE)=BA$2,\"X\",\"\")),IF(VLOOKUP($A9,'8eme'!$B:$M,12,FALSE)=BA$2,\"X\",\"\"))","v":""},{"$f":"IF(ISERROR(VLOOKUP($A9,'8eme'!$B:$M,12,FALSE)),IF(ISERROR(VLOOKUP($A9,'8eme'!$F:$M,8,FALSE)),\"\",IF(VLOOKUP($A9,'8eme'!$F:$M,8,FALSE)=BB$2,\"X\",\"\")),IF(VLOOKUP($A9,'8eme'!$B:$M,12,FALSE)=BB$2,\"X\",\"\"))","v":""},{"$f":"IF(ISERROR(VLOOKUP($A9,'8eme'!$B:$M,12,FALSE)),IF(ISERROR(VLOOKUP($A9,'8eme'!$F:$M,8,FALSE)),\"\",IF(VLOOKUP($A9,'8eme'!$F:$M,8,FALSE)=BC$2,\"X\",\"\")),IF(VLOOKUP($A9,'8eme'!$B:$M,12,FALSE)=BC$2,\"X\",\"\"))","v":""},{"$f":"IF(ISERROR(VLOOKUP($A9,'8eme'!$B:$M,12,FALSE)),IF(ISERROR(VLOOKUP($A9,'8eme'!$F:$M,8,FALSE)),\"\",IF(VLOOKUP($A9,'8eme'!$F:$M,8,FALSE)=BD$2,\"X\",\"\")),IF(VLOOKUP($A9,'8eme'!$B:$M,12,FALSE)=BD$2,\"X\",\"\"))","v":""},{"$f":"IF(ISERROR(VLOOKUP($A9,'8eme'!$B:$M,12,FALSE)),IF(ISERROR(VLOOKUP($A9,'8eme'!$F:$M,8,FALSE)),\"\",IF(VLOOKUP($A9,'8eme'!$F:$M,8,FALSE)=BE$2,\"X\",\"\")),IF(VLOOKUP($A9,'8eme'!$B:$M,12,FALSE)=BE$2,\"X\",\"\"))","v":""},{"$f":"IF(ISERROR(VLOOKUP($A9,'8eme'!$B:$M,12,FALSE)),IF(ISERROR(VLOOKUP($A9,'8eme'!$F:$M,8,FALSE)),\"\",IF(VLOOKUP($A9,'8eme'!$F:$M,8,FALSE)=BF$2,\"X\",\"\")),IF(VLOOKUP($A9,'8eme'!$B:$M,12,FALSE)=BF$2,\"X\",\"\"))","v":""},{"$f":"IF(ISERROR(VLOOKUP($A9,'8eme'!$B:$M,12,FALSE)),IF(ISERROR(VLOOKUP($A9,'8eme'!$F:$M,8,FALSE)),\"\",IF(VLOOKUP($A9,'8eme'!$F:$M,8,FALSE)=BG$2,\"X\",\"\")),IF(VLOOKUP($A9,'8eme'!$B:$M,12,FALSE)=BG$2,\"X\",\"\"))","v":""},{"$f":"IF(ISERROR(VLOOKUP($A9,'8eme'!$B:$M,12,FALSE)),IF(ISERROR(VLOOKUP($A9,'8eme'!$F:$M,8,FALSE)),\"\",IF(VLOOKUP($A9,'8eme'!$F:$M,8,FALSE)=BH$2,\"X\",\"\")),IF(VLOOKUP($A9,'8eme'!$B:$M,12,FALSE)=BH$2,\"X\",\"\"))","v":""},{"$f":"IF(ISERROR(VLOOKUP($A9,'8eme'!$B:$M,12,FALSE)),IF(ISERROR(VLOOKUP($A9,'8eme'!$F:$M,8,FALSE)),\"\",IF(VLOOKUP($A9,'8eme'!$F:$M,8,FALSE)=BI$2,\"X\",\"\")),IF(VLOOKUP($A9,'8eme'!$B:$M,12,FALSE)=BI$2,\"X\",\"\"))","v":""},{"$f":"IF(ISERROR(VLOOKUP($A9,'8eme'!$B:$M,12,FALSE)),IF(ISERROR(VLOOKUP($A9,'8eme'!$F:$M,8,FALSE)),\"\",IF(VLOOKUP($A9,'8eme'!$F:$M,8,FALSE)=BJ$2,\"X\",\"\")),IF(VLOOKUP($A9,'8eme'!$B:$M,12,FALSE)=BJ$2,\"X\",\"\"))","v":""},{"$f":"IF(ISERROR(VLOOKUP($A9,'8eme'!$B:$M,12,FALSE)),IF(ISERROR(VLOOKUP($A9,'8eme'!$F:$M,8,FALSE)),\"\",IF(VLOOKUP($A9,'8eme'!$F:$M,8,FALSE)=BK$2,\"X\",\"\")),IF(VLOOKUP($A9,'8eme'!$B:$M,12,FALSE)=BK$2,\"X\",\"\"))","v":""},{"$f":"IF(ISERROR(VLOOKUP($A9,'8eme'!$B:$M,12,FALSE)),IF(ISERROR(VLOOKUP($A9,'8eme'!$F:$M,8,FALSE)),\"\",IF(VLOOKUP($A9,'8eme'!$F:$M,8,FALSE)=BL$2,\"X\",\"\")),IF(VLOOKUP($A9,'8eme'!$B:$M,12,FALSE)=BL$2,\"X\",\"\"))","v":""},{"$f":"IF(ISERROR(VLOOKUP($A9,'8eme'!$B:$M,12,FALSE)),IF(ISERROR(VLOOKUP($A9,'8eme'!$F:$M,8,FALSE)),\"\",IF(VLOOKUP($A9,'8eme'!$F:$M,8,FALSE)=BM$2,\"X\",\"\")),IF(VLOOKUP($A9,'8eme'!$B:$M,12,FALSE)=BM$2,\"X\",\"\"))","v":""},{"$f":"IF(ISERROR(VLOOKUP($A9,quart!$B:$M,12,FALSE)),IF(ISERROR(VLOOKUP($A9,quart!$F:$M,8,FALSE)),\"\",IF(VLOOKUP($A9,quart!$F:$M,8,FALSE)=BN$2,\"X\",\"\")),IF(VLOOKUP($A9,quart!$B:$M,12,FALSE)=BN$2,\"X\",\"\"))","v":""},{"$f":"IF(ISERROR(VLOOKUP($A9,quart!$B:$M,12,FALSE)),IF(ISERROR(VLOOKUP($A9,quart!$F:$M,8,FALSE)),\"\",IF(VLOOKUP($A9,quart!$F:$M,8,FALSE)=BO$2,\"X\",\"\")),IF(VLOOKUP($A9,quart!$B:$M,12,FALSE)=BO$2,\"X\",\"\"))","v":""},{"$f":"IF(ISERROR(VLOOKUP($A9,quart!$B:$M,12,FALSE)),IF(ISERROR(VLOOKUP($A9,quart!$F:$M,8,FALSE)),\"\",IF(VLOOKUP($A9,quart!$F:$M,8,FALSE)=BP$2,\"X\",\"\")),IF(VLOOKUP($A9,quart!$B:$M,12,FALSE)=BP$2,\"X\",\"\"))","v":""},{"$f":"IF(ISERROR(VLOOKUP($A9,quart!$B:$M,12,FALSE)),IF(ISERROR(VLOOKUP($A9,quart!$F:$M,8,FALSE)),\"\",IF(VLOOKUP($A9,quart!$F:$M,8,FALSE)=BQ$2,\"X\",\"\")),IF(VLOOKUP($A9,quart!$B:$M,12,FALSE)=BQ$2,\"X\",\"\"))","v":""},{"$f":"IF(ISERROR(VLOOKUP($A9,quart!$B:$M,12,FALSE)),IF(ISERROR(VLOOKUP($A9,quart!$F:$M,8,FALSE)),\"\",IF(VLOOKUP($A9,quart!$F:$M,8,FALSE)=BR$2,\"X\",\"\")),IF(VLOOKUP($A9,quart!$B:$M,12,FALSE)=BR$2,\"X\",\"\"))","v":""},{"$f":"IF(ISERROR(VLOOKUP($A9,quart!$B:$M,12,FALSE)),IF(ISERROR(VLOOKUP($A9,quart!$F:$M,8,FALSE)),\"\",IF(VLOOKUP($A9,quart!$F:$M,8,FALSE)=BS$2,\"X\",\"\")),IF(VLOOKUP($A9,quart!$B:$M,12,FALSE)=BS$2,\"X\",\"\"))","v":""},{"$f":"IF(ISERROR(VLOOKUP($A9,quart!$B:$M,12,FALSE)),IF(ISERROR(VLOOKUP($A9,quart!$F:$M,8,FALSE)),\"\",IF(VLOOKUP($A9,quart!$F:$M,8,FALSE)=BT$2,\"X\",\"\")),IF(VLOOKUP($A9,quart!$B:$M,12,FALSE)=BT$2,\"X\",\"\"))","v":""},{"$f":"IF(ISERROR(VLOOKUP($A9,quart!$B:$M,12,FALSE)),IF(ISERROR(VLOOKUP($A9,quart!$F:$M,8,FALSE)),\"\",IF(VLOOKUP($A9,quart!$F:$M,8,FALSE)=BU$2,\"X\",\"\")),IF(VLOOKUP($A9,quart!$B:$M,12,FALSE)=BU$2,\"X\",\"\"))","v":""},{"$f":"IF(ISERROR(VLOOKUP($A9,quart!$B:$M,12,FALSE)),IF(ISERROR(VLOOKUP($A9,quart!$F:$M,8,FALSE)),\"\",IF(VLOOKUP($A9,quart!$F:$M,8,FALSE)=BV$2,\"X\",\"\")),IF(VLOOKUP($A9,quart!$B:$M,12,FALSE)=BV$2,\"X\",\"\"))","v":""},{"$f":"IF(ISERROR(VLOOKUP($A9,quart!$B:$M,12,FALSE)),IF(ISERROR(VLOOKUP($A9,quart!$F:$M,8,FALSE)),\"\",IF(VLOOKUP($A9,quart!$F:$M,8,FALSE)=BW$2,\"X\",\"\")),IF(VLOOKUP($A9,quart!$B:$M,12,FALSE)=BW$2,\"X\",\"\"))","v":""},{"$f":"IF(ISERROR(VLOOKUP($A9,quart!$B:$M,12,FALSE)),IF(ISERROR(VLOOKUP($A9,quart!$F:$M,8,FALSE)),\"\",IF(VLOOKUP($A9,quart!$F:$M,8,FALSE)=BX$2,\"X\",\"\")),IF(VLOOKUP($A9,quart!$B:$M,12,FALSE)=BX$2,\"X\",\"\"))","v":""},{"$f":"IF(ISERROR(VLOOKUP($A9,quart!$B:$M,12,FALSE)),IF(ISERROR(VLOOKUP($A9,quart!$F:$M,8,FALSE)),\"\",IF(VLOOKUP($A9,quart!$F:$M,8,FALSE)=BY$2,\"X\",\"\")),IF(VLOOKUP($A9,quart!$B:$M,12,FALSE)=BY$2,\"X\",\"\"))","v":""},{"$f":"IF(ISERROR(VLOOKUP($A9,quart!$B:$M,12,FALSE)),IF(ISERROR(VLOOKUP($A9,quart!$F:$M,8,FALSE)),\"\",IF(VLOOKUP($A9,quart!$F:$M,8,FALSE)=BZ$2,\"X\",\"\")),IF(VLOOKUP($A9,quart!$B:$M,12,FALSE)=BZ$2,\"X\",\"\"))","v":""},{"$f":"IF(ISERROR(VLOOKUP($A9,quart!$B:$M,12,FALSE)),IF(ISERROR(VLOOKUP($A9,quart!$F:$M,8,FALSE)),\"\",IF(VLOOKUP($A9,quart!$F:$M,8,FALSE)=CA$2,\"X\",\"\")),IF(VLOOKUP($A9,quart!$B:$M,12,FALSE)=CA$2,\"X\",\"\"))","v":""},{"$f":"IF(ISERROR(VLOOKUP($A9,quart!$B:$M,12,FALSE)),IF(ISERROR(VLOOKUP($A9,quart!$F:$M,8,FALSE)),\"\",IF(VLOOKUP($A9,quart!$F:$M,8,FALSE)=CB$2,\"X\",\"\")),IF(VLOOKUP($A9,quart!$B:$M,12,FALSE)=CB$2,\"X\",\"\"))","v":""},{"$f":"IF(ISERROR(VLOOKUP($A9,quart!$B:$M,12,FALSE)),IF(ISERROR(VLOOKUP($A9,quart!$F:$M,8,FALSE)),\"\",IF(VLOOKUP($A9,quart!$F:$M,8,FALSE)=CC$2,\"X\",\"\")),IF(VLOOKUP($A9,quart!$B:$M,12,FALSE)=CC$2,\"X\",\"\"))","v":""},{"$f":"IF(ISERROR(VLOOKUP($A9,demi!$B:$M,12,FALSE)),IF(ISERROR(VLOOKUP($A9,demi!$F:$M,8,FALSE)),\"\",IF(VLOOKUP($A9,demi!$F:$M,8,FALSE)=CD$2,\"X\",\"\")),IF(VLOOKUP($A9,demi!$B:$M,12,FALSE)=CD$2,\"X\",\"\"))","v":""},{"$f":"IF(ISERROR(VLOOKUP($A9,demi!$B:$M,12,FALSE)),IF(ISERROR(VLOOKUP($A9,demi!$F:$M,8,FALSE)),\"\",IF(VLOOKUP($A9,demi!$F:$M,8,FALSE)=CE$2,\"X\",\"\")),IF(VLOOKUP($A9,demi!$B:$M,12,FALSE)=CE$2,\"X\",\"\"))","v":""},{"$f":"IF(ISERROR(VLOOKUP($A9,demi!$B:$M,12,FALSE)),IF(ISERROR(VLOOKUP($A9,demi!$F:$M,8,FALSE)),\"\",IF(VLOOKUP($A9,demi!$F:$M,8,FALSE)=CF$2,\"X\",\"\")),IF(VLOOKUP($A9,demi!$B:$M,12,FALSE)=CF$2,\"X\",\"\"))","v":""},{"$f":"IF(ISERROR(VLOOKUP($A9,demi!$B:$M,12,FALSE)),IF(ISERROR(VLOOKUP($A9,demi!$F:$M,8,FALSE)),\"\",IF(VLOOKUP($A9,demi!$F:$M,8,FALSE)=CG$2,\"X\",\"\")),IF(VLOOKUP($A9,demi!$B:$M,12,FALSE)=CG$2,\"X\",\"\"))","v":""},{"$f":"IF(ISERROR(VLOOKUP($A9,demi!$B:$M,12,FALSE)),IF(ISERROR(VLOOKUP($A9,demi!$F:$M,8,FALSE)),\"\",IF(VLOOKUP($A9,demi!$F:$M,8,FALSE)=CH$2,\"X\",\"\")),IF(VLOOKUP($A9,demi!$B:$M,12,FALSE)=CH$2,\"X\",\"\"))","v":""},{"$f":"IF(ISERROR(VLOOKUP($A9,demi!$B:$M,12,FALSE)),IF(ISERROR(VLOOKUP($A9,demi!$F:$M,8,FALSE)),\"\",IF(VLOOKUP($A9,demi!$F:$M,8,FALSE)=CI$2,\"X\",\"\")),IF(VLOOKUP($A9,demi!$B:$M,12,FALSE)=CI$2,\"X\",\"\"))","v":""},{"$f":"IF(ISERROR(VLOOKUP($A9,demi!$B:$M,12,FALSE)),IF(ISERROR(VLOOKUP($A9,demi!$F:$M,8,FALSE)),\"\",IF(VLOOKUP($A9,demi!$F:$M,8,FALSE)=CJ$2,\"X\",\"\")),IF(VLOOKUP($A9,demi!$B:$M,12,FALSE)=CJ$2,\"X\",\"\"))","v":""},{"$f":"IF(ISERROR(VLOOKUP($A9,demi!$B:$M,12,FALSE)),IF(ISERROR(VLOOKUP($A9,demi!$F:$M,8,FALSE)),\"\",IF(VLOOKUP($A9,demi!$F:$M,8,FALSE)=CK$2,\"X\",\"\")),IF(VLOOKUP($A9,demi!$B:$M,12,FALSE)=CK$2,\"X\",\"\"))","v":""},{"$f":"IF(ISERROR(VLOOKUP($A9,demi!$B:$M,12,FALSE)),IF(ISERROR(VLOOKUP($A9,demi!$F:$M,8,FALSE)),\"\",IF(VLOOKUP($A9,demi!$F:$M,8,FALSE)=CL$2,\"X\",\"\")),IF(VLOOKUP($A9,demi!$B:$M,12,FALSE)=CL$2,\"X\",\"\"))","v":""},{"$f":"IF(ISERROR(VLOOKUP($A9,demi!$B:$M,12,FALSE)),IF(ISERROR(VLOOKUP($A9,demi!$F:$M,8,FALSE)),\"\",IF(VLOOKUP($A9,demi!$F:$M,8,FALSE)=CM$2,\"X\",\"\")),IF(VLOOKUP($A9,demi!$B:$M,12,FALSE)=CM$2,\"X\",\"\"))","v":""},{"$f":"IF(ISERROR(VLOOKUP($A9,demi!$B:$M,12,FALSE)),IF(ISERROR(VLOOKUP($A9,demi!$F:$M,8,FALSE)),\"\",IF(VLOOKUP($A9,demi!$F:$M,8,FALSE)=CN$2,\"X\",\"\")),IF(VLOOKUP($A9,demi!$B:$M,12,FALSE)=CN$2,\"X\",\"\"))","v":""},{"$f":"IF(ISERROR(VLOOKUP($A9,demi!$B:$M,12,FALSE)),IF(ISERROR(VLOOKUP($A9,demi!$F:$M,8,FALSE)),\"\",IF(VLOOKUP($A9,demi!$F:$M,8,FALSE)=CO$2,\"X\",\"\")),IF(VLOOKUP($A9,demi!$B:$M,12,FALSE)=CO$2,\"X\",\"\"))","v":""},{"$f":"IF(ISERROR(VLOOKUP($A9,demi!$B:$M,12,FALSE)),IF(ISERROR(VLOOKUP($A9,demi!$F:$M,8,FALSE)),\"\",IF(VLOOKUP($A9,demi!$F:$M,8,FALSE)=CP$2,\"X\",\"\")),IF(VLOOKUP($A9,demi!$B:$M,12,FALSE)=CP$2,\"X\",\"\"))","v":""},{"$f":"IF(ISERROR(VLOOKUP($A9,demi!$B:$M,12,FALSE)),IF(ISERROR(VLOOKUP($A9,demi!$F:$M,8,FALSE)),\"\",IF(VLOOKUP($A9,demi!$F:$M,8,FALSE)=CQ$2,\"X\",\"\")),IF(VLOOKUP($A9,demi!$B:$M,12,FALSE)=CQ$2,\"X\",\"\"))","v":""},{"$f":"IF(ISERROR(VLOOKUP($A9,demi!$B:$M,12,FALSE)),IF(ISERROR(VLOOKUP($A9,demi!$F:$M,8,FALSE)),\"\",IF(VLOOKUP($A9,demi!$F:$M,8,FALSE)=CR$2,\"X\",\"\")),IF(VLOOKUP($A9,demi!$B:$M,12,FALSE)=CR$2,\"X\",\"\"))","v":""},{"$f":"IF(ISERROR(VLOOKUP($A9,demi!$B:$M,12,FALSE)),IF(ISERROR(VLOOKUP($A9,demi!$F:$M,8,FALSE)),\"\",IF(VLOOKUP($A9,demi!$F:$M,8,FALSE)=CS$2,\"X\",\"\")),IF(VLOOKUP($A9,demi!$B:$M,12,FALSE)=CS$2,\"X\",\"\"))","v":""}]
[8,"X","X","X","X","X","X","X","X","X","X","X","X","X","X","X","X",{"$f":"IF(ISERROR(VLOOKUP($A10,'32eme'!$B:$M,12,FALSE)),IF(ISERROR(VLOOKUP($A10,'32eme'!$F:$M,8,FALSE)),\"\",IF(VLOOKUP($A10,'32eme'!$F:$M,8,FALSE)=R$2,\"X\",\"\")),IF(VLOOKUP($A10,'32eme'!$B:$M,12,FALSE)=R$2,\"X\",\"\"))","v":""},{"$f":"IF(ISERROR(VLOOKUP($A10,'32eme'!$B:$M,12,FALSE)),IF(ISERROR(VLOOKUP($A10,'32eme'!$F:$M,8,FALSE)),\"\",IF(VLOOKUP($A10,'32eme'!$F:$M,8,FALSE)=S$2,\"X\",\"\")),IF(VLOOKUP($A10,'32eme'!$B:$M,12,FALSE)=S$2,\"X\",\"\"))","v":""},{"$f":"IF(ISERROR(VLOOKUP($A10,'32eme'!$B:$M,12,FALSE)),IF(ISERROR(VLOOKUP($A10,'32eme'!$F:$M,8,FALSE)),\"\",IF(VLOOKUP($A10,'32eme'!$F:$M,8,FALSE)=T$2,\"X\",\"\")),IF(VLOOKUP($A10,'32eme'!$B:$M,12,FALSE)=T$2,\"X\",\"\"))","v":""},{"$f":"IF(ISERROR(VLOOKUP($A10,'32eme'!$B:$M,12,FALSE)),IF(ISERROR(VLOOKUP($A10,'32eme'!$F:$M,8,FALSE)),\"\",IF(VLOOKUP($A10,'32eme'!$F:$M,8,FALSE)=U$2,\"X\",\"\")),IF(VLOOKUP($A10,'32eme'!$B:$M,12,FALSE)=U$2,\"X\",\"\"))","v":""},{"$f":"IF(ISERROR(VLOOKUP($A10,'32eme'!$B:$M,12,FALSE)),IF(ISERROR(VLOOKUP($A10,'32eme'!$F:$M,8,FALSE)),\"\",IF(VLOOKUP($A10,'32eme'!$F:$M,8,FALSE)=V$2,\"X\",\"\")),IF(VLOOKUP($A10,'32eme'!$B:$M,12,FALSE)=V$2,\"X\",\"\"))","v":""},{"$f":"IF(ISERROR(VLOOKUP($A10,'32eme'!$B:$M,12,FALSE)),IF(ISERROR(VLOOKUP($A10,'32eme'!$F:$M,8,FALSE)),\"\",IF(VLOOKUP($A10,'32eme'!$F:$M,8,FALSE)=W$2,\"X\",\"\")),IF(VLOOKUP($A10,'32eme'!$B:$M,12,FALSE)=W$2,\"X\",\"\"))","v":""},{"$f":"IF(ISERROR(VLOOKUP($A10,'32eme'!$B:$M,12,FALSE)),IF(ISERROR(VLOOKUP($A10,'32eme'!$F:$M,8,FALSE)),\"\",IF(VLOOKUP($A10,'32eme'!$F:$M,8,FALSE)=X$2,\"X\",\"\")),IF(VLOOKUP($A10,'32eme'!$B:$M,12,FALSE)=X$2,\"X\",\"\"))","v":""},{"$f":"IF(ISERROR(VLOOKUP($A10,'32eme'!$B:$M,12,FALSE)),IF(ISERROR(VLOOKUP($A10,'32eme'!$F:$M,8,FALSE)),\"\",IF(VLOOKUP($A10,'32eme'!$F:$M,8,FALSE)=Y$2,\"X\",\"\")),IF(VLOOKUP($A10,'32eme'!$B:$M,12,FALSE)=Y$2,\"X\",\"\"))","v":""},{"$f":"IF(ISERROR(VLOOKUP($A10,'32eme'!$B:$M,12,FALSE)),IF(ISERROR(VLOOKUP($A10,'32eme'!$F:$M,8,FALSE)),\"\",IF(VLOOKUP($A10,'32eme'!$F:$M,8,FALSE)=Z$2,\"X\",\"\")),IF(VLOOKUP($A10,'32eme'!$B:$M,12,FALSE)=Z$2,\"X\",\"\"))","v":""},{"$f":"IF(ISERROR(VLOOKUP($A10,'32eme'!$B:$M,12,FALSE)),IF(ISERROR(VLOOKUP($A10,'32eme'!$F:$M,8,FALSE)),\"\",IF(VLOOKUP($A10,'32eme'!$F:$M,8,FALSE)=AA$2,\"X\",\"\")),IF(VLOOKUP($A10,'32eme'!$B:$M,12,FALSE)=AA$2,\"X\",\"\"))","v":""},{"$f":"IF(ISERROR(VLOOKUP($A10,'32eme'!$B:$M,12,FALSE)),IF(ISERROR(VLOOKUP($A10,'32eme'!$F:$M,8,FALSE)),\"\",IF(VLOOKUP($A10,'32eme'!$F:$M,8,FALSE)=AB$2,\"X\",\"\")),IF(VLOOKUP($A10,'32eme'!$B:$M,12,FALSE)=AB$2,\"X\",\"\"))","v":""},{"$f":"IF(ISERROR(VLOOKUP($A10,'32eme'!$B:$M,12,FALSE)),IF(ISERROR(VLOOKUP($A10,'32eme'!$F:$M,8,FALSE)),\"\",IF(VLOOKUP($A10,'32eme'!$F:$M,8,FALSE)=AC$2,\"X\",\"\")),IF(VLOOKUP($A10,'32eme'!$B:$M,12,FALSE)=AC$2,\"X\",\"\"))","v":""},{"$f":"IF(ISERROR(VLOOKUP($A10,'32eme'!$B:$M,12,FALSE)),IF(ISERROR(VLOOKUP($A10,'32eme'!$F:$M,8,FALSE)),\"\",IF(VLOOKUP($A10,'32eme'!$F:$M,8,FALSE)=AD$2,\"X\",\"\")),IF(VLOOKUP($A10,'32eme'!$B:$M,12,FALSE)=AD$2,\"X\",\"\"))","v":""},{"$f":"IF(ISERROR(VLOOKUP($A10,'32eme'!$B:$M,12,FALSE)),IF(ISERROR(VLOOKUP($A10,'32eme'!$F:$M,8,FALSE)),\"\",IF(VLOOKUP($A10,'32eme'!$F:$M,8,FALSE)=AE$2,\"X\",\"\")),IF(VLOOKUP($A10,'32eme'!$B:$M,12,FALSE)=AE$2,\"X\",\"\"))","v":""},{"$f":"IF(ISERROR(VLOOKUP($A10,'32eme'!$B:$M,12,FALSE)),IF(ISERROR(VLOOKUP($A10,'32eme'!$F:$M,8,FALSE)),\"\",IF(VLOOKUP($A10,'32eme'!$F:$M,8,FALSE)=AF$2,\"X\",\"\")),IF(VLOOKUP($A10,'32eme'!$B:$M,12,FALSE)=AF$2,\"X\",\"\"))","v":""},{"$f":"IF(ISERROR(VLOOKUP($A10,'32eme'!$B:$M,12,FALSE)),IF(ISERROR(VLOOKUP($A10,'32eme'!$F:$M,8,FALSE)),\"\",IF(VLOOKUP($A10,'32eme'!$F:$M,8,FALSE)=AG$2,\"X\",\"\")),IF(VLOOKUP($A10,'32eme'!$B:$M,12,FALSE)=AG$2,\"X\",\"\"))","v":""},{"$f":"IF(ISERROR(VLOOKUP($A10,'16eme'!$B:$M,12,FALSE)),IF(ISERROR(VLOOKUP($A10,'16eme'!$F:$M,8,FALSE)),\"\",IF(VLOOKUP($A10,'16eme'!$F:$M,8,FALSE)=AH$2,\"X\",\"\")),IF(VLOOKUP($A10,'16eme'!$B:$M,12,FALSE)=AH$2,\"X\",\"\"))","v":""},{"$f":"IF(ISERROR(VLOOKUP($A10,'16eme'!$B:$M,12,FALSE)),IF(ISERROR(VLOOKUP($A10,'16eme'!$F:$M,8,FALSE)),\"\",IF(VLOOKUP($A10,'16eme'!$F:$M,8,FALSE)=AI$2,\"X\",\"\")),IF(VLOOKUP($A10,'16eme'!$B:$M,12,FALSE)=AI$2,\"X\",\"\"))","v":""},{"$f":"IF(ISERROR(VLOOKUP($A10,'16eme'!$B:$M,12,FALSE)),IF(ISERROR(VLOOKUP($A10,'16eme'!$F:$M,8,FALSE)),\"\",IF(VLOOKUP($A10,'16eme'!$F:$M,8,FALSE)=AJ$2,\"X\",\"\")),IF(VLOOKUP($A10,'16eme'!$B:$M,12,FALSE)=AJ$2,\"X\",\"\"))","v":""},{"$f":"IF(ISERROR(VLOOKUP($A10,'16eme'!$B:$M,12,FALSE)),IF(ISERROR(VLOOKUP($A10,'16eme'!$F:$M,8,FALSE)),\"\",IF(VLOOKUP($A10,'16eme'!$F:$M,8,FALSE)=AK$2,\"X\",\"\")),IF(VLOOKUP($A10,'16eme'!$B:$M,12,FALSE)=AK$2,\"X\",\"\"))","v":""},{"$f":"IF(ISERROR(VLOOKUP($A10,'16eme'!$B:$M,12,FALSE)),IF(ISERROR(VLOOKUP($A10,'16eme'!$F:$M,8,FALSE)),\"\",IF(VLOOKUP($A10,'16eme'!$F:$M,8,FALSE)=AL$2,\"X\",\"\")),IF(VLOOKUP($A10,'16eme'!$B:$M,12,FALSE)=AL$2,\"X\",\"\"))","v":""},{"$f":"IF(ISERROR(VLOOKUP($A10,'16eme'!$B:$M,12,FALSE)),IF(ISERROR(VLOOKUP($A10,'16eme'!$F:$M,8,FALSE)),\"\",IF(VLOOKUP($A10,'16eme'!$F:$M,8,FALSE)=AM$2,\"X\",\"\")),IF(VLOOKUP($A10,'16eme'!$B:$M,12,FALSE)=AM$2,\"X\",\"\"))","v":""},{"$f":"IF(ISERROR(VLOOKUP($A10,'16eme'!$B:$M,12,FALSE)),IF(ISERROR(VLOOKUP($A10,'16eme'!$F:$M,8,FALSE)),\"\",IF(VLOOKUP($A10,'16eme'!$F:$M,8,FALSE)=AN$2,\"X\",\"\")),IF(VLOOKUP($A10,'16eme'!$B:$M,12,FALSE)=AN$2,\"X\",\"\"))","v":""},{"$f":"IF(ISERROR(VLOOKUP($A10,'16eme'!$B:$M,12,FALSE)),IF(ISERROR(VLOOKUP($A10,'16eme'!$F:$M,8,FALSE)),\"\",IF(VLOOKUP($A10,'16eme'!$F:$M,8,FALSE)=AO$2,\"X\",\"\")),IF(VLOOKUP($A10,'16eme'!$B:$M,12,FALSE)=AO$2,\"X\",\"\"))","v":""},{"$f":"IF(ISERROR(VLOOKUP($A10,'16eme'!$B:$M,12,FALSE)),IF(ISERROR(VLOOKUP($A10,'16eme'!$F:$M,8,FALSE)),\"\",IF(VLOOKUP($A10,'16eme'!$F:$M,8,FALSE)=AP$2,\"X\",\"\")),IF(VLOOKUP($A10,'16eme'!$B:$M,12,FALSE)=AP$2,\"X\",\"\"))","v":""},{"$f":"IF(ISERROR(VLOOKUP($A10,'16eme'!$B:$M,12,FALSE)),IF(ISERROR(VLOOKUP($A10,'16eme'!$F:$M,8,FALSE)),\"\",IF(VLOOKUP($A10,'16eme'!$F:$M,8,FALSE)=AQ$2,\"X\",\"\")),IF(VLOOKUP($A10,'16eme'!$B:$M,12,FALSE)=AQ$2,\"X\",\"\"))","v":""},{"$f":"IF(ISERROR(VLOOKUP($A10,'16eme'!$B:$M,12,FALSE)),IF(ISERROR(VLOOKUP($A10,'16eme'!$F:$M,8,FALSE)),\"\",IF(VLOOKUP($A10,'16eme'!$F:$M,8,FALSE)=AR$2,\"X\",\"\")),IF(VLOOKUP($A10,'16eme'!$B:$M,12,FALSE)=AR$2,\"X\",\"\"))","v":""},{"$f":"IF(ISERROR(VLOOKUP($A10,'16eme'!$B:$M,12,FALSE)),IF(ISERROR(VLOOKUP($A10,'16eme'!$F:$M,8,FALSE)),\"\",IF(VLOOKUP($A10,'16eme'!$F:$M,8,FALSE)=AS$2,\"X\",\"\")),IF(VLOOKUP($A10,'16eme'!$B:$M,12,FALSE)=AS$2,\"X\",\"\"))","v":""},{"$f":"IF(ISERROR(VLOOKUP($A10,'16eme'!$B:$M,12,FALSE)),IF(ISERROR(VLOOKUP($A10,'16eme'!$F:$M,8,FALSE)),\"\",IF(VLOOKUP($A10,'16eme'!$F:$M,8,FALSE)=AT$2,\"X\",\"\")),IF(VLOOKUP($A10,'16eme'!$B:$M,12,FALSE)=AT$2,\"X\",\"\"))","v":""},{"$f":"IF(ISERROR(VLOOKUP($A10,'16eme'!$B:$M,12,FALSE)),IF(ISERROR(VLOOKUP($A10,'16eme'!$F:$M,8,FALSE)),\"\",IF(VLOOKUP($A10,'16eme'!$F:$M,8,FALSE)=AU$2,\"X\",\"\")),IF(VLOOKUP($A10,'16eme'!$B:$M,12,FALSE)=AU$2,\"X\",\"\"))","v":""},{"$f":"IF(ISERROR(VLOOKUP($A10,'16eme'!$B:$M,12,FALSE)),IF(ISERROR(VLOOKUP($A10,'16eme'!$F:$M,8,FALSE)),\"\",IF(VLOOKUP($A10,'16eme'!$F:$M,8,FALSE)=AV$2,\"X\",\"\")),IF(VLOOKUP($A10,'16eme'!$B:$M,12,FALSE)=AV$2,\"X\",\"\"))","v":""},{"$f":"IF(ISERROR(VLOOKUP($A10,'16eme'!$B:$M,12,FALSE)),IF(ISERROR(VLOOKUP($A10,'16eme'!$F:$M,8,FALSE)),\"\",IF(VLOOKUP($A10,'16eme'!$F:$M,8,FALSE)=AW$2,\"X\",\"\")),IF(VLOOKUP($A10,'16eme'!$B:$M,12,FALSE)=AW$2,\"X\",\"\"))","v":""},{"$f":"IF(ISERROR(VLOOKUP($A10,'8eme'!$B:$M,12,FALSE)),IF(ISERROR(VLOOKUP($A10,'8eme'!$F:$M,8,FALSE)),\"\",IF(VLOOKUP($A10,'8eme'!$F:$M,8,FALSE)=AX$2,\"X\",\"\")),IF(VLOOKUP($A10,'8eme'!$B:$M,12,FALSE)=AX$2,\"X\",\"\"))","v":""},{"$f":"IF(ISERROR(VLOOKUP($A10,'8eme'!$B:$M,12,FALSE)),IF(ISERROR(VLOOKUP($A10,'8eme'!$F:$M,8,FALSE)),\"\",IF(VLOOKUP($A10,'8eme'!$F:$M,8,FALSE)=AY$2,\"X\",\"\")),IF(VLOOKUP($A10,'8eme'!$B:$M,12,FALSE)=AY$2,\"X\",\"\"))","v":""},{"$f":"IF(ISERROR(VLOOKUP($A10,'8eme'!$B:$M,12,FALSE)),IF(ISERROR(VLOOKUP($A10,'8eme'!$F:$M,8,FALSE)),\"\",IF(VLOOKUP($A10,'8eme'!$F:$M,8,FALSE)=AZ$2,\"X\",\"\")),IF(VLOOKUP($A10,'8eme'!$B:$M,12,FALSE)=AZ$2,\"X\",\"\"))","v":""},{"$f":"IF(ISERROR(VLOOKUP($A10,'8eme'!$B:$M,12,FALSE)),IF(ISERROR(VLOOKUP($A10,'8eme'!$F:$M,8,FALSE)),\"\",IF(VLOOKUP($A10,'8eme'!$F:$M,8,FALSE)=BA$2,\"X\",\"\")),IF(VLOOKUP($A10,'8eme'!$B:$M,12,FALSE)=BA$2,\"X\",\"\"))","v":""},{"$f":"IF(ISERROR(VLOOKUP($A10,'8eme'!$B:$M,12,FALSE)),IF(ISERROR(VLOOKUP($A10,'8eme'!$F:$M,8,FALSE)),\"\",IF(VLOOKUP($A10,'8eme'!$F:$M,8,FALSE)=BB$2,\"X\",\"\")),IF(VLOOKUP($A10,'8eme'!$B:$M,12,FALSE)=BB$2,\"X\",\"\"))","v":""},{"$f":"IF(ISERROR(VLOOKUP($A10,'8eme'!$B:$M,12,FALSE)),IF(ISERROR(VLOOKUP($A10,'8eme'!$F:$M,8,FALSE)),\"\",IF(VLOOKUP($A10,'8eme'!$F:$M,8,FALSE)=BC$2,\"X\",\"\")),IF(VLOOKUP($A10,'8eme'!$B:$M,12,FALSE)=BC$2,\"X\",\"\"))","v":""},{"$f":"IF(ISERROR(VLOOKUP($A10,'8eme'!$B:$M,12,FALSE)),IF(ISERROR(VLOOKUP($A10,'8eme'!$F:$M,8,FALSE)),\"\",IF(VLOOKUP($A10,'8eme'!$F:$M,8,FALSE)=BD$2,\"X\",\"\")),IF(VLOOKUP($A10,'8eme'!$B:$M,12,FALSE)=BD$2,\"X\",\"\"))","v":""},{"$f":"IF(ISERROR(VLOOKUP($A10,'8eme'!$B:$M,12,FALSE)),IF(ISERROR(VLOOKUP($A10,'8eme'!$F:$M,8,FALSE)),\"\",IF(VLOOKUP($A10,'8eme'!$F:$M,8,FALSE)=BE$2,\"X\",\"\")),IF(VLOOKUP($A10,'8eme'!$B:$M,12,FALSE)=BE$2,\"X\",\"\"))","v":""},{"$f":"IF(ISERROR(VLOOKUP($A10,'8eme'!$B:$M,12,FALSE)),IF(ISERROR(VLOOKUP($A10,'8eme'!$F:$M,8,FALSE)),\"\",IF(VLOOKUP($A10,'8eme'!$F:$M,8,FALSE)=BF$2,\"X\",\"\")),IF(VLOOKUP($A10,'8eme'!$B:$M,12,FALSE)=BF$2,\"X\",\"\"))","v":""},{"$f":"IF(ISERROR(VLOOKUP($A10,'8eme'!$B:$M,12,FALSE)),IF(ISERROR(VLOOKUP($A10,'8eme'!$F:$M,8,FALSE)),\"\",IF(VLOOKUP($A10,'8eme'!$F:$M,8,FALSE)=BG$2,\"X\",\"\")),IF(VLOOKUP($A10,'8eme'!$B:$M,12,FALSE)=BG$2,\"X\",\"\"))","v":""},{"$f":"IF(ISERROR(VLOOKUP($A10,'8eme'!$B:$M,12,FALSE)),IF(ISERROR(VLOOKUP($A10,'8eme'!$F:$M,8,FALSE)),\"\",IF(VLOOKUP($A10,'8eme'!$F:$M,8,FALSE)=BH$2,\"X\",\"\")),IF(VLOOKUP($A10,'8eme'!$B:$M,12,FALSE)=BH$2,\"X\",\"\"))","v":""},{"$f":"IF(ISERROR(VLOOKUP($A10,'8eme'!$B:$M,12,FALSE)),IF(ISERROR(VLOOKUP($A10,'8eme'!$F:$M,8,FALSE)),\"\",IF(VLOOKUP($A10,'8eme'!$F:$M,8,FALSE)=BI$2,\"X\",\"\")),IF(VLOOKUP($A10,'8eme'!$B:$M,12,FALSE)=BI$2,\"X\",\"\"))","v":""},{"$f":"IF(ISERROR(VLOOKUP($A10,'8eme'!$B:$M,12,FALSE)),IF(ISERROR(VLOOKUP($A10,'8eme'!$F:$M,8,FALSE)),\"\",IF(VLOOKUP($A10,'8eme'!$F:$M,8,FALSE)=BJ$2,\"X\",\"\")),IF(VLOOKUP($A10,'8eme'!$B:$M,12,FALSE)=BJ$2,\"X\",\"\"))","v":""},{"$f":"IF(ISERROR(VLOOKUP($A10,'8eme'!$B:$M,12,FALSE)),IF(ISERROR(VLOOKUP($A10,'8eme'!$F:$M,8,FALSE)),\"\",IF(VLOOKUP($A10,'8eme'!$F:$M,8,FALSE)=BK$2,\"X\",\"\")),IF(VLOOKUP($A10,'8eme'!$B:$M,12,FALSE)=BK$2,\"X\",\"\"))","v":""},{"$f":"IF(ISERROR(VLOOKUP($A10,'8eme'!$B:$M,12,FALSE)),IF(ISERROR(VLOOKUP($A10,'8eme'!$F:$M,8,FALSE)),\"\",IF(VLOOKUP($A10,'8eme'!$F:$M,8,FALSE)=BL$2,\"X\",\"\")),IF(VLOOKUP($A10,'8eme'!$B:$M,12,FALSE)=BL$2,\"X\",\"\"))","v":""},{"$f":"IF(ISERROR(VLOOKUP($A10,'8eme'!$B:$M,12,FALSE)),IF(ISERROR(VLOOKUP($A10,'8eme'!$F:$M,8,FALSE)),\"\",IF(VLOOKUP($A10,'8eme'!$F:$M,8,FALSE)=BM$2,\"X\",\"\")),IF(VLOOKUP($A10,'8eme'!$B:$M,12,FALSE)=BM$2,\"X\",\"\"))","v":""},{"$f":"IF(ISERROR(VLOOKUP($A10,quart!$B:$M,12,FALSE)),IF(ISERROR(VLOOKUP($A10,quart!$F:$M,8,FALSE)),\"\",IF(VLOOKUP($A10,quart!$F:$M,8,FALSE)=BN$2,\"X\",\"\")),IF(VLOOKUP($A10,quart!$B:$M,12,FALSE)=BN$2,\"X\",\"\"))","v":""},{"$f":"IF(ISERROR(VLOOKUP($A10,quart!$B:$M,12,FALSE)),IF(ISERROR(VLOOKUP($A10,quart!$F:$M,8,FALSE)),\"\",IF(VLOOKUP($A10,quart!$F:$M,8,FALSE)=BO$2,\"X\",\"\")),IF(VLOOKUP($A10,quart!$B:$M,12,FALSE)=BO$2,\"X\",\"\"))","v":""},{"$f":"IF(ISERROR(VLOOKUP($A10,quart!$B:$M,12,FALSE)),IF(ISERROR(VLOOKUP($A10,quart!$F:$M,8,FALSE)),\"\",IF(VLOOKUP($A10,quart!$F:$M,8,FALSE)=BP$2,\"X\",\"\")),IF(VLOOKUP($A10,quart!$B:$M,12,FALSE)=BP$2,\"X\",\"\"))","v":""},{"$f":"IF(ISERROR(VLOOKUP($A10,quart!$B:$M,12,FALSE)),IF(ISERROR(VLOOKUP($A10,quart!$F:$M,8,FALSE)),\"\",IF(VLOOKUP($A10,quart!$F:$M,8,FALSE)=BQ$2,\"X\",\"\")),IF(VLOOKUP($A10,quart!$B:$M,12,FALSE)=BQ$2,\"X\",\"\"))","v":""},{"$f":"IF(ISERROR(VLOOKUP($A10,quart!$B:$M,12,FALSE)),IF(ISERROR(VLOOKUP($A10,quart!$F:$M,8,FALSE)),\"\",IF(VLOOKUP($A10,quart!$F:$M,8,FALSE)=BR$2,\"X\",\"\")),IF(VLOOKUP($A10,quart!$B:$M,12,FALSE)=BR$2,\"X\",\"\"))","v":""},{"$f":"IF(ISERROR(VLOOKUP($A10,quart!$B:$M,12,FALSE)),IF(ISERROR(VLOOKUP($A10,quart!$F:$M,8,FALSE)),\"\",IF(VLOOKUP($A10,quart!$F:$M,8,FALSE)=BS$2,\"X\",\"\")),IF(VLOOKUP($A10,quart!$B:$M,12,FALSE)=BS$2,\"X\",\"\"))","v":""},{"$f":"IF(ISERROR(VLOOKUP($A10,quart!$B:$M,12,FALSE)),IF(ISERROR(VLOOKUP($A10,quart!$F:$M,8,FALSE)),\"\",IF(VLOOKUP($A10,quart!$F:$M,8,FALSE)=BT$2,\"X\",\"\")),IF(VLOOKUP($A10,quart!$B:$M,12,FALSE)=BT$2,\"X\",\"\"))","v":""},{"$f":"IF(ISERROR(VLOOKUP($A10,quart!$B:$M,12,FALSE)),IF(ISERROR(VLOOKUP($A10,quart!$F:$M,8,FALSE)),\"\",IF(VLOOKUP($A10,quart!$F:$M,8,FALSE)=BU$2,\"X\",\"\")),IF(VLOOKUP($A10,quart!$B:$M,12,FALSE)=BU$2,\"X\",\"\"))","v":""},{"$f":"IF(ISERROR(VLOOKUP($A10,quart!$B:$M,12,FALSE)),IF(ISERROR(VLOOKUP($A10,quart!$F:$M,8,FALSE)),\"\",IF(VLOOKUP($A10,quart!$F:$M,8,FALSE)=BV$2,\"X\",\"\")),IF(VLOOKUP($A10,quart!$B:$M,12,FALSE)=BV$2,\"X\",\"\"))","v":""},{"$f":"IF(ISERROR(VLOOKUP($A10,quart!$B:$M,12,FALSE)),IF(ISERROR(VLOOKUP($A10,quart!$F:$M,8,FALSE)),\"\",IF(VLOOKUP($A10,quart!$F:$M,8,FALSE)=BW$2,\"X\",\"\")),IF(VLOOKUP($A10,quart!$B:$M,12,FALSE)=BW$2,\"X\",\"\"))","v":""},{"$f":"IF(ISERROR(VLOOKUP($A10,quart!$B:$M,12,FALSE)),IF(ISERROR(VLOOKUP($A10,quart!$F:$M,8,FALSE)),\"\",IF(VLOOKUP($A10,quart!$F:$M,8,FALSE)=BX$2,\"X\",\"\")),IF(VLOOKUP($A10,quart!$B:$M,12,FALSE)=BX$2,\"X\",\"\"))","v":""},{"$f":"IF(ISERROR(VLOOKUP($A10,quart!$B:$M,12,FALSE)),IF(ISERROR(VLOOKUP($A10,quart!$F:$M,8,FALSE)),\"\",IF(VLOOKUP($A10,quart!$F:$M,8,FALSE)=BY$2,\"X\",\"\")),IF(VLOOKUP($A10,quart!$B:$M,12,FALSE)=BY$2,\"X\",\"\"))","v":""},{"$f":"IF(ISERROR(VLOOKUP($A10,quart!$B:$M,12,FALSE)),IF(ISERROR(VLOOKUP($A10,quart!$F:$M,8,FALSE)),\"\",IF(VLOOKUP($A10,quart!$F:$M,8,FALSE)=BZ$2,\"X\",\"\")),IF(VLOOKUP($A10,quart!$B:$M,12,FALSE)=BZ$2,\"X\",\"\"))","v":""},{"$f":"IF(ISERROR(VLOOKUP($A10,quart!$B:$M,12,FALSE)),IF(ISERROR(VLOOKUP($A10,quart!$F:$M,8,FALSE)),\"\",IF(VLOOKUP($A10,quart!$F:$M,8,FALSE)=CA$2,\"X\",\"\")),IF(VLOOKUP($A10,quart!$B:$M,12,FALSE)=CA$2,\"X\",\"\"))","v":""},{"$f":"IF(ISERROR(VLOOKUP($A10,quart!$B:$M,12,FALSE)),IF(ISERROR(VLOOKUP($A10,quart!$F:$M,8,FALSE)),\"\",IF(VLOOKUP($A10,quart!$F:$M,8,FALSE)=CB$2,\"X\",\"\")),IF(VLOOKUP($A10,quart!$B:$M,12,FALSE)=CB$2,\"X\",\"\"))","v":""},{"$f":"IF(ISERROR(VLOOKUP($A10,quart!$B:$M,12,FALSE)),IF(ISERROR(VLOOKUP($A10,quart!$F:$M,8,FALSE)),\"\",IF(VLOOKUP($A10,quart!$F:$M,8,FALSE)=CC$2,\"X\",\"\")),IF(VLOOKUP($A10,quart!$B:$M,12,FALSE)=CC$2,\"X\",\"\"))","v":""},{"$f":"IF(ISERROR(VLOOKUP($A10,demi!$B:$M,12,FALSE)),IF(ISERROR(VLOOKUP($A10,demi!$F:$M,8,FALSE)),\"\",IF(VLOOKUP($A10,demi!$F:$M,8,FALSE)=CD$2,\"X\",\"\")),IF(VLOOKUP($A10,demi!$B:$M,12,FALSE)=CD$2,\"X\",\"\"))","v":""},{"$f":"IF(ISERROR(VLOOKUP($A10,demi!$B:$M,12,FALSE)),IF(ISERROR(VLOOKUP($A10,demi!$F:$M,8,FALSE)),\"\",IF(VLOOKUP($A10,demi!$F:$M,8,FALSE)=CE$2,\"X\",\"\")),IF(VLOOKUP($A10,demi!$B:$M,12,FALSE)=CE$2,\"X\",\"\"))","v":""},{"$f":"IF(ISERROR(VLOOKUP($A10,demi!$B:$M,12,FALSE)),IF(ISERROR(VLOOKUP($A10,demi!$F:$M,8,FALSE)),\"\",IF(VLOOKUP($A10,demi!$F:$M,8,FALSE)=CF$2,\"X\",\"\")),IF(VLOOKUP($A10,demi!$B:$M,12,FALSE)=CF$2,\"X\",\"\"))","v":""},{"$f":"IF(ISERROR(VLOOKUP($A10,demi!$B:$M,12,FALSE)),IF(ISERROR(VLOOKUP($A10,demi!$F:$M,8,FALSE)),\"\",IF(VLOOKUP($A10,demi!$F:$M,8,FALSE)=CG$2,\"X\",\"\")),IF(VLOOKUP($A10,demi!$B:$M,12,FALSE)=CG$2,\"X\",\"\"))","v":""},{"$f":"IF(ISERROR(VLOOKUP($A10,demi!$B:$M,12,FALSE)),IF(ISERROR(VLOOKUP($A10,demi!$F:$M,8,FALSE)),\"\",IF(VLOOKUP($A10,demi!$F:$M,8,FALSE)=CH$2,\"X\",\"\")),IF(VLOOKUP($A10,demi!$B:$M,12,FALSE)=CH$2,\"X\",\"\"))","v":""},{"$f":"IF(ISERROR(VLOOKUP($A10,demi!$B:$M,12,FALSE)),IF(ISERROR(VLOOKUP($A10,demi!$F:$M,8,FALSE)),\"\",IF(VLOOKUP($A10,demi!$F:$M,8,FALSE)=CI$2,\"X\",\"\")),IF(VLOOKUP($A10,demi!$B:$M,12,FALSE)=CI$2,\"X\",\"\"))","v":""},{"$f":"IF(ISERROR(VLOOKUP($A10,demi!$B:$M,12,FALSE)),IF(ISERROR(VLOOKUP($A10,demi!$F:$M,8,FALSE)),\"\",IF(VLOOKUP($A10,demi!$F:$M,8,FALSE)=CJ$2,\"X\",\"\")),IF(VLOOKUP($A10,demi!$B:$M,12,FALSE)=CJ$2,\"X\",\"\"))","v":""},{"$f":"IF(ISERROR(VLOOKUP($A10,demi!$B:$M,12,FALSE)),IF(ISERROR(VLOOKUP($A10,demi!$F:$M,8,FALSE)),\"\",IF(VLOOKUP($A10,demi!$F:$M,8,FALSE)=CK$2,\"X\",\"\")),IF(VLOOKUP($A10,demi!$B:$M,12,FALSE)=CK$2,\"X\",\"\"))","v":""},{"$f":"IF(ISERROR(VLOOKUP($A10,demi!$B:$M,12,FALSE)),IF(ISERROR(VLOOKUP($A10,demi!$F:$M,8,FALSE)),\"\",IF(VLOOKUP($A10,demi!$F:$M,8,FALSE)=CL$2,\"X\",\"\")),IF(VLOOKUP($A10,demi!$B:$M,12,FALSE)=CL$2,\"X\",\"\"))","v":""},{"$f":"IF(ISERROR(VLOOKUP($A10,demi!$B:$M,12,FALSE)),IF(ISERROR(VLOOKUP($A10,demi!$F:$M,8,FALSE)),\"\",IF(VLOOKUP($A10,demi!$F:$M,8,FALSE)=CM$2,\"X\",\"\")),IF(VLOOKUP($A10,demi!$B:$M,12,FALSE)=CM$2,\"X\",\"\"))","v":""},{"$f":"IF(ISERROR(VLOOKUP($A10,demi!$B:$M,12,FALSE)),IF(ISERROR(VLOOKUP($A10,demi!$F:$M,8,FALSE)),\"\",IF(VLOOKUP($A10,demi!$F:$M,8,FALSE)=CN$2,\"X\",\"\")),IF(VLOOKUP($A10,demi!$B:$M,12,FALSE)=CN$2,\"X\",\"\"))","v":""},{"$f":"IF(ISERROR(VLOOKUP($A10,demi!$B:$M,12,FALSE)),IF(ISERROR(VLOOKUP($A10,demi!$F:$M,8,FALSE)),\"\",IF(VLOOKUP($A10,demi!$F:$M,8,FALSE)=CO$2,\"X\",\"\")),IF(VLOOKUP($A10,demi!$B:$M,12,FALSE)=CO$2,\"X\",\"\"))","v":""},{"$f":"IF(ISERROR(VLOOKUP($A10,demi!$B:$M,12,FALSE)),IF(ISERROR(VLOOKUP($A10,demi!$F:$M,8,FALSE)),\"\",IF(VLOOKUP($A10,demi!$F:$M,8,FALSE)=CP$2,\"X\",\"\")),IF(VLOOKUP($A10,demi!$B:$M,12,FALSE)=CP$2,\"X\",\"\"))","v":""},{"$f":"IF(ISERROR(VLOOKUP($A10,demi!$B:$M,12,FALSE)),IF(ISERROR(VLOOKUP($A10,demi!$F:$M,8,FALSE)),\"\",IF(VLOOKUP($A10,demi!$F:$M,8,FALSE)=CQ$2,\"X\",\"\")),IF(VLOOKUP($A10,demi!$B:$M,12,FALSE)=CQ$2,\"X\",\"\"))","v":""},{"$f":"IF(ISERROR(VLOOKUP($A10,demi!$B:$M,12,FALSE)),IF(ISERROR(VLOOKUP($A10,demi!$F:$M,8,FALSE)),\"\",IF(VLOOKUP($A10,demi!$F:$M,8,FALSE)=CR$2,\"X\",\"\")),IF(VLOOKUP($A10,demi!$B:$M,12,FALSE)=CR$2,\"X\",\"\"))","v":""},{"$f":"IF(ISERROR(VLOOKUP($A10,demi!$B:$M,12,FALSE)),IF(ISERROR(VLOOKUP($A10,demi!$F:$M,8,FALSE)),\"\",IF(VLOOKUP($A10,demi!$F:$M,8,FALSE)=CS$2,\"X\",\"\")),IF(VLOOKUP($A10,demi!$B:$M,12,FALSE)=CS$2,\"X\",\"\"))","v":""}]
[9,"X","X","X","X","X","X","X","X","X","X","X","X","X","X","X","X",{"$f":"IF(ISERROR(VLOOKUP($A11,'32eme'!$B:$M,12,FALSE)),IF(ISERROR(VLOOKUP($A11,'32eme'!$F:$M,8,FALSE)),\"\",IF(VLOOKUP($A11,'32eme'!$F:$M,8,FALSE)=R$2,\"X\",\"\")),IF(VLOOKUP($A11,'32eme'!$B:$M,12,FALSE)=R$2,\"X\",\"\"))","v":""},{"$f":"IF(ISERROR(VLOOKUP($A11,'32eme'!$B:$M,12,FALSE)),IF(ISERROR(VLOOKUP($A11,'32eme'!$F:$M,8,FALSE)),\"\",IF(VLOOKUP($A11,'32eme'!$F:$M,8,FALSE)=S$2,\"X\",\"\")),IF(VLOOKUP($A11,'32eme'!$B:$M,12,FALSE)=S$2,\"X\",\"\"))","v":""},{"$f":"IF(ISERROR(VLOOKUP($A11,'32eme'!$B:$M,12,FALSE)),IF(ISERROR(VLOOKUP($A11,'32eme'!$F:$M,8,FALSE)),\"\",IF(VLOOKUP($A11,'32eme'!$F:$M,8,FALSE)=T$2,\"X\",\"\")),IF(VLOOKUP($A11,'32eme'!$B:$M,12,FALSE)=T$2,\"X\",\"\"))","v":""},{"$f":"IF(ISERROR(VLOOKUP($A11,'32eme'!$B:$M,12,FALSE)),IF(ISERROR(VLOOKUP($A11,'32eme'!$F:$M,8,FALSE)),\"\",IF(VLOOKUP($A11,'32eme'!$F:$M,8,FALSE)=U$2,\"X\",\"\")),IF(VLOOKUP($A11,'32eme'!$B:$M,12,FALSE)=U$2,\"X\",\"\"))","v":""},{"$f":"IF(ISERROR(VLOOKUP($A11,'32eme'!$B:$M,12,FALSE)),IF(ISERROR(VLOOKUP($A11,'32eme'!$F:$M,8,FALSE)),\"\",IF(VLOOKUP($A11,'32eme'!$F:$M,8,FALSE)=V$2,\"X\",\"\")),IF(VLOOKUP($A11,'32eme'!$B:$M,12,FALSE)=V$2,\"X\",\"\"))","v":""},{"$f":"IF(ISERROR(VLOOKUP($A11,'32eme'!$B:$M,12,FALSE)),IF(ISERROR(VLOOKUP($A11,'32eme'!$F:$M,8,FALSE)),\"\",IF(VLOOKUP($A11,'32eme'!$F:$M,8,FALSE)=W$2,\"X\",\"\")),IF(VLOOKUP($A11,'32eme'!$B:$M,12,FALSE)=W$2,\"X\",\"\"))","v":""},{"$f":"IF(ISERROR(VLOOKUP($A11,'32eme'!$B:$M,12,FALSE)),IF(ISERROR(VLOOKUP($A11,'32eme'!$F:$M,8,FALSE)),\"\",IF(VLOOKUP($A11,'32eme'!$F:$M,8,FALSE)=X$2,\"X\",\"\")),IF(VLOOKUP($A11,'32eme'!$B:$M,12,FALSE)=X$2,\"X\",\"\"))","v":""},{"$f":"IF(ISERROR(VLOOKUP($A11,'32eme'!$B:$M,12,FALSE)),IF(ISERROR(VLOOKUP($A11,'32eme'!$F:$M,8,FALSE)),\"\",IF(VLOOKUP($A11,'32eme'!$F:$M,8,FALSE)=Y$2,\"X\",\"\")),IF(VLOOKUP($A11,'32eme'!$B:$M,12,FALSE)=Y$2,\"X\",\"\"))","v":""},{"$f":"IF(ISERROR(VLOOKUP($A11,'32eme'!$B:$M,12,FALSE)),IF(ISERROR(VLOOKUP($A11,'32eme'!$F:$M,8,FALSE)),\"\",IF(VLOOKUP($A11,'32eme'!$F:$M,8,FALSE)=Z$2,\"X\",\"\")),IF(VLOOKUP($A11,'32eme'!$B:$M,12,FALSE)=Z$2,\"X\",\"\"))","v":""},{"$f":"IF(ISERROR(VLOOKUP($A11,'32eme'!$B:$M,12,FALSE)),IF(ISERROR(VLOOKUP($A11,'32eme'!$F:$M,8,FALSE)),\"\",IF(VLOOKUP($A11,'32eme'!$F:$M,8,FALSE)=AA$2,\"X\",\"\")),IF(VLOOKUP($A11,'32eme'!$B:$M,12,FALSE)=AA$2,\"X\",\"\"))","v":""},{"$f":"IF(ISERROR(VLOOKUP($A11,'32eme'!$B:$M,12,FALSE)),IF(ISERROR(VLOOKUP($A11,'32eme'!$F:$M,8,FALSE)),\"\",IF(VLOOKUP($A11,'32eme'!$F:$M,8,FALSE)=AB$2,\"X\",\"\")),IF(VLOOKUP($A11,'32eme'!$B:$M,12,FALSE)=AB$2,\"X\",\"\"))","v":""},{"$f":"IF(ISERROR(VLOOKUP($A11,'32eme'!$B:$M,12,FALSE)),IF(ISERROR(VLOOKUP($A11,'32eme'!$F:$M,8,FALSE)),\"\",IF(VLOOKUP($A11,'32eme'!$F:$M,8,FALSE)=AC$2,\"X\",\"\")),IF(VLOOKUP($A11,'32eme'!$B:$M,12,FALSE)=AC$2,\"X\",\"\"))","v":""},{"$f":"IF(ISERROR(VLOOKUP($A11,'32eme'!$B:$M,12,FALSE)),IF(ISERROR(VLOOKUP($A11,'32eme'!$F:$M,8,FALSE)),\"\",IF(VLOOKUP($A11,'32eme'!$F:$M,8,FALSE)=AD$2,\"X\",\"\")),IF(VLOOKUP($A11,'32eme'!$B:$M,12,FALSE)=AD$2,\"X\",\"\"))","v":""},{"$f":"IF(ISERROR(VLOOKUP($A11,'32eme'!$B:$M,12,FALSE)),IF(ISERROR(VLOOKUP($A11,'32eme'!$F:$M,8,FALSE)),\"\",IF(VLOOKUP($A11,'32eme'!$F:$M,8,FALSE)=AE$2,\"X\",\"\")),IF(VLOOKUP($A11,'32eme'!$B:$M,12,FALSE)=AE$2,\"X\",\"\"))","v":""},{"$f":"IF(ISERROR(VLOOKUP($A11,'32eme'!$B:$M,12,FALSE)),IF(ISERROR(VLOOKUP($A11,'32eme'!$F:$M,8,FALSE)),\"\",IF(VLOOKUP($A11,'32eme'!$F:$M,8,FALSE)=AF$2,\"X\",\"\")),IF(VLOOKUP($A11,'32eme'!$B:$M,12,FALSE)=AF$2,\"X\",\"\"))","v":""},{"$f":"IF(ISERROR(VLOOKUP($A11,'32eme'!$B:$M,12,FALSE)),IF(ISERROR(VLOOKUP($A11,'32eme'!$F:$M,8,FALSE)),\"\",IF(VLOOKUP($A11,'32eme'!$F:$M,8,FALSE)=AG$2,\"X\",\"\")),IF(VLOOKUP($A11,'32eme'!$B:$M,12,FALSE)=AG$2,\"X\",\"\"))","v":""},{"$f":"IF(ISERROR(VLOOKUP($A11,'16eme'!$B:$M,12,FALSE)),IF(ISERROR(VLOOKUP($A11,'16eme'!$F:$M,8,FALSE)),\"\",IF(VLOOKUP($A11,'16eme'!$F:$M,8,FALSE)=AH$2,\"X\",\"\")),IF(VLOOKUP($A11,'16eme'!$B:$M,12,FALSE)=AH$2,\"X\",\"\"))","v":""},{"$f":"IF(ISERROR(VLOOKUP($A11,'16eme'!$B:$M,12,FALSE)),IF(ISERROR(VLOOKUP($A11,'16eme'!$F:$M,8,FALSE)),\"\",IF(VLOOKUP($A11,'16eme'!$F:$M,8,FALSE)=AI$2,\"X\",\"\")),IF(VLOOKUP($A11,'16eme'!$B:$M,12,FALSE)=AI$2,\"X\",\"\"))","v":""},{"$f":"IF(ISERROR(VLOOKUP($A11,'16eme'!$B:$M,12,FALSE)),IF(ISERROR(VLOOKUP($A11,'16eme'!$F:$M,8,FALSE)),\"\",IF(VLOOKUP($A11,'16eme'!$F:$M,8,FALSE)=AJ$2,\"X\",\"\")),IF(VLOOKUP($A11,'16eme'!$B:$M,12,FALSE)=AJ$2,\"X\",\"\"))","v":""},{"$f":"IF(ISERROR(VLOOKUP($A11,'16eme'!$B:$M,12,FALSE)),IF(ISERROR(VLOOKUP($A11,'16eme'!$F:$M,8,FALSE)),\"\",IF(VLOOKUP($A11,'16eme'!$F:$M,8,FALSE)=AK$2,\"X\",\"\")),IF(VLOOKUP($A11,'16eme'!$B:$M,12,FALSE)=AK$2,\"X\",\"\"))","v":""},{"$f":"IF(ISERROR(VLOOKUP($A11,'16eme'!$B:$M,12,FALSE)),IF(ISERROR(VLOOKUP($A11,'16eme'!$F:$M,8,FALSE)),\"\",IF(VLOOKUP($A11,'16eme'!$F:$M,8,FALSE)=AL$2,\"X\",\"\")),IF(VLOOKUP($A11,'16eme'!$B:$M,12,FALSE)=AL$2,\"X\",\"\"))","v":""},{"$f":"IF(ISERROR(VLOOKUP($A11,'16eme'!$B:$M,12,FALSE)),IF(ISERROR(VLOOKUP($A11,'16eme'!$F:$M,8,FALSE)),\"\",IF(VLOOKUP($A11,'16eme'!$F:$M,8,FALSE)=AM$2,\"X\",\"\")),IF(VLOOKUP($A11,'16eme'!$B:$M,12,FALSE)=AM$2,\"X\",\"\"))","v":""},{"$f":"IF(ISERROR(VLOOKUP($A11,'16eme'!$B:$M,12,FALSE)),IF(ISERROR(VLOOKUP($A11,'16eme'!$F:$M,8,FALSE)),\"\",IF(VLOOKUP($A11,'16eme'!$F:$M,8,FALSE)=AN$2,\"X\",\"\")),IF(VLOOKUP($A11,'16eme'!$B:$M,12,FALSE)=AN$2,\"X\",\"\"))","v":""},{"$f":"IF(ISERROR(VLOOKUP($A11,'16eme'!$B:$M,12,FALSE)),IF(ISERROR(VLOOKUP($A11,'16eme'!$F:$M,8,FALSE)),\"\",IF(VLOOKUP($A11,'16eme'!$F:$M,8,FALSE)=AO$2,\"X\",\"\")),IF(VLOOKUP($A11,'16eme'!$B:$M,12,FALSE)=AO$2,\"X\",\"\"))","v":""},{"$f":"IF(ISERROR(VLOOKUP($A11,'16eme'!$B:$M,12,FALSE)),IF(ISERROR(VLOOKUP($A11,'16eme'!$F:$M,8,FALSE)),\"\",IF(VLOOKUP($A11,'16eme'!$F:$M,8,FALSE)=AP$2,\"X\",\"\")),IF(VLOOKUP($A11,'16eme'!$B:$M,12,FALSE)=AP$2,\"X\",\"\"))","v":""},{"$f":"IF(ISERROR(VLOOKUP($A11,'16eme'!$B:$M,12,FALSE)),IF(ISERROR(VLOOKUP($A11,'16eme'!$F:$M,8,FALSE)),\"\",IF(VLOOKUP($A11,'16eme'!$F:$M,8,FALSE)=AQ$2,\"X\",\"\")),IF(VLOOKUP($A11,'16eme'!$B:$M,12,FALSE)=AQ$2,\"X\",\"\"))","v":""},{"$f":"IF(ISERROR(VLOOKUP($A11,'16eme'!$B:$M,12,FALSE)),IF(ISERROR(VLOOKUP($A11,'16eme'!$F:$M,8,FALSE)),\"\",IF(VLOOKUP($A11,'16eme'!$F:$M,8,FALSE)=AR$2,\"X\",\"\")),IF(VLOOKUP($A11,'16eme'!$B:$M,12,FALSE)=AR$2,\"X\",\"\"))","v":""},{"$f":"IF(ISERROR(VLOOKUP($A11,'16eme'!$B:$M,12,FALSE)),IF(ISERROR(VLOOKUP($A11,'16eme'!$F:$M,8,FALSE)),\"\",IF(VLOOKUP($A11,'16eme'!$F:$M,8,FALSE)=AS$2,\"X\",\"\")),IF(VLOOKUP($A11,'16eme'!$B:$M,12,FALSE)=AS$2,\"X\",\"\"))","v":""},{"$f":"IF(ISERROR(VLOOKUP($A11,'16eme'!$B:$M,12,FALSE)),IF(ISERROR(VLOOKUP($A11,'16eme'!$F:$M,8,FALSE)),\"\",IF(VLOOKUP($A11,'16eme'!$F:$M,8,FALSE)=AT$2,\"X\",\"\")),IF(VLOOKUP($A11,'16eme'!$B:$M,12,FALSE)=AT$2,\"X\",\"\"))","v":""},{"$f":"IF(ISERROR(VLOOKUP($A11,'16eme'!$B:$M,12,FALSE)),IF(ISERROR(VLOOKUP($A11,'16eme'!$F:$M,8,FALSE)),\"\",IF(VLOOKUP($A11,'16eme'!$F:$M,8,FALSE)=AU$2,\"X\",\"\")),IF(VLOOKUP($A11,'16eme'!$B:$M,12,FALSE)=AU$2,\"X\",\"\"))","v":""},{"$f":"IF(ISERROR(VLOOKUP($A11,'16eme'!$B:$M,12,FALSE)),IF(ISERROR(VLOOKUP($A11,'16eme'!$F:$M,8,FALSE)),\"\",IF(VLOOKUP($A11,'16eme'!$F:$M,8,FALSE)=AV$2,\"X\",\"\")),IF(VLOOKUP($A11,'16eme'!$B:$M,12,FALSE)=AV$2,\"X\",\"\"))","v":""},{"$f":"IF(ISERROR(VLOOKUP($A11,'16eme'!$B:$M,12,FALSE)),IF(ISERROR(VLOOKUP($A11,'16eme'!$F:$M,8,FALSE)),\"\",IF(VLOOKUP($A11,'16eme'!$F:$M,8,FALSE)=AW$2,\"X\",\"\")),IF(VLOOKUP($A11,'16eme'!$B:$M,12,FALSE)=AW$2,\"X\",\"\"))","v":""},{"$f":"IF(ISERROR(VLOOKUP($A11,'8eme'!$B:$M,12,FALSE)),IF(ISERROR(VLOOKUP($A11,'8eme'!$F:$M,8,FALSE)),\"\",IF(VLOOKUP($A11,'8eme'!$F:$M,8,FALSE)=AX$2,\"X\",\"\")),IF(VLOOKUP($A11,'8eme'!$B:$M,12,FALSE)=AX$2,\"X\",\"\"))","v":""},{"$f":"IF(ISERROR(VLOOKUP($A11,'8eme'!$B:$M,12,FALSE)),IF(ISERROR(VLOOKUP($A11,'8eme'!$F:$M,8,FALSE)),\"\",IF(VLOOKUP($A11,'8eme'!$F:$M,8,FALSE)=AY$2,\"X\",\"\")),IF(VLOOKUP($A11,'8eme'!$B:$M,12,FALSE)=AY$2,\"X\",\"\"))","v":""},{"$f":"IF(ISERROR(VLOOKUP($A11,'8eme'!$B:$M,12,FALSE)),IF(ISERROR(VLOOKUP($A11,'8eme'!$F:$M,8,FALSE)),\"\",IF(VLOOKUP($A11,'8eme'!$F:$M,8,FALSE)=AZ$2,\"X\",\"\")),IF(VLOOKUP($A11,'8eme'!$B:$M,12,FALSE)=AZ$2,\"X\",\"\"))","v":""},{"$f":"IF(ISERROR(VLOOKUP($A11,'8eme'!$B:$M,12,FALSE)),IF(ISERROR(VLOOKUP($A11,'8eme'!$F:$M,8,FALSE)),\"\",IF(VLOOKUP($A11,'8eme'!$F:$M,8,FALSE)=BA$2,\"X\",\"\")),IF(VLOOKUP($A11,'8eme'!$B:$M,12,FALSE)=BA$2,\"X\",\"\"))","v":""},{"$f":"IF(ISERROR(VLOOKUP($A11,'8eme'!$B:$M,12,FALSE)),IF(ISERROR(VLOOKUP($A11,'8eme'!$F:$M,8,FALSE)),\"\",IF(VLOOKUP($A11,'8eme'!$F:$M,8,FALSE)=BB$2,\"X\",\"\")),IF(VLOOKUP($A11,'8eme'!$B:$M,12,FALSE)=BB$2,\"X\",\"\"))","v":""},{"$f":"IF(ISERROR(VLOOKUP($A11,'8eme'!$B:$M,12,FALSE)),IF(ISERROR(VLOOKUP($A11,'8eme'!$F:$M,8,FALSE)),\"\",IF(VLOOKUP($A11,'8eme'!$F:$M,8,FALSE)=BC$2,\"X\",\"\")),IF(VLOOKUP($A11,'8eme'!$B:$M,12,FALSE)=BC$2,\"X\",\"\"))","v":""},{"$f":"IF(ISERROR(VLOOKUP($A11,'8eme'!$B:$M,12,FALSE)),IF(ISERROR(VLOOKUP($A11,'8eme'!$F:$M,8,FALSE)),\"\",IF(VLOOKUP($A11,'8eme'!$F:$M,8,FALSE)=BD$2,\"X\",\"\")),IF(VLOOKUP($A11,'8eme'!$B:$M,12,FALSE)=BD$2,\"X\",\"\"))","v":""},{"$f":"IF(ISERROR(VLOOKUP($A11,'8eme'!$B:$M,12,FALSE)),IF(ISERROR(VLOOKUP($A11,'8eme'!$F:$M,8,FALSE)),\"\",IF(VLOOKUP($A11,'8eme'!$F:$M,8,FALSE)=BE$2,\"X\",\"\")),IF(VLOOKUP($A11,'8eme'!$B:$M,12,FALSE)=BE$2,\"X\",\"\"))","v":""},{"$f":"IF(ISERROR(VLOOKUP($A11,'8eme'!$B:$M,12,FALSE)),IF(ISERROR(VLOOKUP($A11,'8eme'!$F:$M,8,FALSE)),\"\",IF(VLOOKUP($A11,'8eme'!$F:$M,8,FALSE)=BF$2,\"X\",\"\")),IF(VLOOKUP($A11,'8eme'!$B:$M,12,FALSE)=BF$2,\"X\",\"\"))","v":""},{"$f":"IF(ISERROR(VLOOKUP($A11,'8eme'!$B:$M,12,FALSE)),IF(ISERROR(VLOOKUP($A11,'8eme'!$F:$M,8,FALSE)),\"\",IF(VLOOKUP($A11,'8eme'!$F:$M,8,FALSE)=BG$2,\"X\",\"\")),IF(VLOOKUP($A11,'8eme'!$B:$M,12,FALSE)=BG$2,\"X\",\"\"))","v":""},{"$f":"IF(ISERROR(VLOOKUP($A11,'8eme'!$B:$M,12,FALSE)),IF(ISERROR(VLOOKUP($A11,'8eme'!$F:$M,8,FALSE)),\"\",IF(VLOOKUP($A11,'8eme'!$F:$M,8,FALSE)=BH$2,\"X\",\"\")),IF(VLOOKUP($A11,'8eme'!$B:$M,12,FALSE)=BH$2,\"X\",\"\"))","v":""},{"$f":"IF(ISERROR(VLOOKUP($A11,'8eme'!$B:$M,12,FALSE)),IF(ISERROR(VLOOKUP($A11,'8eme'!$F:$M,8,FALSE)),\"\",IF(VLOOKUP($A11,'8eme'!$F:$M,8,FALSE)=BI$2,\"X\",\"\")),IF(VLOOKUP($A11,'8eme'!$B:$M,12,FALSE)=BI$2,\"X\",\"\"))","v":""},{"$f":"IF(ISERROR(VLOOKUP($A11,'8eme'!$B:$M,12,FALSE)),IF(ISERROR(VLOOKUP($A11,'8eme'!$F:$M,8,FALSE)),\"\",IF(VLOOKUP($A11,'8eme'!$F:$M,8,FALSE)=BJ$2,\"X\",\"\")),IF(VLOOKUP($A11,'8eme'!$B:$M,12,FALSE)=BJ$2,\"X\",\"\"))","v":""},{"$f":"IF(ISERROR(VLOOKUP($A11,'8eme'!$B:$M,12,FALSE)),IF(ISERROR(VLOOKUP($A11,'8eme'!$F:$M,8,FALSE)),\"\",IF(VLOOKUP($A11,'8eme'!$F:$M,8,FALSE)=BK$2,\"X\",\"\")),IF(VLOOKUP($A11,'8eme'!$B:$M,12,FALSE)=BK$2,\"X\",\"\"))","v":""},{"$f":"IF(ISERROR(VLOOKUP($A11,'8eme'!$B:$M,12,FALSE)),IF(ISERROR(VLOOKUP($A11,'8eme'!$F:$M,8,FALSE)),\"\",IF(VLOOKUP($A11,'8eme'!$F:$M,8,FALSE)=BL$2,\"X\",\"\")),IF(VLOOKUP($A11,'8eme'!$B:$M,12,FALSE)=BL$2,\"X\",\"\"))","v":""},{"$f":"IF(ISERROR(VLOOKUP($A11,'8eme'!$B:$M,12,FALSE)),IF(ISERROR(VLOOKUP($A11,'8eme'!$F:$M,8,FALSE)),\"\",IF(VLOOKUP($A11,'8eme'!$F:$M,8,FALSE)=BM$2,\"X\",\"\")),IF(VLOOKUP($A11,'8eme'!$B:$M,12,FALSE)=BM$2,\"X\",\"\"))","v":""},{"$f":"IF(ISERROR(VLOOKUP($A11,quart!$B:$M,12,FALSE)),IF(ISERROR(VLOOKUP($A11,quart!$F:$M,8,FALSE)),\"\",IF(VLOOKUP($A11,quart!$F:$M,8,FALSE)=BN$2,\"X\",\"\")),IF(VLOOKUP($A11,quart!$B:$M,12,FALSE)=BN$2,\"X\",\"\"))","v":""},{"$f":"IF(ISERROR(VLOOKUP($A11,quart!$B:$M,12,FALSE)),IF(ISERROR(VLOOKUP($A11,quart!$F:$M,8,FALSE)),\"\",IF(VLOOKUP($A11,quart!$F:$M,8,FALSE)=BO$2,\"X\",\"\")),IF(VLOOKUP($A11,quart!$B:$M,12,FALSE)=BO$2,\"X\",\"\"))","v":""},{"$f":"IF(ISERROR(VLOOKUP($A11,quart!$B:$M,12,FALSE)),IF(ISERROR(VLOOKUP($A11,quart!$F:$M,8,FALSE)),\"\",IF(VLOOKUP($A11,quart!$F:$M,8,FALSE)=BP$2,\"X\",\"\")),IF(VLOOKUP($A11,quart!$B:$M,12,FALSE)=BP$2,\"X\",\"\"))","v":""},{"$f":"IF(ISERROR(VLOOKUP($A11,quart!$B:$M,12,FALSE)),IF(ISERROR(VLOOKUP($A11,quart!$F:$M,8,FALSE)),\"\",IF(VLOOKUP($A11,quart!$F:$M,8,FALSE)=BQ$2,\"X\",\"\")),IF(VLOOKUP($A11,quart!$B:$M,12,FALSE)=BQ$2,\"X\",\"\"))","v":""},{"$f":"IF(ISERROR(VLOOKUP($A11,quart!$B:$M,12,FALSE)),IF(ISERROR(VLOOKUP($A11,quart!$F:$M,8,FALSE)),\"\",IF(VLOOKUP($A11,quart!$F:$M,8,FALSE)=BR$2,\"X\",\"\")),IF(VLOOKUP($A11,quart!$B:$M,12,FALSE)=BR$2,\"X\",\"\"))","v":""},{"$f":"IF(ISERROR(VLOOKUP($A11,quart!$B:$M,12,FALSE)),IF(ISERROR(VLOOKUP($A11,quart!$F:$M,8,FALSE)),\"\",IF(VLOOKUP($A11,quart!$F:$M,8,FALSE)=BS$2,\"X\",\"\")),IF(VLOOKUP($A11,quart!$B:$M,12,FALSE)=BS$2,\"X\",\"\"))","v":""},{"$f":"IF(ISERROR(VLOOKUP($A11,quart!$B:$M,12,FALSE)),IF(ISERROR(VLOOKUP($A11,quart!$F:$M,8,FALSE)),\"\",IF(VLOOKUP($A11,quart!$F:$M,8,FALSE)=BT$2,\"X\",\"\")),IF(VLOOKUP($A11,quart!$B:$M,12,FALSE)=BT$2,\"X\",\"\"))","v":""},{"$f":"IF(ISERROR(VLOOKUP($A11,quart!$B:$M,12,FALSE)),IF(ISERROR(VLOOKUP($A11,quart!$F:$M,8,FALSE)),\"\",IF(VLOOKUP($A11,quart!$F:$M,8,FALSE)=BU$2,\"X\",\"\")),IF(VLOOKUP($A11,quart!$B:$M,12,FALSE)=BU$2,\"X\",\"\"))","v":""},{"$f":"IF(ISERROR(VLOOKUP($A11,quart!$B:$M,12,FALSE)),IF(ISERROR(VLOOKUP($A11,quart!$F:$M,8,FALSE)),\"\",IF(VLOOKUP($A11,quart!$F:$M,8,FALSE)=BV$2,\"X\",\"\")),IF(VLOOKUP($A11,quart!$B:$M,12,FALSE)=BV$2,\"X\",\"\"))","v":""},{"$f":"IF(ISERROR(VLOOKUP($A11,quart!$B:$M,12,FALSE)),IF(ISERROR(VLOOKUP($A11,quart!$F:$M,8,FALSE)),\"\",IF(VLOOKUP($A11,quart!$F:$M,8,FALSE)=BW$2,\"X\",\"\")),IF(VLOOKUP($A11,quart!$B:$M,12,FALSE)=BW$2,\"X\",\"\"))","v":""},{"$f":"IF(ISERROR(VLOOKUP($A11,quart!$B:$M,12,FALSE)),IF(ISERROR(VLOOKUP($A11,quart!$F:$M,8,FALSE)),\"\",IF(VLOOKUP($A11,quart!$F:$M,8,FALSE)=BX$2,\"X\",\"\")),IF(VLOOKUP($A11,quart!$B:$M,12,FALSE)=BX$2,\"X\",\"\"))","v":""},{"$f":"IF(ISERROR(VLOOKUP($A11,quart!$B:$M,12,FALSE)),IF(ISERROR(VLOOKUP($A11,quart!$F:$M,8,FALSE)),\"\",IF(VLOOKUP($A11,quart!$F:$M,8,FALSE)=BY$2,\"X\",\"\")),IF(VLOOKUP($A11,quart!$B:$M,12,FALSE)=BY$2,\"X\",\"\"))","v":""},{"$f":"IF(ISERROR(VLOOKUP($A11,quart!$B:$M,12,FALSE)),IF(ISERROR(VLOOKUP($A11,quart!$F:$M,8,FALSE)),\"\",IF(VLOOKUP($A11,quart!$F:$M,8,FALSE)=BZ$2,\"X\",\"\")),IF(VLOOKUP($A11,quart!$B:$M,12,FALSE)=BZ$2,\"X\",\"\"))","v":""},{"$f":"IF(ISERROR(VLOOKUP($A11,quart!$B:$M,12,FALSE)),IF(ISERROR(VLOOKUP($A11,quart!$F:$M,8,FALSE)),\"\",IF(VLOOKUP($A11,quart!$F:$M,8,FALSE)=CA$2,\"X\",\"\")),IF(VLOOKUP($A11,quart!$B:$M,12,FALSE)=CA$2,\"X\",\"\"))","v":""},{"$f":"IF(ISERROR(VLOOKUP($A11,quart!$B:$M,12,FALSE)),IF(ISERROR(VLOOKUP($A11,quart!$F:$M,8,FALSE)),\"\",IF(VLOOKUP($A11,quart!$F:$M,8,FALSE)=CB$2,\"X\",\"\")),IF(VLOOKUP($A11,quart!$B:$M,12,FALSE)=CB$2,\"X\",\"\"))","v":""},{"$f":"IF(ISERROR(VLOOKUP($A11,quart!$B:$M,12,FALSE)),IF(ISERROR(VLOOKUP($A11,quart!$F:$M,8,FALSE)),\"\",IF(VLOOKUP($A11,quart!$F:$M,8,FALSE)=CC$2,\"X\",\"\")),IF(VLOOKUP($A11,quart!$B:$M,12,FALSE)=CC$2,\"X\",\"\"))","v":""},{"$f":"IF(ISERROR(VLOOKUP($A11,demi!$B:$M,12,FALSE)),IF(ISERROR(VLOOKUP($A11,demi!$F:$M,8,FALSE)),\"\",IF(VLOOKUP($A11,demi!$F:$M,8,FALSE)=CD$2,\"X\",\"\")),IF(VLOOKUP($A11,demi!$B:$M,12,FALSE)=CD$2,\"X\",\"\"))","v":""},{"$f":"IF(ISERROR(VLOOKUP($A11,demi!$B:$M,12,FALSE)),IF(ISERROR(VLOOKUP($A11,demi!$F:$M,8,FALSE)),\"\",IF(VLOOKUP($A11,demi!$F:$M,8,FALSE)=CE$2,\"X\",\"\")),IF(VLOOKUP($A11,demi!$B:$M,12,FALSE)=CE$2,\"X\",\"\"))","v":""},{"$f":"IF(ISERROR(VLOOKUP($A11,demi!$B:$M,12,FALSE)),IF(ISERROR(VLOOKUP($A11,demi!$F:$M,8,FALSE)),\"\",IF(VLOOKUP($A11,demi!$F:$M,8,FALSE)=CF$2,\"X\",\"\")),IF(VLOOKUP($A11,demi!$B:$M,12,FALSE)=CF$2,\"X\",\"\"))","v":""},{"$f":"IF(ISERROR(VLOOKUP($A11,demi!$B:$M,12,FALSE)),IF(ISERROR(VLOOKUP($A11,demi!$F:$M,8,FALSE)),\"\",IF(VLOOKUP($A11,demi!$F:$M,8,FALSE)=CG$2,\"X\",\"\")),IF(VLOOKUP($A11,demi!$B:$M,12,FALSE)=CG$2,\"X\",\"\"))","v":""},{"$f":"IF(ISERROR(VLOOKUP($A11,demi!$B:$M,12,FALSE)),IF(ISERROR(VLOOKUP($A11,demi!$F:$M,8,FALSE)),\"\",IF(VLOOKUP($A11,demi!$F:$M,8,FALSE)=CH$2,\"X\",\"\")),IF(VLOOKUP($A11,demi!$B:$M,12,FALSE)=CH$2,\"X\",\"\"))","v":""},{"$f":"IF(ISERROR(VLOOKUP($A11,demi!$B:$M,12,FALSE)),IF(ISERROR(VLOOKUP($A11,demi!$F:$M,8,FALSE)),\"\",IF(VLOOKUP($A11,demi!$F:$M,8,FALSE)=CI$2,\"X\",\"\")),IF(VLOOKUP($A11,demi!$B:$M,12,FALSE)=CI$2,\"X\",\"\"))","v":""},{"$f":"IF(ISERROR(VLOOKUP($A11,demi!$B:$M,12,FALSE)),IF(ISERROR(VLOOKUP($A11,demi!$F:$M,8,FALSE)),\"\",IF(VLOOKUP($A11,demi!$F:$M,8,FALSE)=CJ$2,\"X\",\"\")),IF(VLOOKUP($A11,demi!$B:$M,12,FALSE)=CJ$2,\"X\",\"\"))","v":""},{"$f":"IF(ISERROR(VLOOKUP($A11,demi!$B:$M,12,FALSE)),IF(ISERROR(VLOOKUP($A11,demi!$F:$M,8,FALSE)),\"\",IF(VLOOKUP($A11,demi!$F:$M,8,FALSE)=CK$2,\"X\",\"\")),IF(VLOOKUP($A11,demi!$B:$M,12,FALSE)=CK$2,\"X\",\"\"))","v":""},{"$f":"IF(ISERROR(VLOOKUP($A11,demi!$B:$M,12,FALSE)),IF(ISERROR(VLOOKUP($A11,demi!$F:$M,8,FALSE)),\"\",IF(VLOOKUP($A11,demi!$F:$M,8,FALSE)=CL$2,\"X\",\"\")),IF(VLOOKUP($A11,demi!$B:$M,12,FALSE)=CL$2,\"X\",\"\"))","v":""},{"$f":"IF(ISERROR(VLOOKUP($A11,demi!$B:$M,12,FALSE)),IF(ISERROR(VLOOKUP($A11,demi!$F:$M,8,FALSE)),\"\",IF(VLOOKUP($A11,demi!$F:$M,8,FALSE)=CM$2,\"X\",\"\")),IF(VLOOKUP($A11,demi!$B:$M,12,FALSE)=CM$2,\"X\",\"\"))","v":""},{"$f":"IF(ISERROR(VLOOKUP($A11,demi!$B:$M,12,FALSE)),IF(ISERROR(VLOOKUP($A11,demi!$F:$M,8,FALSE)),\"\",IF(VLOOKUP($A11,demi!$F:$M,8,FALSE)=CN$2,\"X\",\"\")),IF(VLOOKUP($A11,demi!$B:$M,12,FALSE)=CN$2,\"X\",\"\"))","v":""},{"$f":"IF(ISERROR(VLOOKUP($A11,demi!$B:$M,12,FALSE)),IF(ISERROR(VLOOKUP($A11,demi!$F:$M,8,FALSE)),\"\",IF(VLOOKUP($A11,demi!$F:$M,8,FALSE)=CO$2,\"X\",\"\")),IF(VLOOKUP($A11,demi!$B:$M,12,FALSE)=CO$2,\"X\",\"\"))","v":""},{"$f":"IF(ISERROR(VLOOKUP($A11,demi!$B:$M,12,FALSE)),IF(ISERROR(VLOOKUP($A11,demi!$F:$M,8,FALSE)),\"\",IF(VLOOKUP($A11,demi!$F:$M,8,FALSE)=CP$2,\"X\",\"\")),IF(VLOOKUP($A11,demi!$B:$M,12,FALSE)=CP$2,\"X\",\"\"))","v":""},{"$f":"IF(ISERROR(VLOOKUP($A11,demi!$B:$M,12,FALSE)),IF(ISERROR(VLOOKUP($A11,demi!$F:$M,8,FALSE)),\"\",IF(VLOOKUP($A11,demi!$F:$M,8,FALSE)=CQ$2,\"X\",\"\")),IF(VLOOKUP($A11,demi!$B:$M,12,FALSE)=CQ$2,\"X\",\"\"))","v":""},{"$f":"IF(ISERROR(VLOOKUP($A11,demi!$B:$M,12,FALSE)),IF(ISERROR(VLOOKUP($A11,demi!$F:$M,8,FALSE)),\"\",IF(VLOOKUP($A11,demi!$F:$M,8,FALSE)=CR$2,\"X\",\"\")),IF(VLOOKUP($A11,demi!$B:$M,12,FALSE)=CR$2,\"X\",\"\"))","v":""},{"$f":"IF(ISERROR(VLOOKUP($A11,demi!$B:$M,12,FALSE)),IF(ISERROR(VLOOKUP($A11,demi!$F:$M,8,FALSE)),\"\",IF(VLOOKUP($A11,demi!$F:$M,8,FALSE)=CS$2,\"X\",\"\")),IF(VLOOKUP($A11,demi!$B:$M,12,FALSE)=CS$2,\"X\",\"\"))","v":""}]
[10,"X","X","X","X","X","X","X","X","X","X","X","X","X","X","X","X",{"$f":"IF(ISERROR(VLOOKUP($A12,'32eme'!$B:$M,12,FALSE)),IF(ISERROR(VLOOKUP($A12,'32eme'!$F:$M,8,FALSE)),\"\",IF(VLOOKUP($A12,'32eme'!$F:$M,8,FALSE)=R$2,\"X\",\"\")),IF(VLOOKUP($A12,'32eme'!$B:$M,12,FALSE)=R$2,\"X\",\"\"))","v":""},{"$f":"IF(ISERROR(VLOOKUP($A12,'32eme'!$B:$M,12,FALSE)),IF(ISERROR(VLOOKUP($A12,'32eme'!$F:$M,8,FALSE)),\"\",IF(VLOOKUP($A12,'32eme'!$F:$M,8,FALSE)=S$2,\"X\",\"\")),IF(VLOOKUP($A12,'32eme'!$B:$M,12,FALSE)=S$2,\"X\",\"\"))","v":""},{"$f":"IF(ISERROR(VLOOKUP($A12,'32eme'!$B:$M,12,FALSE)),IF(ISERROR(VLOOKUP($A12,'32eme'!$F:$M,8,FALSE)),\"\",IF(VLOOKUP($A12,'32eme'!$F:$M,8,FALSE)=T$2,\"X\",\"\")),IF(VLOOKUP($A12,'32eme'!$B:$M,12,FALSE)=T$2,\"X\",\"\"))","v":""},{"$f":"IF(ISERROR(VLOOKUP($A12,'32eme'!$B:$M,12,FALSE)),IF(ISERROR(VLOOKUP($A12,'32eme'!$F:$M,8,FALSE)),\"\",IF(VLOOKUP($A12,'32eme'!$F:$M,8,FALSE)=U$2,\"X\",\"\")),IF(VLOOKUP($A12,'32eme'!$B:$M,12,FALSE)=U$2,\"X\",\"\"))","v":""},{"$f":"IF(ISERROR(VLOOKUP($A12,'32eme'!$B:$M,12,FALSE)),IF(ISERROR(VLOOKUP($A12,'32eme'!$F:$M,8,FALSE)),\"\",IF(VLOOKUP($A12,'32eme'!$F:$M,8,FALSE)=V$2,\"X\",\"\")),IF(VLOOKUP($A12,'32eme'!$B:$M,12,FALSE)=V$2,\"X\",\"\"))","v":""},{"$f":"IF(ISERROR(VLOOKUP($A12,'32eme'!$B:$M,12,FALSE)),IF(ISERROR(VLOOKUP($A12,'32eme'!$F:$M,8,FALSE)),\"\",IF(VLOOKUP($A12,'32eme'!$F:$M,8,FALSE)=W$2,\"X\",\"\")),IF(VLOOKUP($A12,'32eme'!$B:$M,12,FALSE)=W$2,\"X\",\"\"))","v":""},{"$f":"IF(ISERROR(VLOOKUP($A12,'32eme'!$B:$M,12,FALSE)),IF(ISERROR(VLOOKUP($A12,'32eme'!$F:$M,8,FALSE)),\"\",IF(VLOOKUP($A12,'32eme'!$F:$M,8,FALSE)=X$2,\"X\",\"\")),IF(VLOOKUP($A12,'32eme'!$B:$M,12,FALSE)=X$2,\"X\",\"\"))","v":""},{"$f":"IF(ISERROR(VLOOKUP($A12,'32eme'!$B:$M,12,FALSE)),IF(ISERROR(VLOOKUP($A12,'32eme'!$F:$M,8,FALSE)),\"\",IF(VLOOKUP($A12,'32eme'!$F:$M,8,FALSE)=Y$2,\"X\",\"\")),IF(VLOOKUP($A12,'32eme'!$B:$M,12,FALSE)=Y$2,\"X\",\"\"))","v":""},{"$f":"IF(ISERROR(VLOOKUP($A12,'32eme'!$B:$M,12,FALSE)),IF(ISERROR(VLOOKUP($A12,'32eme'!$F:$M,8,FALSE)),\"\",IF(VLOOKUP($A12,'32eme'!$F:$M,8,FALSE)=Z$2,\"X\",\"\")),IF(VLOOKUP($A12,'32eme'!$B:$M,12,FALSE)=Z$2,\"X\",\"\"))","v":""},{"$f":"IF(ISERROR(VLOOKUP($A12,'32eme'!$B:$M,12,FALSE)),IF(ISERROR(VLOOKUP($A12,'32eme'!$F:$M,8,FALSE)),\"\",IF(VLOOKUP($A12,'32eme'!$F:$M,8,FALSE)=AA$2,\"X\",\"\")),IF(VLOOKUP($A12,'32eme'!$B:$M,12,FALSE)=AA$2,\"X\",\"\"))","v":""},{"$f":"IF(ISERROR(VLOOKUP($A12,'32eme'!$B:$M,12,FALSE)),IF(ISERROR(VLOOKUP($A12,'32eme'!$F:$M,8,FALSE)),\"\",IF(VLOOKUP($A12,'32eme'!$F:$M,8,FALSE)=AB$2,\"X\",\"\")),IF(VLOOKUP($A12,'32eme'!$B:$M,12,FALSE)=AB$2,\"X\",\"\"))","v":""},{"$f":"IF(ISERROR(VLOOKUP($A12,'32eme'!$B:$M,12,FALSE)),IF(ISERROR(VLOOKUP($A12,'32eme'!$F:$M,8,FALSE)),\"\",IF(VLOOKUP($A12,'32eme'!$F:$M,8,FALSE)=AC$2,\"X\",\"\")),IF(VLOOKUP($A12,'32eme'!$B:$M,12,FALSE)=AC$2,\"X\",\"\"))","v":""},{"$f":"IF(ISERROR(VLOOKUP($A12,'32eme'!$B:$M,12,FALSE)),IF(ISERROR(VLOOKUP($A12,'32eme'!$F:$M,8,FALSE)),\"\",IF(VLOOKUP($A12,'32eme'!$F:$M,8,FALSE)=AD$2,\"X\",\"\")),IF(VLOOKUP($A12,'32eme'!$B:$M,12,FALSE)=AD$2,\"X\",\"\"))","v":""},{"$f":"IF(ISERROR(VLOOKUP($A12,'32eme'!$B:$M,12,FALSE)),IF(ISERROR(VLOOKUP($A12,'32eme'!$F:$M,8,FALSE)),\"\",IF(VLOOKUP($A12,'32eme'!$F:$M,8,FALSE)=AE$2,\"X\",\"\")),IF(VLOOKUP($A12,'32eme'!$B:$M,12,FALSE)=AE$2,\"X\",\"\"))","v":""},{"$f":"IF(ISERROR(VLOOKUP($A12,'32eme'!$B:$M,12,FALSE)),IF(ISERROR(VLOOKUP($A12,'32eme'!$F:$M,8,FALSE)),\"\",IF(VLOOKUP($A12,'32eme'!$F:$M,8,FALSE)=AF$2,\"X\",\"\")),IF(VLOOKUP($A12,'32eme'!$B:$M,12,FALSE)=AF$2,\"X\",\"\"))","v":""},{"$f":"IF(ISERROR(VLOOKUP($A12,'32eme'!$B:$M,12,FALSE)),IF(ISERROR(VLOOKUP($A12,'32eme'!$F:$M,8,FALSE)),\"\",IF(VLOOKUP($A12,'32eme'!$F:$M,8,FALSE)=AG$2,\"X\",\"\")),IF(VLOOKUP($A12,'32eme'!$B:$M,12,FALSE)=AG$2,\"X\",\"\"))","v":""},{"$f":"IF(ISERROR(VLOOKUP($A12,'16eme'!$B:$M,12,FALSE)),IF(ISERROR(VLOOKUP($A12,'16eme'!$F:$M,8,FALSE)),\"\",IF(VLOOKUP($A12,'16eme'!$F:$M,8,FALSE)=AH$2,\"X\",\"\")),IF(VLOOKUP($A12,'16eme'!$B:$M,12,FALSE)=AH$2,\"X\",\"\"))","v":""},{"$f":"IF(ISERROR(VLOOKUP($A12,'16eme'!$B:$M,12,FALSE)),IF(ISERROR(VLOOKUP($A12,'16eme'!$F:$M,8,FALSE)),\"\",IF(VLOOKUP($A12,'16eme'!$F:$M,8,FALSE)=AI$2,\"X\",\"\")),IF(VLOOKUP($A12,'16eme'!$B:$M,12,FALSE)=AI$2,\"X\",\"\"))","v":""},{"$f":"IF(ISERROR(VLOOKUP($A12,'16eme'!$B:$M,12,FALSE)),IF(ISERROR(VLOOKUP($A12,'16eme'!$F:$M,8,FALSE)),\"\",IF(VLOOKUP($A12,'16eme'!$F:$M,8,FALSE)=AJ$2,\"X\",\"\")),IF(VLOOKUP($A12,'16eme'!$B:$M,12,FALSE)=AJ$2,\"X\",\"\"))","v":""},{"$f":"IF(ISERROR(VLOOKUP($A12,'16eme'!$B:$M,12,FALSE)),IF(ISERROR(VLOOKUP($A12,'16eme'!$F:$M,8,FALSE)),\"\",IF(VLOOKUP($A12,'16eme'!$F:$M,8,FALSE)=AK$2,\"X\",\"\")),IF(VLOOKUP($A12,'16eme'!$B:$M,12,FALSE)=AK$2,\"X\",\"\"))","v":""},{"$f":"IF(ISERROR(VLOOKUP($A12,'16eme'!$B:$M,12,FALSE)),IF(ISERROR(VLOOKUP($A12,'16eme'!$F:$M,8,FALSE)),\"\",IF(VLOOKUP($A12,'16eme'!$F:$M,8,FALSE)=AL$2,\"X\",\"\")),IF(VLOOKUP($A12,'16eme'!$B:$M,12,FALSE)=AL$2,\"X\",\"\"))","v":""},{"$f":"IF(ISERROR(VLOOKUP($A12,'16eme'!$B:$M,12,FALSE)),IF(ISERROR(VLOOKUP($A12,'16eme'!$F:$M,8,FALSE)),\"\",IF(VLOOKUP($A12,'16eme'!$F:$M,8,FALSE)=AM$2,\"X\",\"\")),IF(VLOOKUP($A12,'16eme'!$B:$M,12,FALSE)=AM$2,\"X\",\"\"))","v":""},{"$f":"IF(ISERROR(VLOOKUP($A12,'16eme'!$B:$M,12,FALSE)),IF(ISERROR(VLOOKUP($A12,'16eme'!$F:$M,8,FALSE)),\"\",IF(VLOOKUP($A12,'16eme'!$F:$M,8,FALSE)=AN$2,\"X\",\"\")),IF(VLOOKUP($A12,'16eme'!$B:$M,12,FALSE)=AN$2,\"X\",\"\"))","v":""},{"$f":"IF(ISERROR(VLOOKUP($A12,'16eme'!$B:$M,12,FALSE)),IF(ISERROR(VLOOKUP($A12,'16eme'!$F:$M,8,FALSE)),\"\",IF(VLOOKUP($A12,'16eme'!$F:$M,8,FALSE)=AO$2,\"X\",\"\")),IF(VLOOKUP($A12,'16eme'!$B:$M,12,FALSE)=AO$2,\"X\",\"\"))","v":""},{"$f":"IF(ISERROR(VLOOKUP($A12,'16eme'!$B:$M,12,FALSE)),IF(ISERROR(VLOOKUP($A12,'16eme'!$F:$M,8,FALSE)),\"\",IF(VLOOKUP($A12,'16eme'!$F:$M,8,FALSE)=AP$2,\"X\",\"\")),IF(VLOOKUP($A12,'16eme'!$B:$M,12,FALSE)=AP$2,\"X\",\"\"))","v":""},{"$f":"IF(ISERROR(VLOOKUP($A12,'16eme'!$B:$M,12,FALSE)),IF(ISERROR(VLOOKUP($A12,'16eme'!$F:$M,8,FALSE)),\"\",IF(VLOOKUP($A12,'16eme'!$F:$M,8,FALSE)=AQ$2,\"X\",\"\")),IF(VLOOKUP($A12,'16eme'!$B:$M,12,FALSE)=AQ$2,\"X\",\"\"))","v":""},{"$f":"IF(ISERROR(VLOOKUP($A12,'16eme'!$B:$M,12,FALSE)),IF(ISERROR(VLOOKUP($A12,'16eme'!$F:$M,8,FALSE)),\"\",IF(VLOOKUP($A12,'16eme'!$F:$M,8,FALSE)=AR$2,\"X\",\"\")),IF(VLOOKUP($A12,'16eme'!$B:$M,12,FALSE)=AR$2,\"X\",\"\"))","v":""},{"$f":"IF(ISERROR(VLOOKUP($A12,'16eme'!$B:$M,12,FALSE)),IF(ISERROR(VLOOKUP($A12,'16eme'!$F:$M,8,FALSE)),\"\",IF(VLOOKUP($A12,'16eme'!$F:$M,8,FALSE)=AS$2,\"X\",\"\")),IF(VLOOKUP($A12,'16eme'!$B:$M,12,FALSE)=AS$2,\"X\",\"\"))","v":""},{"$f":"IF(ISERROR(VLOOKUP($A12,'16eme'!$B:$M,12,FALSE)),IF(ISERROR(VLOOKUP($A12,'16eme'!$F:$M,8,FALSE)),\"\",IF(VLOOKUP($A12,'16eme'!$F:$M,8,FALSE)=AT$2,\"X\",\"\")),IF(VLOOKUP($A12,'16eme'!$B:$M,12,FALSE)=AT$2,\"X\",\"\"))","v":""},{"$f":"IF(ISERROR(VLOOKUP($A12,'16eme'!$B:$M,12,FALSE)),IF(ISERROR(VLOOKUP($A12,'16eme'!$F:$M,8,FALSE)),\"\",IF(VLOOKUP($A12,'16eme'!$F:$M,8,FALSE)=AU$2,\"X\",\"\")),IF(VLOOKUP($A12,'16eme'!$B:$M,12,FALSE)=AU$2,\"X\",\"\"))","v":""},{"$f":"IF(ISERROR(VLOOKUP($A12,'16eme'!$B:$M,12,FALSE)),IF(ISERROR(VLOOKUP($A12,'16eme'!$F:$M,8,FALSE)),\"\",IF(VLOOKUP($A12,'16eme'!$F:$M,8,FALSE)=AV$2,\"X\",\"\")),IF(VLOOKUP($A12,'16eme'!$B:$M,12,FALSE)=AV$2,\"X\",\"\"))","v":""},{"$f":"IF(ISERROR(VLOOKUP($A12,'16eme'!$B:$M,12,FALSE)),IF(ISERROR(VLOOKUP($A12,'16eme'!$F:$M,8,FALSE)),\"\",IF(VLOOKUP($A12,'16eme'!$F:$M,8,FALSE)=AW$2,\"X\",\"\")),IF(VLOOKUP($A12,'16eme'!$B:$M,12,FALSE)=AW$2,\"X\",\"\"))","v":""},{"$f":"IF(ISERROR(VLOOKUP($A12,'8eme'!$B:$M,12,FALSE)),IF(ISERROR(VLOOKUP($A12,'8eme'!$F:$M,8,FALSE)),\"\",IF(VLOOKUP($A12,'8eme'!$F:$M,8,FALSE)=AX$2,\"X\",\"\")),IF(VLOOKUP($A12,'8eme'!$B:$M,12,FALSE)=AX$2,\"X\",\"\"))","v":""},{"$f":"IF(ISERROR(VLOOKUP($A12,'8eme'!$B:$M,12,FALSE)),IF(ISERROR(VLOOKUP($A12,'8eme'!$F:$M,8,FALSE)),\"\",IF(VLOOKUP($A12,'8eme'!$F:$M,8,FALSE)=AY$2,\"X\",\"\")),IF(VLOOKUP($A12,'8eme'!$B:$M,12,FALSE)=AY$2,\"X\",\"\"))","v":""},{"$f":"IF(ISERROR(VLOOKUP($A12,'8eme'!$B:$M,12,FALSE)),IF(ISERROR(VLOOKUP($A12,'8eme'!$F:$M,8,FALSE)),\"\",IF(VLOOKUP($A12,'8eme'!$F:$M,8,FALSE)=AZ$2,\"X\",\"\")),IF(VLOOKUP($A12,'8eme'!$B:$M,12,FALSE)=AZ$2,\"X\",\"\"))","v":""},{"$f":"IF(ISERROR(VLOOKUP($A12,'8eme'!$B:$M,12,FALSE)),IF(ISERROR(VLOOKUP($A12,'8eme'!$F:$M,8,FALSE)),\"\",IF(VLOOKUP($A12,'8eme'!$F:$M,8,FALSE)=BA$2,\"X\",\"\")),IF(VLOOKUP($A12,'8eme'!$B:$M,12,FALSE)=BA$2,\"X\",\"\"))","v":""},{"$f":"IF(ISERROR(VLOOKUP($A12,'8eme'!$B:$M,12,FALSE)),IF(ISERROR(VLOOKUP($A12,'8eme'!$F:$M,8,FALSE)),\"\",IF(VLOOKUP($A12,'8eme'!$F:$M,8,FALSE)=BB$2,\"X\",\"\")),IF(VLOOKUP($A12,'8eme'!$B:$M,12,FALSE)=BB$2,\"X\",\"\"))","v":""},{"$f":"IF(ISERROR(VLOOKUP($A12,'8eme'!$B:$M,12,FALSE)),IF(ISERROR(VLOOKUP($A12,'8eme'!$F:$M,8,FALSE)),\"\",IF(VLOOKUP($A12,'8eme'!$F:$M,8,FALSE)=BC$2,\"X\",\"\")),IF(VLOOKUP($A12,'8eme'!$B:$M,12,FALSE)=BC$2,\"X\",\"\"))","v":""},{"$f":"IF(ISERROR(VLOOKUP($A12,'8eme'!$B:$M,12,FALSE)),IF(ISERROR(VLOOKUP($A12,'8eme'!$F:$M,8,FALSE)),\"\",IF(VLOOKUP($A12,'8eme'!$F:$M,8,FALSE)=BD$2,\"X\",\"\")),IF(VLOOKUP($A12,'8eme'!$B:$M,12,FALSE)=BD$2,\"X\",\"\"))","v":""},{"$f":"IF(ISERROR(VLOOKUP($A12,'8eme'!$B:$M,12,FALSE)),IF(ISERROR(VLOOKUP($A12,'8eme'!$F:$M,8,FALSE)),\"\",IF(VLOOKUP($A12,'8eme'!$F:$M,8,FALSE)=BE$2,\"X\",\"\")),IF(VLOOKUP($A12,'8eme'!$B:$M,12,FALSE)=BE$2,\"X\",\"\"))","v":""},{"$f":"IF(ISERROR(VLOOKUP($A12,'8eme'!$B:$M,12,FALSE)),IF(ISERROR(VLOOKUP($A12,'8eme'!$F:$M,8,FALSE)),\"\",IF(VLOOKUP($A12,'8eme'!$F:$M,8,FALSE)=BF$2,\"X\",\"\")),IF(VLOOKUP($A12,'8eme'!$B:$M,12,FALSE)=BF$2,\"X\",\"\"))","v":""},{"$f":"IF(ISERROR(VLOOKUP($A12,'8eme'!$B:$M,12,FALSE)),IF(ISERROR(VLOOKUP($A12,'8eme'!$F:$M,8,FALSE)),\"\",IF(VLOOKUP($A12,'8eme'!$F:$M,8,FALSE)=BG$2,\"X\",\"\")),IF(VLOOKUP($A12,'8eme'!$B:$M,12,FALSE)=BG$2,\"X\",\"\"))","v":""},{"$f":"IF(ISERROR(VLOOKUP($A12,'8eme'!$B:$M,12,FALSE)),IF(ISERROR(VLOOKUP($A12,'8eme'!$F:$M,8,FALSE)),\"\",IF(VLOOKUP($A12,'8eme'!$F:$M,8,FALSE)=BH$2,\"X\",\"\")),IF(VLOOKUP($A12,'8eme'!$B:$M,12,FALSE)=BH$2,\"X\",\"\"))","v":""},{"$f":"IF(ISERROR(VLOOKUP($A12,'8eme'!$B:$M,12,FALSE)),IF(ISERROR(VLOOKUP($A12,'8eme'!$F:$M,8,FALSE)),\"\",IF(VLOOKUP($A12,'8eme'!$F:$M,8,FALSE)=BI$2,\"X\",\"\")),IF(VLOOKUP($A12,'8eme'!$B:$M,12,FALSE)=BI$2,\"X\",\"\"))","v":""},{"$f":"IF(ISERROR(VLOOKUP($A12,'8eme'!$B:$M,12,FALSE)),IF(ISERROR(VLOOKUP($A12,'8eme'!$F:$M,8,FALSE)),\"\",IF(VLOOKUP($A12,'8eme'!$F:$M,8,FALSE)=BJ$2,\"X\",\"\")),IF(VLOOKUP($A12,'8eme'!$B:$M,12,FALSE)=BJ$2,\"X\",\"\"))","v":""},{"$f":"IF(ISERROR(VLOOKUP($A12,'8eme'!$B:$M,12,FALSE)),IF(ISERROR(VLOOKUP($A12,'8eme'!$F:$M,8,FALSE)),\"\",IF(VLOOKUP($A12,'8eme'!$F:$M,8,FALSE)=BK$2,\"X\",\"\")),IF(VLOOKUP($A12,'8eme'!$B:$M,12,FALSE)=BK$2,\"X\",\"\"))","v":""},{"$f":"IF(ISERROR(VLOOKUP($A12,'8eme'!$B:$M,12,FALSE)),IF(ISERROR(VLOOKUP($A12,'8eme'!$F:$M,8,FALSE)),\"\",IF(VLOOKUP($A12,'8eme'!$F:$M,8,FALSE)=BL$2,\"X\",\"\")),IF(VLOOKUP($A12,'8eme'!$B:$M,12,FALSE)=BL$2,\"X\",\"\"))","v":""},{"$f":"IF(ISERROR(VLOOKUP($A12,'8eme'!$B:$M,12,FALSE)),IF(ISERROR(VLOOKUP($A12,'8eme'!$F:$M,8,FALSE)),\"\",IF(VLOOKUP($A12,'8eme'!$F:$M,8,FALSE)=BM$2,\"X\",\"\")),IF(VLOOKUP($A12,'8eme'!$B:$M,12,FALSE)=BM$2,\"X\",\"\"))","v":""},{"$f":"IF(ISERROR(VLOOKUP($A12,quart!$B:$M,12,FALSE)),IF(ISERROR(VLOOKUP($A12,quart!$F:$M,8,FALSE)),\"\",IF(VLOOKUP($A12,quart!$F:$M,8,FALSE)=BN$2,\"X\",\"\")),IF(VLOOKUP($A12,quart!$B:$M,12,FALSE)=BN$2,\"X\",\"\"))","v":""},{"$f":"IF(ISERROR(VLOOKUP($A12,quart!$B:$M,12,FALSE)),IF(ISERROR(VLOOKUP($A12,quart!$F:$M,8,FALSE)),\"\",IF(VLOOKUP($A12,quart!$F:$M,8,FALSE)=BO$2,\"X\",\"\")),IF(VLOOKUP($A12,quart!$B:$M,12,FALSE)=BO$2,\"X\",\"\"))","v":""},{"$f":"IF(ISERROR(VLOOKUP($A12,quart!$B:$M,12,FALSE)),IF(ISERROR(VLOOKUP($A12,quart!$F:$M,8,FALSE)),\"\",IF(VLOOKUP($A12,quart!$F:$M,8,FALSE)=BP$2,\"X\",\"\")),IF(VLOOKUP($A12,quart!$B:$M,12,FALSE)=BP$2,\"X\",\"\"))","v":""},{"$f":"IF(ISERROR(VLOOKUP($A12,quart!$B:$M,12,FALSE)),IF(ISERROR(VLOOKUP($A12,quart!$F:$M,8,FALSE)),\"\",IF(VLOOKUP($A12,quart!$F:$M,8,FALSE)=BQ$2,\"X\",\"\")),IF(VLOOKUP($A12,quart!$B:$M,12,FALSE)=BQ$2,\"X\",\"\"))","v":""},{"$f":"IF(ISERROR(VLOOKUP($A12,quart!$B:$M,12,FALSE)),IF(ISERROR(VLOOKUP($A12,quart!$F:$M,8,FALSE)),\"\",IF(VLOOKUP($A12,quart!$F:$M,8,FALSE)=BR$2,\"X\",\"\")),IF(VLOOKUP($A12,quart!$B:$M,12,FALSE)=BR$2,\"X\",\"\"))","v":""},{"$f":"IF(ISERROR(VLOOKUP($A12,quart!$B:$M,12,FALSE)),IF(ISERROR(VLOOKUP($A12,quart!$F:$M,8,FALSE)),\"\",IF(VLOOKUP($A12,quart!$F:$M,8,FALSE)=BS$2,\"X\",\"\")),IF(VLOOKUP($A12,quart!$B:$M,12,FALSE)=BS$2,\"X\",\"\"))","v":""},{"$f":"IF(ISERROR(VLOOKUP($A12,quart!$B:$M,12,FALSE)),IF(ISERROR(VLOOKUP($A12,quart!$F:$M,8,FALSE)),\"\",IF(VLOOKUP($A12,quart!$F:$M,8,FALSE)=BT$2,\"X\",\"\")),IF(VLOOKUP($A12,quart!$B:$M,12,FALSE)=BT$2,\"X\",\"\"))","v":""},{"$f":"IF(ISERROR(VLOOKUP($A12,quart!$B:$M,12,FALSE)),IF(ISERROR(VLOOKUP($A12,quart!$F:$M,8,FALSE)),\"\",IF(VLOOKUP($A12,quart!$F:$M,8,FALSE)=BU$2,\"X\",\"\")),IF(VLOOKUP($A12,quart!$B:$M,12,FALSE)=BU$2,\"X\",\"\"))","v":""},{"$f":"IF(ISERROR(VLOOKUP($A12,quart!$B:$M,12,FALSE)),IF(ISERROR(VLOOKUP($A12,quart!$F:$M,8,FALSE)),\"\",IF(VLOOKUP($A12,quart!$F:$M,8,FALSE)=BV$2,\"X\",\"\")),IF(VLOOKUP($A12,quart!$B:$M,12,FALSE)=BV$2,\"X\",\"\"))","v":""},{"$f":"IF(ISERROR(VLOOKUP($A12,quart!$B:$M,12,FALSE)),IF(ISERROR(VLOOKUP($A12,quart!$F:$M,8,FALSE)),\"\",IF(VLOOKUP($A12,quart!$F:$M,8,FALSE)=BW$2,\"X\",\"\")),IF(VLOOKUP($A12,quart!$B:$M,12,FALSE)=BW$2,\"X\",\"\"))","v":""},{"$f":"IF(ISERROR(VLOOKUP($A12,quart!$B:$M,12,FALSE)),IF(ISERROR(VLOOKUP($A12,quart!$F:$M,8,FALSE)),\"\",IF(VLOOKUP($A12,quart!$F:$M,8,FALSE)=BX$2,\"X\",\"\")),IF(VLOOKUP($A12,quart!$B:$M,12,FALSE)=BX$2,\"X\",\"\"))","v":""},{"$f":"IF(ISERROR(VLOOKUP($A12,quart!$B:$M,12,FALSE)),IF(ISERROR(VLOOKUP($A12,quart!$F:$M,8,FALSE)),\"\",IF(VLOOKUP($A12,quart!$F:$M,8,FALSE)=BY$2,\"X\",\"\")),IF(VLOOKUP($A12,quart!$B:$M,12,FALSE)=BY$2,\"X\",\"\"))","v":""},{"$f":"IF(ISERROR(VLOOKUP($A12,quart!$B:$M,12,FALSE)),IF(ISERROR(VLOOKUP($A12,quart!$F:$M,8,FALSE)),\"\",IF(VLOOKUP($A12,quart!$F:$M,8,FALSE)=BZ$2,\"X\",\"\")),IF(VLOOKUP($A12,quart!$B:$M,12,FALSE)=BZ$2,\"X\",\"\"))","v":""},{"$f":"IF(ISERROR(VLOOKUP($A12,quart!$B:$M,12,FALSE)),IF(ISERROR(VLOOKUP($A12,quart!$F:$M,8,FALSE)),\"\",IF(VLOOKUP($A12,quart!$F:$M,8,FALSE)=CA$2,\"X\",\"\")),IF(VLOOKUP($A12,quart!$B:$M,12,FALSE)=CA$2,\"X\",\"\"))","v":""},{"$f":"IF(ISERROR(VLOOKUP($A12,quart!$B:$M,12,FALSE)),IF(ISERROR(VLOOKUP($A12,quart!$F:$M,8,FALSE)),\"\",IF(VLOOKUP($A12,quart!$F:$M,8,FALSE)=CB$2,\"X\",\"\")),IF(VLOOKUP($A12,quart!$B:$M,12,FALSE)=CB$2,\"X\",\"\"))","v":""},{"$f":"IF(ISERROR(VLOOKUP($A12,quart!$B:$M,12,FALSE)),IF(ISERROR(VLOOKUP($A12,quart!$F:$M,8,FALSE)),\"\",IF(VLOOKUP($A12,quart!$F:$M,8,FALSE)=CC$2,\"X\",\"\")),IF(VLOOKUP($A12,quart!$B:$M,12,FALSE)=CC$2,\"X\",\"\"))","v":""},{"$f":"IF(ISERROR(VLOOKUP($A12,demi!$B:$M,12,FALSE)),IF(ISERROR(VLOOKUP($A12,demi!$F:$M,8,FALSE)),\"\",IF(VLOOKUP($A12,demi!$F:$M,8,FALSE)=CD$2,\"X\",\"\")),IF(VLOOKUP($A12,demi!$B:$M,12,FALSE)=CD$2,\"X\",\"\"))","v":""},{"$f":"IF(ISERROR(VLOOKUP($A12,demi!$B:$M,12,FALSE)),IF(ISERROR(VLOOKUP($A12,demi!$F:$M,8,FALSE)),\"\",IF(VLOOKUP($A12,demi!$F:$M,8,FALSE)=CE$2,\"X\",\"\")),IF(VLOOKUP($A12,demi!$B:$M,12,FALSE)=CE$2,\"X\",\"\"))","v":""},{"$f":"IF(ISERROR(VLOOKUP($A12,demi!$B:$M,12,FALSE)),IF(ISERROR(VLOOKUP($A12,demi!$F:$M,8,FALSE)),\"\",IF(VLOOKUP($A12,demi!$F:$M,8,FALSE)=CF$2,\"X\",\"\")),IF(VLOOKUP($A12,demi!$B:$M,12,FALSE)=CF$2,\"X\",\"\"))","v":""},{"$f":"IF(ISERROR(VLOOKUP($A12,demi!$B:$M,12,FALSE)),IF(ISERROR(VLOOKUP($A12,demi!$F:$M,8,FALSE)),\"\",IF(VLOOKUP($A12,demi!$F:$M,8,FALSE)=CG$2,\"X\",\"\")),IF(VLOOKUP($A12,demi!$B:$M,12,FALSE)=CG$2,\"X\",\"\"))","v":""},{"$f":"IF(ISERROR(VLOOKUP($A12,demi!$B:$M,12,FALSE)),IF(ISERROR(VLOOKUP($A12,demi!$F:$M,8,FALSE)),\"\",IF(VLOOKUP($A12,demi!$F:$M,8,FALSE)=CH$2,\"X\",\"\")),IF(VLOOKUP($A12,demi!$B:$M,12,FALSE)=CH$2,\"X\",\"\"))","v":""},{"$f":"IF(ISERROR(VLOOKUP($A12,demi!$B:$M,12,FALSE)),IF(ISERROR(VLOOKUP($A12,demi!$F:$M,8,FALSE)),\"\",IF(VLOOKUP($A12,demi!$F:$M,8,FALSE)=CI$2,\"X\",\"\")),IF(VLOOKUP($A12,demi!$B:$M,12,FALSE)=CI$2,\"X\",\"\"))","v":""},{"$f":"IF(ISERROR(VLOOKUP($A12,demi!$B:$M,12,FALSE)),IF(ISERROR(VLOOKUP($A12,demi!$F:$M,8,FALSE)),\"\",IF(VLOOKUP($A12,demi!$F:$M,8,FALSE)=CJ$2,\"X\",\"\")),IF(VLOOKUP($A12,demi!$B:$M,12,FALSE)=CJ$2,\"X\",\"\"))","v":""},{"$f":"IF(ISERROR(VLOOKUP($A12,demi!$B:$M,12,FALSE)),IF(ISERROR(VLOOKUP($A12,demi!$F:$M,8,FALSE)),\"\",IF(VLOOKUP($A12,demi!$F:$M,8,FALSE)=CK$2,\"X\",\"\")),IF(VLOOKUP($A12,demi!$B:$M,12,FALSE)=CK$2,\"X\",\"\"))","v":""},{"$f":"IF(ISERROR(VLOOKUP($A12,demi!$B:$M,12,FALSE)),IF(ISERROR(VLOOKUP($A12,demi!$F:$M,8,FALSE)),\"\",IF(VLOOKUP($A12,demi!$F:$M,8,FALSE)=CL$2,\"X\",\"\")),IF(VLOOKUP($A12,demi!$B:$M,12,FALSE)=CL$2,\"X\",\"\"))","v":""},{"$f":"IF(ISERROR(VLOOKUP($A12,demi!$B:$M,12,FALSE)),IF(ISERROR(VLOOKUP($A12,demi!$F:$M,8,FALSE)),\"\",IF(VLOOKUP($A12,demi!$F:$M,8,FALSE)=CM$2,\"X\",\"\")),IF(VLOOKUP($A12,demi!$B:$M,12,FALSE)=CM$2,\"X\",\"\"))","v":""},{"$f":"IF(ISERROR(VLOOKUP($A12,demi!$B:$M,12,FALSE)),IF(ISERROR(VLOOKUP($A12,demi!$F:$M,8,FALSE)),\"\",IF(VLOOKUP($A12,demi!$F:$M,8,FALSE)=CN$2,\"X\",\"\")),IF(VLOOKUP($A12,demi!$B:$M,12,FALSE)=CN$2,\"X\",\"\"))","v":""},{"$f":"IF(ISERROR(VLOOKUP($A12,demi!$B:$M,12,FALSE)),IF(ISERROR(VLOOKUP($A12,demi!$F:$M,8,FALSE)),\"\",IF(VLOOKUP($A12,demi!$F:$M,8,FALSE)=CO$2,\"X\",\"\")),IF(VLOOKUP($A12,demi!$B:$M,12,FALSE)=CO$2,\"X\",\"\"))","v":""},{"$f":"IF(ISERROR(VLOOKUP($A12,demi!$B:$M,12,FALSE)),IF(ISERROR(VLOOKUP($A12,demi!$F:$M,8,FALSE)),\"\",IF(VLOOKUP($A12,demi!$F:$M,8,FALSE)=CP$2,\"X\",\"\")),IF(VLOOKUP($A12,demi!$B:$M,12,FALSE)=CP$2,\"X\",\"\"))","v":""},{"$f":"IF(ISERROR(VLOOKUP($A12,demi!$B:$M,12,FALSE)),IF(ISERROR(VLOOKUP($A12,demi!$F:$M,8,FALSE)),\"\",IF(VLOOKUP($A12,demi!$F:$M,8,FALSE)=CQ$2,\"X\",\"\")),IF(VLOOKUP($A12,demi!$B:$M,12,FALSE)=CQ$2,\"X\",\"\"))","v":""},{"$f":"IF(ISERROR(VLOOKUP($A12,demi!$B:$M,12,FALSE)),IF(ISERROR(VLOOKUP($A12,demi!$F:$M,8,FALSE)),\"\",IF(VLOOKUP($A12,demi!$F:$M,8,FALSE)=CR$2,\"X\",\"\")),IF(VLOOKUP($A12,demi!$B:$M,12,FALSE)=CR$2,\"X\",\"\"))","v":""},{"$f":"IF(ISERROR(VLOOKUP($A12,demi!$B:$M,12,FALSE)),IF(ISERROR(VLOOKUP($A12,demi!$F:$M,8,FALSE)),\"\",IF(VLOOKUP($A12,demi!$F:$M,8,FALSE)=CS$2,\"X\",\"\")),IF(VLOOKUP($A12,demi!$B:$M,12,FALSE)=CS$2,\"X\",\"\"))","v":""}]
[11,"X","X","X","X","X","X","X","X","X","X","X","X","X","X","X","X",{"$f":"IF(ISERROR(VLOOKUP($A13,'32eme'!$B:$M,12,FALSE)),IF(ISERROR(VLOOKUP($A13,'32eme'!$F:$M,8,FALSE)),\"\",IF(VLOOKUP($A13,'32eme'!$F:$M,8,FALSE)=R$2,\"X\",\"\")),IF(VLOOKUP($A13,'32eme'!$B:$M,12,FALSE)=R$2,\"X\",\"\"))","v":""},{"$f":"IF(ISERROR(VLOOKUP($A13,'32eme'!$B:$M,12,FALSE)),IF(ISERROR(VLOOKUP($A13,'32eme'!$F:$M,8,FALSE)),\"\",IF(VLOOKUP($A13,'32eme'!$F:$M,8,FALSE)=S$2,\"X\",\"\")),IF(VLOOKUP($A13,'32eme'!$B:$M,12,FALSE)=S$2,\"X\",\"\"))","v":""},{"$f":"IF(ISERROR(VLOOKUP($A13,'32eme'!$B:$M,12,FALSE)),IF(ISERROR(VLOOKUP($A13,'32eme'!$F:$M,8,FALSE)),\"\",IF(VLOOKUP($A13,'32eme'!$F:$M,8,FALSE)=T$2,\"X\",\"\")),IF(VLOOKUP($A13,'32eme'!$B:$M,12,FALSE)=T$2,\"X\",\"\"))","v":""},{"$f":"IF(ISERROR(VLOOKUP($A13,'32eme'!$B:$M,12,FALSE)),IF(ISERROR(VLOOKUP($A13,'32eme'!$F:$M,8,FALSE)),\"\",IF(VLOOKUP($A13,'32eme'!$F:$M,8,FALSE)=U$2,\"X\",\"\")),IF(VLOOKUP($A13,'32eme'!$B:$M,12,FALSE)=U$2,\"X\",\"\"))","v":""},{"$f":"IF(ISERROR(VLOOKUP($A13,'32eme'!$B:$M,12,FALSE)),IF(ISERROR(VLOOKUP($A13,'32eme'!$F:$M,8,FALSE)),\"\",IF(VLOOKUP($A13,'32eme'!$F:$M,8,FALSE)=V$2,\"X\",\"\")),IF(VLOOKUP($A13,'32eme'!$B:$M,12,FALSE)=V$2,\"X\",\"\"))","v":""},{"$f":"IF(ISERROR(VLOOKUP($A13,'32eme'!$B:$M,12,FALSE)),IF(ISERROR(VLOOKUP($A13,'32eme'!$F:$M,8,FALSE)),\"\",IF(VLOOKUP($A13,'32eme'!$F:$M,8,FALSE)=W$2,\"X\",\"\")),IF(VLOOKUP($A13,'32eme'!$B:$M,12,FALSE)=W$2,\"X\",\"\"))","v":""},{"$f":"IF(ISERROR(VLOOKUP($A13,'32eme'!$B:$M,12,FALSE)),IF(ISERROR(VLOOKUP($A13,'32eme'!$F:$M,8,FALSE)),\"\",IF(VLOOKUP($A13,'32eme'!$F:$M,8,FALSE)=X$2,\"X\",\"\")),IF(VLOOKUP($A13,'32eme'!$B:$M,12,FALSE)=X$2,\"X\",\"\"))","v":""},{"$f":"IF(ISERROR(VLOOKUP($A13,'32eme'!$B:$M,12,FALSE)),IF(ISERROR(VLOOKUP($A13,'32eme'!$F:$M,8,FALSE)),\"\",IF(VLOOKUP($A13,'32eme'!$F:$M,8,FALSE)=Y$2,\"X\",\"\")),IF(VLOOKUP($A13,'32eme'!$B:$M,12,FALSE)=Y$2,\"X\",\"\"))","v":""},{"$f":"IF(ISERROR(VLOOKUP($A13,'32eme'!$B:$M,12,FALSE)),IF(ISERROR(VLOOKUP($A13,'32eme'!$F:$M,8,FALSE)),\"\",IF(VLOOKUP($A13,'32eme'!$F:$M,8,FALSE)=Z$2,\"X\",\"\")),IF(VLOOKUP($A13,'32eme'!$B:$M,12,FALSE)=Z$2,\"X\",\"\"))","v":""},{"$f":"IF(ISERROR(VLOOKUP($A13,'32eme'!$B:$M,12,FALSE)),IF(ISERROR(VLOOKUP($A13,'32eme'!$F:$M,8,FALSE)),\"\",IF(VLOOKUP($A13,'32eme'!$F:$M,8,FALSE)=AA$2,\"X\",\"\")),IF(VLOOKUP($A13,'32eme'!$B:$M,12,FALSE)=AA$2,\"X\",\"\"))","v":""},{"$f":"IF(ISERROR(VLOOKUP($A13,'32eme'!$B:$M,12,FALSE)),IF(ISERROR(VLOOKUP($A13,'32eme'!$F:$M,8,FALSE)),\"\",IF(VLOOKUP($A13,'32eme'!$F:$M,8,FALSE)=AB$2,\"X\",\"\")),IF(VLOOKUP($A13,'32eme'!$B:$M,12,FALSE)=AB$2,\"X\",\"\"))","v":""},{"$f":"IF(ISERROR(VLOOKUP($A13,'32eme'!$B:$M,12,FALSE)),IF(ISERROR(VLOOKUP($A13,'32eme'!$F:$M,8,FALSE)),\"\",IF(VLOOKUP($A13,'32eme'!$F:$M,8,FALSE)=AC$2,\"X\",\"\")),IF(VLOOKUP($A13,'32eme'!$B:$M,12,FALSE)=AC$2,\"X\",\"\"))","v":""},{"$f":"IF(ISERROR(VLOOKUP($A13,'32eme'!$B:$M,12,FALSE)),IF(ISERROR(VLOOKUP($A13,'32eme'!$F:$M,8,FALSE)),\"\",IF(VLOOKUP($A13,'32eme'!$F:$M,8,FALSE)=AD$2,\"X\",\"\")),IF(VLOOKUP($A13,'32eme'!$B:$M,12,FALSE)=AD$2,\"X\",\"\"))","v":""},{"$f":"IF(ISERROR(VLOOKUP($A13,'32eme'!$B:$M,12,FALSE)),IF(ISERROR(VLOOKUP($A13,'32eme'!$F:$M,8,FALSE)),\"\",IF(VLOOKUP($A13,'32eme'!$F:$M,8,FALSE)=AE$2,\"X\",\"\")),IF(VLOOKUP($A13,'32eme'!$B:$M,12,FALSE)=AE$2,\"X\",\"\"))","v":""},{"$f":"IF(ISERROR(VLOOKUP($A13,'32eme'!$B:$M,12,FALSE)),IF(ISERROR(VLOOKUP($A13,'32eme'!$F:$M,8,FALSE)),\"\",IF(VLOOKUP($A13,'32eme'!$F:$M,8,FALSE)=AF$2,\"X\",\"\")),IF(VLOOKUP($A13,'32eme'!$B:$M,12,FALSE)=AF$2,\"X\",\"\"))","v":""},{"$f":"IF(ISERROR(VLOOKUP($A13,'32eme'!$B:$M,12,FALSE)),IF(ISERROR(VLOOKUP($A13,'32eme'!$F:$M,8,FALSE)),\"\",IF(VLOOKUP($A13,'32eme'!$F:$M,8,FALSE)=AG$2,\"X\",\"\")),IF(VLOOKUP($A13,'32eme'!$B:$M,12,FALSE)=AG$2,\"X\",\"\"))","v":""},{"$f":"IF(ISERROR(VLOOKUP($A13,'16eme'!$B:$M,12,FALSE)),IF(ISERROR(VLOOKUP($A13,'16eme'!$F:$M,8,FALSE)),\"\",IF(VLOOKUP($A13,'16eme'!$F:$M,8,FALSE)=AH$2,\"X\",\"\")),IF(VLOOKUP($A13,'16eme'!$B:$M,12,FALSE)=AH$2,\"X\",\"\"))","v":""},{"$f":"IF(ISERROR(VLOOKUP($A13,'16eme'!$B:$M,12,FALSE)),IF(ISERROR(VLOOKUP($A13,'16eme'!$F:$M,8,FALSE)),\"\",IF(VLOOKUP($A13,'16eme'!$F:$M,8,FALSE)=AI$2,\"X\",\"\")),IF(VLOOKUP($A13,'16eme'!$B:$M,12,FALSE)=AI$2,\"X\",\"\"))","v":""},{"$f":"IF(ISERROR(VLOOKUP($A13,'16eme'!$B:$M,12,FALSE)),IF(ISERROR(VLOOKUP($A13,'16eme'!$F:$M,8,FALSE)),\"\",IF(VLOOKUP($A13,'16eme'!$F:$M,8,FALSE)=AJ$2,\"X\",\"\")),IF(VLOOKUP($A13,'16eme'!$B:$M,12,FALSE)=AJ$2,\"X\",\"\"))","v":""},{"$f":"IF(ISERROR(VLOOKUP($A13,'16eme'!$B:$M,12,FALSE)),IF(ISERROR(VLOOKUP($A13,'16eme'!$F:$M,8,FALSE)),\"\",IF(VLOOKUP($A13,'16eme'!$F:$M,8,FALSE)=AK$2,\"X\",\"\")),IF(VLOOKUP($A13,'16eme'!$B:$M,12,FALSE)=AK$2,\"X\",\"\"))","v":""},{"$f":"IF(ISERROR(VLOOKUP($A13,'16eme'!$B:$M,12,FALSE)),IF(ISERROR(VLOOKUP($A13,'16eme'!$F:$M,8,FALSE)),\"\",IF(VLOOKUP($A13,'16eme'!$F:$M,8,FALSE)=AL$2,\"X\",\"\")),IF(VLOOKUP($A13,'16eme'!$B:$M,12,FALSE)=AL$2,\"X\",\"\"))","v":""},{"$f":"IF(ISERROR(VLOOKUP($A13,'16eme'!$B:$M,12,FALSE)),IF(ISERROR(VLOOKUP($A13,'16eme'!$F:$M,8,FALSE)),\"\",IF(VLOOKUP($A13,'16eme'!$F:$M,8,FALSE)=AM$2,\"X\",\"\")),IF(VLOOKUP($A13,'16eme'!$B:$M,12,FALSE)=AM$2,\"X\",\"\"))","v":""},{"$f":"IF(ISERROR(VLOOKUP($A13,'16eme'!$B:$M,12,FALSE)),IF(ISERROR(VLOOKUP($A13,'16eme'!$F:$M,8,FALSE)),\"\",IF(VLOOKUP($A13,'16eme'!$F:$M,8,FALSE)=AN$2,\"X\",\"\")),IF(VLOOKUP($A13,'16eme'!$B:$M,12,FALSE)=AN$2,\"X\",\"\"))","v":""},{"$f":"IF(ISERROR(VLOOKUP($A13,'16eme'!$B:$M,12,FALSE)),IF(ISERROR(VLOOKUP($A13,'16eme'!$F:$M,8,FALSE)),\"\",IF(VLOOKUP($A13,'16eme'!$F:$M,8,FALSE)=AO$2,\"X\",\"\")),IF(VLOOKUP($A13,'16eme'!$B:$M,12,FALSE)=AO$2,\"X\",\"\"))","v":""},{"$f":"IF(ISERROR(VLOOKUP($A13,'16eme'!$B:$M,12,FALSE)),IF(ISERROR(VLOOKUP($A13,'16eme'!$F:$M,8,FALSE)),\"\",IF(VLOOKUP($A13,'16eme'!$F:$M,8,FALSE)=AP$2,\"X\",\"\")),IF(VLOOKUP($A13,'16eme'!$B:$M,12,FALSE)=AP$2,\"X\",\"\"))","v":""},{"$f":"IF(ISERROR(VLOOKUP($A13,'16eme'!$B:$M,12,FALSE)),IF(ISERROR(VLOOKUP($A13,'16eme'!$F:$M,8,FALSE)),\"\",IF(VLOOKUP($A13,'16eme'!$F:$M,8,FALSE)=AQ$2,\"X\",\"\")),IF(VLOOKUP($A13,'16eme'!$B:$M,12,FALSE)=AQ$2,\"X\",\"\"))","v":""},{"$f":"IF(ISERROR(VLOOKUP($A13,'16eme'!$B:$M,12,FALSE)),IF(ISERROR(VLOOKUP($A13,'16eme'!$F:$M,8,FALSE)),\"\",IF(VLOOKUP($A13,'16eme'!$F:$M,8,FALSE)=AR$2,\"X\",\"\")),IF(VLOOKUP($A13,'16eme'!$B:$M,12,FALSE)=AR$2,\"X\",\"\"))","v":""},{"$f":"IF(ISERROR(VLOOKUP($A13,'16eme'!$B:$M,12,FALSE)),IF(ISERROR(VLOOKUP($A13,'16eme'!$F:$M,8,FALSE)),\"\",IF(VLOOKUP($A13,'16eme'!$F:$M,8,FALSE)=AS$2,\"X\",\"\")),IF(VLOOKUP($A13,'16eme'!$B:$M,12,FALSE)=AS$2,\"X\",\"\"))","v":""},{"$f":"IF(ISERROR(VLOOKUP($A13,'16eme'!$B:$M,12,FALSE)),IF(ISERROR(VLOOKUP($A13,'16eme'!$F:$M,8,FALSE)),\"\",IF(VLOOKUP($A13,'16eme'!$F:$M,8,FALSE)=AT$2,\"X\",\"\")),IF(VLOOKUP($A13,'16eme'!$B:$M,12,FALSE)=AT$2,\"X\",\"\"))","v":""},{"$f":"IF(ISERROR(VLOOKUP($A13,'16eme'!$B:$M,12,FALSE)),IF(ISERROR(VLOOKUP($A13,'16eme'!$F:$M,8,FALSE)),\"\",IF(VLOOKUP($A13,'16eme'!$F:$M,8,FALSE)=AU$2,\"X\",\"\")),IF(VLOOKUP($A13,'16eme'!$B:$M,12,FALSE)=AU$2,\"X\",\"\"))","v":""},{"$f":"IF(ISERROR(VLOOKUP($A13,'16eme'!$B:$M,12,FALSE)),IF(ISERROR(VLOOKUP($A13,'16eme'!$F:$M,8,FALSE)),\"\",IF(VLOOKUP($A13,'16eme'!$F:$M,8,FALSE)=AV$2,\"X\",\"\")),IF(VLOOKUP($A13,'16eme'!$B:$M,12,FALSE)=AV$2,\"X\",\"\"))","v":""},{"$f":"IF(ISERROR(VLOOKUP($A13,'16eme'!$B:$M,12,FALSE)),IF(ISERROR(VLOOKUP($A13,'16eme'!$F:$M,8,FALSE)),\"\",IF(VLOOKUP($A13,'16eme'!$F:$M,8,FALSE)=AW$2,\"X\",\"\")),IF(VLOOKUP($A13,'16eme'!$B:$M,12,FALSE)=AW$2,\"X\",\"\"))","v":""},{"$f":"IF(ISERROR(VLOOKUP($A13,'8eme'!$B:$M,12,FALSE)),IF(ISERROR(VLOOKUP($A13,'8eme'!$F:$M,8,FALSE)),\"\",IF(VLOOKUP($A13,'8eme'!$F:$M,8,FALSE)=AX$2,\"X\",\"\")),IF(VLOOKUP($A13,'8eme'!$B:$M,12,FALSE)=AX$2,\"X\",\"\"))","v":""},{"$f":"IF(ISERROR(VLOOKUP($A13,'8eme'!$B:$M,12,FALSE)),IF(ISERROR(VLOOKUP($A13,'8eme'!$F:$M,8,FALSE)),\"\",IF(VLOOKUP($A13,'8eme'!$F:$M,8,FALSE)=AY$2,\"X\",\"\")),IF(VLOOKUP($A13,'8eme'!$B:$M,12,FALSE)=AY$2,\"X\",\"\"))","v":""},{"$f":"IF(ISERROR(VLOOKUP($A13,'8eme'!$B:$M,12,FALSE)),IF(ISERROR(VLOOKUP($A13,'8eme'!$F:$M,8,FALSE)),\"\",IF(VLOOKUP($A13,'8eme'!$F:$M,8,FALSE)=AZ$2,\"X\",\"\")),IF(VLOOKUP($A13,'8eme'!$B:$M,12,FALSE)=AZ$2,\"X\",\"\"))","v":""},{"$f":"IF(ISERROR(VLOOKUP($A13,'8eme'!$B:$M,12,FALSE)),IF(ISERROR(VLOOKUP($A13,'8eme'!$F:$M,8,FALSE)),\"\",IF(VLOOKUP($A13,'8eme'!$F:$M,8,FALSE)=BA$2,\"X\",\"\")),IF(VLOOKUP($A13,'8eme'!$B:$M,12,FALSE)=BA$2,\"X\",\"\"))","v":""},{"$f":"IF(ISERROR(VLOOKUP($A13,'8eme'!$B:$M,12,FALSE)),IF(ISERROR(VLOOKUP($A13,'8eme'!$F:$M,8,FALSE)),\"\",IF(VLOOKUP($A13,'8eme'!$F:$M,8,FALSE)=BB$2,\"X\",\"\")),IF(VLOOKUP($A13,'8eme'!$B:$M,12,FALSE)=BB$2,\"X\",\"\"))","v":""},{"$f":"IF(ISERROR(VLOOKUP($A13,'8eme'!$B:$M,12,FALSE)),IF(ISERROR(VLOOKUP($A13,'8eme'!$F:$M,8,FALSE)),\"\",IF(VLOOKUP($A13,'8eme'!$F:$M,8,FALSE)=BC$2,\"X\",\"\")),IF(VLOOKUP($A13,'8eme'!$B:$M,12,FALSE)=BC$2,\"X\",\"\"))","v":""},{"$f":"IF(ISERROR(VLOOKUP($A13,'8eme'!$B:$M,12,FALSE)),IF(ISERROR(VLOOKUP($A13,'8eme'!$F:$M,8,FALSE)),\"\",IF(VLOOKUP($A13,'8eme'!$F:$M,8,FALSE)=BD$2,\"X\",\"\")),IF(VLOOKUP($A13,'8eme'!$B:$M,12,FALSE)=BD$2,\"X\",\"\"))","v":""},{"$f":"IF(ISERROR(VLOOKUP($A13,'8eme'!$B:$M,12,FALSE)),IF(ISERROR(VLOOKUP($A13,'8eme'!$F:$M,8,FALSE)),\"\",IF(VLOOKUP($A13,'8eme'!$F:$M,8,FALSE)=BE$2,\"X\",\"\")),IF(VLOOKUP($A13,'8eme'!$B:$M,12,FALSE)=BE$2,\"X\",\"\"))","v":""},{"$f":"IF(ISERROR(VLOOKUP($A13,'8eme'!$B:$M,12,FALSE)),IF(ISERROR(VLOOKUP($A13,'8eme'!$F:$M,8,FALSE)),\"\",IF(VLOOKUP($A13,'8eme'!$F:$M,8,FALSE)=BF$2,\"X\",\"\")),IF(VLOOKUP($A13,'8eme'!$B:$M,12,FALSE)=BF$2,\"X\",\"\"))","v":""},{"$f":"IF(ISERROR(VLOOKUP($A13,'8eme'!$B:$M,12,FALSE)),IF(ISERROR(VLOOKUP($A13,'8eme'!$F:$M,8,FALSE)),\"\",IF(VLOOKUP($A13,'8eme'!$F:$M,8,FALSE)=BG$2,\"X\",\"\")),IF(VLOOKUP($A13,'8eme'!$B:$M,12,FALSE)=BG$2,\"X\",\"\"))","v":""},{"$f":"IF(ISERROR(VLOOKUP($A13,'8eme'!$B:$M,12,FALSE)),IF(ISERROR(VLOOKUP($A13,'8eme'!$F:$M,8,FALSE)),\"\",IF(VLOOKUP($A13,'8eme'!$F:$M,8,FALSE)=BH$2,\"X\",\"\")),IF(VLOOKUP($A13,'8eme'!$B:$M,12,FALSE)=BH$2,\"X\",\"\"))","v":""},{"$f":"IF(ISERROR(VLOOKUP($A13,'8eme'!$B:$M,12,FALSE)),IF(ISERROR(VLOOKUP($A13,'8eme'!$F:$M,8,FALSE)),\"\",IF(VLOOKUP($A13,'8eme'!$F:$M,8,FALSE)=BI$2,\"X\",\"\")),IF(VLOOKUP($A13,'8eme'!$B:$M,12,FALSE)=BI$2,\"X\",\"\"))","v":""},{"$f":"IF(ISERROR(VLOOKUP($A13,'8eme'!$B:$M,12,FALSE)),IF(ISERROR(VLOOKUP($A13,'8eme'!$F:$M,8,FALSE)),\"\",IF(VLOOKUP($A13,'8eme'!$F:$M,8,FALSE)=BJ$2,\"X\",\"\")),IF(VLOOKUP($A13,'8eme'!$B:$M,12,FALSE)=BJ$2,\"X\",\"\"))","v":""},{"$f":"IF(ISERROR(VLOOKUP($A13,'8eme'!$B:$M,12,FALSE)),IF(ISERROR(VLOOKUP($A13,'8eme'!$F:$M,8,FALSE)),\"\",IF(VLOOKUP($A13,'8eme'!$F:$M,8,FALSE)=BK$2,\"X\",\"\")),IF(VLOOKUP($A13,'8eme'!$B:$M,12,FALSE)=BK$2,\"X\",\"\"))","v":""},{"$f":"IF(ISERROR(VLOOKUP($A13,'8eme'!$B:$M,12,FALSE)),IF(ISERROR(VLOOKUP($A13,'8eme'!$F:$M,8,FALSE)),\"\",IF(VLOOKUP($A13,'8eme'!$F:$M,8,FALSE)=BL$2,\"X\",\"\")),IF(VLOOKUP($A13,'8eme'!$B:$M,12,FALSE)=BL$2,\"X\",\"\"))","v":""},{"$f":"IF(ISERROR(VLOOKUP($A13,'8eme'!$B:$M,12,FALSE)),IF(ISERROR(VLOOKUP($A13,'8eme'!$F:$M,8,FALSE)),\"\",IF(VLOOKUP($A13,'8eme'!$F:$M,8,FALSE)=BM$2,\"X\",\"\")),IF(VLOOKUP($A13,'8eme'!$B:$M,12,FALSE)=BM$2,\"X\",\"\"))","v":""},{"$f":"IF(ISERROR(VLOOKUP($A13,quart!$B:$M,12,FALSE)),IF(ISERROR(VLOOKUP($A13,quart!$F:$M,8,FALSE)),\"\",IF(VLOOKUP($A13,quart!$F:$M,8,FALSE)=BN$2,\"X\",\"\")),IF(VLOOKUP($A13,quart!$B:$M,12,FALSE)=BN$2,\"X\",\"\"))","v":""},{"$f":"IF(ISERROR(VLOOKUP($A13,quart!$B:$M,12,FALSE)),IF(ISERROR(VLOOKUP($A13,quart!$F:$M,8,FALSE)),\"\",IF(VLOOKUP($A13,quart!$F:$M,8,FALSE)=BO$2,\"X\",\"\")),IF(VLOOKUP($A13,quart!$B:$M,12,FALSE)=BO$2,\"X\",\"\"))","v":""},{"$f":"IF(ISERROR(VLOOKUP($A13,quart!$B:$M,12,FALSE)),IF(ISERROR(VLOOKUP($A13,quart!$F:$M,8,FALSE)),\"\",IF(VLOOKUP($A13,quart!$F:$M,8,FALSE)=BP$2,\"X\",\"\")),IF(VLOOKUP($A13,quart!$B:$M,12,FALSE)=BP$2,\"X\",\"\"))","v":""},{"$f":"IF(ISERROR(VLOOKUP($A13,quart!$B:$M,12,FALSE)),IF(ISERROR(VLOOKUP($A13,quart!$F:$M,8,FALSE)),\"\",IF(VLOOKUP($A13,quart!$F:$M,8,FALSE)=BQ$2,\"X\",\"\")),IF(VLOOKUP($A13,quart!$B:$M,12,FALSE)=BQ$2,\"X\",\"\"))","v":""},{"$f":"IF(ISERROR(VLOOKUP($A13,quart!$B:$M,12,FALSE)),IF(ISERROR(VLOOKUP($A13,quart!$F:$M,8,FALSE)),\"\",IF(VLOOKUP($A13,quart!$F:$M,8,FALSE)=BR$2,\"X\",\"\")),IF(VLOOKUP($A13,quart!$B:$M,12,FALSE)=BR$2,\"X\",\"\"))","v":""},{"$f":"IF(ISERROR(VLOOKUP($A13,quart!$B:$M,12,FALSE)),IF(ISERROR(VLOOKUP($A13,quart!$F:$M,8,FALSE)),\"\",IF(VLOOKUP($A13,quart!$F:$M,8,FALSE)=BS$2,\"X\",\"\")),IF(VLOOKUP($A13,quart!$B:$M,12,FALSE)=BS$2,\"X\",\"\"))","v":""},{"$f":"IF(ISERROR(VLOOKUP($A13,quart!$B:$M,12,FALSE)),IF(ISERROR(VLOOKUP($A13,quart!$F:$M,8,FALSE)),\"\",IF(VLOOKUP($A13,quart!$F:$M,8,FALSE)=BT$2,\"X\",\"\")),IF(VLOOKUP($A13,quart!$B:$M,12,FALSE)=BT$2,\"X\",\"\"))","v":""},{"$f":"IF(ISERROR(VLOOKUP($A13,quart!$B:$M,12,FALSE)),IF(ISERROR(VLOOKUP($A13,quart!$F:$M,8,FALSE)),\"\",IF(VLOOKUP($A13,quart!$F:$M,8,FALSE)=BU$2,\"X\",\"\")),IF(VLOOKUP($A13,quart!$B:$M,12,FALSE)=BU$2,\"X\",\"\"))","v":""},{"$f":"IF(ISERROR(VLOOKUP($A13,quart!$B:$M,12,FALSE)),IF(ISERROR(VLOOKUP($A13,quart!$F:$M,8,FALSE)),\"\",IF(VLOOKUP($A13,quart!$F:$M,8,FALSE)=BV$2,\"X\",\"\")),IF(VLOOKUP($A13,quart!$B:$M,12,FALSE)=BV$2,\"X\",\"\"))","v":""},{"$f":"IF(ISERROR(VLOOKUP($A13,quart!$B:$M,12,FALSE)),IF(ISERROR(VLOOKUP($A13,quart!$F:$M,8,FALSE)),\"\",IF(VLOOKUP($A13,quart!$F:$M,8,FALSE)=BW$2,\"X\",\"\")),IF(VLOOKUP($A13,quart!$B:$M,12,FALSE)=BW$2,\"X\",\"\"))","v":""},{"$f":"IF(ISERROR(VLOOKUP($A13,quart!$B:$M,12,FALSE)),IF(ISERROR(VLOOKUP($A13,quart!$F:$M,8,FALSE)),\"\",IF(VLOOKUP($A13,quart!$F:$M,8,FALSE)=BX$2,\"X\",\"\")),IF(VLOOKUP($A13,quart!$B:$M,12,FALSE)=BX$2,\"X\",\"\"))","v":""},{"$f":"IF(ISERROR(VLOOKUP($A13,quart!$B:$M,12,FALSE)),IF(ISERROR(VLOOKUP($A13,quart!$F:$M,8,FALSE)),\"\",IF(VLOOKUP($A13,quart!$F:$M,8,FALSE)=BY$2,\"X\",\"\")),IF(VLOOKUP($A13,quart!$B:$M,12,FALSE)=BY$2,\"X\",\"\"))","v":""},{"$f":"IF(ISERROR(VLOOKUP($A13,quart!$B:$M,12,FALSE)),IF(ISERROR(VLOOKUP($A13,quart!$F:$M,8,FALSE)),\"\",IF(VLOOKUP($A13,quart!$F:$M,8,FALSE)=BZ$2,\"X\",\"\")),IF(VLOOKUP($A13,quart!$B:$M,12,FALSE)=BZ$2,\"X\",\"\"))","v":""},{"$f":"IF(ISERROR(VLOOKUP($A13,quart!$B:$M,12,FALSE)),IF(ISERROR(VLOOKUP($A13,quart!$F:$M,8,FALSE)),\"\",IF(VLOOKUP($A13,quart!$F:$M,8,FALSE)=CA$2,\"X\",\"\")),IF(VLOOKUP($A13,quart!$B:$M,12,FALSE)=CA$2,\"X\",\"\"))","v":""},{"$f":"IF(ISERROR(VLOOKUP($A13,quart!$B:$M,12,FALSE)),IF(ISERROR(VLOOKUP($A13,quart!$F:$M,8,FALSE)),\"\",IF(VLOOKUP($A13,quart!$F:$M,8,FALSE)=CB$2,\"X\",\"\")),IF(VLOOKUP($A13,quart!$B:$M,12,FALSE)=CB$2,\"X\",\"\"))","v":""},{"$f":"IF(ISERROR(VLOOKUP($A13,quart!$B:$M,12,FALSE)),IF(ISERROR(VLOOKUP($A13,quart!$F:$M,8,FALSE)),\"\",IF(VLOOKUP($A13,quart!$F:$M,8,FALSE)=CC$2,\"X\",\"\")),IF(VLOOKUP($A13,quart!$B:$M,12,FALSE)=CC$2,\"X\",\"\"))","v":""},{"$f":"IF(ISERROR(VLOOKUP($A13,demi!$B:$M,12,FALSE)),IF(ISERROR(VLOOKUP($A13,demi!$F:$M,8,FALSE)),\"\",IF(VLOOKUP($A13,demi!$F:$M,8,FALSE)=CD$2,\"X\",\"\")),IF(VLOOKUP($A13,demi!$B:$M,12,FALSE)=CD$2,\"X\",\"\"))","v":""},{"$f":"IF(ISERROR(VLOOKUP($A13,demi!$B:$M,12,FALSE)),IF(ISERROR(VLOOKUP($A13,demi!$F:$M,8,FALSE)),\"\",IF(VLOOKUP($A13,demi!$F:$M,8,FALSE)=CE$2,\"X\",\"\")),IF(VLOOKUP($A13,demi!$B:$M,12,FALSE)=CE$2,\"X\",\"\"))","v":""},{"$f":"IF(ISERROR(VLOOKUP($A13,demi!$B:$M,12,FALSE)),IF(ISERROR(VLOOKUP($A13,demi!$F:$M,8,FALSE)),\"\",IF(VLOOKUP($A13,demi!$F:$M,8,FALSE)=CF$2,\"X\",\"\")),IF(VLOOKUP($A13,demi!$B:$M,12,FALSE)=CF$2,\"X\",\"\"))","v":""},{"$f":"IF(ISERROR(VLOOKUP($A13,demi!$B:$M,12,FALSE)),IF(ISERROR(VLOOKUP($A13,demi!$F:$M,8,FALSE)),\"\",IF(VLOOKUP($A13,demi!$F:$M,8,FALSE)=CG$2,\"X\",\"\")),IF(VLOOKUP($A13,demi!$B:$M,12,FALSE)=CG$2,\"X\",\"\"))","v":""},{"$f":"IF(ISERROR(VLOOKUP($A13,demi!$B:$M,12,FALSE)),IF(ISERROR(VLOOKUP($A13,demi!$F:$M,8,FALSE)),\"\",IF(VLOOKUP($A13,demi!$F:$M,8,FALSE)=CH$2,\"X\",\"\")),IF(VLOOKUP($A13,demi!$B:$M,12,FALSE)=CH$2,\"X\",\"\"))","v":""},{"$f":"IF(ISERROR(VLOOKUP($A13,demi!$B:$M,12,FALSE)),IF(ISERROR(VLOOKUP($A13,demi!$F:$M,8,FALSE)),\"\",IF(VLOOKUP($A13,demi!$F:$M,8,FALSE)=CI$2,\"X\",\"\")),IF(VLOOKUP($A13,demi!$B:$M,12,FALSE)=CI$2,\"X\",\"\"))","v":""},{"$f":"IF(ISERROR(VLOOKUP($A13,demi!$B:$M,12,FALSE)),IF(ISERROR(VLOOKUP($A13,demi!$F:$M,8,FALSE)),\"\",IF(VLOOKUP($A13,demi!$F:$M,8,FALSE)=CJ$2,\"X\",\"\")),IF(VLOOKUP($A13,demi!$B:$M,12,FALSE)=CJ$2,\"X\",\"\"))","v":""},{"$f":"IF(ISERROR(VLOOKUP($A13,demi!$B:$M,12,FALSE)),IF(ISERROR(VLOOKUP($A13,demi!$F:$M,8,FALSE)),\"\",IF(VLOOKUP($A13,demi!$F:$M,8,FALSE)=CK$2,\"X\",\"\")),IF(VLOOKUP($A13,demi!$B:$M,12,FALSE)=CK$2,\"X\",\"\"))","v":""},{"$f":"IF(ISERROR(VLOOKUP($A13,demi!$B:$M,12,FALSE)),IF(ISERROR(VLOOKUP($A13,demi!$F:$M,8,FALSE)),\"\",IF(VLOOKUP($A13,demi!$F:$M,8,FALSE)=CL$2,\"X\",\"\")),IF(VLOOKUP($A13,demi!$B:$M,12,FALSE)=CL$2,\"X\",\"\"))","v":""},{"$f":"IF(ISERROR(VLOOKUP($A13,demi!$B:$M,12,FALSE)),IF(ISERROR(VLOOKUP($A13,demi!$F:$M,8,FALSE)),\"\",IF(VLOOKUP($A13,demi!$F:$M,8,FALSE)=CM$2,\"X\",\"\")),IF(VLOOKUP($A13,demi!$B:$M,12,FALSE)=CM$2,\"X\",\"\"))","v":""},{"$f":"IF(ISERROR(VLOOKUP($A13,demi!$B:$M,12,FALSE)),IF(ISERROR(VLOOKUP($A13,demi!$F:$M,8,FALSE)),\"\",IF(VLOOKUP($A13,demi!$F:$M,8,FALSE)=CN$2,\"X\",\"\")),IF(VLOOKUP($A13,demi!$B:$M,12,FALSE)=CN$2,\"X\",\"\"))","v":""},{"$f":"IF(ISERROR(VLOOKUP($A13,demi!$B:$M,12,FALSE)),IF(ISERROR(VLOOKUP($A13,demi!$F:$M,8,FALSE)),\"\",IF(VLOOKUP($A13,demi!$F:$M,8,FALSE)=CO$2,\"X\",\"\")),IF(VLOOKUP($A13,demi!$B:$M,12,FALSE)=CO$2,\"X\",\"\"))","v":""},{"$f":"IF(ISERROR(VLOOKUP($A13,demi!$B:$M,12,FALSE)),IF(ISERROR(VLOOKUP($A13,demi!$F:$M,8,FALSE)),\"\",IF(VLOOKUP($A13,demi!$F:$M,8,FALSE)=CP$2,\"X\",\"\")),IF(VLOOKUP($A13,demi!$B:$M,12,FALSE)=CP$2,\"X\",\"\"))","v":""},{"$f":"IF(ISERROR(VLOOKUP($A13,demi!$B:$M,12,FALSE)),IF(ISERROR(VLOOKUP($A13,demi!$F:$M,8,FALSE)),\"\",IF(VLOOKUP($A13,demi!$F:$M,8,FALSE)=CQ$2,\"X\",\"\")),IF(VLOOKUP($A13,demi!$B:$M,12,FALSE)=CQ$2,\"X\",\"\"))","v":""},{"$f":"IF(ISERROR(VLOOKUP($A13,demi!$B:$M,12,FALSE)),IF(ISERROR(VLOOKUP($A13,demi!$F:$M,8,FALSE)),\"\",IF(VLOOKUP($A13,demi!$F:$M,8,FALSE)=CR$2,\"X\",\"\")),IF(VLOOKUP($A13,demi!$B:$M,12,FALSE)=CR$2,\"X\",\"\"))","v":""},{"$f":"IF(ISERROR(VLOOKUP($A13,demi!$B:$M,12,FALSE)),IF(ISERROR(VLOOKUP($A13,demi!$F:$M,8,FALSE)),\"\",IF(VLOOKUP($A13,demi!$F:$M,8,FALSE)=CS$2,\"X\",\"\")),IF(VLOOKUP($A13,demi!$B:$M,12,FALSE)=CS$2,\"X\",\"\"))","v":""}]
[12,"X","X","X","X","X","X","X","X","X","X","X","X","X","X","X","X",{"$f":"IF(ISERROR(VLOOKUP($A14,'32eme'!$B:$M,12,FALSE)),IF(ISERROR(VLOOKUP($A14,'32eme'!$F:$M,8,FALSE)),\"\",IF(VLOOKUP($A14,'32eme'!$F:$M,8,FALSE)=R$2,\"X\",\"\")),IF(VLOOKUP($A14,'32eme'!$B:$M,12,FALSE)=R$2,\"X\",\"\"))","v":""},{"$f":"IF(ISERROR(VLOOKUP($A14,'32eme'!$B:$M,12,FALSE)),IF(ISERROR(VLOOKUP($A14,'32eme'!$F:$M,8,FALSE)),\"\",IF(VLOOKUP($A14,'32eme'!$F:$M,8,FALSE)=S$2,\"X\",\"\")),IF(VLOOKUP($A14,'32eme'!$B:$M,12,FALSE)=S$2,\"X\",\"\"))","v":""},{"$f":"IF(ISERROR(VLOOKUP($A14,'32eme'!$B:$M,12,FALSE)),IF(ISERROR(VLOOKUP($A14,'32eme'!$F:$M,8,FALSE)),\"\",IF(VLOOKUP($A14,'32eme'!$F:$M,8,FALSE)=T$2,\"X\",\"\")),IF(VLOOKUP($A14,'32eme'!$B:$M,12,FALSE)=T$2,\"X\",\"\"))","v":""},{"$f":"IF(ISERROR(VLOOKUP($A14,'32eme'!$B:$M,12,FALSE)),IF(ISERROR(VLOOKUP($A14,'32eme'!$F:$M,8,FALSE)),\"\",IF(VLOOKUP($A14,'32eme'!$F:$M,8,FALSE)=U$2,\"X\",\"\")),IF(VLOOKUP($A14,'32eme'!$B:$M,12,FALSE)=U$2,\"X\",\"\"))","v":""},{"$f":"IF(ISERROR(VLOOKUP($A14,'32eme'!$B:$M,12,FALSE)),IF(ISERROR(VLOOKUP($A14,'32eme'!$F:$M,8,FALSE)),\"\",IF(VLOOKUP($A14,'32eme'!$F:$M,8,FALSE)=V$2,\"X\",\"\")),IF(VLOOKUP($A14,'32eme'!$B:$M,12,FALSE)=V$2,\"X\",\"\"))","v":""},{"$f":"IF(ISERROR(VLOOKUP($A14,'32eme'!$B:$M,12,FALSE)),IF(ISERROR(VLOOKUP($A14,'32eme'!$F:$M,8,FALSE)),\"\",IF(VLOOKUP($A14,'32eme'!$F:$M,8,FALSE)=W$2,\"X\",\"\")),IF(VLOOKUP($A14,'32eme'!$B:$M,12,FALSE)=W$2,\"X\",\"\"))","v":""},{"$f":"IF(ISERROR(VLOOKUP($A14,'32eme'!$B:$M,12,FALSE)),IF(ISERROR(VLOOKUP($A14,'32eme'!$F:$M,8,FALSE)),\"\",IF(VLOOKUP($A14,'32eme'!$F:$M,8,FALSE)=X$2,\"X\",\"\")),IF(VLOOKUP($A14,'32eme'!$B:$M,12,FALSE)=X$2,\"X\",\"\"))","v":""},{"$f":"IF(ISERROR(VLOOKUP($A14,'32eme'!$B:$M,12,FALSE)),IF(ISERROR(VLOOKUP($A14,'32eme'!$F:$M,8,FALSE)),\"\",IF(VLOOKUP($A14,'32eme'!$F:$M,8,FALSE)=Y$2,\"X\",\"\")),IF(VLOOKUP($A14,'32eme'!$B:$M,12,FALSE)=Y$2,\"X\",\"\"))","v":""},{"$f":"IF(ISERROR(VLOOKUP($A14,'32eme'!$B:$M,12,FALSE)),IF(ISERROR(VLOOKUP($A14,'32eme'!$F:$M,8,FALSE)),\"\",IF(VLOOKUP($A14,'32eme'!$F:$M,8,FALSE)=Z$2,\"X\",\"\")),IF(VLOOKUP($A14,'32eme'!$B:$M,12,FALSE)=Z$2,\"X\",\"\"))","v":""},{"$f":"IF(ISERROR(VLOOKUP($A14,'32eme'!$B:$M,12,FALSE)),IF(ISERROR(VLOOKUP($A14,'32eme'!$F:$M,8,FALSE)),\"\",IF(VLOOKUP($A14,'32eme'!$F:$M,8,FALSE)=AA$2,\"X\",\"\")),IF(VLOOKUP($A14,'32eme'!$B:$M,12,FALSE)=AA$2,\"X\",\"\"))","v":""},{"$f":"IF(ISERROR(VLOOKUP($A14,'32eme'!$B:$M,12,FALSE)),IF(ISERROR(VLOOKUP($A14,'32eme'!$F:$M,8,FALSE)),\"\",IF(VLOOKUP($A14,'32eme'!$F:$M,8,FALSE)=AB$2,\"X\",\"\")),IF(VLOOKUP($A14,'32eme'!$B:$M,12,FALSE)=AB$2,\"X\",\"\"))","v":""},{"$f":"IF(ISERROR(VLOOKUP($A14,'32eme'!$B:$M,12,FALSE)),IF(ISERROR(VLOOKUP($A14,'32eme'!$F:$M,8,FALSE)),\"\",IF(VLOOKUP($A14,'32eme'!$F:$M,8,FALSE)=AC$2,\"X\",\"\")),IF(VLOOKUP($A14,'32eme'!$B:$M,12,FALSE)=AC$2,\"X\",\"\"))","v":""},{"$f":"IF(ISERROR(VLOOKUP($A14,'32eme'!$B:$M,12,FALSE)),IF(ISERROR(VLOOKUP($A14,'32eme'!$F:$M,8,FALSE)),\"\",IF(VLOOKUP($A14,'32eme'!$F:$M,8,FALSE)=AD$2,\"X\",\"\")),IF(VLOOKUP($A14,'32eme'!$B:$M,12,FALSE)=AD$2,\"X\",\"\"))","v":""},{"$f":"IF(ISERROR(VLOOKUP($A14,'32eme'!$B:$M,12,FALSE)),IF(ISERROR(VLOOKUP($A14,'32eme'!$F:$M,8,FALSE)),\"\",IF(VLOOKUP($A14,'32eme'!$F:$M,8,FALSE)=AE$2,\"X\",\"\")),IF(VLOOKUP($A14,'32eme'!$B:$M,12,FALSE)=AE$2,\"X\",\"\"))","v":""},{"$f":"IF(ISERROR(VLOOKUP($A14,'32eme'!$B:$M,12,FALSE)),IF(ISERROR(VLOOKUP($A14,'32eme'!$F:$M,8,FALSE)),\"\",IF(VLOOKUP($A14,'32eme'!$F:$M,8,FALSE)=AF$2,\"X\",\"\")),IF(VLOOKUP($A14,'32eme'!$B:$M,12,FALSE)=AF$2,\"X\",\"\"))","v":""},{"$f":"IF(ISERROR(VLOOKUP($A14,'32eme'!$B:$M,12,FALSE)),IF(ISERROR(VLOOKUP($A14,'32eme'!$F:$M,8,FALSE)),\"\",IF(VLOOKUP($A14,'32eme'!$F:$M,8,FALSE)=AG$2,\"X\",\"\")),IF(VLOOKUP($A14,'32eme'!$B:$M,12,FALSE)=AG$2,\"X\",\"\"))","v":""},{"$f":"IF(ISERROR(VLOOKUP($A14,'16eme'!$B:$M,12,FALSE)),IF(ISERROR(VLOOKUP($A14,'16eme'!$F:$M,8,FALSE)),\"\",IF(VLOOKUP($A14,'16eme'!$F:$M,8,FALSE)=AH$2,\"X\",\"\")),IF(VLOOKUP($A14,'16eme'!$B:$M,12,FALSE)=AH$2,\"X\",\"\"))","v":""},{"$f":"IF(ISERROR(VLOOKUP($A14,'16eme'!$B:$M,12,FALSE)),IF(ISERROR(VLOOKUP($A14,'16eme'!$F:$M,8,FALSE)),\"\",IF(VLOOKUP($A14,'16eme'!$F:$M,8,FALSE)=AI$2,\"X\",\"\")),IF(VLOOKUP($A14,'16eme'!$B:$M,12,FALSE)=AI$2,\"X\",\"\"))","v":""},{"$f":"IF(ISERROR(VLOOKUP($A14,'16eme'!$B:$M,12,FALSE)),IF(ISERROR(VLOOKUP($A14,'16eme'!$F:$M,8,FALSE)),\"\",IF(VLOOKUP($A14,'16eme'!$F:$M,8,FALSE)=AJ$2,\"X\",\"\")),IF(VLOOKUP($A14,'16eme'!$B:$M,12,FALSE)=AJ$2,\"X\",\"\"))","v":""},{"$f":"IF(ISERROR(VLOOKUP($A14,'16eme'!$B:$M,12,FALSE)),IF(ISERROR(VLOOKUP($A14,'16eme'!$F:$M,8,FALSE)),\"\",IF(VLOOKUP($A14,'16eme'!$F:$M,8,FALSE)=AK$2,\"X\",\"\")),IF(VLOOKUP($A14,'16eme'!$B:$M,12,FALSE)=AK$2,\"X\",\"\"))","v":""},{"$f":"IF(ISERROR(VLOOKUP($A14,'16eme'!$B:$M,12,FALSE)),IF(ISERROR(VLOOKUP($A14,'16eme'!$F:$M,8,FALSE)),\"\",IF(VLOOKUP($A14,'16eme'!$F:$M,8,FALSE)=AL$2,\"X\",\"\")),IF(VLOOKUP($A14,'16eme'!$B:$M,12,FALSE)=AL$2,\"X\",\"\"))","v":""},{"$f":"IF(ISERROR(VLOOKUP($A14,'16eme'!$B:$M,12,FALSE)),IF(ISERROR(VLOOKUP($A14,'16eme'!$F:$M,8,FALSE)),\"\",IF(VLOOKUP($A14,'16eme'!$F:$M,8,FALSE)=AM$2,\"X\",\"\")),IF(VLOOKUP($A14,'16eme'!$B:$M,12,FALSE)=AM$2,\"X\",\"\"))","v":""},{"$f":"IF(ISERROR(VLOOKUP($A14,'16eme'!$B:$M,12,FALSE)),IF(ISERROR(VLOOKUP($A14,'16eme'!$F:$M,8,FALSE)),\"\",IF(VLOOKUP($A14,'16eme'!$F:$M,8,FALSE)=AN$2,\"X\",\"\")),IF(VLOOKUP($A14,'16eme'!$B:$M,12,FALSE)=AN$2,\"X\",\"\"))","v":""},{"$f":"IF(ISERROR(VLOOKUP($A14,'16eme'!$B:$M,12,FALSE)),IF(ISERROR(VLOOKUP($A14,'16eme'!$F:$M,8,FALSE)),\"\",IF(VLOOKUP($A14,'16eme'!$F:$M,8,FALSE)=AO$2,\"X\",\"\")),IF(VLOOKUP($A14,'16eme'!$B:$M,12,FALSE)=AO$2,\"X\",\"\"))","v":""},{"$f":"IF(ISERROR(VLOOKUP($A14,'16eme'!$B:$M,12,FALSE)),IF(ISERROR(VLOOKUP($A14,'16eme'!$F:$M,8,FALSE)),\"\",IF(VLOOKUP($A14,'16eme'!$F:$M,8,FALSE)=AP$2,\"X\",\"\")),IF(VLOOKUP($A14,'16eme'!$B:$M,12,FALSE)=AP$2,\"X\",\"\"))","v":""},{"$f":"IF(ISERROR(VLOOKUP($A14,'16eme'!$B:$M,12,FALSE)),IF(ISERROR(VLOOKUP($A14,'16eme'!$F:$M,8,FALSE)),\"\",IF(VLOOKUP($A14,'16eme'!$F:$M,8,FALSE)=AQ$2,\"X\",\"\")),IF(VLOOKUP($A14,'16eme'!$B:$M,12,FALSE)=AQ$2,\"X\",\"\"))","v":""},{"$f":"IF(ISERROR(VLOOKUP($A14,'16eme'!$B:$M,12,FALSE)),IF(ISERROR(VLOOKUP($A14,'16eme'!$F:$M,8,FALSE)),\"\",IF(VLOOKUP($A14,'16eme'!$F:$M,8,FALSE)=AR$2,\"X\",\"\")),IF(VLOOKUP($A14,'16eme'!$B:$M,12,FALSE)=AR$2,\"X\",\"\"))","v":""},{"$f":"IF(ISERROR(VLOOKUP($A14,'16eme'!$B:$M,12,FALSE)),IF(ISERROR(VLOOKUP($A14,'16eme'!$F:$M,8,FALSE)),\"\",IF(VLOOKUP($A14,'16eme'!$F:$M,8,FALSE)=AS$2,\"X\",\"\")),IF(VLOOKUP($A14,'16eme'!$B:$M,12,FALSE)=AS$2,\"X\",\"\"))","v":""},{"$f":"IF(ISERROR(VLOOKUP($A14,'16eme'!$B:$M,12,FALSE)),IF(ISERROR(VLOOKUP($A14,'16eme'!$F:$M,8,FALSE)),\"\",IF(VLOOKUP($A14,'16eme'!$F:$M,8,FALSE)=AT$2,\"X\",\"\")),IF(VLOOKUP($A14,'16eme'!$B:$M,12,FALSE)=AT$2,\"X\",\"\"))","v":""},{"$f":"IF(ISERROR(VLOOKUP($A14,'16eme'!$B:$M,12,FALSE)),IF(ISERROR(VLOOKUP($A14,'16eme'!$F:$M,8,FALSE)),\"\",IF(VLOOKUP($A14,'16eme'!$F:$M,8,FALSE)=AU$2,\"X\",\"\")),IF(VLOOKUP($A14,'16eme'!$B:$M,12,FALSE)=AU$2,\"X\",\"\"))","v":""},{"$f":"IF(ISERROR(VLOOKUP($A14,'16eme'!$B:$M,12,FALSE)),IF(ISERROR(VLOOKUP($A14,'16eme'!$F:$M,8,FALSE)),\"\",IF(VLOOKUP($A14,'16eme'!$F:$M,8,FALSE)=AV$2,\"X\",\"\")),IF(VLOOKUP($A14,'16eme'!$B:$M,12,FALSE)=AV$2,\"X\",\"\"))","v":""},{"$f":"IF(ISERROR(VLOOKUP($A14,'16eme'!$B:$M,12,FALSE)),IF(ISERROR(VLOOKUP($A14,'16eme'!$F:$M,8,FALSE)),\"\",IF(VLOOKUP($A14,'16eme'!$F:$M,8,FALSE)=AW$2,\"X\",\"\")),IF(VLOOKUP($A14,'16eme'!$B:$M,12,FALSE)=AW$2,\"X\",\"\"))","v":""},{"$f":"IF(ISERROR(VLOOKUP($A14,'8eme'!$B:$M,12,FALSE)),IF(ISERROR(VLOOKUP($A14,'8eme'!$F:$M,8,FALSE)),\"\",IF(VLOOKUP($A14,'8eme'!$F:$M,8,FALSE)=AX$2,\"X\",\"\")),IF(VLOOKUP($A14,'8eme'!$B:$M,12,FALSE)=AX$2,\"X\",\"\"))","v":""},{"$f":"IF(ISERROR(VLOOKUP($A14,'8eme'!$B:$M,12,FALSE)),IF(ISERROR(VLOOKUP($A14,'8eme'!$F:$M,8,FALSE)),\"\",IF(VLOOKUP($A14,'8eme'!$F:$M,8,FALSE)=AY$2,\"X\",\"\")),IF(VLOOKUP($A14,'8eme'!$B:$M,12,FALSE)=AY$2,\"X\",\"\"))","v":""},{"$f":"IF(ISERROR(VLOOKUP($A14,'8eme'!$B:$M,12,FALSE)),IF(ISERROR(VLOOKUP($A14,'8eme'!$F:$M,8,FALSE)),\"\",IF(VLOOKUP($A14,'8eme'!$F:$M,8,FALSE)=AZ$2,\"X\",\"\")),IF(VLOOKUP($A14,'8eme'!$B:$M,12,FALSE)=AZ$2,\"X\",\"\"))","v":""},{"$f":"IF(ISERROR(VLOOKUP($A14,'8eme'!$B:$M,12,FALSE)),IF(ISERROR(VLOOKUP($A14,'8eme'!$F:$M,8,FALSE)),\"\",IF(VLOOKUP($A14,'8eme'!$F:$M,8,FALSE)=BA$2,\"X\",\"\")),IF(VLOOKUP($A14,'8eme'!$B:$M,12,FALSE)=BA$2,\"X\",\"\"))","v":""},{"$f":"IF(ISERROR(VLOOKUP($A14,'8eme'!$B:$M,12,FALSE)),IF(ISERROR(VLOOKUP($A14,'8eme'!$F:$M,8,FALSE)),\"\",IF(VLOOKUP($A14,'8eme'!$F:$M,8,FALSE)=BB$2,\"X\",\"\")),IF(VLOOKUP($A14,'8eme'!$B:$M,12,FALSE)=BB$2,\"X\",\"\"))","v":""},{"$f":"IF(ISERROR(VLOOKUP($A14,'8eme'!$B:$M,12,FALSE)),IF(ISERROR(VLOOKUP($A14,'8eme'!$F:$M,8,FALSE)),\"\",IF(VLOOKUP($A14,'8eme'!$F:$M,8,FALSE)=BC$2,\"X\",\"\")),IF(VLOOKUP($A14,'8eme'!$B:$M,12,FALSE)=BC$2,\"X\",\"\"))","v":""},{"$f":"IF(ISERROR(VLOOKUP($A14,'8eme'!$B:$M,12,FALSE)),IF(ISERROR(VLOOKUP($A14,'8eme'!$F:$M,8,FALSE)),\"\",IF(VLOOKUP($A14,'8eme'!$F:$M,8,FALSE)=BD$2,\"X\",\"\")),IF(VLOOKUP($A14,'8eme'!$B:$M,12,FALSE)=BD$2,\"X\",\"\"))","v":""},{"$f":"IF(ISERROR(VLOOKUP($A14,'8eme'!$B:$M,12,FALSE)),IF(ISERROR(VLOOKUP($A14,'8eme'!$F:$M,8,FALSE)),\"\",IF(VLOOKUP($A14,'8eme'!$F:$M,8,FALSE)=BE$2,\"X\",\"\")),IF(VLOOKUP($A14,'8eme'!$B:$M,12,FALSE)=BE$2,\"X\",\"\"))","v":""},{"$f":"IF(ISERROR(VLOOKUP($A14,'8eme'!$B:$M,12,FALSE)),IF(ISERROR(VLOOKUP($A14,'8eme'!$F:$M,8,FALSE)),\"\",IF(VLOOKUP($A14,'8eme'!$F:$M,8,FALSE)=BF$2,\"X\",\"\")),IF(VLOOKUP($A14,'8eme'!$B:$M,12,FALSE)=BF$2,\"X\",\"\"))","v":""},{"$f":"IF(ISERROR(VLOOKUP($A14,'8eme'!$B:$M,12,FALSE)),IF(ISERROR(VLOOKUP($A14,'8eme'!$F:$M,8,FALSE)),\"\",IF(VLOOKUP($A14,'8eme'!$F:$M,8,FALSE)=BG$2,\"X\",\"\")),IF(VLOOKUP($A14,'8eme'!$B:$M,12,FALSE)=BG$2,\"X\",\"\"))","v":""},{"$f":"IF(ISERROR(VLOOKUP($A14,'8eme'!$B:$M,12,FALSE)),IF(ISERROR(VLOOKUP($A14,'8eme'!$F:$M,8,FALSE)),\"\",IF(VLOOKUP($A14,'8eme'!$F:$M,8,FALSE)=BH$2,\"X\",\"\")),IF(VLOOKUP($A14,'8eme'!$B:$M,12,FALSE)=BH$2,\"X\",\"\"))","v":""},{"$f":"IF(ISERROR(VLOOKUP($A14,'8eme'!$B:$M,12,FALSE)),IF(ISERROR(VLOOKUP($A14,'8eme'!$F:$M,8,FALSE)),\"\",IF(VLOOKUP($A14,'8eme'!$F:$M,8,FALSE)=BI$2,\"X\",\"\")),IF(VLOOKUP($A14,'8eme'!$B:$M,12,FALSE)=BI$2,\"X\",\"\"))","v":""},{"$f":"IF(ISERROR(VLOOKUP($A14,'8eme'!$B:$M,12,FALSE)),IF(ISERROR(VLOOKUP($A14,'8eme'!$F:$M,8,FALSE)),\"\",IF(VLOOKUP($A14,'8eme'!$F:$M,8,FALSE)=BJ$2,\"X\",\"\")),IF(VLOOKUP($A14,'8eme'!$B:$M,12,FALSE)=BJ$2,\"X\",\"\"))","v":""},{"$f":"IF(ISERROR(VLOOKUP($A14,'8eme'!$B:$M,12,FALSE)),IF(ISERROR(VLOOKUP($A14,'8eme'!$F:$M,8,FALSE)),\"\",IF(VLOOKUP($A14,'8eme'!$F:$M,8,FALSE)=BK$2,\"X\",\"\")),IF(VLOOKUP($A14,'8eme'!$B:$M,12,FALSE)=BK$2,\"X\",\"\"))","v":""},{"$f":"IF(ISERROR(VLOOKUP($A14,'8eme'!$B:$M,12,FALSE)),IF(ISERROR(VLOOKUP($A14,'8eme'!$F:$M,8,FALSE)),\"\",IF(VLOOKUP($A14,'8eme'!$F:$M,8,FALSE)=BL$2,\"X\",\"\")),IF(VLOOKUP($A14,'8eme'!$B:$M,12,FALSE)=BL$2,\"X\",\"\"))","v":""},{"$f":"IF(ISERROR(VLOOKUP($A14,'8eme'!$B:$M,12,FALSE)),IF(ISERROR(VLOOKUP($A14,'8eme'!$F:$M,8,FALSE)),\"\",IF(VLOOKUP($A14,'8eme'!$F:$M,8,FALSE)=BM$2,\"X\",\"\")),IF(VLOOKUP($A14,'8eme'!$B:$M,12,FALSE)=BM$2,\"X\",\"\"))","v":""},{"$f":"IF(ISERROR(VLOOKUP($A14,quart!$B:$M,12,FALSE)),IF(ISERROR(VLOOKUP($A14,quart!$F:$M,8,FALSE)),\"\",IF(VLOOKUP($A14,quart!$F:$M,8,FALSE)=BN$2,\"X\",\"\")),IF(VLOOKUP($A14,quart!$B:$M,12,FALSE)=BN$2,\"X\",\"\"))","v":""},{"$f":"IF(ISERROR(VLOOKUP($A14,quart!$B:$M,12,FALSE)),IF(ISERROR(VLOOKUP($A14,quart!$F:$M,8,FALSE)),\"\",IF(VLOOKUP($A14,quart!$F:$M,8,FALSE)=BO$2,\"X\",\"\")),IF(VLOOKUP($A14,quart!$B:$M,12,FALSE)=BO$2,\"X\",\"\"))","v":""},{"$f":"IF(ISERROR(VLOOKUP($A14,quart!$B:$M,12,FALSE)),IF(ISERROR(VLOOKUP($A14,quart!$F:$M,8,FALSE)),\"\",IF(VLOOKUP($A14,quart!$F:$M,8,FALSE)=BP$2,\"X\",\"\")),IF(VLOOKUP($A14,quart!$B:$M,12,FALSE)=BP$2,\"X\",\"\"))","v":""},{"$f":"IF(ISERROR(VLOOKUP($A14,quart!$B:$M,12,FALSE)),IF(ISERROR(VLOOKUP($A14,quart!$F:$M,8,FALSE)),\"\",IF(VLOOKUP($A14,quart!$F:$M,8,FALSE)=BQ$2,\"X\",\"\")),IF(VLOOKUP($A14,quart!$B:$M,12,FALSE)=BQ$2,\"X\",\"\"))","v":""},{"$f":"IF(ISERROR(VLOOKUP($A14,quart!$B:$M,12,FALSE)),IF(ISERROR(VLOOKUP($A14,quart!$F:$M,8,FALSE)),\"\",IF(VLOOKUP($A14,quart!$F:$M,8,FALSE)=BR$2,\"X\",\"\")),IF(VLOOKUP($A14,quart!$B:$M,12,FALSE)=BR$2,\"X\",\"\"))","v":""},{"$f":"IF(ISERROR(VLOOKUP($A14,quart!$B:$M,12,FALSE)),IF(ISERROR(VLOOKUP($A14,quart!$F:$M,8,FALSE)),\"\",IF(VLOOKUP($A14,quart!$F:$M,8,FALSE)=BS$2,\"X\",\"\")),IF(VLOOKUP($A14,quart!$B:$M,12,FALSE)=BS$2,\"X\",\"\"))","v":""},{"$f":"IF(ISERROR(VLOOKUP($A14,quart!$B:$M,12,FALSE)),IF(ISERROR(VLOOKUP($A14,quart!$F:$M,8,FALSE)),\"\",IF(VLOOKUP($A14,quart!$F:$M,8,FALSE)=BT$2,\"X\",\"\")),IF(VLOOKUP($A14,quart!$B:$M,12,FALSE)=BT$2,\"X\",\"\"))","v":""},{"$f":"IF(ISERROR(VLOOKUP($A14,quart!$B:$M,12,FALSE)),IF(ISERROR(VLOOKUP($A14,quart!$F:$M,8,FALSE)),\"\",IF(VLOOKUP($A14,quart!$F:$M,8,FALSE)=BU$2,\"X\",\"\")),IF(VLOOKUP($A14,quart!$B:$M,12,FALSE)=BU$2,\"X\",\"\"))","v":""},{"$f":"IF(ISERROR(VLOOKUP($A14,quart!$B:$M,12,FALSE)),IF(ISERROR(VLOOKUP($A14,quart!$F:$M,8,FALSE)),\"\",IF(VLOOKUP($A14,quart!$F:$M,8,FALSE)=BV$2,\"X\",\"\")),IF(VLOOKUP($A14,quart!$B:$M,12,FALSE)=BV$2,\"X\",\"\"))","v":""},{"$f":"IF(ISERROR(VLOOKUP($A14,quart!$B:$M,12,FALSE)),IF(ISERROR(VLOOKUP($A14,quart!$F:$M,8,FALSE)),\"\",IF(VLOOKUP($A14,quart!$F:$M,8,FALSE)=BW$2,\"X\",\"\")),IF(VLOOKUP($A14,quart!$B:$M,12,FALSE)=BW$2,\"X\",\"\"))","v":""},{"$f":"IF(ISERROR(VLOOKUP($A14,quart!$B:$M,12,FALSE)),IF(ISERROR(VLOOKUP($A14,quart!$F:$M,8,FALSE)),\"\",IF(VLOOKUP($A14,quart!$F:$M,8,FALSE)=BX$2,\"X\",\"\")),IF(VLOOKUP($A14,quart!$B:$M,12,FALSE)=BX$2,\"X\",\"\"))","v":""},{"$f":"IF(ISERROR(VLOOKUP($A14,quart!$B:$M,12,FALSE)),IF(ISERROR(VLOOKUP($A14,quart!$F:$M,8,FALSE)),\"\",IF(VLOOKUP($A14,quart!$F:$M,8,FALSE)=BY$2,\"X\",\"\")),IF(VLOOKUP($A14,quart!$B:$M,12,FALSE)=BY$2,\"X\",\"\"))","v":""},{"$f":"IF(ISERROR(VLOOKUP($A14,quart!$B:$M,12,FALSE)),IF(ISERROR(VLOOKUP($A14,quart!$F:$M,8,FALSE)),\"\",IF(VLOOKUP($A14,quart!$F:$M,8,FALSE)=BZ$2,\"X\",\"\")),IF(VLOOKUP($A14,quart!$B:$M,12,FALSE)=BZ$2,\"X\",\"\"))","v":""},{"$f":"IF(ISERROR(VLOOKUP($A14,quart!$B:$M,12,FALSE)),IF(ISERROR(VLOOKUP($A14,quart!$F:$M,8,FALSE)),\"\",IF(VLOOKUP($A14,quart!$F:$M,8,FALSE)=CA$2,\"X\",\"\")),IF(VLOOKUP($A14,quart!$B:$M,12,FALSE)=CA$2,\"X\",\"\"))","v":""},{"$f":"IF(ISERROR(VLOOKUP($A14,quart!$B:$M,12,FALSE)),IF(ISERROR(VLOOKUP($A14,quart!$F:$M,8,FALSE)),\"\",IF(VLOOKUP($A14,quart!$F:$M,8,FALSE)=CB$2,\"X\",\"\")),IF(VLOOKUP($A14,quart!$B:$M,12,FALSE)=CB$2,\"X\",\"\"))","v":""},{"$f":"IF(ISERROR(VLOOKUP($A14,quart!$B:$M,12,FALSE)),IF(ISERROR(VLOOKUP($A14,quart!$F:$M,8,FALSE)),\"\",IF(VLOOKUP($A14,quart!$F:$M,8,FALSE)=CC$2,\"X\",\"\")),IF(VLOOKUP($A14,quart!$B:$M,12,FALSE)=CC$2,\"X\",\"\"))","v":""},{"$f":"IF(ISERROR(VLOOKUP($A14,demi!$B:$M,12,FALSE)),IF(ISERROR(VLOOKUP($A14,demi!$F:$M,8,FALSE)),\"\",IF(VLOOKUP($A14,demi!$F:$M,8,FALSE)=CD$2,\"X\",\"\")),IF(VLOOKUP($A14,demi!$B:$M,12,FALSE)=CD$2,\"X\",\"\"))","v":""},{"$f":"IF(ISERROR(VLOOKUP($A14,demi!$B:$M,12,FALSE)),IF(ISERROR(VLOOKUP($A14,demi!$F:$M,8,FALSE)),\"\",IF(VLOOKUP($A14,demi!$F:$M,8,FALSE)=CE$2,\"X\",\"\")),IF(VLOOKUP($A14,demi!$B:$M,12,FALSE)=CE$2,\"X\",\"\"))","v":""},{"$f":"IF(ISERROR(VLOOKUP($A14,demi!$B:$M,12,FALSE)),IF(ISERROR(VLOOKUP($A14,demi!$F:$M,8,FALSE)),\"\",IF(VLOOKUP($A14,demi!$F:$M,8,FALSE)=CF$2,\"X\",\"\")),IF(VLOOKUP($A14,demi!$B:$M,12,FALSE)=CF$2,\"X\",\"\"))","v":""},{"$f":"IF(ISERROR(VLOOKUP($A14,demi!$B:$M,12,FALSE)),IF(ISERROR(VLOOKUP($A14,demi!$F:$M,8,FALSE)),\"\",IF(VLOOKUP($A14,demi!$F:$M,8,FALSE)=CG$2,\"X\",\"\")),IF(VLOOKUP($A14,demi!$B:$M,12,FALSE)=CG$2,\"X\",\"\"))","v":""},{"$f":"IF(ISERROR(VLOOKUP($A14,demi!$B:$M,12,FALSE)),IF(ISERROR(VLOOKUP($A14,demi!$F:$M,8,FALSE)),\"\",IF(VLOOKUP($A14,demi!$F:$M,8,FALSE)=CH$2,\"X\",\"\")),IF(VLOOKUP($A14,demi!$B:$M,12,FALSE)=CH$2,\"X\",\"\"))","v":""},{"$f":"IF(ISERROR(VLOOKUP($A14,demi!$B:$M,12,FALSE)),IF(ISERROR(VLOOKUP($A14,demi!$F:$M,8,FALSE)),\"\",IF(VLOOKUP($A14,demi!$F:$M,8,FALSE)=CI$2,\"X\",\"\")),IF(VLOOKUP($A14,demi!$B:$M,12,FALSE)=CI$2,\"X\",\"\"))","v":""},{"$f":"IF(ISERROR(VLOOKUP($A14,demi!$B:$M,12,FALSE)),IF(ISERROR(VLOOKUP($A14,demi!$F:$M,8,FALSE)),\"\",IF(VLOOKUP($A14,demi!$F:$M,8,FALSE)=CJ$2,\"X\",\"\")),IF(VLOOKUP($A14,demi!$B:$M,12,FALSE)=CJ$2,\"X\",\"\"))","v":""},{"$f":"IF(ISERROR(VLOOKUP($A14,demi!$B:$M,12,FALSE)),IF(ISERROR(VLOOKUP($A14,demi!$F:$M,8,FALSE)),\"\",IF(VLOOKUP($A14,demi!$F:$M,8,FALSE)=CK$2,\"X\",\"\")),IF(VLOOKUP($A14,demi!$B:$M,12,FALSE)=CK$2,\"X\",\"\"))","v":""},{"$f":"IF(ISERROR(VLOOKUP($A14,demi!$B:$M,12,FALSE)),IF(ISERROR(VLOOKUP($A14,demi!$F:$M,8,FALSE)),\"\",IF(VLOOKUP($A14,demi!$F:$M,8,FALSE)=CL$2,\"X\",\"\")),IF(VLOOKUP($A14,demi!$B:$M,12,FALSE)=CL$2,\"X\",\"\"))","v":""},{"$f":"IF(ISERROR(VLOOKUP($A14,demi!$B:$M,12,FALSE)),IF(ISERROR(VLOOKUP($A14,demi!$F:$M,8,FALSE)),\"\",IF(VLOOKUP($A14,demi!$F:$M,8,FALSE)=CM$2,\"X\",\"\")),IF(VLOOKUP($A14,demi!$B:$M,12,FALSE)=CM$2,\"X\",\"\"))","v":""},{"$f":"IF(ISERROR(VLOOKUP($A14,demi!$B:$M,12,FALSE)),IF(ISERROR(VLOOKUP($A14,demi!$F:$M,8,FALSE)),\"\",IF(VLOOKUP($A14,demi!$F:$M,8,FALSE)=CN$2,\"X\",\"\")),IF(VLOOKUP($A14,demi!$B:$M,12,FALSE)=CN$2,\"X\",\"\"))","v":""},{"$f":"IF(ISERROR(VLOOKUP($A14,demi!$B:$M,12,FALSE)),IF(ISERROR(VLOOKUP($A14,demi!$F:$M,8,FALSE)),\"\",IF(VLOOKUP($A14,demi!$F:$M,8,FALSE)=CO$2,\"X\",\"\")),IF(VLOOKUP($A14,demi!$B:$M,12,FALSE)=CO$2,\"X\",\"\"))","v":""},{"$f":"IF(ISERROR(VLOOKUP($A14,demi!$B:$M,12,FALSE)),IF(ISERROR(VLOOKUP($A14,demi!$F:$M,8,FALSE)),\"\",IF(VLOOKUP($A14,demi!$F:$M,8,FALSE)=CP$2,\"X\",\"\")),IF(VLOOKUP($A14,demi!$B:$M,12,FALSE)=CP$2,\"X\",\"\"))","v":""},{"$f":"IF(ISERROR(VLOOKUP($A14,demi!$B:$M,12,FALSE)),IF(ISERROR(VLOOKUP($A14,demi!$F:$M,8,FALSE)),\"\",IF(VLOOKUP($A14,demi!$F:$M,8,FALSE)=CQ$2,\"X\",\"\")),IF(VLOOKUP($A14,demi!$B:$M,12,FALSE)=CQ$2,\"X\",\"\"))","v":""},{"$f":"IF(ISERROR(VLOOKUP($A14,demi!$B:$M,12,FALSE)),IF(ISERROR(VLOOKUP($A14,demi!$F:$M,8,FALSE)),\"\",IF(VLOOKUP($A14,demi!$F:$M,8,FALSE)=CR$2,\"X\",\"\")),IF(VLOOKUP($A14,demi!$B:$M,12,FALSE)=CR$2,\"X\",\"\"))","v":""},{"$f":"IF(ISERROR(VLOOKUP($A14,demi!$B:$M,12,FALSE)),IF(ISERROR(VLOOKUP($A14,demi!$F:$M,8,FALSE)),\"\",IF(VLOOKUP($A14,demi!$F:$M,8,FALSE)=CS$2,\"X\",\"\")),IF(VLOOKUP($A14,demi!$B:$M,12,FALSE)=CS$2,\"X\",\"\"))","v":""}]
[13,"X","X","X","X","X","X","X","X","X","X","X","X","X","X","X","X",{"$f":"IF(ISERROR(VLOOKUP($A15,'32eme'!$B:$M,12,FALSE)),IF(ISERROR(VLOOKUP($A15,'32eme'!$F:$M,8,FALSE)),\"\",IF(VLOOKUP($A15,'32eme'!$F:$M,8,FALSE)=R$2,\"X\",\"\")),IF(VLOOKUP($A15,'32eme'!$B:$M,12,FALSE)=R$2,\"X\",\"\"))","v":""},{"$f":"IF(ISERROR(VLOOKUP($A15,'32eme'!$B:$M,12,FALSE)),IF(ISERROR(VLOOKUP($A15,'32eme'!$F:$M,8,FALSE)),\"\",IF(VLOOKUP($A15,'32eme'!$F:$M,8,FALSE)=S$2,\"X\",\"\")),IF(VLOOKUP($A15,'32eme'!$B:$M,12,FALSE)=S$2,\"X\",\"\"))","v":""},{"$f":"IF(ISERROR(VLOOKUP($A15,'32eme'!$B:$M,12,FALSE)),IF(ISERROR(VLOOKUP($A15,'32eme'!$F:$M,8,FALSE)),\"\",IF(VLOOKUP($A15,'32eme'!$F:$M,8,FALSE)=T$2,\"X\",\"\")),IF(VLOOKUP($A15,'32eme'!$B:$M,12,FALSE)=T$2,\"X\",\"\"))","v":""},{"$f":"IF(ISERROR(VLOOKUP($A15,'32eme'!$B:$M,12,FALSE)),IF(ISERROR(VLOOKUP($A15,'32eme'!$F:$M,8,FALSE)),\"\",IF(VLOOKUP($A15,'32eme'!$F:$M,8,FALSE)=U$2,\"X\",\"\")),IF(VLOOKUP($A15,'32eme'!$B:$M,12,FALSE)=U$2,\"X\",\"\"))","v":""},{"$f":"IF(ISERROR(VLOOKUP($A15,'32eme'!$B:$M,12,FALSE)),IF(ISERROR(VLOOKUP($A15,'32eme'!$F:$M,8,FALSE)),\"\",IF(VLOOKUP($A15,'32eme'!$F:$M,8,FALSE)=V$2,\"X\",\"\")),IF(VLOOKUP($A15,'32eme'!$B:$M,12,FALSE)=V$2,\"X\",\"\"))","v":""},{"$f":"IF(ISERROR(VLOOKUP($A15,'32eme'!$B:$M,12,FALSE)),IF(ISERROR(VLOOKUP($A15,'32eme'!$F:$M,8,FALSE)),\"\",IF(VLOOKUP($A15,'32eme'!$F:$M,8,FALSE)=W$2,\"X\",\"\")),IF(VLOOKUP($A15,'32eme'!$B:$M,12,FALSE)=W$2,\"X\",\"\"))","v":""},{"$f":"IF(ISERROR(VLOOKUP($A15,'32eme'!$B:$M,12,FALSE)),IF(ISERROR(VLOOKUP($A15,'32eme'!$F:$M,8,FALSE)),\"\",IF(VLOOKUP($A15,'32eme'!$F:$M,8,FALSE)=X$2,\"X\",\"\")),IF(VLOOKUP($A15,'32eme'!$B:$M,12,FALSE)=X$2,\"X\",\"\"))","v":""},{"$f":"IF(ISERROR(VLOOKUP($A15,'32eme'!$B:$M,12,FALSE)),IF(ISERROR(VLOOKUP($A15,'32eme'!$F:$M,8,FALSE)),\"\",IF(VLOOKUP($A15,'32eme'!$F:$M,8,FALSE)=Y$2,\"X\",\"\")),IF(VLOOKUP($A15,'32eme'!$B:$M,12,FALSE)=Y$2,\"X\",\"\"))","v":""},{"$f":"IF(ISERROR(VLOOKUP($A15,'32eme'!$B:$M,12,FALSE)),IF(ISERROR(VLOOKUP($A15,'32eme'!$F:$M,8,FALSE)),\"\",IF(VLOOKUP($A15,'32eme'!$F:$M,8,FALSE)=Z$2,\"X\",\"\")),IF(VLOOKUP($A15,'32eme'!$B:$M,12,FALSE)=Z$2,\"X\",\"\"))","v":""},{"$f":"IF(ISERROR(VLOOKUP($A15,'32eme'!$B:$M,12,FALSE)),IF(ISERROR(VLOOKUP($A15,'32eme'!$F:$M,8,FALSE)),\"\",IF(VLOOKUP($A15,'32eme'!$F:$M,8,FALSE)=AA$2,\"X\",\"\")),IF(VLOOKUP($A15,'32eme'!$B:$M,12,FALSE)=AA$2,\"X\",\"\"))","v":""},{"$f":"IF(ISERROR(VLOOKUP($A15,'32eme'!$B:$M,12,FALSE)),IF(ISERROR(VLOOKUP($A15,'32eme'!$F:$M,8,FALSE)),\"\",IF(VLOOKUP($A15,'32eme'!$F:$M,8,FALSE)=AB$2,\"X\",\"\")),IF(VLOOKUP($A15,'32eme'!$B:$M,12,FALSE)=AB$2,\"X\",\"\"))","v":""},{"$f":"IF(ISERROR(VLOOKUP($A15,'32eme'!$B:$M,12,FALSE)),IF(ISERROR(VLOOKUP($A15,'32eme'!$F:$M,8,FALSE)),\"\",IF(VLOOKUP($A15,'32eme'!$F:$M,8,FALSE)=AC$2,\"X\",\"\")),IF(VLOOKUP($A15,'32eme'!$B:$M,12,FALSE)=AC$2,\"X\",\"\"))","v":""},{"$f":"IF(ISERROR(VLOOKUP($A15,'32eme'!$B:$M,12,FALSE)),IF(ISERROR(VLOOKUP($A15,'32eme'!$F:$M,8,FALSE)),\"\",IF(VLOOKUP($A15,'32eme'!$F:$M,8,FALSE)=AD$2,\"X\",\"\")),IF(VLOOKUP($A15,'32eme'!$B:$M,12,FALSE)=AD$2,\"X\",\"\"))","v":""},{"$f":"IF(ISERROR(VLOOKUP($A15,'32eme'!$B:$M,12,FALSE)),IF(ISERROR(VLOOKUP($A15,'32eme'!$F:$M,8,FALSE)),\"\",IF(VLOOKUP($A15,'32eme'!$F:$M,8,FALSE)=AE$2,\"X\",\"\")),IF(VLOOKUP($A15,'32eme'!$B:$M,12,FALSE)=AE$2,\"X\",\"\"))","v":""},{"$f":"IF(ISERROR(VLOOKUP($A15,'32eme'!$B:$M,12,FALSE)),IF(ISERROR(VLOOKUP($A15,'32eme'!$F:$M,8,FALSE)),\"\",IF(VLOOKUP($A15,'32eme'!$F:$M,8,FALSE)=AF$2,\"X\",\"\")),IF(VLOOKUP($A15,'32eme'!$B:$M,12,FALSE)=AF$2,\"X\",\"\"))","v":""},{"$f":"IF(ISERROR(VLOOKUP($A15,'32eme'!$B:$M,12,FALSE)),IF(ISERROR(VLOOKUP($A15,'32eme'!$F:$M,8,FALSE)),\"\",IF(VLOOKUP($A15,'32eme'!$F:$M,8,FALSE)=AG$2,\"X\",\"\")),IF(VLOOKUP($A15,'32eme'!$B:$M,12,FALSE)=AG$2,\"X\",\"\"))","v":""},{"$f":"IF(ISERROR(VLOOKUP($A15,'16eme'!$B:$M,12,FALSE)),IF(ISERROR(VLOOKUP($A15,'16eme'!$F:$M,8,FALSE)),\"\",IF(VLOOKUP($A15,'16eme'!$F:$M,8,FALSE)=AH$2,\"X\",\"\")),IF(VLOOKUP($A15,'16eme'!$B:$M,12,FALSE)=AH$2,\"X\",\"\"))","v":""},{"$f":"IF(ISERROR(VLOOKUP($A15,'16eme'!$B:$M,12,FALSE)),IF(ISERROR(VLOOKUP($A15,'16eme'!$F:$M,8,FALSE)),\"\",IF(VLOOKUP($A15,'16eme'!$F:$M,8,FALSE)=AI$2,\"X\",\"\")),IF(VLOOKUP($A15,'16eme'!$B:$M,12,FALSE)=AI$2,\"X\",\"\"))","v":""},{"$f":"IF(ISERROR(VLOOKUP($A15,'16eme'!$B:$M,12,FALSE)),IF(ISERROR(VLOOKUP($A15,'16eme'!$F:$M,8,FALSE)),\"\",IF(VLOOKUP($A15,'16eme'!$F:$M,8,FALSE)=AJ$2,\"X\",\"\")),IF(VLOOKUP($A15,'16eme'!$B:$M,12,FALSE)=AJ$2,\"X\",\"\"))","v":""},{"$f":"IF(ISERROR(VLOOKUP($A15,'16eme'!$B:$M,12,FALSE)),IF(ISERROR(VLOOKUP($A15,'16eme'!$F:$M,8,FALSE)),\"\",IF(VLOOKUP($A15,'16eme'!$F:$M,8,FALSE)=AK$2,\"X\",\"\")),IF(VLOOKUP($A15,'16eme'!$B:$M,12,FALSE)=AK$2,\"X\",\"\"))","v":""},{"$f":"IF(ISERROR(VLOOKUP($A15,'16eme'!$B:$M,12,FALSE)),IF(ISERROR(VLOOKUP($A15,'16eme'!$F:$M,8,FALSE)),\"\",IF(VLOOKUP($A15,'16eme'!$F:$M,8,FALSE)=AL$2,\"X\",\"\")),IF(VLOOKUP($A15,'16eme'!$B:$M,12,FALSE)=AL$2,\"X\",\"\"))","v":""},{"$f":"IF(ISERROR(VLOOKUP($A15,'16eme'!$B:$M,12,FALSE)),IF(ISERROR(VLOOKUP($A15,'16eme'!$F:$M,8,FALSE)),\"\",IF(VLOOKUP($A15,'16eme'!$F:$M,8,FALSE)=AM$2,\"X\",\"\")),IF(VLOOKUP($A15,'16eme'!$B:$M,12,FALSE)=AM$2,\"X\",\"\"))","v":""},{"$f":"IF(ISERROR(VLOOKUP($A15,'16eme'!$B:$M,12,FALSE)),IF(ISERROR(VLOOKUP($A15,'16eme'!$F:$M,8,FALSE)),\"\",IF(VLOOKUP($A15,'16eme'!$F:$M,8,FALSE)=AN$2,\"X\",\"\")),IF(VLOOKUP($A15,'16eme'!$B:$M,12,FALSE)=AN$2,\"X\",\"\"))","v":""},{"$f":"IF(ISERROR(VLOOKUP($A15,'16eme'!$B:$M,12,FALSE)),IF(ISERROR(VLOOKUP($A15,'16eme'!$F:$M,8,FALSE)),\"\",IF(VLOOKUP($A15,'16eme'!$F:$M,8,FALSE)=AO$2,\"X\",\"\")),IF(VLOOKUP($A15,'16eme'!$B:$M,12,FALSE)=AO$2,\"X\",\"\"))","v":""},{"$f":"IF(ISERROR(VLOOKUP($A15,'16eme'!$B:$M,12,FALSE)),IF(ISERROR(VLOOKUP($A15,'16eme'!$F:$M,8,FALSE)),\"\",IF(VLOOKUP($A15,'16eme'!$F:$M,8,FALSE)=AP$2,\"X\",\"\")),IF(VLOOKUP($A15,'16eme'!$B:$M,12,FALSE)=AP$2,\"X\",\"\"))","v":""},{"$f":"IF(ISERROR(VLOOKUP($A15,'16eme'!$B:$M,12,FALSE)),IF(ISERROR(VLOOKUP($A15,'16eme'!$F:$M,8,FALSE)),\"\",IF(VLOOKUP($A15,'16eme'!$F:$M,8,FALSE)=AQ$2,\"X\",\"\")),IF(VLOOKUP($A15,'16eme'!$B:$M,12,FALSE)=AQ$2,\"X\",\"\"))","v":""},{"$f":"IF(ISERROR(VLOOKUP($A15,'16eme'!$B:$M,12,FALSE)),IF(ISERROR(VLOOKUP($A15,'16eme'!$F:$M,8,FALSE)),\"\",IF(VLOOKUP($A15,'16eme'!$F:$M,8,FALSE)=AR$2,\"X\",\"\")),IF(VLOOKUP($A15,'16eme'!$B:$M,12,FALSE)=AR$2,\"X\",\"\"))","v":""},{"$f":"IF(ISERROR(VLOOKUP($A15,'16eme'!$B:$M,12,FALSE)),IF(ISERROR(VLOOKUP($A15,'16eme'!$F:$M,8,FALSE)),\"\",IF(VLOOKUP($A15,'16eme'!$F:$M,8,FALSE)=AS$2,\"X\",\"\")),IF(VLOOKUP($A15,'16eme'!$B:$M,12,FALSE)=AS$2,\"X\",\"\"))","v":""},{"$f":"IF(ISERROR(VLOOKUP($A15,'16eme'!$B:$M,12,FALSE)),IF(ISERROR(VLOOKUP($A15,'16eme'!$F:$M,8,FALSE)),\"\",IF(VLOOKUP($A15,'16eme'!$F:$M,8,FALSE)=AT$2,\"X\",\"\")),IF(VLOOKUP($A15,'16eme'!$B:$M,12,FALSE)=AT$2,\"X\",\"\"))","v":""},{"$f":"IF(ISERROR(VLOOKUP($A15,'16eme'!$B:$M,12,FALSE)),IF(ISERROR(VLOOKUP($A15,'16eme'!$F:$M,8,FALSE)),\"\",IF(VLOOKUP($A15,'16eme'!$F:$M,8,FALSE)=AU$2,\"X\",\"\")),IF(VLOOKUP($A15,'16eme'!$B:$M,12,FALSE)=AU$2,\"X\",\"\"))","v":""},{"$f":"IF(ISERROR(VLOOKUP($A15,'16eme'!$B:$M,12,FALSE)),IF(ISERROR(VLOOKUP($A15,'16eme'!$F:$M,8,FALSE)),\"\",IF(VLOOKUP($A15,'16eme'!$F:$M,8,FALSE)=AV$2,\"X\",\"\")),IF(VLOOKUP($A15,'16eme'!$B:$M,12,FALSE)=AV$2,\"X\",\"\"))","v":""},{"$f":"IF(ISERROR(VLOOKUP($A15,'16eme'!$B:$M,12,FALSE)),IF(ISERROR(VLOOKUP($A15,'16eme'!$F:$M,8,FALSE)),\"\",IF(VLOOKUP($A15,'16eme'!$F:$M,8,FALSE)=AW$2,\"X\",\"\")),IF(VLOOKUP($A15,'16eme'!$B:$M,12,FALSE)=AW$2,\"X\",\"\"))","v":""},{"$f":"IF(ISERROR(VLOOKUP($A15,'8eme'!$B:$M,12,FALSE)),IF(ISERROR(VLOOKUP($A15,'8eme'!$F:$M,8,FALSE)),\"\",IF(VLOOKUP($A15,'8eme'!$F:$M,8,FALSE)=AX$2,\"X\",\"\")),IF(VLOOKUP($A15,'8eme'!$B:$M,12,FALSE)=AX$2,\"X\",\"\"))","v":""},{"$f":"IF(ISERROR(VLOOKUP($A15,'8eme'!$B:$M,12,FALSE)),IF(ISERROR(VLOOKUP($A15,'8eme'!$F:$M,8,FALSE)),\"\",IF(VLOOKUP($A15,'8eme'!$F:$M,8,FALSE)=AY$2,\"X\",\"\")),IF(VLOOKUP($A15,'8eme'!$B:$M,12,FALSE)=AY$2,\"X\",\"\"))","v":""},{"$f":"IF(ISERROR(VLOOKUP($A15,'8eme'!$B:$M,12,FALSE)),IF(ISERROR(VLOOKUP($A15,'8eme'!$F:$M,8,FALSE)),\"\",IF(VLOOKUP($A15,'8eme'!$F:$M,8,FALSE)=AZ$2,\"X\",\"\")),IF(VLOOKUP($A15,'8eme'!$B:$M,12,FALSE)=AZ$2,\"X\",\"\"))","v":""},{"$f":"IF(ISERROR(VLOOKUP($A15,'8eme'!$B:$M,12,FALSE)),IF(ISERROR(VLOOKUP($A15,'8eme'!$F:$M,8,FALSE)),\"\",IF(VLOOKUP($A15,'8eme'!$F:$M,8,FALSE)=BA$2,\"X\",\"\")),IF(VLOOKUP($A15,'8eme'!$B:$M,12,FALSE)=BA$2,\"X\",\"\"))","v":""},{"$f":"IF(ISERROR(VLOOKUP($A15,'8eme'!$B:$M,12,FALSE)),IF(ISERROR(VLOOKUP($A15,'8eme'!$F:$M,8,FALSE)),\"\",IF(VLOOKUP($A15,'8eme'!$F:$M,8,FALSE)=BB$2,\"X\",\"\")),IF(VLOOKUP($A15,'8eme'!$B:$M,12,FALSE)=BB$2,\"X\",\"\"))","v":""},{"$f":"IF(ISERROR(VLOOKUP($A15,'8eme'!$B:$M,12,FALSE)),IF(ISERROR(VLOOKUP($A15,'8eme'!$F:$M,8,FALSE)),\"\",IF(VLOOKUP($A15,'8eme'!$F:$M,8,FALSE)=BC$2,\"X\",\"\")),IF(VLOOKUP($A15,'8eme'!$B:$M,12,FALSE)=BC$2,\"X\",\"\"))","v":""},{"$f":"IF(ISERROR(VLOOKUP($A15,'8eme'!$B:$M,12,FALSE)),IF(ISERROR(VLOOKUP($A15,'8eme'!$F:$M,8,FALSE)),\"\",IF(VLOOKUP($A15,'8eme'!$F:$M,8,FALSE)=BD$2,\"X\",\"\")),IF(VLOOKUP($A15,'8eme'!$B:$M,12,FALSE)=BD$2,\"X\",\"\"))","v":""},{"$f":"IF(ISERROR(VLOOKUP($A15,'8eme'!$B:$M,12,FALSE)),IF(ISERROR(VLOOKUP($A15,'8eme'!$F:$M,8,FALSE)),\"\",IF(VLOOKUP($A15,'8eme'!$F:$M,8,FALSE)=BE$2,\"X\",\"\")),IF(VLOOKUP($A15,'8eme'!$B:$M,12,FALSE)=BE$2,\"X\",\"\"))","v":""},{"$f":"IF(ISERROR(VLOOKUP($A15,'8eme'!$B:$M,12,FALSE)),IF(ISERROR(VLOOKUP($A15,'8eme'!$F:$M,8,FALSE)),\"\",IF(VLOOKUP($A15,'8eme'!$F:$M,8,FALSE)=BF$2,\"X\",\"\")),IF(VLOOKUP($A15,'8eme'!$B:$M,12,FALSE)=BF$2,\"X\",\"\"))","v":""},{"$f":"IF(ISERROR(VLOOKUP($A15,'8eme'!$B:$M,12,FALSE)),IF(ISERROR(VLOOKUP($A15,'8eme'!$F:$M,8,FALSE)),\"\",IF(VLOOKUP($A15,'8eme'!$F:$M,8,FALSE)=BG$2,\"X\",\"\")),IF(VLOOKUP($A15,'8eme'!$B:$M,12,FALSE)=BG$2,\"X\",\"\"))","v":""},{"$f":"IF(ISERROR(VLOOKUP($A15,'8eme'!$B:$M,12,FALSE)),IF(ISERROR(VLOOKUP($A15,'8eme'!$F:$M,8,FALSE)),\"\",IF(VLOOKUP($A15,'8eme'!$F:$M,8,FALSE)=BH$2,\"X\",\"\")),IF(VLOOKUP($A15,'8eme'!$B:$M,12,FALSE)=BH$2,\"X\",\"\"))","v":""},{"$f":"IF(ISERROR(VLOOKUP($A15,'8eme'!$B:$M,12,FALSE)),IF(ISERROR(VLOOKUP($A15,'8eme'!$F:$M,8,FALSE)),\"\",IF(VLOOKUP($A15,'8eme'!$F:$M,8,FALSE)=BI$2,\"X\",\"\")),IF(VLOOKUP($A15,'8eme'!$B:$M,12,FALSE)=BI$2,\"X\",\"\"))","v":""},{"$f":"IF(ISERROR(VLOOKUP($A15,'8eme'!$B:$M,12,FALSE)),IF(ISERROR(VLOOKUP($A15,'8eme'!$F:$M,8,FALSE)),\"\",IF(VLOOKUP($A15,'8eme'!$F:$M,8,FALSE)=BJ$2,\"X\",\"\")),IF(VLOOKUP($A15,'8eme'!$B:$M,12,FALSE)=BJ$2,\"X\",\"\"))","v":""},{"$f":"IF(ISERROR(VLOOKUP($A15,'8eme'!$B:$M,12,FALSE)),IF(ISERROR(VLOOKUP($A15,'8eme'!$F:$M,8,FALSE)),\"\",IF(VLOOKUP($A15,'8eme'!$F:$M,8,FALSE)=BK$2,\"X\",\"\")),IF(VLOOKUP($A15,'8eme'!$B:$M,12,FALSE)=BK$2,\"X\",\"\"))","v":""},{"$f":"IF(ISERROR(VLOOKUP($A15,'8eme'!$B:$M,12,FALSE)),IF(ISERROR(VLOOKUP($A15,'8eme'!$F:$M,8,FALSE)),\"\",IF(VLOOKUP($A15,'8eme'!$F:$M,8,FALSE)=BL$2,\"X\",\"\")),IF(VLOOKUP($A15,'8eme'!$B:$M,12,FALSE)=BL$2,\"X\",\"\"))","v":""},{"$f":"IF(ISERROR(VLOOKUP($A15,'8eme'!$B:$M,12,FALSE)),IF(ISERROR(VLOOKUP($A15,'8eme'!$F:$M,8,FALSE)),\"\",IF(VLOOKUP($A15,'8eme'!$F:$M,8,FALSE)=BM$2,\"X\",\"\")),IF(VLOOKUP($A15,'8eme'!$B:$M,12,FALSE)=BM$2,\"X\",\"\"))","v":""},{"$f":"IF(ISERROR(VLOOKUP($A15,quart!$B:$M,12,FALSE)),IF(ISERROR(VLOOKUP($A15,quart!$F:$M,8,FALSE)),\"\",IF(VLOOKUP($A15,quart!$F:$M,8,FALSE)=BN$2,\"X\",\"\")),IF(VLOOKUP($A15,quart!$B:$M,12,FALSE)=BN$2,\"X\",\"\"))","v":""},{"$f":"IF(ISERROR(VLOOKUP($A15,quart!$B:$M,12,FALSE)),IF(ISERROR(VLOOKUP($A15,quart!$F:$M,8,FALSE)),\"\",IF(VLOOKUP($A15,quart!$F:$M,8,FALSE)=BO$2,\"X\",\"\")),IF(VLOOKUP($A15,quart!$B:$M,12,FALSE)=BO$2,\"X\",\"\"))","v":""},{"$f":"IF(ISERROR(VLOOKUP($A15,quart!$B:$M,12,FALSE)),IF(ISERROR(VLOOKUP($A15,quart!$F:$M,8,FALSE)),\"\",IF(VLOOKUP($A15,quart!$F:$M,8,FALSE)=BP$2,\"X\",\"\")),IF(VLOOKUP($A15,quart!$B:$M,12,FALSE)=BP$2,\"X\",\"\"))","v":""},{"$f":"IF(ISERROR(VLOOKUP($A15,quart!$B:$M,12,FALSE)),IF(ISERROR(VLOOKUP($A15,quart!$F:$M,8,FALSE)),\"\",IF(VLOOKUP($A15,quart!$F:$M,8,FALSE)=BQ$2,\"X\",\"\")),IF(VLOOKUP($A15,quart!$B:$M,12,FALSE)=BQ$2,\"X\",\"\"))","v":""},{"$f":"IF(ISERROR(VLOOKUP($A15,quart!$B:$M,12,FALSE)),IF(ISERROR(VLOOKUP($A15,quart!$F:$M,8,FALSE)),\"\",IF(VLOOKUP($A15,quart!$F:$M,8,FALSE)=BR$2,\"X\",\"\")),IF(VLOOKUP($A15,quart!$B:$M,12,FALSE)=BR$2,\"X\",\"\"))","v":""},{"$f":"IF(ISERROR(VLOOKUP($A15,quart!$B:$M,12,FALSE)),IF(ISERROR(VLOOKUP($A15,quart!$F:$M,8,FALSE)),\"\",IF(VLOOKUP($A15,quart!$F:$M,8,FALSE)=BS$2,\"X\",\"\")),IF(VLOOKUP($A15,quart!$B:$M,12,FALSE)=BS$2,\"X\",\"\"))","v":""},{"$f":"IF(ISERROR(VLOOKUP($A15,quart!$B:$M,12,FALSE)),IF(ISERROR(VLOOKUP($A15,quart!$F:$M,8,FALSE)),\"\",IF(VLOOKUP($A15,quart!$F:$M,8,FALSE)=BT$2,\"X\",\"\")),IF(VLOOKUP($A15,quart!$B:$M,12,FALSE)=BT$2,\"X\",\"\"))","v":""},{"$f":"IF(ISERROR(VLOOKUP($A15,quart!$B:$M,12,FALSE)),IF(ISERROR(VLOOKUP($A15,quart!$F:$M,8,FALSE)),\"\",IF(VLOOKUP($A15,quart!$F:$M,8,FALSE)=BU$2,\"X\",\"\")),IF(VLOOKUP($A15,quart!$B:$M,12,FALSE)=BU$2,\"X\",\"\"))","v":""},{"$f":"IF(ISERROR(VLOOKUP($A15,quart!$B:$M,12,FALSE)),IF(ISERROR(VLOOKUP($A15,quart!$F:$M,8,FALSE)),\"\",IF(VLOOKUP($A15,quart!$F:$M,8,FALSE)=BV$2,\"X\",\"\")),IF(VLOOKUP($A15,quart!$B:$M,12,FALSE)=BV$2,\"X\",\"\"))","v":""},{"$f":"IF(ISERROR(VLOOKUP($A15,quart!$B:$M,12,FALSE)),IF(ISERROR(VLOOKUP($A15,quart!$F:$M,8,FALSE)),\"\",IF(VLOOKUP($A15,quart!$F:$M,8,FALSE)=BW$2,\"X\",\"\")),IF(VLOOKUP($A15,quart!$B:$M,12,FALSE)=BW$2,\"X\",\"\"))","v":""},{"$f":"IF(ISERROR(VLOOKUP($A15,quart!$B:$M,12,FALSE)),IF(ISERROR(VLOOKUP($A15,quart!$F:$M,8,FALSE)),\"\",IF(VLOOKUP($A15,quart!$F:$M,8,FALSE)=BX$2,\"X\",\"\")),IF(VLOOKUP($A15,quart!$B:$M,12,FALSE)=BX$2,\"X\",\"\"))","v":""},{"$f":"IF(ISERROR(VLOOKUP($A15,quart!$B:$M,12,FALSE)),IF(ISERROR(VLOOKUP($A15,quart!$F:$M,8,FALSE)),\"\",IF(VLOOKUP($A15,quart!$F:$M,8,FALSE)=BY$2,\"X\",\"\")),IF(VLOOKUP($A15,quart!$B:$M,12,FALSE)=BY$2,\"X\",\"\"))","v":""},{"$f":"IF(ISERROR(VLOOKUP($A15,quart!$B:$M,12,FALSE)),IF(ISERROR(VLOOKUP($A15,quart!$F:$M,8,FALSE)),\"\",IF(VLOOKUP($A15,quart!$F:$M,8,FALSE)=BZ$2,\"X\",\"\")),IF(VLOOKUP($A15,quart!$B:$M,12,FALSE)=BZ$2,\"X\",\"\"))","v":""},{"$f":"IF(ISERROR(VLOOKUP($A15,quart!$B:$M,12,FALSE)),IF(ISERROR(VLOOKUP($A15,quart!$F:$M,8,FALSE)),\"\",IF(VLOOKUP($A15,quart!$F:$M,8,FALSE)=CA$2,\"X\",\"\")),IF(VLOOKUP($A15,quart!$B:$M,12,FALSE)=CA$2,\"X\",\"\"))","v":""},{"$f":"IF(ISERROR(VLOOKUP($A15,quart!$B:$M,12,FALSE)),IF(ISERROR(VLOOKUP($A15,quart!$F:$M,8,FALSE)),\"\",IF(VLOOKUP($A15,quart!$F:$M,8,FALSE)=CB$2,\"X\",\"\")),IF(VLOOKUP($A15,quart!$B:$M,12,FALSE)=CB$2,\"X\",\"\"))","v":""},{"$f":"IF(ISERROR(VLOOKUP($A15,quart!$B:$M,12,FALSE)),IF(ISERROR(VLOOKUP($A15,quart!$F:$M,8,FALSE)),\"\",IF(VLOOKUP($A15,quart!$F:$M,8,FALSE)=CC$2,\"X\",\"\")),IF(VLOOKUP($A15,quart!$B:$M,12,FALSE)=CC$2,\"X\",\"\"))","v":""},{"$f":"IF(ISERROR(VLOOKUP($A15,demi!$B:$M,12,FALSE)),IF(ISERROR(VLOOKUP($A15,demi!$F:$M,8,FALSE)),\"\",IF(VLOOKUP($A15,demi!$F:$M,8,FALSE)=CD$2,\"X\",\"\")),IF(VLOOKUP($A15,demi!$B:$M,12,FALSE)=CD$2,\"X\",\"\"))","v":""},{"$f":"IF(ISERROR(VLOOKUP($A15,demi!$B:$M,12,FALSE)),IF(ISERROR(VLOOKUP($A15,demi!$F:$M,8,FALSE)),\"\",IF(VLOOKUP($A15,demi!$F:$M,8,FALSE)=CE$2,\"X\",\"\")),IF(VLOOKUP($A15,demi!$B:$M,12,FALSE)=CE$2,\"X\",\"\"))","v":""},{"$f":"IF(ISERROR(VLOOKUP($A15,demi!$B:$M,12,FALSE)),IF(ISERROR(VLOOKUP($A15,demi!$F:$M,8,FALSE)),\"\",IF(VLOOKUP($A15,demi!$F:$M,8,FALSE)=CF$2,\"X\",\"\")),IF(VLOOKUP($A15,demi!$B:$M,12,FALSE)=CF$2,\"X\",\"\"))","v":""},{"$f":"IF(ISERROR(VLOOKUP($A15,demi!$B:$M,12,FALSE)),IF(ISERROR(VLOOKUP($A15,demi!$F:$M,8,FALSE)),\"\",IF(VLOOKUP($A15,demi!$F:$M,8,FALSE)=CG$2,\"X\",\"\")),IF(VLOOKUP($A15,demi!$B:$M,12,FALSE)=CG$2,\"X\",\"\"))","v":""},{"$f":"IF(ISERROR(VLOOKUP($A15,demi!$B:$M,12,FALSE)),IF(ISERROR(VLOOKUP($A15,demi!$F:$M,8,FALSE)),\"\",IF(VLOOKUP($A15,demi!$F:$M,8,FALSE)=CH$2,\"X\",\"\")),IF(VLOOKUP($A15,demi!$B:$M,12,FALSE)=CH$2,\"X\",\"\"))","v":""},{"$f":"IF(ISERROR(VLOOKUP($A15,demi!$B:$M,12,FALSE)),IF(ISERROR(VLOOKUP($A15,demi!$F:$M,8,FALSE)),\"\",IF(VLOOKUP($A15,demi!$F:$M,8,FALSE)=CI$2,\"X\",\"\")),IF(VLOOKUP($A15,demi!$B:$M,12,FALSE)=CI$2,\"X\",\"\"))","v":""},{"$f":"IF(ISERROR(VLOOKUP($A15,demi!$B:$M,12,FALSE)),IF(ISERROR(VLOOKUP($A15,demi!$F:$M,8,FALSE)),\"\",IF(VLOOKUP($A15,demi!$F:$M,8,FALSE)=CJ$2,\"X\",\"\")),IF(VLOOKUP($A15,demi!$B:$M,12,FALSE)=CJ$2,\"X\",\"\"))","v":""},{"$f":"IF(ISERROR(VLOOKUP($A15,demi!$B:$M,12,FALSE)),IF(ISERROR(VLOOKUP($A15,demi!$F:$M,8,FALSE)),\"\",IF(VLOOKUP($A15,demi!$F:$M,8,FALSE)=CK$2,\"X\",\"\")),IF(VLOOKUP($A15,demi!$B:$M,12,FALSE)=CK$2,\"X\",\"\"))","v":""},{"$f":"IF(ISERROR(VLOOKUP($A15,demi!$B:$M,12,FALSE)),IF(ISERROR(VLOOKUP($A15,demi!$F:$M,8,FALSE)),\"\",IF(VLOOKUP($A15,demi!$F:$M,8,FALSE)=CL$2,\"X\",\"\")),IF(VLOOKUP($A15,demi!$B:$M,12,FALSE)=CL$2,\"X\",\"\"))","v":""},{"$f":"IF(ISERROR(VLOOKUP($A15,demi!$B:$M,12,FALSE)),IF(ISERROR(VLOOKUP($A15,demi!$F:$M,8,FALSE)),\"\",IF(VLOOKUP($A15,demi!$F:$M,8,FALSE)=CM$2,\"X\",\"\")),IF(VLOOKUP($A15,demi!$B:$M,12,FALSE)=CM$2,\"X\",\"\"))","v":""},{"$f":"IF(ISERROR(VLOOKUP($A15,demi!$B:$M,12,FALSE)),IF(ISERROR(VLOOKUP($A15,demi!$F:$M,8,FALSE)),\"\",IF(VLOOKUP($A15,demi!$F:$M,8,FALSE)=CN$2,\"X\",\"\")),IF(VLOOKUP($A15,demi!$B:$M,12,FALSE)=CN$2,\"X\",\"\"))","v":""},{"$f":"IF(ISERROR(VLOOKUP($A15,demi!$B:$M,12,FALSE)),IF(ISERROR(VLOOKUP($A15,demi!$F:$M,8,FALSE)),\"\",IF(VLOOKUP($A15,demi!$F:$M,8,FALSE)=CO$2,\"X\",\"\")),IF(VLOOKUP($A15,demi!$B:$M,12,FALSE)=CO$2,\"X\",\"\"))","v":""},{"$f":"IF(ISERROR(VLOOKUP($A15,demi!$B:$M,12,FALSE)),IF(ISERROR(VLOOKUP($A15,demi!$F:$M,8,FALSE)),\"\",IF(VLOOKUP($A15,demi!$F:$M,8,FALSE)=CP$2,\"X\",\"\")),IF(VLOOKUP($A15,demi!$B:$M,12,FALSE)=CP$2,\"X\",\"\"))","v":""},{"$f":"IF(ISERROR(VLOOKUP($A15,demi!$B:$M,12,FALSE)),IF(ISERROR(VLOOKUP($A15,demi!$F:$M,8,FALSE)),\"\",IF(VLOOKUP($A15,demi!$F:$M,8,FALSE)=CQ$2,\"X\",\"\")),IF(VLOOKUP($A15,demi!$B:$M,12,FALSE)=CQ$2,\"X\",\"\"))","v":""},{"$f":"IF(ISERROR(VLOOKUP($A15,demi!$B:$M,12,FALSE)),IF(ISERROR(VLOOKUP($A15,demi!$F:$M,8,FALSE)),\"\",IF(VLOOKUP($A15,demi!$F:$M,8,FALSE)=CR$2,\"X\",\"\")),IF(VLOOKUP($A15,demi!$B:$M,12,FALSE)=CR$2,\"X\",\"\"))","v":""},{"$f":"IF(ISERROR(VLOOKUP($A15,demi!$B:$M,12,FALSE)),IF(ISERROR(VLOOKUP($A15,demi!$F:$M,8,FALSE)),\"\",IF(VLOOKUP($A15,demi!$F:$M,8,FALSE)=CS$2,\"X\",\"\")),IF(VLOOKUP($A15,demi!$B:$M,12,FALSE)=CS$2,\"X\",\"\"))","v":""}]
[14,"X","X","X","X","X","X","X","X","X","X","X","X","X","X","X","X",{"$f":"IF(ISERROR(VLOOKUP($A16,'32eme'!$B:$M,12,FALSE)),IF(ISERROR(VLOOKUP($A16,'32eme'!$F:$M,8,FALSE)),\"\",IF(VLOOKUP($A16,'32eme'!$F:$M,8,FALSE)=R$2,\"X\",\"\")),IF(VLOOKUP($A16,'32eme'!$B:$M,12,FALSE)=R$2,\"X\",\"\"))","v":""},{"$f":"IF(ISERROR(VLOOKUP($A16,'32eme'!$B:$M,12,FALSE)),IF(ISERROR(VLOOKUP($A16,'32eme'!$F:$M,8,FALSE)),\"\",IF(VLOOKUP($A16,'32eme'!$F:$M,8,FALSE)=S$2,\"X\",\"\")),IF(VLOOKUP($A16,'32eme'!$B:$M,12,FALSE)=S$2,\"X\",\"\"))","v":""},{"$f":"IF(ISERROR(VLOOKUP($A16,'32eme'!$B:$M,12,FALSE)),IF(ISERROR(VLOOKUP($A16,'32eme'!$F:$M,8,FALSE)),\"\",IF(VLOOKUP($A16,'32eme'!$F:$M,8,FALSE)=T$2,\"X\",\"\")),IF(VLOOKUP($A16,'32eme'!$B:$M,12,FALSE)=T$2,\"X\",\"\"))","v":""},{"$f":"IF(ISERROR(VLOOKUP($A16,'32eme'!$B:$M,12,FALSE)),IF(ISERROR(VLOOKUP($A16,'32eme'!$F:$M,8,FALSE)),\"\",IF(VLOOKUP($A16,'32eme'!$F:$M,8,FALSE)=U$2,\"X\",\"\")),IF(VLOOKUP($A16,'32eme'!$B:$M,12,FALSE)=U$2,\"X\",\"\"))","v":""},{"$f":"IF(ISERROR(VLOOKUP($A16,'32eme'!$B:$M,12,FALSE)),IF(ISERROR(VLOOKUP($A16,'32eme'!$F:$M,8,FALSE)),\"\",IF(VLOOKUP($A16,'32eme'!$F:$M,8,FALSE)=V$2,\"X\",\"\")),IF(VLOOKUP($A16,'32eme'!$B:$M,12,FALSE)=V$2,\"X\",\"\"))","v":""},{"$f":"IF(ISERROR(VLOOKUP($A16,'32eme'!$B:$M,12,FALSE)),IF(ISERROR(VLOOKUP($A16,'32eme'!$F:$M,8,FALSE)),\"\",IF(VLOOKUP($A16,'32eme'!$F:$M,8,FALSE)=W$2,\"X\",\"\")),IF(VLOOKUP($A16,'32eme'!$B:$M,12,FALSE)=W$2,\"X\",\"\"))","v":""},{"$f":"IF(ISERROR(VLOOKUP($A16,'32eme'!$B:$M,12,FALSE)),IF(ISERROR(VLOOKUP($A16,'32eme'!$F:$M,8,FALSE)),\"\",IF(VLOOKUP($A16,'32eme'!$F:$M,8,FALSE)=X$2,\"X\",\"\")),IF(VLOOKUP($A16,'32eme'!$B:$M,12,FALSE)=X$2,\"X\",\"\"))","v":""},{"$f":"IF(ISERROR(VLOOKUP($A16,'32eme'!$B:$M,12,FALSE)),IF(ISERROR(VLOOKUP($A16,'32eme'!$F:$M,8,FALSE)),\"\",IF(VLOOKUP($A16,'32eme'!$F:$M,8,FALSE)=Y$2,\"X\",\"\")),IF(VLOOKUP($A16,'32eme'!$B:$M,12,FALSE)=Y$2,\"X\",\"\"))","v":""},{"$f":"IF(ISERROR(VLOOKUP($A16,'32eme'!$B:$M,12,FALSE)),IF(ISERROR(VLOOKUP($A16,'32eme'!$F:$M,8,FALSE)),\"\",IF(VLOOKUP($A16,'32eme'!$F:$M,8,FALSE)=Z$2,\"X\",\"\")),IF(VLOOKUP($A16,'32eme'!$B:$M,12,FALSE)=Z$2,\"X\",\"\"))","v":""},{"$f":"IF(ISERROR(VLOOKUP($A16,'32eme'!$B:$M,12,FALSE)),IF(ISERROR(VLOOKUP($A16,'32eme'!$F:$M,8,FALSE)),\"\",IF(VLOOKUP($A16,'32eme'!$F:$M,8,FALSE)=AA$2,\"X\",\"\")),IF(VLOOKUP($A16,'32eme'!$B:$M,12,FALSE)=AA$2,\"X\",\"\"))","v":""},{"$f":"IF(ISERROR(VLOOKUP($A16,'32eme'!$B:$M,12,FALSE)),IF(ISERROR(VLOOKUP($A16,'32eme'!$F:$M,8,FALSE)),\"\",IF(VLOOKUP($A16,'32eme'!$F:$M,8,FALSE)=AB$2,\"X\",\"\")),IF(VLOOKUP($A16,'32eme'!$B:$M,12,FALSE)=AB$2,\"X\",\"\"))","v":""},{"$f":"IF(ISERROR(VLOOKUP($A16,'32eme'!$B:$M,12,FALSE)),IF(ISERROR(VLOOKUP($A16,'32eme'!$F:$M,8,FALSE)),\"\",IF(VLOOKUP($A16,'32eme'!$F:$M,8,FALSE)=AC$2,\"X\",\"\")),IF(VLOOKUP($A16,'32eme'!$B:$M,12,FALSE)=AC$2,\"X\",\"\"))","v":""},{"$f":"IF(ISERROR(VLOOKUP($A16,'32eme'!$B:$M,12,FALSE)),IF(ISERROR(VLOOKUP($A16,'32eme'!$F:$M,8,FALSE)),\"\",IF(VLOOKUP($A16,'32eme'!$F:$M,8,FALSE)=AD$2,\"X\",\"\")),IF(VLOOKUP($A16,'32eme'!$B:$M,12,FALSE)=AD$2,\"X\",\"\"))","v":""},{"$f":"IF(ISERROR(VLOOKUP($A16,'32eme'!$B:$M,12,FALSE)),IF(ISERROR(VLOOKUP($A16,'32eme'!$F:$M,8,FALSE)),\"\",IF(VLOOKUP($A16,'32eme'!$F:$M,8,FALSE)=AE$2,\"X\",\"\")),IF(VLOOKUP($A16,'32eme'!$B:$M,12,FALSE)=AE$2,\"X\",\"\"))","v":""},{"$f":"IF(ISERROR(VLOOKUP($A16,'32eme'!$B:$M,12,FALSE)),IF(ISERROR(VLOOKUP($A16,'32eme'!$F:$M,8,FALSE)),\"\",IF(VLOOKUP($A16,'32eme'!$F:$M,8,FALSE)=AF$2,\"X\",\"\")),IF(VLOOKUP($A16,'32eme'!$B:$M,12,FALSE)=AF$2,\"X\",\"\"))","v":""},{"$f":"IF(ISERROR(VLOOKUP($A16,'32eme'!$B:$M,12,FALSE)),IF(ISERROR(VLOOKUP($A16,'32eme'!$F:$M,8,FALSE)),\"\",IF(VLOOKUP($A16,'32eme'!$F:$M,8,FALSE)=AG$2,\"X\",\"\")),IF(VLOOKUP($A16,'32eme'!$B:$M,12,FALSE)=AG$2,\"X\",\"\"))","v":""},{"$f":"IF(ISERROR(VLOOKUP($A16,'16eme'!$B:$M,12,FALSE)),IF(ISERROR(VLOOKUP($A16,'16eme'!$F:$M,8,FALSE)),\"\",IF(VLOOKUP($A16,'16eme'!$F:$M,8,FALSE)=AH$2,\"X\",\"\")),IF(VLOOKUP($A16,'16eme'!$B:$M,12,FALSE)=AH$2,\"X\",\"\"))","v":""},{"$f":"IF(ISERROR(VLOOKUP($A16,'16eme'!$B:$M,12,FALSE)),IF(ISERROR(VLOOKUP($A16,'16eme'!$F:$M,8,FALSE)),\"\",IF(VLOOKUP($A16,'16eme'!$F:$M,8,FALSE)=AI$2,\"X\",\"\")),IF(VLOOKUP($A16,'16eme'!$B:$M,12,FALSE)=AI$2,\"X\",\"\"))","v":""},{"$f":"IF(ISERROR(VLOOKUP($A16,'16eme'!$B:$M,12,FALSE)),IF(ISERROR(VLOOKUP($A16,'16eme'!$F:$M,8,FALSE)),\"\",IF(VLOOKUP($A16,'16eme'!$F:$M,8,FALSE)=AJ$2,\"X\",\"\")),IF(VLOOKUP($A16,'16eme'!$B:$M,12,FALSE)=AJ$2,\"X\",\"\"))","v":""},{"$f":"IF(ISERROR(VLOOKUP($A16,'16eme'!$B:$M,12,FALSE)),IF(ISERROR(VLOOKUP($A16,'16eme'!$F:$M,8,FALSE)),\"\",IF(VLOOKUP($A16,'16eme'!$F:$M,8,FALSE)=AK$2,\"X\",\"\")),IF(VLOOKUP($A16,'16eme'!$B:$M,12,FALSE)=AK$2,\"X\",\"\"))","v":""},{"$f":"IF(ISERROR(VLOOKUP($A16,'16eme'!$B:$M,12,FALSE)),IF(ISERROR(VLOOKUP($A16,'16eme'!$F:$M,8,FALSE)),\"\",IF(VLOOKUP($A16,'16eme'!$F:$M,8,FALSE)=AL$2,\"X\",\"\")),IF(VLOOKUP($A16,'16eme'!$B:$M,12,FALSE)=AL$2,\"X\",\"\"))","v":""},{"$f":"IF(ISERROR(VLOOKUP($A16,'16eme'!$B:$M,12,FALSE)),IF(ISERROR(VLOOKUP($A16,'16eme'!$F:$M,8,FALSE)),\"\",IF(VLOOKUP($A16,'16eme'!$F:$M,8,FALSE)=AM$2,\"X\",\"\")),IF(VLOOKUP($A16,'16eme'!$B:$M,12,FALSE)=AM$2,\"X\",\"\"))","v":""},{"$f":"IF(ISERROR(VLOOKUP($A16,'16eme'!$B:$M,12,FALSE)),IF(ISERROR(VLOOKUP($A16,'16eme'!$F:$M,8,FALSE)),\"\",IF(VLOOKUP($A16,'16eme'!$F:$M,8,FALSE)=AN$2,\"X\",\"\")),IF(VLOOKUP($A16,'16eme'!$B:$M,12,FALSE)=AN$2,\"X\",\"\"))","v":""},{"$f":"IF(ISERROR(VLOOKUP($A16,'16eme'!$B:$M,12,FALSE)),IF(ISERROR(VLOOKUP($A16,'16eme'!$F:$M,8,FALSE)),\"\",IF(VLOOKUP($A16,'16eme'!$F:$M,8,FALSE)=AO$2,\"X\",\"\")),IF(VLOOKUP($A16,'16eme'!$B:$M,12,FALSE)=AO$2,\"X\",\"\"))","v":""},{"$f":"IF(ISERROR(VLOOKUP($A16,'16eme'!$B:$M,12,FALSE)),IF(ISERROR(VLOOKUP($A16,'16eme'!$F:$M,8,FALSE)),\"\",IF(VLOOKUP($A16,'16eme'!$F:$M,8,FALSE)=AP$2,\"X\",\"\")),IF(VLOOKUP($A16,'16eme'!$B:$M,12,FALSE)=AP$2,\"X\",\"\"))","v":""},{"$f":"IF(ISERROR(VLOOKUP($A16,'16eme'!$B:$M,12,FALSE)),IF(ISERROR(VLOOKUP($A16,'16eme'!$F:$M,8,FALSE)),\"\",IF(VLOOKUP($A16,'16eme'!$F:$M,8,FALSE)=AQ$2,\"X\",\"\")),IF(VLOOKUP($A16,'16eme'!$B:$M,12,FALSE)=AQ$2,\"X\",\"\"))","v":""},{"$f":"IF(ISERROR(VLOOKUP($A16,'16eme'!$B:$M,12,FALSE)),IF(ISERROR(VLOOKUP($A16,'16eme'!$F:$M,8,FALSE)),\"\",IF(VLOOKUP($A16,'16eme'!$F:$M,8,FALSE)=AR$2,\"X\",\"\")),IF(VLOOKUP($A16,'16eme'!$B:$M,12,FALSE)=AR$2,\"X\",\"\"))","v":""},{"$f":"IF(ISERROR(VLOOKUP($A16,'16eme'!$B:$M,12,FALSE)),IF(ISERROR(VLOOKUP($A16,'16eme'!$F:$M,8,FALSE)),\"\",IF(VLOOKUP($A16,'16eme'!$F:$M,8,FALSE)=AS$2,\"X\",\"\")),IF(VLOOKUP($A16,'16eme'!$B:$M,12,FALSE)=AS$2,\"X\",\"\"))","v":""},{"$f":"IF(ISERROR(VLOOKUP($A16,'16eme'!$B:$M,12,FALSE)),IF(ISERROR(VLOOKUP($A16,'16eme'!$F:$M,8,FALSE)),\"\",IF(VLOOKUP($A16,'16eme'!$F:$M,8,FALSE)=AT$2,\"X\",\"\")),IF(VLOOKUP($A16,'16eme'!$B:$M,12,FALSE)=AT$2,\"X\",\"\"))","v":""},{"$f":"IF(ISERROR(VLOOKUP($A16,'16eme'!$B:$M,12,FALSE)),IF(ISERROR(VLOOKUP($A16,'16eme'!$F:$M,8,FALSE)),\"\",IF(VLOOKUP($A16,'16eme'!$F:$M,8,FALSE)=AU$2,\"X\",\"\")),IF(VLOOKUP($A16,'16eme'!$B:$M,12,FALSE)=AU$2,\"X\",\"\"))","v":""},{"$f":"IF(ISERROR(VLOOKUP($A16,'16eme'!$B:$M,12,FALSE)),IF(ISERROR(VLOOKUP($A16,'16eme'!$F:$M,8,FALSE)),\"\",IF(VLOOKUP($A16,'16eme'!$F:$M,8,FALSE)=AV$2,\"X\",\"\")),IF(VLOOKUP($A16,'16eme'!$B:$M,12,FALSE)=AV$2,\"X\",\"\"))","v":""},{"$f":"IF(ISERROR(VLOOKUP($A16,'16eme'!$B:$M,12,FALSE)),IF(ISERROR(VLOOKUP($A16,'16eme'!$F:$M,8,FALSE)),\"\",IF(VLOOKUP($A16,'16eme'!$F:$M,8,FALSE)=AW$2,\"X\",\"\")),IF(VLOOKUP($A16,'16eme'!$B:$M,12,FALSE)=AW$2,\"X\",\"\"))","v":""},{"$f":"IF(ISERROR(VLOOKUP($A16,'8eme'!$B:$M,12,FALSE)),IF(ISERROR(VLOOKUP($A16,'8eme'!$F:$M,8,FALSE)),\"\",IF(VLOOKUP($A16,'8eme'!$F:$M,8,FALSE)=AX$2,\"X\",\"\")),IF(VLOOKUP($A16,'8eme'!$B:$M,12,FALSE)=AX$2,\"X\",\"\"))","v":""},{"$f":"IF(ISERROR(VLOOKUP($A16,'8eme'!$B:$M,12,FALSE)),IF(ISERROR(VLOOKUP($A16,'8eme'!$F:$M,8,FALSE)),\"\",IF(VLOOKUP($A16,'8eme'!$F:$M,8,FALSE)=AY$2,\"X\",\"\")),IF(VLOOKUP($A16,'8eme'!$B:$M,12,FALSE)=AY$2,\"X\",\"\"))","v":""},{"$f":"IF(ISERROR(VLOOKUP($A16,'8eme'!$B:$M,12,FALSE)),IF(ISERROR(VLOOKUP($A16,'8eme'!$F:$M,8,FALSE)),\"\",IF(VLOOKUP($A16,'8eme'!$F:$M,8,FALSE)=AZ$2,\"X\",\"\")),IF(VLOOKUP($A16,'8eme'!$B:$M,12,FALSE)=AZ$2,\"X\",\"\"))","v":""},{"$f":"IF(ISERROR(VLOOKUP($A16,'8eme'!$B:$M,12,FALSE)),IF(ISERROR(VLOOKUP($A16,'8eme'!$F:$M,8,FALSE)),\"\",IF(VLOOKUP($A16,'8eme'!$F:$M,8,FALSE)=BA$2,\"X\",\"\")),IF(VLOOKUP($A16,'8eme'!$B:$M,12,FALSE)=BA$2,\"X\",\"\"))","v":""},{"$f":"IF(ISERROR(VLOOKUP($A16,'8eme'!$B:$M,12,FALSE)),IF(ISERROR(VLOOKUP($A16,'8eme'!$F:$M,8,FALSE)),\"\",IF(VLOOKUP($A16,'8eme'!$F:$M,8,FALSE)=BB$2,\"X\",\"\")),IF(VLOOKUP($A16,'8eme'!$B:$M,12,FALSE)=BB$2,\"X\",\"\"))","v":""},{"$f":"IF(ISERROR(VLOOKUP($A16,'8eme'!$B:$M,12,FALSE)),IF(ISERROR(VLOOKUP($A16,'8eme'!$F:$M,8,FALSE)),\"\",IF(VLOOKUP($A16,'8eme'!$F:$M,8,FALSE)=BC$2,\"X\",\"\")),IF(VLOOKUP($A16,'8eme'!$B:$M,12,FALSE)=BC$2,\"X\",\"\"))","v":""},{"$f":"IF(ISERROR(VLOOKUP($A16,'8eme'!$B:$M,12,FALSE)),IF(ISERROR(VLOOKUP($A16,'8eme'!$F:$M,8,FALSE)),\"\",IF(VLOOKUP($A16,'8eme'!$F:$M,8,FALSE)=BD$2,\"X\",\"\")),IF(VLOOKUP($A16,'8eme'!$B:$M,12,FALSE)=BD$2,\"X\",\"\"))","v":""},{"$f":"IF(ISERROR(VLOOKUP($A16,'8eme'!$B:$M,12,FALSE)),IF(ISERROR(VLOOKUP($A16,'8eme'!$F:$M,8,FALSE)),\"\",IF(VLOOKUP($A16,'8eme'!$F:$M,8,FALSE)=BE$2,\"X\",\"\")),IF(VLOOKUP($A16,'8eme'!$B:$M,12,FALSE)=BE$2,\"X\",\"\"))","v":""},{"$f":"IF(ISERROR(VLOOKUP($A16,'8eme'!$B:$M,12,FALSE)),IF(ISERROR(VLOOKUP($A16,'8eme'!$F:$M,8,FALSE)),\"\",IF(VLOOKUP($A16,'8eme'!$F:$M,8,FALSE)=BF$2,\"X\",\"\")),IF(VLOOKUP($A16,'8eme'!$B:$M,12,FALSE)=BF$2,\"X\",\"\"))","v":""},{"$f":"IF(ISERROR(VLOOKUP($A16,'8eme'!$B:$M,12,FALSE)),IF(ISERROR(VLOOKUP($A16,'8eme'!$F:$M,8,FALSE)),\"\",IF(VLOOKUP($A16,'8eme'!$F:$M,8,FALSE)=BG$2,\"X\",\"\")),IF(VLOOKUP($A16,'8eme'!$B:$M,12,FALSE)=BG$2,\"X\",\"\"))","v":""},{"$f":"IF(ISERROR(VLOOKUP($A16,'8eme'!$B:$M,12,FALSE)),IF(ISERROR(VLOOKUP($A16,'8eme'!$F:$M,8,FALSE)),\"\",IF(VLOOKUP($A16,'8eme'!$F:$M,8,FALSE)=BH$2,\"X\",\"\")),IF(VLOOKUP($A16,'8eme'!$B:$M,12,FALSE)=BH$2,\"X\",\"\"))","v":""},{"$f":"IF(ISERROR(VLOOKUP($A16,'8eme'!$B:$M,12,FALSE)),IF(ISERROR(VLOOKUP($A16,'8eme'!$F:$M,8,FALSE)),\"\",IF(VLOOKUP($A16,'8eme'!$F:$M,8,FALSE)=BI$2,\"X\",\"\")),IF(VLOOKUP($A16,'8eme'!$B:$M,12,FALSE)=BI$2,\"X\",\"\"))","v":""},{"$f":"IF(ISERROR(VLOOKUP($A16,'8eme'!$B:$M,12,FALSE)),IF(ISERROR(VLOOKUP($A16,'8eme'!$F:$M,8,FALSE)),\"\",IF(VLOOKUP($A16,'8eme'!$F:$M,8,FALSE)=BJ$2,\"X\",\"\")),IF(VLOOKUP($A16,'8eme'!$B:$M,12,FALSE)=BJ$2,\"X\",\"\"))","v":""},{"$f":"IF(ISERROR(VLOOKUP($A16,'8eme'!$B:$M,12,FALSE)),IF(ISERROR(VLOOKUP($A16,'8eme'!$F:$M,8,FALSE)),\"\",IF(VLOOKUP($A16,'8eme'!$F:$M,8,FALSE)=BK$2,\"X\",\"\")),IF(VLOOKUP($A16,'8eme'!$B:$M,12,FALSE)=BK$2,\"X\",\"\"))","v":""},{"$f":"IF(ISERROR(VLOOKUP($A16,'8eme'!$B:$M,12,FALSE)),IF(ISERROR(VLOOKUP($A16,'8eme'!$F:$M,8,FALSE)),\"\",IF(VLOOKUP($A16,'8eme'!$F:$M,8,FALSE)=BL$2,\"X\",\"\")),IF(VLOOKUP($A16,'8eme'!$B:$M,12,FALSE)=BL$2,\"X\",\"\"))","v":""},{"$f":"IF(ISERROR(VLOOKUP($A16,'8eme'!$B:$M,12,FALSE)),IF(ISERROR(VLOOKUP($A16,'8eme'!$F:$M,8,FALSE)),\"\",IF(VLOOKUP($A16,'8eme'!$F:$M,8,FALSE)=BM$2,\"X\",\"\")),IF(VLOOKUP($A16,'8eme'!$B:$M,12,FALSE)=BM$2,\"X\",\"\"))","v":""},{"$f":"IF(ISERROR(VLOOKUP($A16,quart!$B:$M,12,FALSE)),IF(ISERROR(VLOOKUP($A16,quart!$F:$M,8,FALSE)),\"\",IF(VLOOKUP($A16,quart!$F:$M,8,FALSE)=BN$2,\"X\",\"\")),IF(VLOOKUP($A16,quart!$B:$M,12,FALSE)=BN$2,\"X\",\"\"))","v":""},{"$f":"IF(ISERROR(VLOOKUP($A16,quart!$B:$M,12,FALSE)),IF(ISERROR(VLOOKUP($A16,quart!$F:$M,8,FALSE)),\"\",IF(VLOOKUP($A16,quart!$F:$M,8,FALSE)=BO$2,\"X\",\"\")),IF(VLOOKUP($A16,quart!$B:$M,12,FALSE)=BO$2,\"X\",\"\"))","v":""},{"$f":"IF(ISERROR(VLOOKUP($A16,quart!$B:$M,12,FALSE)),IF(ISERROR(VLOOKUP($A16,quart!$F:$M,8,FALSE)),\"\",IF(VLOOKUP($A16,quart!$F:$M,8,FALSE)=BP$2,\"X\",\"\")),IF(VLOOKUP($A16,quart!$B:$M,12,FALSE)=BP$2,\"X\",\"\"))","v":""},{"$f":"IF(ISERROR(VLOOKUP($A16,quart!$B:$M,12,FALSE)),IF(ISERROR(VLOOKUP($A16,quart!$F:$M,8,FALSE)),\"\",IF(VLOOKUP($A16,quart!$F:$M,8,FALSE)=BQ$2,\"X\",\"\")),IF(VLOOKUP($A16,quart!$B:$M,12,FALSE)=BQ$2,\"X\",\"\"))","v":""},{"$f":"IF(ISERROR(VLOOKUP($A16,quart!$B:$M,12,FALSE)),IF(ISERROR(VLOOKUP($A16,quart!$F:$M,8,FALSE)),\"\",IF(VLOOKUP($A16,quart!$F:$M,8,FALSE)=BR$2,\"X\",\"\")),IF(VLOOKUP($A16,quart!$B:$M,12,FALSE)=BR$2,\"X\",\"\"))","v":""},{"$f":"IF(ISERROR(VLOOKUP($A16,quart!$B:$M,12,FALSE)),IF(ISERROR(VLOOKUP($A16,quart!$F:$M,8,FALSE)),\"\",IF(VLOOKUP($A16,quart!$F:$M,8,FALSE)=BS$2,\"X\",\"\")),IF(VLOOKUP($A16,quart!$B:$M,12,FALSE)=BS$2,\"X\",\"\"))","v":""},{"$f":"IF(ISERROR(VLOOKUP($A16,quart!$B:$M,12,FALSE)),IF(ISERROR(VLOOKUP($A16,quart!$F:$M,8,FALSE)),\"\",IF(VLOOKUP($A16,quart!$F:$M,8,FALSE)=BT$2,\"X\",\"\")),IF(VLOOKUP($A16,quart!$B:$M,12,FALSE)=BT$2,\"X\",\"\"))","v":""},{"$f":"IF(ISERROR(VLOOKUP($A16,quart!$B:$M,12,FALSE)),IF(ISERROR(VLOOKUP($A16,quart!$F:$M,8,FALSE)),\"\",IF(VLOOKUP($A16,quart!$F:$M,8,FALSE)=BU$2,\"X\",\"\")),IF(VLOOKUP($A16,quart!$B:$M,12,FALSE)=BU$2,\"X\",\"\"))","v":""},{"$f":"IF(ISERROR(VLOOKUP($A16,quart!$B:$M,12,FALSE)),IF(ISERROR(VLOOKUP($A16,quart!$F:$M,8,FALSE)),\"\",IF(VLOOKUP($A16,quart!$F:$M,8,FALSE)=BV$2,\"X\",\"\")),IF(VLOOKUP($A16,quart!$B:$M,12,FALSE)=BV$2,\"X\",\"\"))","v":""},{"$f":"IF(ISERROR(VLOOKUP($A16,quart!$B:$M,12,FALSE)),IF(ISERROR(VLOOKUP($A16,quart!$F:$M,8,FALSE)),\"\",IF(VLOOKUP($A16,quart!$F:$M,8,FALSE)=BW$2,\"X\",\"\")),IF(VLOOKUP($A16,quart!$B:$M,12,FALSE)=BW$2,\"X\",\"\"))","v":""},{"$f":"IF(ISERROR(VLOOKUP($A16,quart!$B:$M,12,FALSE)),IF(ISERROR(VLOOKUP($A16,quart!$F:$M,8,FALSE)),\"\",IF(VLOOKUP($A16,quart!$F:$M,8,FALSE)=BX$2,\"X\",\"\")),IF(VLOOKUP($A16,quart!$B:$M,12,FALSE)=BX$2,\"X\",\"\"))","v":""},{"$f":"IF(ISERROR(VLOOKUP($A16,quart!$B:$M,12,FALSE)),IF(ISERROR(VLOOKUP($A16,quart!$F:$M,8,FALSE)),\"\",IF(VLOOKUP($A16,quart!$F:$M,8,FALSE)=BY$2,\"X\",\"\")),IF(VLOOKUP($A16,quart!$B:$M,12,FALSE)=BY$2,\"X\",\"\"))","v":""},{"$f":"IF(ISERROR(VLOOKUP($A16,quart!$B:$M,12,FALSE)),IF(ISERROR(VLOOKUP($A16,quart!$F:$M,8,FALSE)),\"\",IF(VLOOKUP($A16,quart!$F:$M,8,FALSE)=BZ$2,\"X\",\"\")),IF(VLOOKUP($A16,quart!$B:$M,12,FALSE)=BZ$2,\"X\",\"\"))","v":""},{"$f":"IF(ISERROR(VLOOKUP($A16,quart!$B:$M,12,FALSE)),IF(ISERROR(VLOOKUP($A16,quart!$F:$M,8,FALSE)),\"\",IF(VLOOKUP($A16,quart!$F:$M,8,FALSE)=CA$2,\"X\",\"\")),IF(VLOOKUP($A16,quart!$B:$M,12,FALSE)=CA$2,\"X\",\"\"))","v":""},{"$f":"IF(ISERROR(VLOOKUP($A16,quart!$B:$M,12,FALSE)),IF(ISERROR(VLOOKUP($A16,quart!$F:$M,8,FALSE)),\"\",IF(VLOOKUP($A16,quart!$F:$M,8,FALSE)=CB$2,\"X\",\"\")),IF(VLOOKUP($A16,quart!$B:$M,12,FALSE)=CB$2,\"X\",\"\"))","v":""},{"$f":"IF(ISERROR(VLOOKUP($A16,quart!$B:$M,12,FALSE)),IF(ISERROR(VLOOKUP($A16,quart!$F:$M,8,FALSE)),\"\",IF(VLOOKUP($A16,quart!$F:$M,8,FALSE)=CC$2,\"X\",\"\")),IF(VLOOKUP($A16,quart!$B:$M,12,FALSE)=CC$2,\"X\",\"\"))","v":""},{"$f":"IF(ISERROR(VLOOKUP($A16,demi!$B:$M,12,FALSE)),IF(ISERROR(VLOOKUP($A16,demi!$F:$M,8,FALSE)),\"\",IF(VLOOKUP($A16,demi!$F:$M,8,FALSE)=CD$2,\"X\",\"\")),IF(VLOOKUP($A16,demi!$B:$M,12,FALSE)=CD$2,\"X\",\"\"))","v":""},{"$f":"IF(ISERROR(VLOOKUP($A16,demi!$B:$M,12,FALSE)),IF(ISERROR(VLOOKUP($A16,demi!$F:$M,8,FALSE)),\"\",IF(VLOOKUP($A16,demi!$F:$M,8,FALSE)=CE$2,\"X\",\"\")),IF(VLOOKUP($A16,demi!$B:$M,12,FALSE)=CE$2,\"X\",\"\"))","v":""},{"$f":"IF(ISERROR(VLOOKUP($A16,demi!$B:$M,12,FALSE)),IF(ISERROR(VLOOKUP($A16,demi!$F:$M,8,FALSE)),\"\",IF(VLOOKUP($A16,demi!$F:$M,8,FALSE)=CF$2,\"X\",\"\")),IF(VLOOKUP($A16,demi!$B:$M,12,FALSE)=CF$2,\"X\",\"\"))","v":""},{"$f":"IF(ISERROR(VLOOKUP($A16,demi!$B:$M,12,FALSE)),IF(ISERROR(VLOOKUP($A16,demi!$F:$M,8,FALSE)),\"\",IF(VLOOKUP($A16,demi!$F:$M,8,FALSE)=CG$2,\"X\",\"\")),IF(VLOOKUP($A16,demi!$B:$M,12,FALSE)=CG$2,\"X\",\"\"))","v":""},{"$f":"IF(ISERROR(VLOOKUP($A16,demi!$B:$M,12,FALSE)),IF(ISERROR(VLOOKUP($A16,demi!$F:$M,8,FALSE)),\"\",IF(VLOOKUP($A16,demi!$F:$M,8,FALSE)=CH$2,\"X\",\"\")),IF(VLOOKUP($A16,demi!$B:$M,12,FALSE)=CH$2,\"X\",\"\"))","v":""},{"$f":"IF(ISERROR(VLOOKUP($A16,demi!$B:$M,12,FALSE)),IF(ISERROR(VLOOKUP($A16,demi!$F:$M,8,FALSE)),\"\",IF(VLOOKUP($A16,demi!$F:$M,8,FALSE)=CI$2,\"X\",\"\")),IF(VLOOKUP($A16,demi!$B:$M,12,FALSE)=CI$2,\"X\",\"\"))","v":""},{"$f":"IF(ISERROR(VLOOKUP($A16,demi!$B:$M,12,FALSE)),IF(ISERROR(VLOOKUP($A16,demi!$F:$M,8,FALSE)),\"\",IF(VLOOKUP($A16,demi!$F:$M,8,FALSE)=CJ$2,\"X\",\"\")),IF(VLOOKUP($A16,demi!$B:$M,12,FALSE)=CJ$2,\"X\",\"\"))","v":""},{"$f":"IF(ISERROR(VLOOKUP($A16,demi!$B:$M,12,FALSE)),IF(ISERROR(VLOOKUP($A16,demi!$F:$M,8,FALSE)),\"\",IF(VLOOKUP($A16,demi!$F:$M,8,FALSE)=CK$2,\"X\",\"\")),IF(VLOOKUP($A16,demi!$B:$M,12,FALSE)=CK$2,\"X\",\"\"))","v":""},{"$f":"IF(ISERROR(VLOOKUP($A16,demi!$B:$M,12,FALSE)),IF(ISERROR(VLOOKUP($A16,demi!$F:$M,8,FALSE)),\"\",IF(VLOOKUP($A16,demi!$F:$M,8,FALSE)=CL$2,\"X\",\"\")),IF(VLOOKUP($A16,demi!$B:$M,12,FALSE)=CL$2,\"X\",\"\"))","v":""},{"$f":"IF(ISERROR(VLOOKUP($A16,demi!$B:$M,12,FALSE)),IF(ISERROR(VLOOKUP($A16,demi!$F:$M,8,FALSE)),\"\",IF(VLOOKUP($A16,demi!$F:$M,8,FALSE)=CM$2,\"X\",\"\")),IF(VLOOKUP($A16,demi!$B:$M,12,FALSE)=CM$2,\"X\",\"\"))","v":""},{"$f":"IF(ISERROR(VLOOKUP($A16,demi!$B:$M,12,FALSE)),IF(ISERROR(VLOOKUP($A16,demi!$F:$M,8,FALSE)),\"\",IF(VLOOKUP($A16,demi!$F:$M,8,FALSE)=CN$2,\"X\",\"\")),IF(VLOOKUP($A16,demi!$B:$M,12,FALSE)=CN$2,\"X\",\"\"))","v":""},{"$f":"IF(ISERROR(VLOOKUP($A16,demi!$B:$M,12,FALSE)),IF(ISERROR(VLOOKUP($A16,demi!$F:$M,8,FALSE)),\"\",IF(VLOOKUP($A16,demi!$F:$M,8,FALSE)=CO$2,\"X\",\"\")),IF(VLOOKUP($A16,demi!$B:$M,12,FALSE)=CO$2,\"X\",\"\"))","v":""},{"$f":"IF(ISERROR(VLOOKUP($A16,demi!$B:$M,12,FALSE)),IF(ISERROR(VLOOKUP($A16,demi!$F:$M,8,FALSE)),\"\",IF(VLOOKUP($A16,demi!$F:$M,8,FALSE)=CP$2,\"X\",\"\")),IF(VLOOKUP($A16,demi!$B:$M,12,FALSE)=CP$2,\"X\",\"\"))","v":""},{"$f":"IF(ISERROR(VLOOKUP($A16,demi!$B:$M,12,FALSE)),IF(ISERROR(VLOOKUP($A16,demi!$F:$M,8,FALSE)),\"\",IF(VLOOKUP($A16,demi!$F:$M,8,FALSE)=CQ$2,\"X\",\"\")),IF(VLOOKUP($A16,demi!$B:$M,12,FALSE)=CQ$2,\"X\",\"\"))","v":""},{"$f":"IF(ISERROR(VLOOKUP($A16,demi!$B:$M,12,FALSE)),IF(ISERROR(VLOOKUP($A16,demi!$F:$M,8,FALSE)),\"\",IF(VLOOKUP($A16,demi!$F:$M,8,FALSE)=CR$2,\"X\",\"\")),IF(VLOOKUP($A16,demi!$B:$M,12,FALSE)=CR$2,\"X\",\"\"))","v":""},{"$f":"IF(ISERROR(VLOOKUP($A16,demi!$B:$M,12,FALSE)),IF(ISERROR(VLOOKUP($A16,demi!$F:$M,8,FALSE)),\"\",IF(VLOOKUP($A16,demi!$F:$M,8,FALSE)=CS$2,\"X\",\"\")),IF(VLOOKUP($A16,demi!$B:$M,12,FALSE)=CS$2,\"X\",\"\"))","v":""}]
[15,"X","X","X","X","X","X","X","X","X","X","X","X","X","X","X","X",{"$f":"IF(ISERROR(VLOOKUP($A17,'32eme'!$B:$M,12,FALSE)),IF(ISERROR(VLOOKUP($A17,'32eme'!$F:$M,8,FALSE)),\"\",IF(VLOOKUP($A17,'32eme'!$F:$M,8,FALSE)=R$2,\"X\",\"\")),IF(VLOOKUP($A17,'32eme'!$B:$M,12,FALSE)=R$2,\"X\",\"\"))","v":""},{"$f":"IF(ISERROR(VLOOKUP($A17,'32eme'!$B:$M,12,FALSE)),IF(ISERROR(VLOOKUP($A17,'32eme'!$F:$M,8,FALSE)),\"\",IF(VLOOKUP($A17,'32eme'!$F:$M,8,FALSE)=S$2,\"X\",\"\")),IF(VLOOKUP($A17,'32eme'!$B:$M,12,FALSE)=S$2,\"X\",\"\"))","v":""},{"$f":"IF(ISERROR(VLOOKUP($A17,'32eme'!$B:$M,12,FALSE)),IF(ISERROR(VLOOKUP($A17,'32eme'!$F:$M,8,FALSE)),\"\",IF(VLOOKUP($A17,'32eme'!$F:$M,8,FALSE)=T$2,\"X\",\"\")),IF(VLOOKUP($A17,'32eme'!$B:$M,12,FALSE)=T$2,\"X\",\"\"))","v":""},{"$f":"IF(ISERROR(VLOOKUP($A17,'32eme'!$B:$M,12,FALSE)),IF(ISERROR(VLOOKUP($A17,'32eme'!$F:$M,8,FALSE)),\"\",IF(VLOOKUP($A17,'32eme'!$F:$M,8,FALSE)=U$2,\"X\",\"\")),IF(VLOOKUP($A17,'32eme'!$B:$M,12,FALSE)=U$2,\"X\",\"\"))","v":""},{"$f":"IF(ISERROR(VLOOKUP($A17,'32eme'!$B:$M,12,FALSE)),IF(ISERROR(VLOOKUP($A17,'32eme'!$F:$M,8,FALSE)),\"\",IF(VLOOKUP($A17,'32eme'!$F:$M,8,FALSE)=V$2,\"X\",\"\")),IF(VLOOKUP($A17,'32eme'!$B:$M,12,FALSE)=V$2,\"X\",\"\"))","v":""},{"$f":"IF(ISERROR(VLOOKUP($A17,'32eme'!$B:$M,12,FALSE)),IF(ISERROR(VLOOKUP($A17,'32eme'!$F:$M,8,FALSE)),\"\",IF(VLOOKUP($A17,'32eme'!$F:$M,8,FALSE)=W$2,\"X\",\"\")),IF(VLOOKUP($A17,'32eme'!$B:$M,12,FALSE)=W$2,\"X\",\"\"))","v":""},{"$f":"IF(ISERROR(VLOOKUP($A17,'32eme'!$B:$M,12,FALSE)),IF(ISERROR(VLOOKUP($A17,'32eme'!$F:$M,8,FALSE)),\"\",IF(VLOOKUP($A17,'32eme'!$F:$M,8,FALSE)=X$2,\"X\",\"\")),IF(VLOOKUP($A17,'32eme'!$B:$M,12,FALSE)=X$2,\"X\",\"\"))","v":""},{"$f":"IF(ISERROR(VLOOKUP($A17,'32eme'!$B:$M,12,FALSE)),IF(ISERROR(VLOOKUP($A17,'32eme'!$F:$M,8,FALSE)),\"\",IF(VLOOKUP($A17,'32eme'!$F:$M,8,FALSE)=Y$2,\"X\",\"\")),IF(VLOOKUP($A17,'32eme'!$B:$M,12,FALSE)=Y$2,\"X\",\"\"))","v":""},{"$f":"IF(ISERROR(VLOOKUP($A17,'32eme'!$B:$M,12,FALSE)),IF(ISERROR(VLOOKUP($A17,'32eme'!$F:$M,8,FALSE)),\"\",IF(VLOOKUP($A17,'32eme'!$F:$M,8,FALSE)=Z$2,\"X\",\"\")),IF(VLOOKUP($A17,'32eme'!$B:$M,12,FALSE)=Z$2,\"X\",\"\"))","v":""},{"$f":"IF(ISERROR(VLOOKUP($A17,'32eme'!$B:$M,12,FALSE)),IF(ISERROR(VLOOKUP($A17,'32eme'!$F:$M,8,FALSE)),\"\",IF(VLOOKUP($A17,'32eme'!$F:$M,8,FALSE)=AA$2,\"X\",\"\")),IF(VLOOKUP($A17,'32eme'!$B:$M,12,FALSE)=AA$2,\"X\",\"\"))","v":""},{"$f":"IF(ISERROR(VLOOKUP($A17,'32eme'!$B:$M,12,FALSE)),IF(ISERROR(VLOOKUP($A17,'32eme'!$F:$M,8,FALSE)),\"\",IF(VLOOKUP($A17,'32eme'!$F:$M,8,FALSE)=AB$2,\"X\",\"\")),IF(VLOOKUP($A17,'32eme'!$B:$M,12,FALSE)=AB$2,\"X\",\"\"))","v":""},{"$f":"IF(ISERROR(VLOOKUP($A17,'32eme'!$B:$M,12,FALSE)),IF(ISERROR(VLOOKUP($A17,'32eme'!$F:$M,8,FALSE)),\"\",IF(VLOOKUP($A17,'32eme'!$F:$M,8,FALSE)=AC$2,\"X\",\"\")),IF(VLOOKUP($A17,'32eme'!$B:$M,12,FALSE)=AC$2,\"X\",\"\"))","v":""},{"$f":"IF(ISERROR(VLOOKUP($A17,'32eme'!$B:$M,12,FALSE)),IF(ISERROR(VLOOKUP($A17,'32eme'!$F:$M,8,FALSE)),\"\",IF(VLOOKUP($A17,'32eme'!$F:$M,8,FALSE)=AD$2,\"X\",\"\")),IF(VLOOKUP($A17,'32eme'!$B:$M,12,FALSE)=AD$2,\"X\",\"\"))","v":""},{"$f":"IF(ISERROR(VLOOKUP($A17,'32eme'!$B:$M,12,FALSE)),IF(ISERROR(VLOOKUP($A17,'32eme'!$F:$M,8,FALSE)),\"\",IF(VLOOKUP($A17,'32eme'!$F:$M,8,FALSE)=AE$2,\"X\",\"\")),IF(VLOOKUP($A17,'32eme'!$B:$M,12,FALSE)=AE$2,\"X\",\"\"))","v":""},{"$f":"IF(ISERROR(VLOOKUP($A17,'32eme'!$B:$M,12,FALSE)),IF(ISERROR(VLOOKUP($A17,'32eme'!$F:$M,8,FALSE)),\"\",IF(VLOOKUP($A17,'32eme'!$F:$M,8,FALSE)=AF$2,\"X\",\"\")),IF(VLOOKUP($A17,'32eme'!$B:$M,12,FALSE)=AF$2,\"X\",\"\"))","v":""},{"$f":"IF(ISERROR(VLOOKUP($A17,'32eme'!$B:$M,12,FALSE)),IF(ISERROR(VLOOKUP($A17,'32eme'!$F:$M,8,FALSE)),\"\",IF(VLOOKUP($A17,'32eme'!$F:$M,8,FALSE)=AG$2,\"X\",\"\")),IF(VLOOKUP($A17,'32eme'!$B:$M,12,FALSE)=AG$2,\"X\",\"\"))","v":""},{"$f":"IF(ISERROR(VLOOKUP($A17,'16eme'!$B:$M,12,FALSE)),IF(ISERROR(VLOOKUP($A17,'16eme'!$F:$M,8,FALSE)),\"\",IF(VLOOKUP($A17,'16eme'!$F:$M,8,FALSE)=AH$2,\"X\",\"\")),IF(VLOOKUP($A17,'16eme'!$B:$M,12,FALSE)=AH$2,\"X\",\"\"))","v":""},{"$f":"IF(ISERROR(VLOOKUP($A17,'16eme'!$B:$M,12,FALSE)),IF(ISERROR(VLOOKUP($A17,'16eme'!$F:$M,8,FALSE)),\"\",IF(VLOOKUP($A17,'16eme'!$F:$M,8,FALSE)=AI$2,\"X\",\"\")),IF(VLOOKUP($A17,'16eme'!$B:$M,12,FALSE)=AI$2,\"X\",\"\"))","v":""},{"$f":"IF(ISERROR(VLOOKUP($A17,'16eme'!$B:$M,12,FALSE)),IF(ISERROR(VLOOKUP($A17,'16eme'!$F:$M,8,FALSE)),\"\",IF(VLOOKUP($A17,'16eme'!$F:$M,8,FALSE)=AJ$2,\"X\",\"\")),IF(VLOOKUP($A17,'16eme'!$B:$M,12,FALSE)=AJ$2,\"X\",\"\"))","v":""},{"$f":"IF(ISERROR(VLOOKUP($A17,'16eme'!$B:$M,12,FALSE)),IF(ISERROR(VLOOKUP($A17,'16eme'!$F:$M,8,FALSE)),\"\",IF(VLOOKUP($A17,'16eme'!$F:$M,8,FALSE)=AK$2,\"X\",\"\")),IF(VLOOKUP($A17,'16eme'!$B:$M,12,FALSE)=AK$2,\"X\",\"\"))","v":""},{"$f":"IF(ISERROR(VLOOKUP($A17,'16eme'!$B:$M,12,FALSE)),IF(ISERROR(VLOOKUP($A17,'16eme'!$F:$M,8,FALSE)),\"\",IF(VLOOKUP($A17,'16eme'!$F:$M,8,FALSE)=AL$2,\"X\",\"\")),IF(VLOOKUP($A17,'16eme'!$B:$M,12,FALSE)=AL$2,\"X\",\"\"))","v":""},{"$f":"IF(ISERROR(VLOOKUP($A17,'16eme'!$B:$M,12,FALSE)),IF(ISERROR(VLOOKUP($A17,'16eme'!$F:$M,8,FALSE)),\"\",IF(VLOOKUP($A17,'16eme'!$F:$M,8,FALSE)=AM$2,\"X\",\"\")),IF(VLOOKUP($A17,'16eme'!$B:$M,12,FALSE)=AM$2,\"X\",\"\"))","v":""},{"$f":"IF(ISERROR(VLOOKUP($A17,'16eme'!$B:$M,12,FALSE)),IF(ISERROR(VLOOKUP($A17,'16eme'!$F:$M,8,FALSE)),\"\",IF(VLOOKUP($A17,'16eme'!$F:$M,8,FALSE)=AN$2,\"X\",\"\")),IF(VLOOKUP($A17,'16eme'!$B:$M,12,FALSE)=AN$2,\"X\",\"\"))","v":""},{"$f":"IF(ISERROR(VLOOKUP($A17,'16eme'!$B:$M,12,FALSE)),IF(ISERROR(VLOOKUP($A17,'16eme'!$F:$M,8,FALSE)),\"\",IF(VLOOKUP($A17,'16eme'!$F:$M,8,FALSE)=AO$2,\"X\",\"\")),IF(VLOOKUP($A17,'16eme'!$B:$M,12,FALSE)=AO$2,\"X\",\"\"))","v":""},{"$f":"IF(ISERROR(VLOOKUP($A17,'16eme'!$B:$M,12,FALSE)),IF(ISERROR(VLOOKUP($A17,'16eme'!$F:$M,8,FALSE)),\"\",IF(VLOOKUP($A17,'16eme'!$F:$M,8,FALSE)=AP$2,\"X\",\"\")),IF(VLOOKUP($A17,'16eme'!$B:$M,12,FALSE)=AP$2,\"X\",\"\"))","v":""},{"$f":"IF(ISERROR(VLOOKUP($A17,'16eme'!$B:$M,12,FALSE)),IF(ISERROR(VLOOKUP($A17,'16eme'!$F:$M,8,FALSE)),\"\",IF(VLOOKUP($A17,'16eme'!$F:$M,8,FALSE)=AQ$2,\"X\",\"\")),IF(VLOOKUP($A17,'16eme'!$B:$M,12,FALSE)=AQ$2,\"X\",\"\"))","v":""},{"$f":"IF(ISERROR(VLOOKUP($A17,'16eme'!$B:$M,12,FALSE)),IF(ISERROR(VLOOKUP($A17,'16eme'!$F:$M,8,FALSE)),\"\",IF(VLOOKUP($A17,'16eme'!$F:$M,8,FALSE)=AR$2,\"X\",\"\")),IF(VLOOKUP($A17,'16eme'!$B:$M,12,FALSE)=AR$2,\"X\",\"\"))","v":""},{"$f":"IF(ISERROR(VLOOKUP($A17,'16eme'!$B:$M,12,FALSE)),IF(ISERROR(VLOOKUP($A17,'16eme'!$F:$M,8,FALSE)),\"\",IF(VLOOKUP($A17,'16eme'!$F:$M,8,FALSE)=AS$2,\"X\",\"\")),IF(VLOOKUP($A17,'16eme'!$B:$M,12,FALSE)=AS$2,\"X\",\"\"))","v":""},{"$f":"IF(ISERROR(VLOOKUP($A17,'16eme'!$B:$M,12,FALSE)),IF(ISERROR(VLOOKUP($A17,'16eme'!$F:$M,8,FALSE)),\"\",IF(VLOOKUP($A17,'16eme'!$F:$M,8,FALSE)=AT$2,\"X\",\"\")),IF(VLOOKUP($A17,'16eme'!$B:$M,12,FALSE)=AT$2,\"X\",\"\"))","v":""},{"$f":"IF(ISERROR(VLOOKUP($A17,'16eme'!$B:$M,12,FALSE)),IF(ISERROR(VLOOKUP($A17,'16eme'!$F:$M,8,FALSE)),\"\",IF(VLOOKUP($A17,'16eme'!$F:$M,8,FALSE)=AU$2,\"X\",\"\")),IF(VLOOKUP($A17,'16eme'!$B:$M,12,FALSE)=AU$2,\"X\",\"\"))","v":""},{"$f":"IF(ISERROR(VLOOKUP($A17,'16eme'!$B:$M,12,FALSE)),IF(ISERROR(VLOOKUP($A17,'16eme'!$F:$M,8,FALSE)),\"\",IF(VLOOKUP($A17,'16eme'!$F:$M,8,FALSE)=AV$2,\"X\",\"\")),IF(VLOOKUP($A17,'16eme'!$B:$M,12,FALSE)=AV$2,\"X\",\"\"))","v":""},{"$f":"IF(ISERROR(VLOOKUP($A17,'16eme'!$B:$M,12,FALSE)),IF(ISERROR(VLOOKUP($A17,'16eme'!$F:$M,8,FALSE)),\"\",IF(VLOOKUP($A17,'16eme'!$F:$M,8,FALSE)=AW$2,\"X\",\"\")),IF(VLOOKUP($A17,'16eme'!$B:$M,12,FALSE)=AW$2,\"X\",\"\"))","v":""},{"$f":"IF(ISERROR(VLOOKUP($A17,'8eme'!$B:$M,12,FALSE)),IF(ISERROR(VLOOKUP($A17,'8eme'!$F:$M,8,FALSE)),\"\",IF(VLOOKUP($A17,'8eme'!$F:$M,8,FALSE)=AX$2,\"X\",\"\")),IF(VLOOKUP($A17,'8eme'!$B:$M,12,FALSE)=AX$2,\"X\",\"\"))","v":""},{"$f":"IF(ISERROR(VLOOKUP($A17,'8eme'!$B:$M,12,FALSE)),IF(ISERROR(VLOOKUP($A17,'8eme'!$F:$M,8,FALSE)),\"\",IF(VLOOKUP($A17,'8eme'!$F:$M,8,FALSE)=AY$2,\"X\",\"\")),IF(VLOOKUP($A17,'8eme'!$B:$M,12,FALSE)=AY$2,\"X\",\"\"))","v":""},{"$f":"IF(ISERROR(VLOOKUP($A17,'8eme'!$B:$M,12,FALSE)),IF(ISERROR(VLOOKUP($A17,'8eme'!$F:$M,8,FALSE)),\"\",IF(VLOOKUP($A17,'8eme'!$F:$M,8,FALSE)=AZ$2,\"X\",\"\")),IF(VLOOKUP($A17,'8eme'!$B:$M,12,FALSE)=AZ$2,\"X\",\"\"))","v":""},{"$f":"IF(ISERROR(VLOOKUP($A17,'8eme'!$B:$M,12,FALSE)),IF(ISERROR(VLOOKUP($A17,'8eme'!$F:$M,8,FALSE)),\"\",IF(VLOOKUP($A17,'8eme'!$F:$M,8,FALSE)=BA$2,\"X\",\"\")),IF(VLOOKUP($A17,'8eme'!$B:$M,12,FALSE)=BA$2,\"X\",\"\"))","v":""},{"$f":"IF(ISERROR(VLOOKUP($A17,'8eme'!$B:$M,12,FALSE)),IF(ISERROR(VLOOKUP($A17,'8eme'!$F:$M,8,FALSE)),\"\",IF(VLOOKUP($A17,'8eme'!$F:$M,8,FALSE)=BB$2,\"X\",\"\")),IF(VLOOKUP($A17,'8eme'!$B:$M,12,FALSE)=BB$2,\"X\",\"\"))","v":""},{"$f":"IF(ISERROR(VLOOKUP($A17,'8eme'!$B:$M,12,FALSE)),IF(ISERROR(VLOOKUP($A17,'8eme'!$F:$M,8,FALSE)),\"\",IF(VLOOKUP($A17,'8eme'!$F:$M,8,FALSE)=BC$2,\"X\",\"\")),IF(VLOOKUP($A17,'8eme'!$B:$M,12,FALSE)=BC$2,\"X\",\"\"))","v":""},{"$f":"IF(ISERROR(VLOOKUP($A17,'8eme'!$B:$M,12,FALSE)),IF(ISERROR(VLOOKUP($A17,'8eme'!$F:$M,8,FALSE)),\"\",IF(VLOOKUP($A17,'8eme'!$F:$M,8,FALSE)=BD$2,\"X\",\"\")),IF(VLOOKUP($A17,'8eme'!$B:$M,12,FALSE)=BD$2,\"X\",\"\"))","v":""},{"$f":"IF(ISERROR(VLOOKUP($A17,'8eme'!$B:$M,12,FALSE)),IF(ISERROR(VLOOKUP($A17,'8eme'!$F:$M,8,FALSE)),\"\",IF(VLOOKUP($A17,'8eme'!$F:$M,8,FALSE)=BE$2,\"X\",\"\")),IF(VLOOKUP($A17,'8eme'!$B:$M,12,FALSE)=BE$2,\"X\",\"\"))","v":""},{"$f":"IF(ISERROR(VLOOKUP($A17,'8eme'!$B:$M,12,FALSE)),IF(ISERROR(VLOOKUP($A17,'8eme'!$F:$M,8,FALSE)),\"\",IF(VLOOKUP($A17,'8eme'!$F:$M,8,FALSE)=BF$2,\"X\",\"\")),IF(VLOOKUP($A17,'8eme'!$B:$M,12,FALSE)=BF$2,\"X\",\"\"))","v":""},{"$f":"IF(ISERROR(VLOOKUP($A17,'8eme'!$B:$M,12,FALSE)),IF(ISERROR(VLOOKUP($A17,'8eme'!$F:$M,8,FALSE)),\"\",IF(VLOOKUP($A17,'8eme'!$F:$M,8,FALSE)=BG$2,\"X\",\"\")),IF(VLOOKUP($A17,'8eme'!$B:$M,12,FALSE)=BG$2,\"X\",\"\"))","v":""},{"$f":"IF(ISERROR(VLOOKUP($A17,'8eme'!$B:$M,12,FALSE)),IF(ISERROR(VLOOKUP($A17,'8eme'!$F:$M,8,FALSE)),\"\",IF(VLOOKUP($A17,'8eme'!$F:$M,8,FALSE)=BH$2,\"X\",\"\")),IF(VLOOKUP($A17,'8eme'!$B:$M,12,FALSE)=BH$2,\"X\",\"\"))","v":""},{"$f":"IF(ISERROR(VLOOKUP($A17,'8eme'!$B:$M,12,FALSE)),IF(ISERROR(VLOOKUP($A17,'8eme'!$F:$M,8,FALSE)),\"\",IF(VLOOKUP($A17,'8eme'!$F:$M,8,FALSE)=BI$2,\"X\",\"\")),IF(VLOOKUP($A17,'8eme'!$B:$M,12,FALSE)=BI$2,\"X\",\"\"))","v":""},{"$f":"IF(ISERROR(VLOOKUP($A17,'8eme'!$B:$M,12,FALSE)),IF(ISERROR(VLOOKUP($A17,'8eme'!$F:$M,8,FALSE)),\"\",IF(VLOOKUP($A17,'8eme'!$F:$M,8,FALSE)=BJ$2,\"X\",\"\")),IF(VLOOKUP($A17,'8eme'!$B:$M,12,FALSE)=BJ$2,\"X\",\"\"))","v":""},{"$f":"IF(ISERROR(VLOOKUP($A17,'8eme'!$B:$M,12,FALSE)),IF(ISERROR(VLOOKUP($A17,'8eme'!$F:$M,8,FALSE)),\"\",IF(VLOOKUP($A17,'8eme'!$F:$M,8,FALSE)=BK$2,\"X\",\"\")),IF(VLOOKUP($A17,'8eme'!$B:$M,12,FALSE)=BK$2,\"X\",\"\"))","v":""},{"$f":"IF(ISERROR(VLOOKUP($A17,'8eme'!$B:$M,12,FALSE)),IF(ISERROR(VLOOKUP($A17,'8eme'!$F:$M,8,FALSE)),\"\",IF(VLOOKUP($A17,'8eme'!$F:$M,8,FALSE)=BL$2,\"X\",\"\")),IF(VLOOKUP($A17,'8eme'!$B:$M,12,FALSE)=BL$2,\"X\",\"\"))","v":""},{"$f":"IF(ISERROR(VLOOKUP($A17,'8eme'!$B:$M,12,FALSE)),IF(ISERROR(VLOOKUP($A17,'8eme'!$F:$M,8,FALSE)),\"\",IF(VLOOKUP($A17,'8eme'!$F:$M,8,FALSE)=BM$2,\"X\",\"\")),IF(VLOOKUP($A17,'8eme'!$B:$M,12,FALSE)=BM$2,\"X\",\"\"))","v":""},{"$f":"IF(ISERROR(VLOOKUP($A17,quart!$B:$M,12,FALSE)),IF(ISERROR(VLOOKUP($A17,quart!$F:$M,8,FALSE)),\"\",IF(VLOOKUP($A17,quart!$F:$M,8,FALSE)=BN$2,\"X\",\"\")),IF(VLOOKUP($A17,quart!$B:$M,12,FALSE)=BN$2,\"X\",\"\"))","v":""},{"$f":"IF(ISERROR(VLOOKUP($A17,quart!$B:$M,12,FALSE)),IF(ISERROR(VLOOKUP($A17,quart!$F:$M,8,FALSE)),\"\",IF(VLOOKUP($A17,quart!$F:$M,8,FALSE)=BO$2,\"X\",\"\")),IF(VLOOKUP($A17,quart!$B:$M,12,FALSE)=BO$2,\"X\",\"\"))","v":""},{"$f":"IF(ISERROR(VLOOKUP($A17,quart!$B:$M,12,FALSE)),IF(ISERROR(VLOOKUP($A17,quart!$F:$M,8,FALSE)),\"\",IF(VLOOKUP($A17,quart!$F:$M,8,FALSE)=BP$2,\"X\",\"\")),IF(VLOOKUP($A17,quart!$B:$M,12,FALSE)=BP$2,\"X\",\"\"))","v":""},{"$f":"IF(ISERROR(VLOOKUP($A17,quart!$B:$M,12,FALSE)),IF(ISERROR(VLOOKUP($A17,quart!$F:$M,8,FALSE)),\"\",IF(VLOOKUP($A17,quart!$F:$M,8,FALSE)=BQ$2,\"X\",\"\")),IF(VLOOKUP($A17,quart!$B:$M,12,FALSE)=BQ$2,\"X\",\"\"))","v":""},{"$f":"IF(ISERROR(VLOOKUP($A17,quart!$B:$M,12,FALSE)),IF(ISERROR(VLOOKUP($A17,quart!$F:$M,8,FALSE)),\"\",IF(VLOOKUP($A17,quart!$F:$M,8,FALSE)=BR$2,\"X\",\"\")),IF(VLOOKUP($A17,quart!$B:$M,12,FALSE)=BR$2,\"X\",\"\"))","v":""},{"$f":"IF(ISERROR(VLOOKUP($A17,quart!$B:$M,12,FALSE)),IF(ISERROR(VLOOKUP($A17,quart!$F:$M,8,FALSE)),\"\",IF(VLOOKUP($A17,quart!$F:$M,8,FALSE)=BS$2,\"X\",\"\")),IF(VLOOKUP($A17,quart!$B:$M,12,FALSE)=BS$2,\"X\",\"\"))","v":""},{"$f":"IF(ISERROR(VLOOKUP($A17,quart!$B:$M,12,FALSE)),IF(ISERROR(VLOOKUP($A17,quart!$F:$M,8,FALSE)),\"\",IF(VLOOKUP($A17,quart!$F:$M,8,FALSE)=BT$2,\"X\",\"\")),IF(VLOOKUP($A17,quart!$B:$M,12,FALSE)=BT$2,\"X\",\"\"))","v":""},{"$f":"IF(ISERROR(VLOOKUP($A17,quart!$B:$M,12,FALSE)),IF(ISERROR(VLOOKUP($A17,quart!$F:$M,8,FALSE)),\"\",IF(VLOOKUP($A17,quart!$F:$M,8,FALSE)=BU$2,\"X\",\"\")),IF(VLOOKUP($A17,quart!$B:$M,12,FALSE)=BU$2,\"X\",\"\"))","v":""},{"$f":"IF(ISERROR(VLOOKUP($A17,quart!$B:$M,12,FALSE)),IF(ISERROR(VLOOKUP($A17,quart!$F:$M,8,FALSE)),\"\",IF(VLOOKUP($A17,quart!$F:$M,8,FALSE)=BV$2,\"X\",\"\")),IF(VLOOKUP($A17,quart!$B:$M,12,FALSE)=BV$2,\"X\",\"\"))","v":""},{"$f":"IF(ISERROR(VLOOKUP($A17,quart!$B:$M,12,FALSE)),IF(ISERROR(VLOOKUP($A17,quart!$F:$M,8,FALSE)),\"\",IF(VLOOKUP($A17,quart!$F:$M,8,FALSE)=BW$2,\"X\",\"\")),IF(VLOOKUP($A17,quart!$B:$M,12,FALSE)=BW$2,\"X\",\"\"))","v":""},{"$f":"IF(ISERROR(VLOOKUP($A17,quart!$B:$M,12,FALSE)),IF(ISERROR(VLOOKUP($A17,quart!$F:$M,8,FALSE)),\"\",IF(VLOOKUP($A17,quart!$F:$M,8,FALSE)=BX$2,\"X\",\"\")),IF(VLOOKUP($A17,quart!$B:$M,12,FALSE)=BX$2,\"X\",\"\"))","v":""},{"$f":"IF(ISERROR(VLOOKUP($A17,quart!$B:$M,12,FALSE)),IF(ISERROR(VLOOKUP($A17,quart!$F:$M,8,FALSE)),\"\",IF(VLOOKUP($A17,quart!$F:$M,8,FALSE)=BY$2,\"X\",\"\")),IF(VLOOKUP($A17,quart!$B:$M,12,FALSE)=BY$2,\"X\",\"\"))","v":""},{"$f":"IF(ISERROR(VLOOKUP($A17,quart!$B:$M,12,FALSE)),IF(ISERROR(VLOOKUP($A17,quart!$F:$M,8,FALSE)),\"\",IF(VLOOKUP($A17,quart!$F:$M,8,FALSE)=BZ$2,\"X\",\"\")),IF(VLOOKUP($A17,quart!$B:$M,12,FALSE)=BZ$2,\"X\",\"\"))","v":""},{"$f":"IF(ISERROR(VLOOKUP($A17,quart!$B:$M,12,FALSE)),IF(ISERROR(VLOOKUP($A17,quart!$F:$M,8,FALSE)),\"\",IF(VLOOKUP($A17,quart!$F:$M,8,FALSE)=CA$2,\"X\",\"\")),IF(VLOOKUP($A17,quart!$B:$M,12,FALSE)=CA$2,\"X\",\"\"))","v":""},{"$f":"IF(ISERROR(VLOOKUP($A17,quart!$B:$M,12,FALSE)),IF(ISERROR(VLOOKUP($A17,quart!$F:$M,8,FALSE)),\"\",IF(VLOOKUP($A17,quart!$F:$M,8,FALSE)=CB$2,\"X\",\"\")),IF(VLOOKUP($A17,quart!$B:$M,12,FALSE)=CB$2,\"X\",\"\"))","v":""},{"$f":"IF(ISERROR(VLOOKUP($A17,quart!$B:$M,12,FALSE)),IF(ISERROR(VLOOKUP($A17,quart!$F:$M,8,FALSE)),\"\",IF(VLOOKUP($A17,quart!$F:$M,8,FALSE)=CC$2,\"X\",\"\")),IF(VLOOKUP($A17,quart!$B:$M,12,FALSE)=CC$2,\"X\",\"\"))","v":""},{"$f":"IF(ISERROR(VLOOKUP($A17,demi!$B:$M,12,FALSE)),IF(ISERROR(VLOOKUP($A17,demi!$F:$M,8,FALSE)),\"\",IF(VLOOKUP($A17,demi!$F:$M,8,FALSE)=CD$2,\"X\",\"\")),IF(VLOOKUP($A17,demi!$B:$M,12,FALSE)=CD$2,\"X\",\"\"))","v":""},{"$f":"IF(ISERROR(VLOOKUP($A17,demi!$B:$M,12,FALSE)),IF(ISERROR(VLOOKUP($A17,demi!$F:$M,8,FALSE)),\"\",IF(VLOOKUP($A17,demi!$F:$M,8,FALSE)=CE$2,\"X\",\"\")),IF(VLOOKUP($A17,demi!$B:$M,12,FALSE)=CE$2,\"X\",\"\"))","v":""},{"$f":"IF(ISERROR(VLOOKUP($A17,demi!$B:$M,12,FALSE)),IF(ISERROR(VLOOKUP($A17,demi!$F:$M,8,FALSE)),\"\",IF(VLOOKUP($A17,demi!$F:$M,8,FALSE)=CF$2,\"X\",\"\")),IF(VLOOKUP($A17,demi!$B:$M,12,FALSE)=CF$2,\"X\",\"\"))","v":""},{"$f":"IF(ISERROR(VLOOKUP($A17,demi!$B:$M,12,FALSE)),IF(ISERROR(VLOOKUP($A17,demi!$F:$M,8,FALSE)),\"\",IF(VLOOKUP($A17,demi!$F:$M,8,FALSE)=CG$2,\"X\",\"\")),IF(VLOOKUP($A17,demi!$B:$M,12,FALSE)=CG$2,\"X\",\"\"))","v":""},{"$f":"IF(ISERROR(VLOOKUP($A17,demi!$B:$M,12,FALSE)),IF(ISERROR(VLOOKUP($A17,demi!$F:$M,8,FALSE)),\"\",IF(VLOOKUP($A17,demi!$F:$M,8,FALSE)=CH$2,\"X\",\"\")),IF(VLOOKUP($A17,demi!$B:$M,12,FALSE)=CH$2,\"X\",\"\"))","v":""},{"$f":"IF(ISERROR(VLOOKUP($A17,demi!$B:$M,12,FALSE)),IF(ISERROR(VLOOKUP($A17,demi!$F:$M,8,FALSE)),\"\",IF(VLOOKUP($A17,demi!$F:$M,8,FALSE)=CI$2,\"X\",\"\")),IF(VLOOKUP($A17,demi!$B:$M,12,FALSE)=CI$2,\"X\",\"\"))","v":""},{"$f":"IF(ISERROR(VLOOKUP($A17,demi!$B:$M,12,FALSE)),IF(ISERROR(VLOOKUP($A17,demi!$F:$M,8,FALSE)),\"\",IF(VLOOKUP($A17,demi!$F:$M,8,FALSE)=CJ$2,\"X\",\"\")),IF(VLOOKUP($A17,demi!$B:$M,12,FALSE)=CJ$2,\"X\",\"\"))","v":""},{"$f":"IF(ISERROR(VLOOKUP($A17,demi!$B:$M,12,FALSE)),IF(ISERROR(VLOOKUP($A17,demi!$F:$M,8,FALSE)),\"\",IF(VLOOKUP($A17,demi!$F:$M,8,FALSE)=CK$2,\"X\",\"\")),IF(VLOOKUP($A17,demi!$B:$M,12,FALSE)=CK$2,\"X\",\"\"))","v":""},{"$f":"IF(ISERROR(VLOOKUP($A17,demi!$B:$M,12,FALSE)),IF(ISERROR(VLOOKUP($A17,demi!$F:$M,8,FALSE)),\"\",IF(VLOOKUP($A17,demi!$F:$M,8,FALSE)=CL$2,\"X\",\"\")),IF(VLOOKUP($A17,demi!$B:$M,12,FALSE)=CL$2,\"X\",\"\"))","v":""},{"$f":"IF(ISERROR(VLOOKUP($A17,demi!$B:$M,12,FALSE)),IF(ISERROR(VLOOKUP($A17,demi!$F:$M,8,FALSE)),\"\",IF(VLOOKUP($A17,demi!$F:$M,8,FALSE)=CM$2,\"X\",\"\")),IF(VLOOKUP($A17,demi!$B:$M,12,FALSE)=CM$2,\"X\",\"\"))","v":""},{"$f":"IF(ISERROR(VLOOKUP($A17,demi!$B:$M,12,FALSE)),IF(ISERROR(VLOOKUP($A17,demi!$F:$M,8,FALSE)),\"\",IF(VLOOKUP($A17,demi!$F:$M,8,FALSE)=CN$2,\"X\",\"\")),IF(VLOOKUP($A17,demi!$B:$M,12,FALSE)=CN$2,\"X\",\"\"))","v":""},{"$f":"IF(ISERROR(VLOOKUP($A17,demi!$B:$M,12,FALSE)),IF(ISERROR(VLOOKUP($A17,demi!$F:$M,8,FALSE)),\"\",IF(VLOOKUP($A17,demi!$F:$M,8,FALSE)=CO$2,\"X\",\"\")),IF(VLOOKUP($A17,demi!$B:$M,12,FALSE)=CO$2,\"X\",\"\"))","v":""},{"$f":"IF(ISERROR(VLOOKUP($A17,demi!$B:$M,12,FALSE)),IF(ISERROR(VLOOKUP($A17,demi!$F:$M,8,FALSE)),\"\",IF(VLOOKUP($A17,demi!$F:$M,8,FALSE)=CP$2,\"X\",\"\")),IF(VLOOKUP($A17,demi!$B:$M,12,FALSE)=CP$2,\"X\",\"\"))","v":""},{"$f":"IF(ISERROR(VLOOKUP($A17,demi!$B:$M,12,FALSE)),IF(ISERROR(VLOOKUP($A17,demi!$F:$M,8,FALSE)),\"\",IF(VLOOKUP($A17,demi!$F:$M,8,FALSE)=CQ$2,\"X\",\"\")),IF(VLOOKUP($A17,demi!$B:$M,12,FALSE)=CQ$2,\"X\",\"\"))","v":""},{"$f":"IF(ISERROR(VLOOKUP($A17,demi!$B:$M,12,FALSE)),IF(ISERROR(VLOOKUP($A17,demi!$F:$M,8,FALSE)),\"\",IF(VLOOKUP($A17,demi!$F:$M,8,FALSE)=CR$2,\"X\",\"\")),IF(VLOOKUP($A17,demi!$B:$M,12,FALSE)=CR$2,\"X\",\"\"))","v":""},{"$f":"IF(ISERROR(VLOOKUP($A17,demi!$B:$M,12,FALSE)),IF(ISERROR(VLOOKUP($A17,demi!$F:$M,8,FALSE)),\"\",IF(VLOOKUP($A17,demi!$F:$M,8,FALSE)=CS$2,\"X\",\"\")),IF(VLOOKUP($A17,demi!$B:$M,12,FALSE)=CS$2,\"X\",\"\"))","v":""}]
[16,"X","X","X","X","X","X","X","X","X","X","X","X","X","X","X","X",{"$f":"IF(ISERROR(VLOOKUP($A18,'32eme'!$B:$M,12,FALSE)),IF(ISERROR(VLOOKUP($A18,'32eme'!$F:$M,8,FALSE)),\"\",IF(VLOOKUP($A18,'32eme'!$F:$M,8,FALSE)=R$2,\"X\",\"\")),IF(VLOOKUP($A18,'32eme'!$B:$M,12,FALSE)=R$2,\"X\",\"\"))","v":""},{"$f":"IF(ISERROR(VLOOKUP($A18,'32eme'!$B:$M,12,FALSE)),IF(ISERROR(VLOOKUP($A18,'32eme'!$F:$M,8,FALSE)),\"\",IF(VLOOKUP($A18,'32eme'!$F:$M,8,FALSE)=S$2,\"X\",\"\")),IF(VLOOKUP($A18,'32eme'!$B:$M,12,FALSE)=S$2,\"X\",\"\"))","v":""},{"$f":"IF(ISERROR(VLOOKUP($A18,'32eme'!$B:$M,12,FALSE)),IF(ISERROR(VLOOKUP($A18,'32eme'!$F:$M,8,FALSE)),\"\",IF(VLOOKUP($A18,'32eme'!$F:$M,8,FALSE)=T$2,\"X\",\"\")),IF(VLOOKUP($A18,'32eme'!$B:$M,12,FALSE)=T$2,\"X\",\"\"))","v":""},{"$f":"IF(ISERROR(VLOOKUP($A18,'32eme'!$B:$M,12,FALSE)),IF(ISERROR(VLOOKUP($A18,'32eme'!$F:$M,8,FALSE)),\"\",IF(VLOOKUP($A18,'32eme'!$F:$M,8,FALSE)=U$2,\"X\",\"\")),IF(VLOOKUP($A18,'32eme'!$B:$M,12,FALSE)=U$2,\"X\",\"\"))","v":""},{"$f":"IF(ISERROR(VLOOKUP($A18,'32eme'!$B:$M,12,FALSE)),IF(ISERROR(VLOOKUP($A18,'32eme'!$F:$M,8,FALSE)),\"\",IF(VLOOKUP($A18,'32eme'!$F:$M,8,FALSE)=V$2,\"X\",\"\")),IF(VLOOKUP($A18,'32eme'!$B:$M,12,FALSE)=V$2,\"X\",\"\"))","v":""},{"$f":"IF(ISERROR(VLOOKUP($A18,'32eme'!$B:$M,12,FALSE)),IF(ISERROR(VLOOKUP($A18,'32eme'!$F:$M,8,FALSE)),\"\",IF(VLOOKUP($A18,'32eme'!$F:$M,8,FALSE)=W$2,\"X\",\"\")),IF(VLOOKUP($A18,'32eme'!$B:$M,12,FALSE)=W$2,\"X\",\"\"))","v":""},{"$f":"IF(ISERROR(VLOOKUP($A18,'32eme'!$B:$M,12,FALSE)),IF(ISERROR(VLOOKUP($A18,'32eme'!$F:$M,8,FALSE)),\"\",IF(VLOOKUP($A18,'32eme'!$F:$M,8,FALSE)=X$2,\"X\",\"\")),IF(VLOOKUP($A18,'32eme'!$B:$M,12,FALSE)=X$2,\"X\",\"\"))","v":""},{"$f":"IF(ISERROR(VLOOKUP($A18,'32eme'!$B:$M,12,FALSE)),IF(ISERROR(VLOOKUP($A18,'32eme'!$F:$M,8,FALSE)),\"\",IF(VLOOKUP($A18,'32eme'!$F:$M,8,FALSE)=Y$2,\"X\",\"\")),IF(VLOOKUP($A18,'32eme'!$B:$M,12,FALSE)=Y$2,\"X\",\"\"))","v":""},{"$f":"IF(ISERROR(VLOOKUP($A18,'32eme'!$B:$M,12,FALSE)),IF(ISERROR(VLOOKUP($A18,'32eme'!$F:$M,8,FALSE)),\"\",IF(VLOOKUP($A18,'32eme'!$F:$M,8,FALSE)=Z$2,\"X\",\"\")),IF(VLOOKUP($A18,'32eme'!$B:$M,12,FALSE)=Z$2,\"X\",\"\"))","v":""},{"$f":"IF(ISERROR(VLOOKUP($A18,'32eme'!$B:$M,12,FALSE)),IF(ISERROR(VLOOKUP($A18,'32eme'!$F:$M,8,FALSE)),\"\",IF(VLOOKUP($A18,'32eme'!$F:$M,8,FALSE)=AA$2,\"X\",\"\")),IF(VLOOKUP($A18,'32eme'!$B:$M,12,FALSE)=AA$2,\"X\",\"\"))","v":""},{"$f":"IF(ISERROR(VLOOKUP($A18,'32eme'!$B:$M,12,FALSE)),IF(ISERROR(VLOOKUP($A18,'32eme'!$F:$M,8,FALSE)),\"\",IF(VLOOKUP($A18,'32eme'!$F:$M,8,FALSE)=AB$2,\"X\",\"\")),IF(VLOOKUP($A18,'32eme'!$B:$M,12,FALSE)=AB$2,\"X\",\"\"))","v":""},{"$f":"IF(ISERROR(VLOOKUP($A18,'32eme'!$B:$M,12,FALSE)),IF(ISERROR(VLOOKUP($A18,'32eme'!$F:$M,8,FALSE)),\"\",IF(VLOOKUP($A18,'32eme'!$F:$M,8,FALSE)=AC$2,\"X\",\"\")),IF(VLOOKUP($A18,'32eme'!$B:$M,12,FALSE)=AC$2,\"X\",\"\"))","v":""},{"$f":"IF(ISERROR(VLOOKUP($A18,'32eme'!$B:$M,12,FALSE)),IF(ISERROR(VLOOKUP($A18,'32eme'!$F:$M,8,FALSE)),\"\",IF(VLOOKUP($A18,'32eme'!$F:$M,8,FALSE)=AD$2,\"X\",\"\")),IF(VLOOKUP($A18,'32eme'!$B:$M,12,FALSE)=AD$2,\"X\",\"\"))","v":""},{"$f":"IF(ISERROR(VLOOKUP($A18,'32eme'!$B:$M,12,FALSE)),IF(ISERROR(VLOOKUP($A18,'32eme'!$F:$M,8,FALSE)),\"\",IF(VLOOKUP($A18,'32eme'!$F:$M,8,FALSE)=AE$2,\"X\",\"\")),IF(VLOOKUP($A18,'32eme'!$B:$M,12,FALSE)=AE$2,\"X\",\"\"))","v":""},{"$f":"IF(ISERROR(VLOOKUP($A18,'32eme'!$B:$M,12,FALSE)),IF(ISERROR(VLOOKUP($A18,'32eme'!$F:$M,8,FALSE)),\"\",IF(VLOOKUP($A18,'32eme'!$F:$M,8,FALSE)=AF$2,\"X\",\"\")),IF(VLOOKUP($A18,'32eme'!$B:$M,12,FALSE)=AF$2,\"X\",\"\"))","v":""},{"$f":"IF(ISERROR(VLOOKUP($A18,'32eme'!$B:$M,12,FALSE)),IF(ISERROR(VLOOKUP($A18,'32eme'!$F:$M,8,FALSE)),\"\",IF(VLOOKUP($A18,'32eme'!$F:$M,8,FALSE)=AG$2,\"X\",\"\")),IF(VLOOKUP($A18,'32eme'!$B:$M,12,FALSE)=AG$2,\"X\",\"\"))","v":""},{"$f":"IF(ISERROR(VLOOKUP($A18,'16eme'!$B:$M,12,FALSE)),IF(ISERROR(VLOOKUP($A18,'16eme'!$F:$M,8,FALSE)),\"\",IF(VLOOKUP($A18,'16eme'!$F:$M,8,FALSE)=AH$2,\"X\",\"\")),IF(VLOOKUP($A18,'16eme'!$B:$M,12,FALSE)=AH$2,\"X\",\"\"))","v":""},{"$f":"IF(ISERROR(VLOOKUP($A18,'16eme'!$B:$M,12,FALSE)),IF(ISERROR(VLOOKUP($A18,'16eme'!$F:$M,8,FALSE)),\"\",IF(VLOOKUP($A18,'16eme'!$F:$M,8,FALSE)=AI$2,\"X\",\"\")),IF(VLOOKUP($A18,'16eme'!$B:$M,12,FALSE)=AI$2,\"X\",\"\"))","v":""},{"$f":"IF(ISERROR(VLOOKUP($A18,'16eme'!$B:$M,12,FALSE)),IF(ISERROR(VLOOKUP($A18,'16eme'!$F:$M,8,FALSE)),\"\",IF(VLOOKUP($A18,'16eme'!$F:$M,8,FALSE)=AJ$2,\"X\",\"\")),IF(VLOOKUP($A18,'16eme'!$B:$M,12,FALSE)=AJ$2,\"X\",\"\"))","v":""},{"$f":"IF(ISERROR(VLOOKUP($A18,'16eme'!$B:$M,12,FALSE)),IF(ISERROR(VLOOKUP($A18,'16eme'!$F:$M,8,FALSE)),\"\",IF(VLOOKUP($A18,'16eme'!$F:$M,8,FALSE)=AK$2,\"X\",\"\")),IF(VLOOKUP($A18,'16eme'!$B:$M,12,FALSE)=AK$2,\"X\",\"\"))","v":""},{"$f":"IF(ISERROR(VLOOKUP($A18,'16eme'!$B:$M,12,FALSE)),IF(ISERROR(VLOOKUP($A18,'16eme'!$F:$M,8,FALSE)),\"\",IF(VLOOKUP($A18,'16eme'!$F:$M,8,FALSE)=AL$2,\"X\",\"\")),IF(VLOOKUP($A18,'16eme'!$B:$M,12,FALSE)=AL$2,\"X\",\"\"))","v":""},{"$f":"IF(ISERROR(VLOOKUP($A18,'16eme'!$B:$M,12,FALSE)),IF(ISERROR(VLOOKUP($A18,'16eme'!$F:$M,8,FALSE)),\"\",IF(VLOOKUP($A18,'16eme'!$F:$M,8,FALSE)=AM$2,\"X\",\"\")),IF(VLOOKUP($A18,'16eme'!$B:$M,12,FALSE)=AM$2,\"X\",\"\"))","v":""},{"$f":"IF(ISERROR(VLOOKUP($A18,'16eme'!$B:$M,12,FALSE)),IF(ISERROR(VLOOKUP($A18,'16eme'!$F:$M,8,FALSE)),\"\",IF(VLOOKUP($A18,'16eme'!$F:$M,8,FALSE)=AN$2,\"X\",\"\")),IF(VLOOKUP($A18,'16eme'!$B:$M,12,FALSE)=AN$2,\"X\",\"\"))","v":""},{"$f":"IF(ISERROR(VLOOKUP($A18,'16eme'!$B:$M,12,FALSE)),IF(ISERROR(VLOOKUP($A18,'16eme'!$F:$M,8,FALSE)),\"\",IF(VLOOKUP($A18,'16eme'!$F:$M,8,FALSE)=AO$2,\"X\",\"\")),IF(VLOOKUP($A18,'16eme'!$B:$M,12,FALSE)=AO$2,\"X\",\"\"))","v":""},{"$f":"IF(ISERROR(VLOOKUP($A18,'16eme'!$B:$M,12,FALSE)),IF(ISERROR(VLOOKUP($A18,'16eme'!$F:$M,8,FALSE)),\"\",IF(VLOOKUP($A18,'16eme'!$F:$M,8,FALSE)=AP$2,\"X\",\"\")),IF(VLOOKUP($A18,'16eme'!$B:$M,12,FALSE)=AP$2,\"X\",\"\"))","v":""},{"$f":"IF(ISERROR(VLOOKUP($A18,'16eme'!$B:$M,12,FALSE)),IF(ISERROR(VLOOKUP($A18,'16eme'!$F:$M,8,FALSE)),\"\",IF(VLOOKUP($A18,'16eme'!$F:$M,8,FALSE)=AQ$2,\"X\",\"\")),IF(VLOOKUP($A18,'16eme'!$B:$M,12,FALSE)=AQ$2,\"X\",\"\"))","v":""},{"$f":"IF(ISERROR(VLOOKUP($A18,'16eme'!$B:$M,12,FALSE)),IF(ISERROR(VLOOKUP($A18,'16eme'!$F:$M,8,FALSE)),\"\",IF(VLOOKUP($A18,'16eme'!$F:$M,8,FALSE)=AR$2,\"X\",\"\")),IF(VLOOKUP($A18,'16eme'!$B:$M,12,FALSE)=AR$2,\"X\",\"\"))","v":""},{"$f":"IF(ISERROR(VLOOKUP($A18,'16eme'!$B:$M,12,FALSE)),IF(ISERROR(VLOOKUP($A18,'16eme'!$F:$M,8,FALSE)),\"\",IF(VLOOKUP($A18,'16eme'!$F:$M,8,FALSE)=AS$2,\"X\",\"\")),IF(VLOOKUP($A18,'16eme'!$B:$M,12,FALSE)=AS$2,\"X\",\"\"))","v":""},{"$f":"IF(ISERROR(VLOOKUP($A18,'16eme'!$B:$M,12,FALSE)),IF(ISERROR(VLOOKUP($A18,'16eme'!$F:$M,8,FALSE)),\"\",IF(VLOOKUP($A18,'16eme'!$F:$M,8,FALSE)=AT$2,\"X\",\"\")),IF(VLOOKUP($A18,'16eme'!$B:$M,12,FALSE)=AT$2,\"X\",\"\"))","v":""},{"$f":"IF(ISERROR(VLOOKUP($A18,'16eme'!$B:$M,12,FALSE)),IF(ISERROR(VLOOKUP($A18,'16eme'!$F:$M,8,FALSE)),\"\",IF(VLOOKUP($A18,'16eme'!$F:$M,8,FALSE)=AU$2,\"X\",\"\")),IF(VLOOKUP($A18,'16eme'!$B:$M,12,FALSE)=AU$2,\"X\",\"\"))","v":""},{"$f":"IF(ISERROR(VLOOKUP($A18,'16eme'!$B:$M,12,FALSE)),IF(ISERROR(VLOOKUP($A18,'16eme'!$F:$M,8,FALSE)),\"\",IF(VLOOKUP($A18,'16eme'!$F:$M,8,FALSE)=AV$2,\"X\",\"\")),IF(VLOOKUP($A18,'16eme'!$B:$M,12,FALSE)=AV$2,\"X\",\"\"))","v":""},{"$f":"IF(ISERROR(VLOOKUP($A18,'16eme'!$B:$M,12,FALSE)),IF(ISERROR(VLOOKUP($A18,'16eme'!$F:$M,8,FALSE)),\"\",IF(VLOOKUP($A18,'16eme'!$F:$M,8,FALSE)=AW$2,\"X\",\"\")),IF(VLOOKUP($A18,'16eme'!$B:$M,12,FALSE)=AW$2,\"X\",\"\"))","v":""},{"$f":"IF(ISERROR(VLOOKUP($A18,'8eme'!$B:$M,12,FALSE)),IF(ISERROR(VLOOKUP($A18,'8eme'!$F:$M,8,FALSE)),\"\",IF(VLOOKUP($A18,'8eme'!$F:$M,8,FALSE)=AX$2,\"X\",\"\")),IF(VLOOKUP($A18,'8eme'!$B:$M,12,FALSE)=AX$2,\"X\",\"\"))","v":""},{"$f":"IF(ISERROR(VLOOKUP($A18,'8eme'!$B:$M,12,FALSE)),IF(ISERROR(VLOOKUP($A18,'8eme'!$F:$M,8,FALSE)),\"\",IF(VLOOKUP($A18,'8eme'!$F:$M,8,FALSE)=AY$2,\"X\",\"\")),IF(VLOOKUP($A18,'8eme'!$B:$M,12,FALSE)=AY$2,\"X\",\"\"))","v":""},{"$f":"IF(ISERROR(VLOOKUP($A18,'8eme'!$B:$M,12,FALSE)),IF(ISERROR(VLOOKUP($A18,'8eme'!$F:$M,8,FALSE)),\"\",IF(VLOOKUP($A18,'8eme'!$F:$M,8,FALSE)=AZ$2,\"X\",\"\")),IF(VLOOKUP($A18,'8eme'!$B:$M,12,FALSE)=AZ$2,\"X\",\"\"))","v":""},{"$f":"IF(ISERROR(VLOOKUP($A18,'8eme'!$B:$M,12,FALSE)),IF(ISERROR(VLOOKUP($A18,'8eme'!$F:$M,8,FALSE)),\"\",IF(VLOOKUP($A18,'8eme'!$F:$M,8,FALSE)=BA$2,\"X\",\"\")),IF(VLOOKUP($A18,'8eme'!$B:$M,12,FALSE)=BA$2,\"X\",\"\"))","v":""},{"$f":"IF(ISERROR(VLOOKUP($A18,'8eme'!$B:$M,12,FALSE)),IF(ISERROR(VLOOKUP($A18,'8eme'!$F:$M,8,FALSE)),\"\",IF(VLOOKUP($A18,'8eme'!$F:$M,8,FALSE)=BB$2,\"X\",\"\")),IF(VLOOKUP($A18,'8eme'!$B:$M,12,FALSE)=BB$2,\"X\",\"\"))","v":""},{"$f":"IF(ISERROR(VLOOKUP($A18,'8eme'!$B:$M,12,FALSE)),IF(ISERROR(VLOOKUP($A18,'8eme'!$F:$M,8,FALSE)),\"\",IF(VLOOKUP($A18,'8eme'!$F:$M,8,FALSE)=BC$2,\"X\",\"\")),IF(VLOOKUP($A18,'8eme'!$B:$M,12,FALSE)=BC$2,\"X\",\"\"))","v":""},{"$f":"IF(ISERROR(VLOOKUP($A18,'8eme'!$B:$M,12,FALSE)),IF(ISERROR(VLOOKUP($A18,'8eme'!$F:$M,8,FALSE)),\"\",IF(VLOOKUP($A18,'8eme'!$F:$M,8,FALSE)=BD$2,\"X\",\"\")),IF(VLOOKUP($A18,'8eme'!$B:$M,12,FALSE)=BD$2,\"X\",\"\"))","v":""},{"$f":"IF(ISERROR(VLOOKUP($A18,'8eme'!$B:$M,12,FALSE)),IF(ISERROR(VLOOKUP($A18,'8eme'!$F:$M,8,FALSE)),\"\",IF(VLOOKUP($A18,'8eme'!$F:$M,8,FALSE)=BE$2,\"X\",\"\")),IF(VLOOKUP($A18,'8eme'!$B:$M,12,FALSE)=BE$2,\"X\",\"\"))","v":""},{"$f":"IF(ISERROR(VLOOKUP($A18,'8eme'!$B:$M,12,FALSE)),IF(ISERROR(VLOOKUP($A18,'8eme'!$F:$M,8,FALSE)),\"\",IF(VLOOKUP($A18,'8eme'!$F:$M,8,FALSE)=BF$2,\"X\",\"\")),IF(VLOOKUP($A18,'8eme'!$B:$M,12,FALSE)=BF$2,\"X\",\"\"))","v":""},{"$f":"IF(ISERROR(VLOOKUP($A18,'8eme'!$B:$M,12,FALSE)),IF(ISERROR(VLOOKUP($A18,'8eme'!$F:$M,8,FALSE)),\"\",IF(VLOOKUP($A18,'8eme'!$F:$M,8,FALSE)=BG$2,\"X\",\"\")),IF(VLOOKUP($A18,'8eme'!$B:$M,12,FALSE)=BG$2,\"X\",\"\"))","v":""},{"$f":"IF(ISERROR(VLOOKUP($A18,'8eme'!$B:$M,12,FALSE)),IF(ISERROR(VLOOKUP($A18,'8eme'!$F:$M,8,FALSE)),\"\",IF(VLOOKUP($A18,'8eme'!$F:$M,8,FALSE)=BH$2,\"X\",\"\")),IF(VLOOKUP($A18,'8eme'!$B:$M,12,FALSE)=BH$2,\"X\",\"\"))","v":""},{"$f":"IF(ISERROR(VLOOKUP($A18,'8eme'!$B:$M,12,FALSE)),IF(ISERROR(VLOOKUP($A18,'8eme'!$F:$M,8,FALSE)),\"\",IF(VLOOKUP($A18,'8eme'!$F:$M,8,FALSE)=BI$2,\"X\",\"\")),IF(VLOOKUP($A18,'8eme'!$B:$M,12,FALSE)=BI$2,\"X\",\"\"))","v":""},{"$f":"IF(ISERROR(VLOOKUP($A18,'8eme'!$B:$M,12,FALSE)),IF(ISERROR(VLOOKUP($A18,'8eme'!$F:$M,8,FALSE)),\"\",IF(VLOOKUP($A18,'8eme'!$F:$M,8,FALSE)=BJ$2,\"X\",\"\")),IF(VLOOKUP($A18,'8eme'!$B:$M,12,FALSE)=BJ$2,\"X\",\"\"))","v":""},{"$f":"IF(ISERROR(VLOOKUP($A18,'8eme'!$B:$M,12,FALSE)),IF(ISERROR(VLOOKUP($A18,'8eme'!$F:$M,8,FALSE)),\"\",IF(VLOOKUP($A18,'8eme'!$F:$M,8,FALSE)=BK$2,\"X\",\"\")),IF(VLOOKUP($A18,'8eme'!$B:$M,12,FALSE)=BK$2,\"X\",\"\"))","v":""},{"$f":"IF(ISERROR(VLOOKUP($A18,'8eme'!$B:$M,12,FALSE)),IF(ISERROR(VLOOKUP($A18,'8eme'!$F:$M,8,FALSE)),\"\",IF(VLOOKUP($A18,'8eme'!$F:$M,8,FALSE)=BL$2,\"X\",\"\")),IF(VLOOKUP($A18,'8eme'!$B:$M,12,FALSE)=BL$2,\"X\",\"\"))","v":""},{"$f":"IF(ISERROR(VLOOKUP($A18,'8eme'!$B:$M,12,FALSE)),IF(ISERROR(VLOOKUP($A18,'8eme'!$F:$M,8,FALSE)),\"\",IF(VLOOKUP($A18,'8eme'!$F:$M,8,FALSE)=BM$2,\"X\",\"\")),IF(VLOOKUP($A18,'8eme'!$B:$M,12,FALSE)=BM$2,\"X\",\"\"))","v":""},{"$f":"IF(ISERROR(VLOOKUP($A18,quart!$B:$M,12,FALSE)),IF(ISERROR(VLOOKUP($A18,quart!$F:$M,8,FALSE)),\"\",IF(VLOOKUP($A18,quart!$F:$M,8,FALSE)=BN$2,\"X\",\"\")),IF(VLOOKUP($A18,quart!$B:$M,12,FALSE)=BN$2,\"X\",\"\"))","v":""},{"$f":"IF(ISERROR(VLOOKUP($A18,quart!$B:$M,12,FALSE)),IF(ISERROR(VLOOKUP($A18,quart!$F:$M,8,FALSE)),\"\",IF(VLOOKUP($A18,quart!$F:$M,8,FALSE)=BO$2,\"X\",\"\")),IF(VLOOKUP($A18,quart!$B:$M,12,FALSE)=BO$2,\"X\",\"\"))","v":""},{"$f":"IF(ISERROR(VLOOKUP($A18,quart!$B:$M,12,FALSE)),IF(ISERROR(VLOOKUP($A18,quart!$F:$M,8,FALSE)),\"\",IF(VLOOKUP($A18,quart!$F:$M,8,FALSE)=BP$2,\"X\",\"\")),IF(VLOOKUP($A18,quart!$B:$M,12,FALSE)=BP$2,\"X\",\"\"))","v":""},{"$f":"IF(ISERROR(VLOOKUP($A18,quart!$B:$M,12,FALSE)),IF(ISERROR(VLOOKUP($A18,quart!$F:$M,8,FALSE)),\"\",IF(VLOOKUP($A18,quart!$F:$M,8,FALSE)=BQ$2,\"X\",\"\")),IF(VLOOKUP($A18,quart!$B:$M,12,FALSE)=BQ$2,\"X\",\"\"))","v":""},{"$f":"IF(ISERROR(VLOOKUP($A18,quart!$B:$M,12,FALSE)),IF(ISERROR(VLOOKUP($A18,quart!$F:$M,8,FALSE)),\"\",IF(VLOOKUP($A18,quart!$F:$M,8,FALSE)=BR$2,\"X\",\"\")),IF(VLOOKUP($A18,quart!$B:$M,12,FALSE)=BR$2,\"X\",\"\"))","v":""},{"$f":"IF(ISERROR(VLOOKUP($A18,quart!$B:$M,12,FALSE)),IF(ISERROR(VLOOKUP($A18,quart!$F:$M,8,FALSE)),\"\",IF(VLOOKUP($A18,quart!$F:$M,8,FALSE)=BS$2,\"X\",\"\")),IF(VLOOKUP($A18,quart!$B:$M,12,FALSE)=BS$2,\"X\",\"\"))","v":""},{"$f":"IF(ISERROR(VLOOKUP($A18,quart!$B:$M,12,FALSE)),IF(ISERROR(VLOOKUP($A18,quart!$F:$M,8,FALSE)),\"\",IF(VLOOKUP($A18,quart!$F:$M,8,FALSE)=BT$2,\"X\",\"\")),IF(VLOOKUP($A18,quart!$B:$M,12,FALSE)=BT$2,\"X\",\"\"))","v":""},{"$f":"IF(ISERROR(VLOOKUP($A18,quart!$B:$M,12,FALSE)),IF(ISERROR(VLOOKUP($A18,quart!$F:$M,8,FALSE)),\"\",IF(VLOOKUP($A18,quart!$F:$M,8,FALSE)=BU$2,\"X\",\"\")),IF(VLOOKUP($A18,quart!$B:$M,12,FALSE)=BU$2,\"X\",\"\"))","v":""},{"$f":"IF(ISERROR(VLOOKUP($A18,quart!$B:$M,12,FALSE)),IF(ISERROR(VLOOKUP($A18,quart!$F:$M,8,FALSE)),\"\",IF(VLOOKUP($A18,quart!$F:$M,8,FALSE)=BV$2,\"X\",\"\")),IF(VLOOKUP($A18,quart!$B:$M,12,FALSE)=BV$2,\"X\",\"\"))","v":""},{"$f":"IF(ISERROR(VLOOKUP($A18,quart!$B:$M,12,FALSE)),IF(ISERROR(VLOOKUP($A18,quart!$F:$M,8,FALSE)),\"\",IF(VLOOKUP($A18,quart!$F:$M,8,FALSE)=BW$2,\"X\",\"\")),IF(VLOOKUP($A18,quart!$B:$M,12,FALSE)=BW$2,\"X\",\"\"))","v":""},{"$f":"IF(ISERROR(VLOOKUP($A18,quart!$B:$M,12,FALSE)),IF(ISERROR(VLOOKUP($A18,quart!$F:$M,8,FALSE)),\"\",IF(VLOOKUP($A18,quart!$F:$M,8,FALSE)=BX$2,\"X\",\"\")),IF(VLOOKUP($A18,quart!$B:$M,12,FALSE)=BX$2,\"X\",\"\"))","v":""},{"$f":"IF(ISERROR(VLOOKUP($A18,quart!$B:$M,12,FALSE)),IF(ISERROR(VLOOKUP($A18,quart!$F:$M,8,FALSE)),\"\",IF(VLOOKUP($A18,quart!$F:$M,8,FALSE)=BY$2,\"X\",\"\")),IF(VLOOKUP($A18,quart!$B:$M,12,FALSE)=BY$2,\"X\",\"\"))","v":""},{"$f":"IF(ISERROR(VLOOKUP($A18,quart!$B:$M,12,FALSE)),IF(ISERROR(VLOOKUP($A18,quart!$F:$M,8,FALSE)),\"\",IF(VLOOKUP($A18,quart!$F:$M,8,FALSE)=BZ$2,\"X\",\"\")),IF(VLOOKUP($A18,quart!$B:$M,12,FALSE)=BZ$2,\"X\",\"\"))","v":""},{"$f":"IF(ISERROR(VLOOKUP($A18,quart!$B:$M,12,FALSE)),IF(ISERROR(VLOOKUP($A18,quart!$F:$M,8,FALSE)),\"\",IF(VLOOKUP($A18,quart!$F:$M,8,FALSE)=CA$2,\"X\",\"\")),IF(VLOOKUP($A18,quart!$B:$M,12,FALSE)=CA$2,\"X\",\"\"))","v":""},{"$f":"IF(ISERROR(VLOOKUP($A18,quart!$B:$M,12,FALSE)),IF(ISERROR(VLOOKUP($A18,quart!$F:$M,8,FALSE)),\"\",IF(VLOOKUP($A18,quart!$F:$M,8,FALSE)=CB$2,\"X\",\"\")),IF(VLOOKUP($A18,quart!$B:$M,12,FALSE)=CB$2,\"X\",\"\"))","v":""},{"$f":"IF(ISERROR(VLOOKUP($A18,quart!$B:$M,12,FALSE)),IF(ISERROR(VLOOKUP($A18,quart!$F:$M,8,FALSE)),\"\",IF(VLOOKUP($A18,quart!$F:$M,8,FALSE)=CC$2,\"X\",\"\")),IF(VLOOKUP($A18,quart!$B:$M,12,FALSE)=CC$2,\"X\",\"\"))","v":""},{"$f":"IF(ISERROR(VLOOKUP($A18,demi!$B:$M,12,FALSE)),IF(ISERROR(VLOOKUP($A18,demi!$F:$M,8,FALSE)),\"\",IF(VLOOKUP($A18,demi!$F:$M,8,FALSE)=CD$2,\"X\",\"\")),IF(VLOOKUP($A18,demi!$B:$M,12,FALSE)=CD$2,\"X\",\"\"))","v":""},{"$f":"IF(ISERROR(VLOOKUP($A18,demi!$B:$M,12,FALSE)),IF(ISERROR(VLOOKUP($A18,demi!$F:$M,8,FALSE)),\"\",IF(VLOOKUP($A18,demi!$F:$M,8,FALSE)=CE$2,\"X\",\"\")),IF(VLOOKUP($A18,demi!$B:$M,12,FALSE)=CE$2,\"X\",\"\"))","v":""},{"$f":"IF(ISERROR(VLOOKUP($A18,demi!$B:$M,12,FALSE)),IF(ISERROR(VLOOKUP($A18,demi!$F:$M,8,FALSE)),\"\",IF(VLOOKUP($A18,demi!$F:$M,8,FALSE)=CF$2,\"X\",\"\")),IF(VLOOKUP($A18,demi!$B:$M,12,FALSE)=CF$2,\"X\",\"\"))","v":""},{"$f":"IF(ISERROR(VLOOKUP($A18,demi!$B:$M,12,FALSE)),IF(ISERROR(VLOOKUP($A18,demi!$F:$M,8,FALSE)),\"\",IF(VLOOKUP($A18,demi!$F:$M,8,FALSE)=CG$2,\"X\",\"\")),IF(VLOOKUP($A18,demi!$B:$M,12,FALSE)=CG$2,\"X\",\"\"))","v":""},{"$f":"IF(ISERROR(VLOOKUP($A18,demi!$B:$M,12,FALSE)),IF(ISERROR(VLOOKUP($A18,demi!$F:$M,8,FALSE)),\"\",IF(VLOOKUP($A18,demi!$F:$M,8,FALSE)=CH$2,\"X\",\"\")),IF(VLOOKUP($A18,demi!$B:$M,12,FALSE)=CH$2,\"X\",\"\"))","v":""},{"$f":"IF(ISERROR(VLOOKUP($A18,demi!$B:$M,12,FALSE)),IF(ISERROR(VLOOKUP($A18,demi!$F:$M,8,FALSE)),\"\",IF(VLOOKUP($A18,demi!$F:$M,8,FALSE)=CI$2,\"X\",\"\")),IF(VLOOKUP($A18,demi!$B:$M,12,FALSE)=CI$2,\"X\",\"\"))","v":""},{"$f":"IF(ISERROR(VLOOKUP($A18,demi!$B:$M,12,FALSE)),IF(ISERROR(VLOOKUP($A18,demi!$F:$M,8,FALSE)),\"\",IF(VLOOKUP($A18,demi!$F:$M,8,FALSE)=CJ$2,\"X\",\"\")),IF(VLOOKUP($A18,demi!$B:$M,12,FALSE)=CJ$2,\"X\",\"\"))","v":""},{"$f":"IF(ISERROR(VLOOKUP($A18,demi!$B:$M,12,FALSE)),IF(ISERROR(VLOOKUP($A18,demi!$F:$M,8,FALSE)),\"\",IF(VLOOKUP($A18,demi!$F:$M,8,FALSE)=CK$2,\"X\",\"\")),IF(VLOOKUP($A18,demi!$B:$M,12,FALSE)=CK$2,\"X\",\"\"))","v":""},{"$f":"IF(ISERROR(VLOOKUP($A18,demi!$B:$M,12,FALSE)),IF(ISERROR(VLOOKUP($A18,demi!$F:$M,8,FALSE)),\"\",IF(VLOOKUP($A18,demi!$F:$M,8,FALSE)=CL$2,\"X\",\"\")),IF(VLOOKUP($A18,demi!$B:$M,12,FALSE)=CL$2,\"X\",\"\"))","v":""},{"$f":"IF(ISERROR(VLOOKUP($A18,demi!$B:$M,12,FALSE)),IF(ISERROR(VLOOKUP($A18,demi!$F:$M,8,FALSE)),\"\",IF(VLOOKUP($A18,demi!$F:$M,8,FALSE)=CM$2,\"X\",\"\")),IF(VLOOKUP($A18,demi!$B:$M,12,FALSE)=CM$2,\"X\",\"\"))","v":""},{"$f":"IF(ISERROR(VLOOKUP($A18,demi!$B:$M,12,FALSE)),IF(ISERROR(VLOOKUP($A18,demi!$F:$M,8,FALSE)),\"\",IF(VLOOKUP($A18,demi!$F:$M,8,FALSE)=CN$2,\"X\",\"\")),IF(VLOOKUP($A18,demi!$B:$M,12,FALSE)=CN$2,\"X\",\"\"))","v":""},{"$f":"IF(ISERROR(VLOOKUP($A18,demi!$B:$M,12,FALSE)),IF(ISERROR(VLOOKUP($A18,demi!$F:$M,8,FALSE)),\"\",IF(VLOOKUP($A18,demi!$F:$M,8,FALSE)=CO$2,\"X\",\"\")),IF(VLOOKUP($A18,demi!$B:$M,12,FALSE)=CO$2,\"X\",\"\"))","v":""},{"$f":"IF(ISERROR(VLOOKUP($A18,demi!$B:$M,12,FALSE)),IF(ISERROR(VLOOKUP($A18,demi!$F:$M,8,FALSE)),\"\",IF(VLOOKUP($A18,demi!$F:$M,8,FALSE)=CP$2,\"X\",\"\")),IF(VLOOKUP($A18,demi!$B:$M,12,FALSE)=CP$2,\"X\",\"\"))","v":""},{"$f":"IF(ISERROR(VLOOKUP($A18,demi!$B:$M,12,FALSE)),IF(ISERROR(VLOOKUP($A18,demi!$F:$M,8,FALSE)),\"\",IF(VLOOKUP($A18,demi!$F:$M,8,FALSE)=CQ$2,\"X\",\"\")),IF(VLOOKUP($A18,demi!$B:$M,12,FALSE)=CQ$2,\"X\",\"\"))","v":""},{"$f":"IF(ISERROR(VLOOKUP($A18,demi!$B:$M,12,FALSE)),IF(ISERROR(VLOOKUP($A18,demi!$F:$M,8,FALSE)),\"\",IF(VLOOKUP($A18,demi!$F:$M,8,FALSE)=CR$2,\"X\",\"\")),IF(VLOOKUP($A18,demi!$B:$M,12,FALSE)=CR$2,\"X\",\"\"))","v":""},{"$f":"IF(ISERROR(VLOOKUP($A18,demi!$B:$M,12,FALSE)),IF(ISERROR(VLOOKUP($A18,demi!$F:$M,8,FALSE)),\"\",IF(VLOOKUP($A18,demi!$F:$M,8,FALSE)=CS$2,\"X\",\"\")),IF(VLOOKUP($A18,demi!$B:$M,12,FALSE)=CS$2,\"X\",\"\"))","v":""}]
[17,"X","X","X","X","X","X","X","X","X","X","X","X","X","X","X","X",{"$f":"IF(ISERROR(VLOOKUP($A19,'32eme'!$B:$M,12,FALSE)),IF(ISERROR(VLOOKUP($A19,'32eme'!$F:$M,8,FALSE)),\"\",IF(VLOOKUP($A19,'32eme'!$F:$M,8,FALSE)=R$2,\"X\",\"\")),IF(VLOOKUP($A19,'32eme'!$B:$M,12,FALSE)=R$2,\"X\",\"\"))","v":""},{"$f":"IF(ISERROR(VLOOKUP($A19,'32eme'!$B:$M,12,FALSE)),IF(ISERROR(VLOOKUP($A19,'32eme'!$F:$M,8,FALSE)),\"\",IF(VLOOKUP($A19,'32eme'!$F:$M,8,FALSE)=S$2,\"X\",\"\")),IF(VLOOKUP($A19,'32eme'!$B:$M,12,FALSE)=S$2,\"X\",\"\"))","v":""},{"$f":"IF(ISERROR(VLOOKUP($A19,'32eme'!$B:$M,12,FALSE)),IF(ISERROR(VLOOKUP($A19,'32eme'!$F:$M,8,FALSE)),\"\",IF(VLOOKUP($A19,'32eme'!$F:$M,8,FALSE)=T$2,\"X\",\"\")),IF(VLOOKUP($A19,'32eme'!$B:$M,12,FALSE)=T$2,\"X\",\"\"))","v":""},{"$f":"IF(ISERROR(VLOOKUP($A19,'32eme'!$B:$M,12,FALSE)),IF(ISERROR(VLOOKUP($A19,'32eme'!$F:$M,8,FALSE)),\"\",IF(VLOOKUP($A19,'32eme'!$F:$M,8,FALSE)=U$2,\"X\",\"\")),IF(VLOOKUP($A19,'32eme'!$B:$M,12,FALSE)=U$2,\"X\",\"\"))","v":""},{"$f":"IF(ISERROR(VLOOKUP($A19,'32eme'!$B:$M,12,FALSE)),IF(ISERROR(VLOOKUP($A19,'32eme'!$F:$M,8,FALSE)),\"\",IF(VLOOKUP($A19,'32eme'!$F:$M,8,FALSE)=V$2,\"X\",\"\")),IF(VLOOKUP($A19,'32eme'!$B:$M,12,FALSE)=V$2,\"X\",\"\"))","v":""},{"$f":"IF(ISERROR(VLOOKUP($A19,'32eme'!$B:$M,12,FALSE)),IF(ISERROR(VLOOKUP($A19,'32eme'!$F:$M,8,FALSE)),\"\",IF(VLOOKUP($A19,'32eme'!$F:$M,8,FALSE)=W$2,\"X\",\"\")),IF(VLOOKUP($A19,'32eme'!$B:$M,12,FALSE)=W$2,\"X\",\"\"))","v":""},{"$f":"IF(ISERROR(VLOOKUP($A19,'32eme'!$B:$M,12,FALSE)),IF(ISERROR(VLOOKUP($A19,'32eme'!$F:$M,8,FALSE)),\"\",IF(VLOOKUP($A19,'32eme'!$F:$M,8,FALSE)=X$2,\"X\",\"\")),IF(VLOOKUP($A19,'32eme'!$B:$M,12,FALSE)=X$2,\"X\",\"\"))","v":""},{"$f":"IF(ISERROR(VLOOKUP($A19,'32eme'!$B:$M,12,FALSE)),IF(ISERROR(VLOOKUP($A19,'32eme'!$F:$M,8,FALSE)),\"\",IF(VLOOKUP($A19,'32eme'!$F:$M,8,FALSE)=Y$2,\"X\",\"\")),IF(VLOOKUP($A19,'32eme'!$B:$M,12,FALSE)=Y$2,\"X\",\"\"))","v":""},{"$f":"IF(ISERROR(VLOOKUP($A19,'32eme'!$B:$M,12,FALSE)),IF(ISERROR(VLOOKUP($A19,'32eme'!$F:$M,8,FALSE)),\"\",IF(VLOOKUP($A19,'32eme'!$F:$M,8,FALSE)=Z$2,\"X\",\"\")),IF(VLOOKUP($A19,'32eme'!$B:$M,12,FALSE)=Z$2,\"X\",\"\"))","v":""},{"$f":"IF(ISERROR(VLOOKUP($A19,'32eme'!$B:$M,12,FALSE)),IF(ISERROR(VLOOKUP($A19,'32eme'!$F:$M,8,FALSE)),\"\",IF(VLOOKUP($A19,'32eme'!$F:$M,8,FALSE)=AA$2,\"X\",\"\")),IF(VLOOKUP($A19,'32eme'!$B:$M,12,FALSE)=AA$2,\"X\",\"\"))","v":""},{"$f":"IF(ISERROR(VLOOKUP($A19,'32eme'!$B:$M,12,FALSE)),IF(ISERROR(VLOOKUP($A19,'32eme'!$F:$M,8,FALSE)),\"\",IF(VLOOKUP($A19,'32eme'!$F:$M,8,FALSE)=AB$2,\"X\",\"\")),IF(VLOOKUP($A19,'32eme'!$B:$M,12,FALSE)=AB$2,\"X\",\"\"))","v":""},{"$f":"IF(ISERROR(VLOOKUP($A19,'32eme'!$B:$M,12,FALSE)),IF(ISERROR(VLOOKUP($A19,'32eme'!$F:$M,8,FALSE)),\"\",IF(VLOOKUP($A19,'32eme'!$F:$M,8,FALSE)=AC$2,\"X\",\"\")),IF(VLOOKUP($A19,'32eme'!$B:$M,12,FALSE)=AC$2,\"X\",\"\"))","v":""},{"$f":"IF(ISERROR(VLOOKUP($A19,'32eme'!$B:$M,12,FALSE)),IF(ISERROR(VLOOKUP($A19,'32eme'!$F:$M,8,FALSE)),\"\",IF(VLOOKUP($A19,'32eme'!$F:$M,8,FALSE)=AD$2,\"X\",\"\")),IF(VLOOKUP($A19,'32eme'!$B:$M,12,FALSE)=AD$2,\"X\",\"\"))","v":""},{"$f":"IF(ISERROR(VLOOKUP($A19,'32eme'!$B:$M,12,FALSE)),IF(ISERROR(VLOOKUP($A19,'32eme'!$F:$M,8,FALSE)),\"\",IF(VLOOKUP($A19,'32eme'!$F:$M,8,FALSE)=AE$2,\"X\",\"\")),IF(VLOOKUP($A19,'32eme'!$B:$M,12,FALSE)=AE$2,\"X\",\"\"))","v":""},{"$f":"IF(ISERROR(VLOOKUP($A19,'32eme'!$B:$M,12,FALSE)),IF(ISERROR(VLOOKUP($A19,'32eme'!$F:$M,8,FALSE)),\"\",IF(VLOOKUP($A19,'32eme'!$F:$M,8,FALSE)=AF$2,\"X\",\"\")),IF(VLOOKUP($A19,'32eme'!$B:$M,12,FALSE)=AF$2,\"X\",\"\"))","v":""},{"$f":"IF(ISERROR(VLOOKUP($A19,'32eme'!$B:$M,12,FALSE)),IF(ISERROR(VLOOKUP($A19,'32eme'!$F:$M,8,FALSE)),\"\",IF(VLOOKUP($A19,'32eme'!$F:$M,8,FALSE)=AG$2,\"X\",\"\")),IF(VLOOKUP($A19,'32eme'!$B:$M,12,FALSE)=AG$2,\"X\",\"\"))","v":""},{"$f":"IF(ISERROR(VLOOKUP($A19,'16eme'!$B:$M,12,FALSE)),IF(ISERROR(VLOOKUP($A19,'16eme'!$F:$M,8,FALSE)),\"\",IF(VLOOKUP($A19,'16eme'!$F:$M,8,FALSE)=AH$2,\"X\",\"\")),IF(VLOOKUP($A19,'16eme'!$B:$M,12,FALSE)=AH$2,\"X\",\"\"))","v":""},{"$f":"IF(ISERROR(VLOOKUP($A19,'16eme'!$B:$M,12,FALSE)),IF(ISERROR(VLOOKUP($A19,'16eme'!$F:$M,8,FALSE)),\"\",IF(VLOOKUP($A19,'16eme'!$F:$M,8,FALSE)=AI$2,\"X\",\"\")),IF(VLOOKUP($A19,'16eme'!$B:$M,12,FALSE)=AI$2,\"X\",\"\"))","v":""},{"$f":"IF(ISERROR(VLOOKUP($A19,'16eme'!$B:$M,12,FALSE)),IF(ISERROR(VLOOKUP($A19,'16eme'!$F:$M,8,FALSE)),\"\",IF(VLOOKUP($A19,'16eme'!$F:$M,8,FALSE)=AJ$2,\"X\",\"\")),IF(VLOOKUP($A19,'16eme'!$B:$M,12,FALSE)=AJ$2,\"X\",\"\"))","v":""},{"$f":"IF(ISERROR(VLOOKUP($A19,'16eme'!$B:$M,12,FALSE)),IF(ISERROR(VLOOKUP($A19,'16eme'!$F:$M,8,FALSE)),\"\",IF(VLOOKUP($A19,'16eme'!$F:$M,8,FALSE)=AK$2,\"X\",\"\")),IF(VLOOKUP($A19,'16eme'!$B:$M,12,FALSE)=AK$2,\"X\",\"\"))","v":""},{"$f":"IF(ISERROR(VLOOKUP($A19,'16eme'!$B:$M,12,FALSE)),IF(ISERROR(VLOOKUP($A19,'16eme'!$F:$M,8,FALSE)),\"\",IF(VLOOKUP($A19,'16eme'!$F:$M,8,FALSE)=AL$2,\"X\",\"\")),IF(VLOOKUP($A19,'16eme'!$B:$M,12,FALSE)=AL$2,\"X\",\"\"))","v":""},{"$f":"IF(ISERROR(VLOOKUP($A19,'16eme'!$B:$M,12,FALSE)),IF(ISERROR(VLOOKUP($A19,'16eme'!$F:$M,8,FALSE)),\"\",IF(VLOOKUP($A19,'16eme'!$F:$M,8,FALSE)=AM$2,\"X\",\"\")),IF(VLOOKUP($A19,'16eme'!$B:$M,12,FALSE)=AM$2,\"X\",\"\"))","v":""},{"$f":"IF(ISERROR(VLOOKUP($A19,'16eme'!$B:$M,12,FALSE)),IF(ISERROR(VLOOKUP($A19,'16eme'!$F:$M,8,FALSE)),\"\",IF(VLOOKUP($A19,'16eme'!$F:$M,8,FALSE)=AN$2,\"X\",\"\")),IF(VLOOKUP($A19,'16eme'!$B:$M,12,FALSE)=AN$2,\"X\",\"\"))","v":""},{"$f":"IF(ISERROR(VLOOKUP($A19,'16eme'!$B:$M,12,FALSE)),IF(ISERROR(VLOOKUP($A19,'16eme'!$F:$M,8,FALSE)),\"\",IF(VLOOKUP($A19,'16eme'!$F:$M,8,FALSE)=AO$2,\"X\",\"\")),IF(VLOOKUP($A19,'16eme'!$B:$M,12,FALSE)=AO$2,\"X\",\"\"))","v":""},{"$f":"IF(ISERROR(VLOOKUP($A19,'16eme'!$B:$M,12,FALSE)),IF(ISERROR(VLOOKUP($A19,'16eme'!$F:$M,8,FALSE)),\"\",IF(VLOOKUP($A19,'16eme'!$F:$M,8,FALSE)=AP$2,\"X\",\"\")),IF(VLOOKUP($A19,'16eme'!$B:$M,12,FALSE)=AP$2,\"X\",\"\"))","v":""},{"$f":"IF(ISERROR(VLOOKUP($A19,'16eme'!$B:$M,12,FALSE)),IF(ISERROR(VLOOKUP($A19,'16eme'!$F:$M,8,FALSE)),\"\",IF(VLOOKUP($A19,'16eme'!$F:$M,8,FALSE)=AQ$2,\"X\",\"\")),IF(VLOOKUP($A19,'16eme'!$B:$M,12,FALSE)=AQ$2,\"X\",\"\"))","v":""},{"$f":"IF(ISERROR(VLOOKUP($A19,'16eme'!$B:$M,12,FALSE)),IF(ISERROR(VLOOKUP($A19,'16eme'!$F:$M,8,FALSE)),\"\",IF(VLOOKUP($A19,'16eme'!$F:$M,8,FALSE)=AR$2,\"X\",\"\")),IF(VLOOKUP($A19,'16eme'!$B:$M,12,FALSE)=AR$2,\"X\",\"\"))","v":""},{"$f":"IF(ISERROR(VLOOKUP($A19,'16eme'!$B:$M,12,FALSE)),IF(ISERROR(VLOOKUP($A19,'16eme'!$F:$M,8,FALSE)),\"\",IF(VLOOKUP($A19,'16eme'!$F:$M,8,FALSE)=AS$2,\"X\",\"\")),IF(VLOOKUP($A19,'16eme'!$B:$M,12,FALSE)=AS$2,\"X\",\"\"))","v":""},{"$f":"IF(ISERROR(VLOOKUP($A19,'16eme'!$B:$M,12,FALSE)),IF(ISERROR(VLOOKUP($A19,'16eme'!$F:$M,8,FALSE)),\"\",IF(VLOOKUP($A19,'16eme'!$F:$M,8,FALSE)=AT$2,\"X\",\"\")),IF(VLOOKUP($A19,'16eme'!$B:$M,12,FALSE)=AT$2,\"X\",\"\"))","v":""},{"$f":"IF(ISERROR(VLOOKUP($A19,'16eme'!$B:$M,12,FALSE)),IF(ISERROR(VLOOKUP($A19,'16eme'!$F:$M,8,FALSE)),\"\",IF(VLOOKUP($A19,'16eme'!$F:$M,8,FALSE)=AU$2,\"X\",\"\")),IF(VLOOKUP($A19,'16eme'!$B:$M,12,FALSE)=AU$2,\"X\",\"\"))","v":""},{"$f":"IF(ISERROR(VLOOKUP($A19,'16eme'!$B:$M,12,FALSE)),IF(ISERROR(VLOOKUP($A19,'16eme'!$F:$M,8,FALSE)),\"\",IF(VLOOKUP($A19,'16eme'!$F:$M,8,FALSE)=AV$2,\"X\",\"\")),IF(VLOOKUP($A19,'16eme'!$B:$M,12,FALSE)=AV$2,\"X\",\"\"))","v":""},{"$f":"IF(ISERROR(VLOOKUP($A19,'16eme'!$B:$M,12,FALSE)),IF(ISERROR(VLOOKUP($A19,'16eme'!$F:$M,8,FALSE)),\"\",IF(VLOOKUP($A19,'16eme'!$F:$M,8,FALSE)=AW$2,\"X\",\"\")),IF(VLOOKUP($A19,'16eme'!$B:$M,12,FALSE)=AW$2,\"X\",\"\"))","v":""},{"$f":"IF(ISERROR(VLOOKUP($A19,'8eme'!$B:$M,12,FALSE)),IF(ISERROR(VLOOKUP($A19,'8eme'!$F:$M,8,FALSE)),\"\",IF(VLOOKUP($A19,'8eme'!$F:$M,8,FALSE)=AX$2,\"X\",\"\")),IF(VLOOKUP($A19,'8eme'!$B:$M,12,FALSE)=AX$2,\"X\",\"\"))","v":""},{"$f":"IF(ISERROR(VLOOKUP($A19,'8eme'!$B:$M,12,FALSE)),IF(ISERROR(VLOOKUP($A19,'8eme'!$F:$M,8,FALSE)),\"\",IF(VLOOKUP($A19,'8eme'!$F:$M,8,FALSE)=AY$2,\"X\",\"\")),IF(VLOOKUP($A19,'8eme'!$B:$M,12,FALSE)=AY$2,\"X\",\"\"))","v":""},{"$f":"IF(ISERROR(VLOOKUP($A19,'8eme'!$B:$M,12,FALSE)),IF(ISERROR(VLOOKUP($A19,'8eme'!$F:$M,8,FALSE)),\"\",IF(VLOOKUP($A19,'8eme'!$F:$M,8,FALSE)=AZ$2,\"X\",\"\")),IF(VLOOKUP($A19,'8eme'!$B:$M,12,FALSE)=AZ$2,\"X\",\"\"))","v":""},{"$f":"IF(ISERROR(VLOOKUP($A19,'8eme'!$B:$M,12,FALSE)),IF(ISERROR(VLOOKUP($A19,'8eme'!$F:$M,8,FALSE)),\"\",IF(VLOOKUP($A19,'8eme'!$F:$M,8,FALSE)=BA$2,\"X\",\"\")),IF(VLOOKUP($A19,'8eme'!$B:$M,12,FALSE)=BA$2,\"X\",\"\"))","v":""},{"$f":"IF(ISERROR(VLOOKUP($A19,'8eme'!$B:$M,12,FALSE)),IF(ISERROR(VLOOKUP($A19,'8eme'!$F:$M,8,FALSE)),\"\",IF(VLOOKUP($A19,'8eme'!$F:$M,8,FALSE)=BB$2,\"X\",\"\")),IF(VLOOKUP($A19,'8eme'!$B:$M,12,FALSE)=BB$2,\"X\",\"\"))","v":""},{"$f":"IF(ISERROR(VLOOKUP($A19,'8eme'!$B:$M,12,FALSE)),IF(ISERROR(VLOOKUP($A19,'8eme'!$F:$M,8,FALSE)),\"\",IF(VLOOKUP($A19,'8eme'!$F:$M,8,FALSE)=BC$2,\"X\",\"\")),IF(VLOOKUP($A19,'8eme'!$B:$M,12,FALSE)=BC$2,\"X\",\"\"))","v":""},{"$f":"IF(ISERROR(VLOOKUP($A19,'8eme'!$B:$M,12,FALSE)),IF(ISERROR(VLOOKUP($A19,'8eme'!$F:$M,8,FALSE)),\"\",IF(VLOOKUP($A19,'8eme'!$F:$M,8,FALSE)=BD$2,\"X\",\"\")),IF(VLOOKUP($A19,'8eme'!$B:$M,12,FALSE)=BD$2,\"X\",\"\"))","v":""},{"$f":"IF(ISERROR(VLOOKUP($A19,'8eme'!$B:$M,12,FALSE)),IF(ISERROR(VLOOKUP($A19,'8eme'!$F:$M,8,FALSE)),\"\",IF(VLOOKUP($A19,'8eme'!$F:$M,8,FALSE)=BE$2,\"X\",\"\")),IF(VLOOKUP($A19,'8eme'!$B:$M,12,FALSE)=BE$2,\"X\",\"\"))","v":""},{"$f":"IF(ISERROR(VLOOKUP($A19,'8eme'!$B:$M,12,FALSE)),IF(ISERROR(VLOOKUP($A19,'8eme'!$F:$M,8,FALSE)),\"\",IF(VLOOKUP($A19,'8eme'!$F:$M,8,FALSE)=BF$2,\"X\",\"\")),IF(VLOOKUP($A19,'8eme'!$B:$M,12,FALSE)=BF$2,\"X\",\"\"))","v":""},{"$f":"IF(ISERROR(VLOOKUP($A19,'8eme'!$B:$M,12,FALSE)),IF(ISERROR(VLOOKUP($A19,'8eme'!$F:$M,8,FALSE)),\"\",IF(VLOOKUP($A19,'8eme'!$F:$M,8,FALSE)=BG$2,\"X\",\"\")),IF(VLOOKUP($A19,'8eme'!$B:$M,12,FALSE)=BG$2,\"X\",\"\"))","v":""},{"$f":"IF(ISERROR(VLOOKUP($A19,'8eme'!$B:$M,12,FALSE)),IF(ISERROR(VLOOKUP($A19,'8eme'!$F:$M,8,FALSE)),\"\",IF(VLOOKUP($A19,'8eme'!$F:$M,8,FALSE)=BH$2,\"X\",\"\")),IF(VLOOKUP($A19,'8eme'!$B:$M,12,FALSE)=BH$2,\"X\",\"\"))","v":""},{"$f":"IF(ISERROR(VLOOKUP($A19,'8eme'!$B:$M,12,FALSE)),IF(ISERROR(VLOOKUP($A19,'8eme'!$F:$M,8,FALSE)),\"\",IF(VLOOKUP($A19,'8eme'!$F:$M,8,FALSE)=BI$2,\"X\",\"\")),IF(VLOOKUP($A19,'8eme'!$B:$M,12,FALSE)=BI$2,\"X\",\"\"))","v":""},{"$f":"IF(ISERROR(VLOOKUP($A19,'8eme'!$B:$M,12,FALSE)),IF(ISERROR(VLOOKUP($A19,'8eme'!$F:$M,8,FALSE)),\"\",IF(VLOOKUP($A19,'8eme'!$F:$M,8,FALSE)=BJ$2,\"X\",\"\")),IF(VLOOKUP($A19,'8eme'!$B:$M,12,FALSE)=BJ$2,\"X\",\"\"))","v":""},{"$f":"IF(ISERROR(VLOOKUP($A19,'8eme'!$B:$M,12,FALSE)),IF(ISERROR(VLOOKUP($A19,'8eme'!$F:$M,8,FALSE)),\"\",IF(VLOOKUP($A19,'8eme'!$F:$M,8,FALSE)=BK$2,\"X\",\"\")),IF(VLOOKUP($A19,'8eme'!$B:$M,12,FALSE)=BK$2,\"X\",\"\"))","v":""},{"$f":"IF(ISERROR(VLOOKUP($A19,'8eme'!$B:$M,12,FALSE)),IF(ISERROR(VLOOKUP($A19,'8eme'!$F:$M,8,FALSE)),\"\",IF(VLOOKUP($A19,'8eme'!$F:$M,8,FALSE)=BL$2,\"X\",\"\")),IF(VLOOKUP($A19,'8eme'!$B:$M,12,FALSE)=BL$2,\"X\",\"\"))","v":""},{"$f":"IF(ISERROR(VLOOKUP($A19,'8eme'!$B:$M,12,FALSE)),IF(ISERROR(VLOOKUP($A19,'8eme'!$F:$M,8,FALSE)),\"\",IF(VLOOKUP($A19,'8eme'!$F:$M,8,FALSE)=BM$2,\"X\",\"\")),IF(VLOOKUP($A19,'8eme'!$B:$M,12,FALSE)=BM$2,\"X\",\"\"))","v":""},{"$f":"IF(ISERROR(VLOOKUP($A19,quart!$B:$M,12,FALSE)),IF(ISERROR(VLOOKUP($A19,quart!$F:$M,8,FALSE)),\"\",IF(VLOOKUP($A19,quart!$F:$M,8,FALSE)=BN$2,\"X\",\"\")),IF(VLOOKUP($A19,quart!$B:$M,12,FALSE)=BN$2,\"X\",\"\"))","v":""},{"$f":"IF(ISERROR(VLOOKUP($A19,quart!$B:$M,12,FALSE)),IF(ISERROR(VLOOKUP($A19,quart!$F:$M,8,FALSE)),\"\",IF(VLOOKUP($A19,quart!$F:$M,8,FALSE)=BO$2,\"X\",\"\")),IF(VLOOKUP($A19,quart!$B:$M,12,FALSE)=BO$2,\"X\",\"\"))","v":""},{"$f":"IF(ISERROR(VLOOKUP($A19,quart!$B:$M,12,FALSE)),IF(ISERROR(VLOOKUP($A19,quart!$F:$M,8,FALSE)),\"\",IF(VLOOKUP($A19,quart!$F:$M,8,FALSE)=BP$2,\"X\",\"\")),IF(VLOOKUP($A19,quart!$B:$M,12,FALSE)=BP$2,\"X\",\"\"))","v":""},{"$f":"IF(ISERROR(VLOOKUP($A19,quart!$B:$M,12,FALSE)),IF(ISERROR(VLOOKUP($A19,quart!$F:$M,8,FALSE)),\"\",IF(VLOOKUP($A19,quart!$F:$M,8,FALSE)=BQ$2,\"X\",\"\")),IF(VLOOKUP($A19,quart!$B:$M,12,FALSE)=BQ$2,\"X\",\"\"))","v":""},{"$f":"IF(ISERROR(VLOOKUP($A19,quart!$B:$M,12,FALSE)),IF(ISERROR(VLOOKUP($A19,quart!$F:$M,8,FALSE)),\"\",IF(VLOOKUP($A19,quart!$F:$M,8,FALSE)=BR$2,\"X\",\"\")),IF(VLOOKUP($A19,quart!$B:$M,12,FALSE)=BR$2,\"X\",\"\"))","v":""},{"$f":"IF(ISERROR(VLOOKUP($A19,quart!$B:$M,12,FALSE)),IF(ISERROR(VLOOKUP($A19,quart!$F:$M,8,FALSE)),\"\",IF(VLOOKUP($A19,quart!$F:$M,8,FALSE)=BS$2,\"X\",\"\")),IF(VLOOKUP($A19,quart!$B:$M,12,FALSE)=BS$2,\"X\",\"\"))","v":""},{"$f":"IF(ISERROR(VLOOKUP($A19,quart!$B:$M,12,FALSE)),IF(ISERROR(VLOOKUP($A19,quart!$F:$M,8,FALSE)),\"\",IF(VLOOKUP($A19,quart!$F:$M,8,FALSE)=BT$2,\"X\",\"\")),IF(VLOOKUP($A19,quart!$B:$M,12,FALSE)=BT$2,\"X\",\"\"))","v":""},{"$f":"IF(ISERROR(VLOOKUP($A19,quart!$B:$M,12,FALSE)),IF(ISERROR(VLOOKUP($A19,quart!$F:$M,8,FALSE)),\"\",IF(VLOOKUP($A19,quart!$F:$M,8,FALSE)=BU$2,\"X\",\"\")),IF(VLOOKUP($A19,quart!$B:$M,12,FALSE)=BU$2,\"X\",\"\"))","v":""},{"$f":"IF(ISERROR(VLOOKUP($A19,quart!$B:$M,12,FALSE)),IF(ISERROR(VLOOKUP($A19,quart!$F:$M,8,FALSE)),\"\",IF(VLOOKUP($A19,quart!$F:$M,8,FALSE)=BV$2,\"X\",\"\")),IF(VLOOKUP($A19,quart!$B:$M,12,FALSE)=BV$2,\"X\",\"\"))","v":""},{"$f":"IF(ISERROR(VLOOKUP($A19,quart!$B:$M,12,FALSE)),IF(ISERROR(VLOOKUP($A19,quart!$F:$M,8,FALSE)),\"\",IF(VLOOKUP($A19,quart!$F:$M,8,FALSE)=BW$2,\"X\",\"\")),IF(VLOOKUP($A19,quart!$B:$M,12,FALSE)=BW$2,\"X\",\"\"))","v":""},{"$f":"IF(ISERROR(VLOOKUP($A19,quart!$B:$M,12,FALSE)),IF(ISERROR(VLOOKUP($A19,quart!$F:$M,8,FALSE)),\"\",IF(VLOOKUP($A19,quart!$F:$M,8,FALSE)=BX$2,\"X\",\"\")),IF(VLOOKUP($A19,quart!$B:$M,12,FALSE)=BX$2,\"X\",\"\"))","v":""},{"$f":"IF(ISERROR(VLOOKUP($A19,quart!$B:$M,12,FALSE)),IF(ISERROR(VLOOKUP($A19,quart!$F:$M,8,FALSE)),\"\",IF(VLOOKUP($A19,quart!$F:$M,8,FALSE)=BY$2,\"X\",\"\")),IF(VLOOKUP($A19,quart!$B:$M,12,FALSE)=BY$2,\"X\",\"\"))","v":""},{"$f":"IF(ISERROR(VLOOKUP($A19,quart!$B:$M,12,FALSE)),IF(ISERROR(VLOOKUP($A19,quart!$F:$M,8,FALSE)),\"\",IF(VLOOKUP($A19,quart!$F:$M,8,FALSE)=BZ$2,\"X\",\"\")),IF(VLOOKUP($A19,quart!$B:$M,12,FALSE)=BZ$2,\"X\",\"\"))","v":""},{"$f":"IF(ISERROR(VLOOKUP($A19,quart!$B:$M,12,FALSE)),IF(ISERROR(VLOOKUP($A19,quart!$F:$M,8,FALSE)),\"\",IF(VLOOKUP($A19,quart!$F:$M,8,FALSE)=CA$2,\"X\",\"\")),IF(VLOOKUP($A19,quart!$B:$M,12,FALSE)=CA$2,\"X\",\"\"))","v":""},{"$f":"IF(ISERROR(VLOOKUP($A19,quart!$B:$M,12,FALSE)),IF(ISERROR(VLOOKUP($A19,quart!$F:$M,8,FALSE)),\"\",IF(VLOOKUP($A19,quart!$F:$M,8,FALSE)=CB$2,\"X\",\"\")),IF(VLOOKUP($A19,quart!$B:$M,12,FALSE)=CB$2,\"X\",\"\"))","v":""},{"$f":"IF(ISERROR(VLOOKUP($A19,quart!$B:$M,12,FALSE)),IF(ISERROR(VLOOKUP($A19,quart!$F:$M,8,FALSE)),\"\",IF(VLOOKUP($A19,quart!$F:$M,8,FALSE)=CC$2,\"X\",\"\")),IF(VLOOKUP($A19,quart!$B:$M,12,FALSE)=CC$2,\"X\",\"\"))","v":""},{"$f":"IF(ISERROR(VLOOKUP($A19,demi!$B:$M,12,FALSE)),IF(ISERROR(VLOOKUP($A19,demi!$F:$M,8,FALSE)),\"\",IF(VLOOKUP($A19,demi!$F:$M,8,FALSE)=CD$2,\"X\",\"\")),IF(VLOOKUP($A19,demi!$B:$M,12,FALSE)=CD$2,\"X\",\"\"))","v":""},{"$f":"IF(ISERROR(VLOOKUP($A19,demi!$B:$M,12,FALSE)),IF(ISERROR(VLOOKUP($A19,demi!$F:$M,8,FALSE)),\"\",IF(VLOOKUP($A19,demi!$F:$M,8,FALSE)=CE$2,\"X\",\"\")),IF(VLOOKUP($A19,demi!$B:$M,12,FALSE)=CE$2,\"X\",\"\"))","v":""},{"$f":"IF(ISERROR(VLOOKUP($A19,demi!$B:$M,12,FALSE)),IF(ISERROR(VLOOKUP($A19,demi!$F:$M,8,FALSE)),\"\",IF(VLOOKUP($A19,demi!$F:$M,8,FALSE)=CF$2,\"X\",\"\")),IF(VLOOKUP($A19,demi!$B:$M,12,FALSE)=CF$2,\"X\",\"\"))","v":""},{"$f":"IF(ISERROR(VLOOKUP($A19,demi!$B:$M,12,FALSE)),IF(ISERROR(VLOOKUP($A19,demi!$F:$M,8,FALSE)),\"\",IF(VLOOKUP($A19,demi!$F:$M,8,FALSE)=CG$2,\"X\",\"\")),IF(VLOOKUP($A19,demi!$B:$M,12,FALSE)=CG$2,\"X\",\"\"))","v":""},{"$f":"IF(ISERROR(VLOOKUP($A19,demi!$B:$M,12,FALSE)),IF(ISERROR(VLOOKUP($A19,demi!$F:$M,8,FALSE)),\"\",IF(VLOOKUP($A19,demi!$F:$M,8,FALSE)=CH$2,\"X\",\"\")),IF(VLOOKUP($A19,demi!$B:$M,12,FALSE)=CH$2,\"X\",\"\"))","v":""},{"$f":"IF(ISERROR(VLOOKUP($A19,demi!$B:$M,12,FALSE)),IF(ISERROR(VLOOKUP($A19,demi!$F:$M,8,FALSE)),\"\",IF(VLOOKUP($A19,demi!$F:$M,8,FALSE)=CI$2,\"X\",\"\")),IF(VLOOKUP($A19,demi!$B:$M,12,FALSE)=CI$2,\"X\",\"\"))","v":""},{"$f":"IF(ISERROR(VLOOKUP($A19,demi!$B:$M,12,FALSE)),IF(ISERROR(VLOOKUP($A19,demi!$F:$M,8,FALSE)),\"\",IF(VLOOKUP($A19,demi!$F:$M,8,FALSE)=CJ$2,\"X\",\"\")),IF(VLOOKUP($A19,demi!$B:$M,12,FALSE)=CJ$2,\"X\",\"\"))","v":""},{"$f":"IF(ISERROR(VLOOKUP($A19,demi!$B:$M,12,FALSE)),IF(ISERROR(VLOOKUP($A19,demi!$F:$M,8,FALSE)),\"\",IF(VLOOKUP($A19,demi!$F:$M,8,FALSE)=CK$2,\"X\",\"\")),IF(VLOOKUP($A19,demi!$B:$M,12,FALSE)=CK$2,\"X\",\"\"))","v":""},{"$f":"IF(ISERROR(VLOOKUP($A19,demi!$B:$M,12,FALSE)),IF(ISERROR(VLOOKUP($A19,demi!$F:$M,8,FALSE)),\"\",IF(VLOOKUP($A19,demi!$F:$M,8,FALSE)=CL$2,\"X\",\"\")),IF(VLOOKUP($A19,demi!$B:$M,12,FALSE)=CL$2,\"X\",\"\"))","v":""},{"$f":"IF(ISERROR(VLOOKUP($A19,demi!$B:$M,12,FALSE)),IF(ISERROR(VLOOKUP($A19,demi!$F:$M,8,FALSE)),\"\",IF(VLOOKUP($A19,demi!$F:$M,8,FALSE)=CM$2,\"X\",\"\")),IF(VLOOKUP($A19,demi!$B:$M,12,FALSE)=CM$2,\"X\",\"\"))","v":""},{"$f":"IF(ISERROR(VLOOKUP($A19,demi!$B:$M,12,FALSE)),IF(ISERROR(VLOOKUP($A19,demi!$F:$M,8,FALSE)),\"\",IF(VLOOKUP($A19,demi!$F:$M,8,FALSE)=CN$2,\"X\",\"\")),IF(VLOOKUP($A19,demi!$B:$M,12,FALSE)=CN$2,\"X\",\"\"))","v":""},{"$f":"IF(ISERROR(VLOOKUP($A19,demi!$B:$M,12,FALSE)),IF(ISERROR(VLOOKUP($A19,demi!$F:$M,8,FALSE)),\"\",IF(VLOOKUP($A19,demi!$F:$M,8,FALSE)=CO$2,\"X\",\"\")),IF(VLOOKUP($A19,demi!$B:$M,12,FALSE)=CO$2,\"X\",\"\"))","v":""},{"$f":"IF(ISERROR(VLOOKUP($A19,demi!$B:$M,12,FALSE)),IF(ISERROR(VLOOKUP($A19,demi!$F:$M,8,FALSE)),\"\",IF(VLOOKUP($A19,demi!$F:$M,8,FALSE)=CP$2,\"X\",\"\")),IF(VLOOKUP($A19,demi!$B:$M,12,FALSE)=CP$2,\"X\",\"\"))","v":""},{"$f":"IF(ISERROR(VLOOKUP($A19,demi!$B:$M,12,FALSE)),IF(ISERROR(VLOOKUP($A19,demi!$F:$M,8,FALSE)),\"\",IF(VLOOKUP($A19,demi!$F:$M,8,FALSE)=CQ$2,\"X\",\"\")),IF(VLOOKUP($A19,demi!$B:$M,12,FALSE)=CQ$2,\"X\",\"\"))","v":""},{"$f":"IF(ISERROR(VLOOKUP($A19,demi!$B:$M,12,FALSE)),IF(ISERROR(VLOOKUP($A19,demi!$F:$M,8,FALSE)),\"\",IF(VLOOKUP($A19,demi!$F:$M,8,FALSE)=CR$2,\"X\",\"\")),IF(VLOOKUP($A19,demi!$B:$M,12,FALSE)=CR$2,\"X\",\"\"))","v":""},{"$f":"IF(ISERROR(VLOOKUP($A19,demi!$B:$M,12,FALSE)),IF(ISERROR(VLOOKUP($A19,demi!$F:$M,8,FALSE)),\"\",IF(VLOOKUP($A19,demi!$F:$M,8,FALSE)=CS$2,\"X\",\"\")),IF(VLOOKUP($A19,demi!$B:$M,12,FALSE)=CS$2,\"X\",\"\"))","v":""}]
[18,"X","X","X","X","X","X","X","X","X","X","X","X","X","X","X","X",{"$f":"IF(ISERROR(VLOOKUP($A20,'32eme'!$B:$M,12,FALSE)),IF(ISERROR(VLOOKUP($A20,'32eme'!$F:$M,8,FALSE)),\"\",IF(VLOOKUP($A20,'32eme'!$F:$M,8,FALSE)=R$2,\"X\",\"\")),IF(VLOOKUP($A20,'32eme'!$B:$M,12,FALSE)=R$2,\"X\",\"\"))","v":""},{"$f":"IF(ISERROR(VLOOKUP($A20,'32eme'!$B:$M,12,FALSE)),IF(ISERROR(VLOOKUP($A20,'32eme'!$F:$M,8,FALSE)),\"\",IF(VLOOKUP($A20,'32eme'!$F:$M,8,FALSE)=S$2,\"X\",\"\")),IF(VLOOKUP($A20,'32eme'!$B:$M,12,FALSE)=S$2,\"X\",\"\"))","v":""},{"$f":"IF(ISERROR(VLOOKUP($A20,'32eme'!$B:$M,12,FALSE)),IF(ISERROR(VLOOKUP($A20,'32eme'!$F:$M,8,FALSE)),\"\",IF(VLOOKUP($A20,'32eme'!$F:$M,8,FALSE)=T$2,\"X\",\"\")),IF(VLOOKUP($A20,'32eme'!$B:$M,12,FALSE)=T$2,\"X\",\"\"))","v":""},{"$f":"IF(ISERROR(VLOOKUP($A20,'32eme'!$B:$M,12,FALSE)),IF(ISERROR(VLOOKUP($A20,'32eme'!$F:$M,8,FALSE)),\"\",IF(VLOOKUP($A20,'32eme'!$F:$M,8,FALSE)=U$2,\"X\",\"\")),IF(VLOOKUP($A20,'32eme'!$B:$M,12,FALSE)=U$2,\"X\",\"\"))","v":""},{"$f":"IF(ISERROR(VLOOKUP($A20,'32eme'!$B:$M,12,FALSE)),IF(ISERROR(VLOOKUP($A20,'32eme'!$F:$M,8,FALSE)),\"\",IF(VLOOKUP($A20,'32eme'!$F:$M,8,FALSE)=V$2,\"X\",\"\")),IF(VLOOKUP($A20,'32eme'!$B:$M,12,FALSE)=V$2,\"X\",\"\"))","v":""},{"$f":"IF(ISERROR(VLOOKUP($A20,'32eme'!$B:$M,12,FALSE)),IF(ISERROR(VLOOKUP($A20,'32eme'!$F:$M,8,FALSE)),\"\",IF(VLOOKUP($A20,'32eme'!$F:$M,8,FALSE)=W$2,\"X\",\"\")),IF(VLOOKUP($A20,'32eme'!$B:$M,12,FALSE)=W$2,\"X\",\"\"))","v":""},{"$f":"IF(ISERROR(VLOOKUP($A20,'32eme'!$B:$M,12,FALSE)),IF(ISERROR(VLOOKUP($A20,'32eme'!$F:$M,8,FALSE)),\"\",IF(VLOOKUP($A20,'32eme'!$F:$M,8,FALSE)=X$2,\"X\",\"\")),IF(VLOOKUP($A20,'32eme'!$B:$M,12,FALSE)=X$2,\"X\",\"\"))","v":""},{"$f":"IF(ISERROR(VLOOKUP($A20,'32eme'!$B:$M,12,FALSE)),IF(ISERROR(VLOOKUP($A20,'32eme'!$F:$M,8,FALSE)),\"\",IF(VLOOKUP($A20,'32eme'!$F:$M,8,FALSE)=Y$2,\"X\",\"\")),IF(VLOOKUP($A20,'32eme'!$B:$M,12,FALSE)=Y$2,\"X\",\"\"))","v":""},{"$f":"IF(ISERROR(VLOOKUP($A20,'32eme'!$B:$M,12,FALSE)),IF(ISERROR(VLOOKUP($A20,'32eme'!$F:$M,8,FALSE)),\"\",IF(VLOOKUP($A20,'32eme'!$F:$M,8,FALSE)=Z$2,\"X\",\"\")),IF(VLOOKUP($A20,'32eme'!$B:$M,12,FALSE)=Z$2,\"X\",\"\"))","v":""},{"$f":"IF(ISERROR(VLOOKUP($A20,'32eme'!$B:$M,12,FALSE)),IF(ISERROR(VLOOKUP($A20,'32eme'!$F:$M,8,FALSE)),\"\",IF(VLOOKUP($A20,'32eme'!$F:$M,8,FALSE)=AA$2,\"X\",\"\")),IF(VLOOKUP($A20,'32eme'!$B:$M,12,FALSE)=AA$2,\"X\",\"\"))","v":""},{"$f":"IF(ISERROR(VLOOKUP($A20,'32eme'!$B:$M,12,FALSE)),IF(ISERROR(VLOOKUP($A20,'32eme'!$F:$M,8,FALSE)),\"\",IF(VLOOKUP($A20,'32eme'!$F:$M,8,FALSE)=AB$2,\"X\",\"\")),IF(VLOOKUP($A20,'32eme'!$B:$M,12,FALSE)=AB$2,\"X\",\"\"))","v":""},{"$f":"IF(ISERROR(VLOOKUP($A20,'32eme'!$B:$M,12,FALSE)),IF(ISERROR(VLOOKUP($A20,'32eme'!$F:$M,8,FALSE)),\"\",IF(VLOOKUP($A20,'32eme'!$F:$M,8,FALSE)=AC$2,\"X\",\"\")),IF(VLOOKUP($A20,'32eme'!$B:$M,12,FALSE)=AC$2,\"X\",\"\"))","v":""},{"$f":"IF(ISERROR(VLOOKUP($A20,'32eme'!$B:$M,12,FALSE)),IF(ISERROR(VLOOKUP($A20,'32eme'!$F:$M,8,FALSE)),\"\",IF(VLOOKUP($A20,'32eme'!$F:$M,8,FALSE)=AD$2,\"X\",\"\")),IF(VLOOKUP($A20,'32eme'!$B:$M,12,FALSE)=AD$2,\"X\",\"\"))","v":""},{"$f":"IF(ISERROR(VLOOKUP($A20,'32eme'!$B:$M,12,FALSE)),IF(ISERROR(VLOOKUP($A20,'32eme'!$F:$M,8,FALSE)),\"\",IF(VLOOKUP($A20,'32eme'!$F:$M,8,FALSE)=AE$2,\"X\",\"\")),IF(VLOOKUP($A20,'32eme'!$B:$M,12,FALSE)=AE$2,\"X\",\"\"))","v":""},{"$f":"IF(ISERROR(VLOOKUP($A20,'32eme'!$B:$M,12,FALSE)),IF(ISERROR(VLOOKUP($A20,'32eme'!$F:$M,8,FALSE)),\"\",IF(VLOOKUP($A20,'32eme'!$F:$M,8,FALSE)=AF$2,\"X\",\"\")),IF(VLOOKUP($A20,'32eme'!$B:$M,12,FALSE)=AF$2,\"X\",\"\"))","v":""},{"$f":"IF(ISERROR(VLOOKUP($A20,'32eme'!$B:$M,12,FALSE)),IF(ISERROR(VLOOKUP($A20,'32eme'!$F:$M,8,FALSE)),\"\",IF(VLOOKUP($A20,'32eme'!$F:$M,8,FALSE)=AG$2,\"X\",\"\")),IF(VLOOKUP($A20,'32eme'!$B:$M,12,FALSE)=AG$2,\"X\",\"\"))","v":""},{"$f":"IF(ISERROR(VLOOKUP($A20,'16eme'!$B:$M,12,FALSE)),IF(ISERROR(VLOOKUP($A20,'16eme'!$F:$M,8,FALSE)),\"\",IF(VLOOKUP($A20,'16eme'!$F:$M,8,FALSE)=AH$2,\"X\",\"\")),IF(VLOOKUP($A20,'16eme'!$B:$M,12,FALSE)=AH$2,\"X\",\"\"))","v":""},{"$f":"IF(ISERROR(VLOOKUP($A20,'16eme'!$B:$M,12,FALSE)),IF(ISERROR(VLOOKUP($A20,'16eme'!$F:$M,8,FALSE)),\"\",IF(VLOOKUP($A20,'16eme'!$F:$M,8,FALSE)=AI$2,\"X\",\"\")),IF(VLOOKUP($A20,'16eme'!$B:$M,12,FALSE)=AI$2,\"X\",\"\"))","v":""},{"$f":"IF(ISERROR(VLOOKUP($A20,'16eme'!$B:$M,12,FALSE)),IF(ISERROR(VLOOKUP($A20,'16eme'!$F:$M,8,FALSE)),\"\",IF(VLOOKUP($A20,'16eme'!$F:$M,8,FALSE)=AJ$2,\"X\",\"\")),IF(VLOOKUP($A20,'16eme'!$B:$M,12,FALSE)=AJ$2,\"X\",\"\"))","v":""},{"$f":"IF(ISERROR(VLOOKUP($A20,'16eme'!$B:$M,12,FALSE)),IF(ISERROR(VLOOKUP($A20,'16eme'!$F:$M,8,FALSE)),\"\",IF(VLOOKUP($A20,'16eme'!$F:$M,8,FALSE)=AK$2,\"X\",\"\")),IF(VLOOKUP($A20,'16eme'!$B:$M,12,FALSE)=AK$2,\"X\",\"\"))","v":""},{"$f":"IF(ISERROR(VLOOKUP($A20,'16eme'!$B:$M,12,FALSE)),IF(ISERROR(VLOOKUP($A20,'16eme'!$F:$M,8,FALSE)),\"\",IF(VLOOKUP($A20,'16eme'!$F:$M,8,FALSE)=AL$2,\"X\",\"\")),IF(VLOOKUP($A20,'16eme'!$B:$M,12,FALSE)=AL$2,\"X\",\"\"))","v":""},{"$f":"IF(ISERROR(VLOOKUP($A20,'16eme'!$B:$M,12,FALSE)),IF(ISERROR(VLOOKUP($A20,'16eme'!$F:$M,8,FALSE)),\"\",IF(VLOOKUP($A20,'16eme'!$F:$M,8,FALSE)=AM$2,\"X\",\"\")),IF(VLOOKUP($A20,'16eme'!$B:$M,12,FALSE)=AM$2,\"X\",\"\"))","v":""},{"$f":"IF(ISERROR(VLOOKUP($A20,'16eme'!$B:$M,12,FALSE)),IF(ISERROR(VLOOKUP($A20,'16eme'!$F:$M,8,FALSE)),\"\",IF(VLOOKUP($A20,'16eme'!$F:$M,8,FALSE)=AN$2,\"X\",\"\")),IF(VLOOKUP($A20,'16eme'!$B:$M,12,FALSE)=AN$2,\"X\",\"\"))","v":""},{"$f":"IF(ISERROR(VLOOKUP($A20,'16eme'!$B:$M,12,FALSE)),IF(ISERROR(VLOOKUP($A20,'16eme'!$F:$M,8,FALSE)),\"\",IF(VLOOKUP($A20,'16eme'!$F:$M,8,FALSE)=AO$2,\"X\",\"\")),IF(VLOOKUP($A20,'16eme'!$B:$M,12,FALSE)=AO$2,\"X\",\"\"))","v":""},{"$f":"IF(ISERROR(VLOOKUP($A20,'16eme'!$B:$M,12,FALSE)),IF(ISERROR(VLOOKUP($A20,'16eme'!$F:$M,8,FALSE)),\"\",IF(VLOOKUP($A20,'16eme'!$F:$M,8,FALSE)=AP$2,\"X\",\"\")),IF(VLOOKUP($A20,'16eme'!$B:$M,12,FALSE)=AP$2,\"X\",\"\"))","v":""},{"$f":"IF(ISERROR(VLOOKUP($A20,'16eme'!$B:$M,12,FALSE)),IF(ISERROR(VLOOKUP($A20,'16eme'!$F:$M,8,FALSE)),\"\",IF(VLOOKUP($A20,'16eme'!$F:$M,8,FALSE)=AQ$2,\"X\",\"\")),IF(VLOOKUP($A20,'16eme'!$B:$M,12,FALSE)=AQ$2,\"X\",\"\"))","v":""},{"$f":"IF(ISERROR(VLOOKUP($A20,'16eme'!$B:$M,12,FALSE)),IF(ISERROR(VLOOKUP($A20,'16eme'!$F:$M,8,FALSE)),\"\",IF(VLOOKUP($A20,'16eme'!$F:$M,8,FALSE)=AR$2,\"X\",\"\")),IF(VLOOKUP($A20,'16eme'!$B:$M,12,FALSE)=AR$2,\"X\",\"\"))","v":""},{"$f":"IF(ISERROR(VLOOKUP($A20,'16eme'!$B:$M,12,FALSE)),IF(ISERROR(VLOOKUP($A20,'16eme'!$F:$M,8,FALSE)),\"\",IF(VLOOKUP($A20,'16eme'!$F:$M,8,FALSE)=AS$2,\"X\",\"\")),IF(VLOOKUP($A20,'16eme'!$B:$M,12,FALSE)=AS$2,\"X\",\"\"))","v":""},{"$f":"IF(ISERROR(VLOOKUP($A20,'16eme'!$B:$M,12,FALSE)),IF(ISERROR(VLOOKUP($A20,'16eme'!$F:$M,8,FALSE)),\"\",IF(VLOOKUP($A20,'16eme'!$F:$M,8,FALSE)=AT$2,\"X\",\"\")),IF(VLOOKUP($A20,'16eme'!$B:$M,12,FALSE)=AT$2,\"X\",\"\"))","v":""},{"$f":"IF(ISERROR(VLOOKUP($A20,'16eme'!$B:$M,12,FALSE)),IF(ISERROR(VLOOKUP($A20,'16eme'!$F:$M,8,FALSE)),\"\",IF(VLOOKUP($A20,'16eme'!$F:$M,8,FALSE)=AU$2,\"X\",\"\")),IF(VLOOKUP($A20,'16eme'!$B:$M,12,FALSE)=AU$2,\"X\",\"\"))","v":""},{"$f":"IF(ISERROR(VLOOKUP($A20,'16eme'!$B:$M,12,FALSE)),IF(ISERROR(VLOOKUP($A20,'16eme'!$F:$M,8,FALSE)),\"\",IF(VLOOKUP($A20,'16eme'!$F:$M,8,FALSE)=AV$2,\"X\",\"\")),IF(VLOOKUP($A20,'16eme'!$B:$M,12,FALSE)=AV$2,\"X\",\"\"))","v":""},{"$f":"IF(ISERROR(VLOOKUP($A20,'16eme'!$B:$M,12,FALSE)),IF(ISERROR(VLOOKUP($A20,'16eme'!$F:$M,8,FALSE)),\"\",IF(VLOOKUP($A20,'16eme'!$F:$M,8,FALSE)=AW$2,\"X\",\"\")),IF(VLOOKUP($A20,'16eme'!$B:$M,12,FALSE)=AW$2,\"X\",\"\"))","v":""},{"$f":"IF(ISERROR(VLOOKUP($A20,'8eme'!$B:$M,12,FALSE)),IF(ISERROR(VLOOKUP($A20,'8eme'!$F:$M,8,FALSE)),\"\",IF(VLOOKUP($A20,'8eme'!$F:$M,8,FALSE)=AX$2,\"X\",\"\")),IF(VLOOKUP($A20,'8eme'!$B:$M,12,FALSE)=AX$2,\"X\",\"\"))","v":""},{"$f":"IF(ISERROR(VLOOKUP($A20,'8eme'!$B:$M,12,FALSE)),IF(ISERROR(VLOOKUP($A20,'8eme'!$F:$M,8,FALSE)),\"\",IF(VLOOKUP($A20,'8eme'!$F:$M,8,FALSE)=AY$2,\"X\",\"\")),IF(VLOOKUP($A20,'8eme'!$B:$M,12,FALSE)=AY$2,\"X\",\"\"))","v":""},{"$f":"IF(ISERROR(VLOOKUP($A20,'8eme'!$B:$M,12,FALSE)),IF(ISERROR(VLOOKUP($A20,'8eme'!$F:$M,8,FALSE)),\"\",IF(VLOOKUP($A20,'8eme'!$F:$M,8,FALSE)=AZ$2,\"X\",\"\")),IF(VLOOKUP($A20,'8eme'!$B:$M,12,FALSE)=AZ$2,\"X\",\"\"))","v":""},{"$f":"IF(ISERROR(VLOOKUP($A20,'8eme'!$B:$M,12,FALSE)),IF(ISERROR(VLOOKUP($A20,'8eme'!$F:$M,8,FALSE)),\"\",IF(VLOOKUP($A20,'8eme'!$F:$M,8,FALSE)=BA$2,\"X\",\"\")),IF(VLOOKUP($A20,'8eme'!$B:$M,12,FALSE)=BA$2,\"X\",\"\"))","v":""},{"$f":"IF(ISERROR(VLOOKUP($A20,'8eme'!$B:$M,12,FALSE)),IF(ISERROR(VLOOKUP($A20,'8eme'!$F:$M,8,FALSE)),\"\",IF(VLOOKUP($A20,'8eme'!$F:$M,8,FALSE)=BB$2,\"X\",\"\")),IF(VLOOKUP($A20,'8eme'!$B:$M,12,FALSE)=BB$2,\"X\",\"\"))","v":""},{"$f":"IF(ISERROR(VLOOKUP($A20,'8eme'!$B:$M,12,FALSE)),IF(ISERROR(VLOOKUP($A20,'8eme'!$F:$M,8,FALSE)),\"\",IF(VLOOKUP($A20,'8eme'!$F:$M,8,FALSE)=BC$2,\"X\",\"\")),IF(VLOOKUP($A20,'8eme'!$B:$M,12,FALSE)=BC$2,\"X\",\"\"))","v":""},{"$f":"IF(ISERROR(VLOOKUP($A20,'8eme'!$B:$M,12,FALSE)),IF(ISERROR(VLOOKUP($A20,'8eme'!$F:$M,8,FALSE)),\"\",IF(VLOOKUP($A20,'8eme'!$F:$M,8,FALSE)=BD$2,\"X\",\"\")),IF(VLOOKUP($A20,'8eme'!$B:$M,12,FALSE)=BD$2,\"X\",\"\"))","v":""},{"$f":"IF(ISERROR(VLOOKUP($A20,'8eme'!$B:$M,12,FALSE)),IF(ISERROR(VLOOKUP($A20,'8eme'!$F:$M,8,FALSE)),\"\",IF(VLOOKUP($A20,'8eme'!$F:$M,8,FALSE)=BE$2,\"X\",\"\")),IF(VLOOKUP($A20,'8eme'!$B:$M,12,FALSE)=BE$2,\"X\",\"\"))","v":""},{"$f":"IF(ISERROR(VLOOKUP($A20,'8eme'!$B:$M,12,FALSE)),IF(ISERROR(VLOOKUP($A20,'8eme'!$F:$M,8,FALSE)),\"\",IF(VLOOKUP($A20,'8eme'!$F:$M,8,FALSE)=BF$2,\"X\",\"\")),IF(VLOOKUP($A20,'8eme'!$B:$M,12,FALSE)=BF$2,\"X\",\"\"))","v":""},{"$f":"IF(ISERROR(VLOOKUP($A20,'8eme'!$B:$M,12,FALSE)),IF(ISERROR(VLOOKUP($A20,'8eme'!$F:$M,8,FALSE)),\"\",IF(VLOOKUP($A20,'8eme'!$F:$M,8,FALSE)=BG$2,\"X\",\"\")),IF(VLOOKUP($A20,'8eme'!$B:$M,12,FALSE)=BG$2,\"X\",\"\"))","v":""},{"$f":"IF(ISERROR(VLOOKUP($A20,'8eme'!$B:$M,12,FALSE)),IF(ISERROR(VLOOKUP($A20,'8eme'!$F:$M,8,FALSE)),\"\",IF(VLOOKUP($A20,'8eme'!$F:$M,8,FALSE)=BH$2,\"X\",\"\")),IF(VLOOKUP($A20,'8eme'!$B:$M,12,FALSE)=BH$2,\"X\",\"\"))","v":""},{"$f":"IF(ISERROR(VLOOKUP($A20,'8eme'!$B:$M,12,FALSE)),IF(ISERROR(VLOOKUP($A20,'8eme'!$F:$M,8,FALSE)),\"\",IF(VLOOKUP($A20,'8eme'!$F:$M,8,FALSE)=BI$2,\"X\",\"\")),IF(VLOOKUP($A20,'8eme'!$B:$M,12,FALSE)=BI$2,\"X\",\"\"))","v":""},{"$f":"IF(ISERROR(VLOOKUP($A20,'8eme'!$B:$M,12,FALSE)),IF(ISERROR(VLOOKUP($A20,'8eme'!$F:$M,8,FALSE)),\"\",IF(VLOOKUP($A20,'8eme'!$F:$M,8,FALSE)=BJ$2,\"X\",\"\")),IF(VLOOKUP($A20,'8eme'!$B:$M,12,FALSE)=BJ$2,\"X\",\"\"))","v":""},{"$f":"IF(ISERROR(VLOOKUP($A20,'8eme'!$B:$M,12,FALSE)),IF(ISERROR(VLOOKUP($A20,'8eme'!$F:$M,8,FALSE)),\"\",IF(VLOOKUP($A20,'8eme'!$F:$M,8,FALSE)=BK$2,\"X\",\"\")),IF(VLOOKUP($A20,'8eme'!$B:$M,12,FALSE)=BK$2,\"X\",\"\"))","v":""},{"$f":"IF(ISERROR(VLOOKUP($A20,'8eme'!$B:$M,12,FALSE)),IF(ISERROR(VLOOKUP($A20,'8eme'!$F:$M,8,FALSE)),\"\",IF(VLOOKUP($A20,'8eme'!$F:$M,8,FALSE)=BL$2,\"X\",\"\")),IF(VLOOKUP($A20,'8eme'!$B:$M,12,FALSE)=BL$2,\"X\",\"\"))","v":""},{"$f":"IF(ISERROR(VLOOKUP($A20,'8eme'!$B:$M,12,FALSE)),IF(ISERROR(VLOOKUP($A20,'8eme'!$F:$M,8,FALSE)),\"\",IF(VLOOKUP($A20,'8eme'!$F:$M,8,FALSE)=BM$2,\"X\",\"\")),IF(VLOOKUP($A20,'8eme'!$B:$M,12,FALSE)=BM$2,\"X\",\"\"))","v":""},{"$f":"IF(ISERROR(VLOOKUP($A20,quart!$B:$M,12,FALSE)),IF(ISERROR(VLOOKUP($A20,quart!$F:$M,8,FALSE)),\"\",IF(VLOOKUP($A20,quart!$F:$M,8,FALSE)=BN$2,\"X\",\"\")),IF(VLOOKUP($A20,quart!$B:$M,12,FALSE)=BN$2,\"X\",\"\"))","v":""},{"$f":"IF(ISERROR(VLOOKUP($A20,quart!$B:$M,12,FALSE)),IF(ISERROR(VLOOKUP($A20,quart!$F:$M,8,FALSE)),\"\",IF(VLOOKUP($A20,quart!$F:$M,8,FALSE)=BO$2,\"X\",\"\")),IF(VLOOKUP($A20,quart!$B:$M,12,FALSE)=BO$2,\"X\",\"\"))","v":""},{"$f":"IF(ISERROR(VLOOKUP($A20,quart!$B:$M,12,FALSE)),IF(ISERROR(VLOOKUP($A20,quart!$F:$M,8,FALSE)),\"\",IF(VLOOKUP($A20,quart!$F:$M,8,FALSE)=BP$2,\"X\",\"\")),IF(VLOOKUP($A20,quart!$B:$M,12,FALSE)=BP$2,\"X\",\"\"))","v":""},{"$f":"IF(ISERROR(VLOOKUP($A20,quart!$B:$M,12,FALSE)),IF(ISERROR(VLOOKUP($A20,quart!$F:$M,8,FALSE)),\"\",IF(VLOOKUP($A20,quart!$F:$M,8,FALSE)=BQ$2,\"X\",\"\")),IF(VLOOKUP($A20,quart!$B:$M,12,FALSE)=BQ$2,\"X\",\"\"))","v":""},{"$f":"IF(ISERROR(VLOOKUP($A20,quart!$B:$M,12,FALSE)),IF(ISERROR(VLOOKUP($A20,quart!$F:$M,8,FALSE)),\"\",IF(VLOOKUP($A20,quart!$F:$M,8,FALSE)=BR$2,\"X\",\"\")),IF(VLOOKUP($A20,quart!$B:$M,12,FALSE)=BR$2,\"X\",\"\"))","v":""},{"$f":"IF(ISERROR(VLOOKUP($A20,quart!$B:$M,12,FALSE)),IF(ISERROR(VLOOKUP($A20,quart!$F:$M,8,FALSE)),\"\",IF(VLOOKUP($A20,quart!$F:$M,8,FALSE)=BS$2,\"X\",\"\")),IF(VLOOKUP($A20,quart!$B:$M,12,FALSE)=BS$2,\"X\",\"\"))","v":""},{"$f":"IF(ISERROR(VLOOKUP($A20,quart!$B:$M,12,FALSE)),IF(ISERROR(VLOOKUP($A20,quart!$F:$M,8,FALSE)),\"\",IF(VLOOKUP($A20,quart!$F:$M,8,FALSE)=BT$2,\"X\",\"\")),IF(VLOOKUP($A20,quart!$B:$M,12,FALSE)=BT$2,\"X\",\"\"))","v":""},{"$f":"IF(ISERROR(VLOOKUP($A20,quart!$B:$M,12,FALSE)),IF(ISERROR(VLOOKUP($A20,quart!$F:$M,8,FALSE)),\"\",IF(VLOOKUP($A20,quart!$F:$M,8,FALSE)=BU$2,\"X\",\"\")),IF(VLOOKUP($A20,quart!$B:$M,12,FALSE)=BU$2,\"X\",\"\"))","v":""},{"$f":"IF(ISERROR(VLOOKUP($A20,quart!$B:$M,12,FALSE)),IF(ISERROR(VLOOKUP($A20,quart!$F:$M,8,FALSE)),\"\",IF(VLOOKUP($A20,quart!$F:$M,8,FALSE)=BV$2,\"X\",\"\")),IF(VLOOKUP($A20,quart!$B:$M,12,FALSE)=BV$2,\"X\",\"\"))","v":""},{"$f":"IF(ISERROR(VLOOKUP($A20,quart!$B:$M,12,FALSE)),IF(ISERROR(VLOOKUP($A20,quart!$F:$M,8,FALSE)),\"\",IF(VLOOKUP($A20,quart!$F:$M,8,FALSE)=BW$2,\"X\",\"\")),IF(VLOOKUP($A20,quart!$B:$M,12,FALSE)=BW$2,\"X\",\"\"))","v":""},{"$f":"IF(ISERROR(VLOOKUP($A20,quart!$B:$M,12,FALSE)),IF(ISERROR(VLOOKUP($A20,quart!$F:$M,8,FALSE)),\"\",IF(VLOOKUP($A20,quart!$F:$M,8,FALSE)=BX$2,\"X\",\"\")),IF(VLOOKUP($A20,quart!$B:$M,12,FALSE)=BX$2,\"X\",\"\"))","v":""},{"$f":"IF(ISERROR(VLOOKUP($A20,quart!$B:$M,12,FALSE)),IF(ISERROR(VLOOKUP($A20,quart!$F:$M,8,FALSE)),\"\",IF(VLOOKUP($A20,quart!$F:$M,8,FALSE)=BY$2,\"X\",\"\")),IF(VLOOKUP($A20,quart!$B:$M,12,FALSE)=BY$2,\"X\",\"\"))","v":""},{"$f":"IF(ISERROR(VLOOKUP($A20,quart!$B:$M,12,FALSE)),IF(ISERROR(VLOOKUP($A20,quart!$F:$M,8,FALSE)),\"\",IF(VLOOKUP($A20,quart!$F:$M,8,FALSE)=BZ$2,\"X\",\"\")),IF(VLOOKUP($A20,quart!$B:$M,12,FALSE)=BZ$2,\"X\",\"\"))","v":""},{"$f":"IF(ISERROR(VLOOKUP($A20,quart!$B:$M,12,FALSE)),IF(ISERROR(VLOOKUP($A20,quart!$F:$M,8,FALSE)),\"\",IF(VLOOKUP($A20,quart!$F:$M,8,FALSE)=CA$2,\"X\",\"\")),IF(VLOOKUP($A20,quart!$B:$M,12,FALSE)=CA$2,\"X\",\"\"))","v":""},{"$f":"IF(ISERROR(VLOOKUP($A20,quart!$B:$M,12,FALSE)),IF(ISERROR(VLOOKUP($A20,quart!$F:$M,8,FALSE)),\"\",IF(VLOOKUP($A20,quart!$F:$M,8,FALSE)=CB$2,\"X\",\"\")),IF(VLOOKUP($A20,quart!$B:$M,12,FALSE)=CB$2,\"X\",\"\"))","v":""},{"$f":"IF(ISERROR(VLOOKUP($A20,quart!$B:$M,12,FALSE)),IF(ISERROR(VLOOKUP($A20,quart!$F:$M,8,FALSE)),\"\",IF(VLOOKUP($A20,quart!$F:$M,8,FALSE)=CC$2,\"X\",\"\")),IF(VLOOKUP($A20,quart!$B:$M,12,FALSE)=CC$2,\"X\",\"\"))","v":""},{"$f":"IF(ISERROR(VLOOKUP($A20,demi!$B:$M,12,FALSE)),IF(ISERROR(VLOOKUP($A20,demi!$F:$M,8,FALSE)),\"\",IF(VLOOKUP($A20,demi!$F:$M,8,FALSE)=CD$2,\"X\",\"\")),IF(VLOOKUP($A20,demi!$B:$M,12,FALSE)=CD$2,\"X\",\"\"))","v":""},{"$f":"IF(ISERROR(VLOOKUP($A20,demi!$B:$M,12,FALSE)),IF(ISERROR(VLOOKUP($A20,demi!$F:$M,8,FALSE)),\"\",IF(VLOOKUP($A20,demi!$F:$M,8,FALSE)=CE$2,\"X\",\"\")),IF(VLOOKUP($A20,demi!$B:$M,12,FALSE)=CE$2,\"X\",\"\"))","v":""},{"$f":"IF(ISERROR(VLOOKUP($A20,demi!$B:$M,12,FALSE)),IF(ISERROR(VLOOKUP($A20,demi!$F:$M,8,FALSE)),\"\",IF(VLOOKUP($A20,demi!$F:$M,8,FALSE)=CF$2,\"X\",\"\")),IF(VLOOKUP($A20,demi!$B:$M,12,FALSE)=CF$2,\"X\",\"\"))","v":""},{"$f":"IF(ISERROR(VLOOKUP($A20,demi!$B:$M,12,FALSE)),IF(ISERROR(VLOOKUP($A20,demi!$F:$M,8,FALSE)),\"\",IF(VLOOKUP($A20,demi!$F:$M,8,FALSE)=CG$2,\"X\",\"\")),IF(VLOOKUP($A20,demi!$B:$M,12,FALSE)=CG$2,\"X\",\"\"))","v":""},{"$f":"IF(ISERROR(VLOOKUP($A20,demi!$B:$M,12,FALSE)),IF(ISERROR(VLOOKUP($A20,demi!$F:$M,8,FALSE)),\"\",IF(VLOOKUP($A20,demi!$F:$M,8,FALSE)=CH$2,\"X\",\"\")),IF(VLOOKUP($A20,demi!$B:$M,12,FALSE)=CH$2,\"X\",\"\"))","v":""},{"$f":"IF(ISERROR(VLOOKUP($A20,demi!$B:$M,12,FALSE)),IF(ISERROR(VLOOKUP($A20,demi!$F:$M,8,FALSE)),\"\",IF(VLOOKUP($A20,demi!$F:$M,8,FALSE)=CI$2,\"X\",\"\")),IF(VLOOKUP($A20,demi!$B:$M,12,FALSE)=CI$2,\"X\",\"\"))","v":""},{"$f":"IF(ISERROR(VLOOKUP($A20,demi!$B:$M,12,FALSE)),IF(ISERROR(VLOOKUP($A20,demi!$F:$M,8,FALSE)),\"\",IF(VLOOKUP($A20,demi!$F:$M,8,FALSE)=CJ$2,\"X\",\"\")),IF(VLOOKUP($A20,demi!$B:$M,12,FALSE)=CJ$2,\"X\",\"\"))","v":""},{"$f":"IF(ISERROR(VLOOKUP($A20,demi!$B:$M,12,FALSE)),IF(ISERROR(VLOOKUP($A20,demi!$F:$M,8,FALSE)),\"\",IF(VLOOKUP($A20,demi!$F:$M,8,FALSE)=CK$2,\"X\",\"\")),IF(VLOOKUP($A20,demi!$B:$M,12,FALSE)=CK$2,\"X\",\"\"))","v":""},{"$f":"IF(ISERROR(VLOOKUP($A20,demi!$B:$M,12,FALSE)),IF(ISERROR(VLOOKUP($A20,demi!$F:$M,8,FALSE)),\"\",IF(VLOOKUP($A20,demi!$F:$M,8,FALSE)=CL$2,\"X\",\"\")),IF(VLOOKUP($A20,demi!$B:$M,12,FALSE)=CL$2,\"X\",\"\"))","v":""},{"$f":"IF(ISERROR(VLOOKUP($A20,demi!$B:$M,12,FALSE)),IF(ISERROR(VLOOKUP($A20,demi!$F:$M,8,FALSE)),\"\",IF(VLOOKUP($A20,demi!$F:$M,8,FALSE)=CM$2,\"X\",\"\")),IF(VLOOKUP($A20,demi!$B:$M,12,FALSE)=CM$2,\"X\",\"\"))","v":""},{"$f":"IF(ISERROR(VLOOKUP($A20,demi!$B:$M,12,FALSE)),IF(ISERROR(VLOOKUP($A20,demi!$F:$M,8,FALSE)),\"\",IF(VLOOKUP($A20,demi!$F:$M,8,FALSE)=CN$2,\"X\",\"\")),IF(VLOOKUP($A20,demi!$B:$M,12,FALSE)=CN$2,\"X\",\"\"))","v":""},{"$f":"IF(ISERROR(VLOOKUP($A20,demi!$B:$M,12,FALSE)),IF(ISERROR(VLOOKUP($A20,demi!$F:$M,8,FALSE)),\"\",IF(VLOOKUP($A20,demi!$F:$M,8,FALSE)=CO$2,\"X\",\"\")),IF(VLOOKUP($A20,demi!$B:$M,12,FALSE)=CO$2,\"X\",\"\"))","v":""},{"$f":"IF(ISERROR(VLOOKUP($A20,demi!$B:$M,12,FALSE)),IF(ISERROR(VLOOKUP($A20,demi!$F:$M,8,FALSE)),\"\",IF(VLOOKUP($A20,demi!$F:$M,8,FALSE)=CP$2,\"X\",\"\")),IF(VLOOKUP($A20,demi!$B:$M,12,FALSE)=CP$2,\"X\",\"\"))","v":""},{"$f":"IF(ISERROR(VLOOKUP($A20,demi!$B:$M,12,FALSE)),IF(ISERROR(VLOOKUP($A20,demi!$F:$M,8,FALSE)),\"\",IF(VLOOKUP($A20,demi!$F:$M,8,FALSE)=CQ$2,\"X\",\"\")),IF(VLOOKUP($A20,demi!$B:$M,12,FALSE)=CQ$2,\"X\",\"\"))","v":""},{"$f":"IF(ISERROR(VLOOKUP($A20,demi!$B:$M,12,FALSE)),IF(ISERROR(VLOOKUP($A20,demi!$F:$M,8,FALSE)),\"\",IF(VLOOKUP($A20,demi!$F:$M,8,FALSE)=CR$2,\"X\",\"\")),IF(VLOOKUP($A20,demi!$B:$M,12,FALSE)=CR$2,\"X\",\"\"))","v":""},{"$f":"IF(ISERROR(VLOOKUP($A20,demi!$B:$M,12,FALSE)),IF(ISERROR(VLOOKUP($A20,demi!$F:$M,8,FALSE)),\"\",IF(VLOOKUP($A20,demi!$F:$M,8,FALSE)=CS$2,\"X\",\"\")),IF(VLOOKUP($A20,demi!$B:$M,12,FALSE)=CS$2,\"X\",\"\"))","v":""}]
[19,"X","X","X","X","X","X","X","X","X","X","X","X","X","X","X","X",{"$f":"IF(ISERROR(VLOOKUP($A21,'32eme'!$B:$M,12,FALSE)),IF(ISERROR(VLOOKUP($A21,'32eme'!$F:$M,8,FALSE)),\"\",IF(VLOOKUP($A21,'32eme'!$F:$M,8,FALSE)=R$2,\"X\",\"\")),IF(VLOOKUP($A21,'32eme'!$B:$M,12,FALSE)=R$2,\"X\",\"\"))","v":""},{"$f":"IF(ISERROR(VLOOKUP($A21,'32eme'!$B:$M,12,FALSE)),IF(ISERROR(VLOOKUP($A21,'32eme'!$F:$M,8,FALSE)),\"\",IF(VLOOKUP($A21,'32eme'!$F:$M,8,FALSE)=S$2,\"X\",\"\")),IF(VLOOKUP($A21,'32eme'!$B:$M,12,FALSE)=S$2,\"X\",\"\"))","v":""},{"$f":"IF(ISERROR(VLOOKUP($A21,'32eme'!$B:$M,12,FALSE)),IF(ISERROR(VLOOKUP($A21,'32eme'!$F:$M,8,FALSE)),\"\",IF(VLOOKUP($A21,'32eme'!$F:$M,8,FALSE)=T$2,\"X\",\"\")),IF(VLOOKUP($A21,'32eme'!$B:$M,12,FALSE)=T$2,\"X\",\"\"))","v":""},{"$f":"IF(ISERROR(VLOOKUP($A21,'32eme'!$B:$M,12,FALSE)),IF(ISERROR(VLOOKUP($A21,'32eme'!$F:$M,8,FALSE)),\"\",IF(VLOOKUP($A21,'32eme'!$F:$M,8,FALSE)=U$2,\"X\",\"\")),IF(VLOOKUP($A21,'32eme'!$B:$M,12,FALSE)=U$2,\"X\",\"\"))","v":""},{"$f":"IF(ISERROR(VLOOKUP($A21,'32eme'!$B:$M,12,FALSE)),IF(ISERROR(VLOOKUP($A21,'32eme'!$F:$M,8,FALSE)),\"\",IF(VLOOKUP($A21,'32eme'!$F:$M,8,FALSE)=V$2,\"X\",\"\")),IF(VLOOKUP($A21,'32eme'!$B:$M,12,FALSE)=V$2,\"X\",\"\"))","v":""},{"$f":"IF(ISERROR(VLOOKUP($A21,'32eme'!$B:$M,12,FALSE)),IF(ISERROR(VLOOKUP($A21,'32eme'!$F:$M,8,FALSE)),\"\",IF(VLOOKUP($A21,'32eme'!$F:$M,8,FALSE)=W$2,\"X\",\"\")),IF(VLOOKUP($A21,'32eme'!$B:$M,12,FALSE)=W$2,\"X\",\"\"))","v":""},{"$f":"IF(ISERROR(VLOOKUP($A21,'32eme'!$B:$M,12,FALSE)),IF(ISERROR(VLOOKUP($A21,'32eme'!$F:$M,8,FALSE)),\"\",IF(VLOOKUP($A21,'32eme'!$F:$M,8,FALSE)=X$2,\"X\",\"\")),IF(VLOOKUP($A21,'32eme'!$B:$M,12,FALSE)=X$2,\"X\",\"\"))","v":""},{"$f":"IF(ISERROR(VLOOKUP($A21,'32eme'!$B:$M,12,FALSE)),IF(ISERROR(VLOOKUP($A21,'32eme'!$F:$M,8,FALSE)),\"\",IF(VLOOKUP($A21,'32eme'!$F:$M,8,FALSE)=Y$2,\"X\",\"\")),IF(VLOOKUP($A21,'32eme'!$B:$M,12,FALSE)=Y$2,\"X\",\"\"))","v":""},{"$f":"IF(ISERROR(VLOOKUP($A21,'32eme'!$B:$M,12,FALSE)),IF(ISERROR(VLOOKUP($A21,'32eme'!$F:$M,8,FALSE)),\"\",IF(VLOOKUP($A21,'32eme'!$F:$M,8,FALSE)=Z$2,\"X\",\"\")),IF(VLOOKUP($A21,'32eme'!$B:$M,12,FALSE)=Z$2,\"X\",\"\"))","v":""},{"$f":"IF(ISERROR(VLOOKUP($A21,'32eme'!$B:$M,12,FALSE)),IF(ISERROR(VLOOKUP($A21,'32eme'!$F:$M,8,FALSE)),\"\",IF(VLOOKUP($A21,'32eme'!$F:$M,8,FALSE)=AA$2,\"X\",\"\")),IF(VLOOKUP($A21,'32eme'!$B:$M,12,FALSE)=AA$2,\"X\",\"\"))","v":""},{"$f":"IF(ISERROR(VLOOKUP($A21,'32eme'!$B:$M,12,FALSE)),IF(ISERROR(VLOOKUP($A21,'32eme'!$F:$M,8,FALSE)),\"\",IF(VLOOKUP($A21,'32eme'!$F:$M,8,FALSE)=AB$2,\"X\",\"\")),IF(VLOOKUP($A21,'32eme'!$B:$M,12,FALSE)=AB$2,\"X\",\"\"))","v":""},{"$f":"IF(ISERROR(VLOOKUP($A21,'32eme'!$B:$M,12,FALSE)),IF(ISERROR(VLOOKUP($A21,'32eme'!$F:$M,8,FALSE)),\"\",IF(VLOOKUP($A21,'32eme'!$F:$M,8,FALSE)=AC$2,\"X\",\"\")),IF(VLOOKUP($A21,'32eme'!$B:$M,12,FALSE)=AC$2,\"X\",\"\"))","v":""},{"$f":"IF(ISERROR(VLOOKUP($A21,'32eme'!$B:$M,12,FALSE)),IF(ISERROR(VLOOKUP($A21,'32eme'!$F:$M,8,FALSE)),\"\",IF(VLOOKUP($A21,'32eme'!$F:$M,8,FALSE)=AD$2,\"X\",\"\")),IF(VLOOKUP($A21,'32eme'!$B:$M,12,FALSE)=AD$2,\"X\",\"\"))","v":""},{"$f":"IF(ISERROR(VLOOKUP($A21,'32eme'!$B:$M,12,FALSE)),IF(ISERROR(VLOOKUP($A21,'32eme'!$F:$M,8,FALSE)),\"\",IF(VLOOKUP($A21,'32eme'!$F:$M,8,FALSE)=AE$2,\"X\",\"\")),IF(VLOOKUP($A21,'32eme'!$B:$M,12,FALSE)=AE$2,\"X\",\"\"))","v":""},{"$f":"IF(ISERROR(VLOOKUP($A21,'32eme'!$B:$M,12,FALSE)),IF(ISERROR(VLOOKUP($A21,'32eme'!$F:$M,8,FALSE)),\"\",IF(VLOOKUP($A21,'32eme'!$F:$M,8,FALSE)=AF$2,\"X\",\"\")),IF(VLOOKUP($A21,'32eme'!$B:$M,12,FALSE)=AF$2,\"X\",\"\"))","v":""},{"$f":"IF(ISERROR(VLOOKUP($A21,'32eme'!$B:$M,12,FALSE)),IF(ISERROR(VLOOKUP($A21,'32eme'!$F:$M,8,FALSE)),\"\",IF(VLOOKUP($A21,'32eme'!$F:$M,8,FALSE)=AG$2,\"X\",\"\")),IF(VLOOKUP($A21,'32eme'!$B:$M,12,FALSE)=AG$2,\"X\",\"\"))","v":""},{"$f":"IF(ISERROR(VLOOKUP($A21,'16eme'!$B:$M,12,FALSE)),IF(ISERROR(VLOOKUP($A21,'16eme'!$F:$M,8,FALSE)),\"\",IF(VLOOKUP($A21,'16eme'!$F:$M,8,FALSE)=AH$2,\"X\",\"\")),IF(VLOOKUP($A21,'16eme'!$B:$M,12,FALSE)=AH$2,\"X\",\"\"))","v":""},{"$f":"IF(ISERROR(VLOOKUP($A21,'16eme'!$B:$M,12,FALSE)),IF(ISERROR(VLOOKUP($A21,'16eme'!$F:$M,8,FALSE)),\"\",IF(VLOOKUP($A21,'16eme'!$F:$M,8,FALSE)=AI$2,\"X\",\"\")),IF(VLOOKUP($A21,'16eme'!$B:$M,12,FALSE)=AI$2,\"X\",\"\"))","v":""},{"$f":"IF(ISERROR(VLOOKUP($A21,'16eme'!$B:$M,12,FALSE)),IF(ISERROR(VLOOKUP($A21,'16eme'!$F:$M,8,FALSE)),\"\",IF(VLOOKUP($A21,'16eme'!$F:$M,8,FALSE)=AJ$2,\"X\",\"\")),IF(VLOOKUP($A21,'16eme'!$B:$M,12,FALSE)=AJ$2,\"X\",\"\"))","v":""},{"$f":"IF(ISERROR(VLOOKUP($A21,'16eme'!$B:$M,12,FALSE)),IF(ISERROR(VLOOKUP($A21,'16eme'!$F:$M,8,FALSE)),\"\",IF(VLOOKUP($A21,'16eme'!$F:$M,8,FALSE)=AK$2,\"X\",\"\")),IF(VLOOKUP($A21,'16eme'!$B:$M,12,FALSE)=AK$2,\"X\",\"\"))","v":""},{"$f":"IF(ISERROR(VLOOKUP($A21,'16eme'!$B:$M,12,FALSE)),IF(ISERROR(VLOOKUP($A21,'16eme'!$F:$M,8,FALSE)),\"\",IF(VLOOKUP($A21,'16eme'!$F:$M,8,FALSE)=AL$2,\"X\",\"\")),IF(VLOOKUP($A21,'16eme'!$B:$M,12,FALSE)=AL$2,\"X\",\"\"))","v":""},{"$f":"IF(ISERROR(VLOOKUP($A21,'16eme'!$B:$M,12,FALSE)),IF(ISERROR(VLOOKUP($A21,'16eme'!$F:$M,8,FALSE)),\"\",IF(VLOOKUP($A21,'16eme'!$F:$M,8,FALSE)=AM$2,\"X\",\"\")),IF(VLOOKUP($A21,'16eme'!$B:$M,12,FALSE)=AM$2,\"X\",\"\"))","v":""},{"$f":"IF(ISERROR(VLOOKUP($A21,'16eme'!$B:$M,12,FALSE)),IF(ISERROR(VLOOKUP($A21,'16eme'!$F:$M,8,FALSE)),\"\",IF(VLOOKUP($A21,'16eme'!$F:$M,8,FALSE)=AN$2,\"X\",\"\")),IF(VLOOKUP($A21,'16eme'!$B:$M,12,FALSE)=AN$2,\"X\",\"\"))","v":""},{"$f":"IF(ISERROR(VLOOKUP($A21,'16eme'!$B:$M,12,FALSE)),IF(ISERROR(VLOOKUP($A21,'16eme'!$F:$M,8,FALSE)),\"\",IF(VLOOKUP($A21,'16eme'!$F:$M,8,FALSE)=AO$2,\"X\",\"\")),IF(VLOOKUP($A21,'16eme'!$B:$M,12,FALSE)=AO$2,\"X\",\"\"))","v":""},{"$f":"IF(ISERROR(VLOOKUP($A21,'16eme'!$B:$M,12,FALSE)),IF(ISERROR(VLOOKUP($A21,'16eme'!$F:$M,8,FALSE)),\"\",IF(VLOOKUP($A21,'16eme'!$F:$M,8,FALSE)=AP$2,\"X\",\"\")),IF(VLOOKUP($A21,'16eme'!$B:$M,12,FALSE)=AP$2,\"X\",\"\"))","v":""},{"$f":"IF(ISERROR(VLOOKUP($A21,'16eme'!$B:$M,12,FALSE)),IF(ISERROR(VLOOKUP($A21,'16eme'!$F:$M,8,FALSE)),\"\",IF(VLOOKUP($A21,'16eme'!$F:$M,8,FALSE)=AQ$2,\"X\",\"\")),IF(VLOOKUP($A21,'16eme'!$B:$M,12,FALSE)=AQ$2,\"X\",\"\"))","v":""},{"$f":"IF(ISERROR(VLOOKUP($A21,'16eme'!$B:$M,12,FALSE)),IF(ISERROR(VLOOKUP($A21,'16eme'!$F:$M,8,FALSE)),\"\",IF(VLOOKUP($A21,'16eme'!$F:$M,8,FALSE)=AR$2,\"X\",\"\")),IF(VLOOKUP($A21,'16eme'!$B:$M,12,FALSE)=AR$2,\"X\",\"\"))","v":""},{"$f":"IF(ISERROR(VLOOKUP($A21,'16eme'!$B:$M,12,FALSE)),IF(ISERROR(VLOOKUP($A21,'16eme'!$F:$M,8,FALSE)),\"\",IF(VLOOKUP($A21,'16eme'!$F:$M,8,FALSE)=AS$2,\"X\",\"\")),IF(VLOOKUP($A21,'16eme'!$B:$M,12,FALSE)=AS$2,\"X\",\"\"))","v":""},{"$f":"IF(ISERROR(VLOOKUP($A21,'16eme'!$B:$M,12,FALSE)),IF(ISERROR(VLOOKUP($A21,'16eme'!$F:$M,8,FALSE)),\"\",IF(VLOOKUP($A21,'16eme'!$F:$M,8,FALSE)=AT$2,\"X\",\"\")),IF(VLOOKUP($A21,'16eme'!$B:$M,12,FALSE)=AT$2,\"X\",\"\"))","v":""},{"$f":"IF(ISERROR(VLOOKUP($A21,'16eme'!$B:$M,12,FALSE)),IF(ISERROR(VLOOKUP($A21,'16eme'!$F:$M,8,FALSE)),\"\",IF(VLOOKUP($A21,'16eme'!$F:$M,8,FALSE)=AU$2,\"X\",\"\")),IF(VLOOKUP($A21,'16eme'!$B:$M,12,FALSE)=AU$2,\"X\",\"\"))","v":""},{"$f":"IF(ISERROR(VLOOKUP($A21,'16eme'!$B:$M,12,FALSE)),IF(ISERROR(VLOOKUP($A21,'16eme'!$F:$M,8,FALSE)),\"\",IF(VLOOKUP($A21,'16eme'!$F:$M,8,FALSE)=AV$2,\"X\",\"\")),IF(VLOOKUP($A21,'16eme'!$B:$M,12,FALSE)=AV$2,\"X\",\"\"))","v":""},{"$f":"IF(ISERROR(VLOOKUP($A21,'16eme'!$B:$M,12,FALSE)),IF(ISERROR(VLOOKUP($A21,'16eme'!$F:$M,8,FALSE)),\"\",IF(VLOOKUP($A21,'16eme'!$F:$M,8,FALSE)=AW$2,\"X\",\"\")),IF(VLOOKUP($A21,'16eme'!$B:$M,12,FALSE)=AW$2,\"X\",\"\"))","v":""},{"$f":"IF(ISERROR(VLOOKUP($A21,'8eme'!$B:$M,12,FALSE)),IF(ISERROR(VLOOKUP($A21,'8eme'!$F:$M,8,FALSE)),\"\",IF(VLOOKUP($A21,'8eme'!$F:$M,8,FALSE)=AX$2,\"X\",\"\")),IF(VLOOKUP($A21,'8eme'!$B:$M,12,FALSE)=AX$2,\"X\",\"\"))","v":""},{"$f":"IF(ISERROR(VLOOKUP($A21,'8eme'!$B:$M,12,FALSE)),IF(ISERROR(VLOOKUP($A21,'8eme'!$F:$M,8,FALSE)),\"\",IF(VLOOKUP($A21,'8eme'!$F:$M,8,FALSE)=AY$2,\"X\",\"\")),IF(VLOOKUP($A21,'8eme'!$B:$M,12,FALSE)=AY$2,\"X\",\"\"))","v":""},{"$f":"IF(ISERROR(VLOOKUP($A21,'8eme'!$B:$M,12,FALSE)),IF(ISERROR(VLOOKUP($A21,'8eme'!$F:$M,8,FALSE)),\"\",IF(VLOOKUP($A21,'8eme'!$F:$M,8,FALSE)=AZ$2,\"X\",\"\")),IF(VLOOKUP($A21,'8eme'!$B:$M,12,FALSE)=AZ$2,\"X\",\"\"))","v":""},{"$f":"IF(ISERROR(VLOOKUP($A21,'8eme'!$B:$M,12,FALSE)),IF(ISERROR(VLOOKUP($A21,'8eme'!$F:$M,8,FALSE)),\"\",IF(VLOOKUP($A21,'8eme'!$F:$M,8,FALSE)=BA$2,\"X\",\"\")),IF(VLOOKUP($A21,'8eme'!$B:$M,12,FALSE)=BA$2,\"X\",\"\"))","v":""},{"$f":"IF(ISERROR(VLOOKUP($A21,'8eme'!$B:$M,12,FALSE)),IF(ISERROR(VLOOKUP($A21,'8eme'!$F:$M,8,FALSE)),\"\",IF(VLOOKUP($A21,'8eme'!$F:$M,8,FALSE)=BB$2,\"X\",\"\")),IF(VLOOKUP($A21,'8eme'!$B:$M,12,FALSE)=BB$2,\"X\",\"\"))","v":""},{"$f":"IF(ISERROR(VLOOKUP($A21,'8eme'!$B:$M,12,FALSE)),IF(ISERROR(VLOOKUP($A21,'8eme'!$F:$M,8,FALSE)),\"\",IF(VLOOKUP($A21,'8eme'!$F:$M,8,FALSE)=BC$2,\"X\",\"\")),IF(VLOOKUP($A21,'8eme'!$B:$M,12,FALSE)=BC$2,\"X\",\"\"))","v":""},{"$f":"IF(ISERROR(VLOOKUP($A21,'8eme'!$B:$M,12,FALSE)),IF(ISERROR(VLOOKUP($A21,'8eme'!$F:$M,8,FALSE)),\"\",IF(VLOOKUP($A21,'8eme'!$F:$M,8,FALSE)=BD$2,\"X\",\"\")),IF(VLOOKUP($A21,'8eme'!$B:$M,12,FALSE)=BD$2,\"X\",\"\"))","v":""},{"$f":"IF(ISERROR(VLOOKUP($A21,'8eme'!$B:$M,12,FALSE)),IF(ISERROR(VLOOKUP($A21,'8eme'!$F:$M,8,FALSE)),\"\",IF(VLOOKUP($A21,'8eme'!$F:$M,8,FALSE)=BE$2,\"X\",\"\")),IF(VLOOKUP($A21,'8eme'!$B:$M,12,FALSE)=BE$2,\"X\",\"\"))","v":""},{"$f":"IF(ISERROR(VLOOKUP($A21,'8eme'!$B:$M,12,FALSE)),IF(ISERROR(VLOOKUP($A21,'8eme'!$F:$M,8,FALSE)),\"\",IF(VLOOKUP($A21,'8eme'!$F:$M,8,FALSE)=BF$2,\"X\",\"\")),IF(VLOOKUP($A21,'8eme'!$B:$M,12,FALSE)=BF$2,\"X\",\"\"))","v":""},{"$f":"IF(ISERROR(VLOOKUP($A21,'8eme'!$B:$M,12,FALSE)),IF(ISERROR(VLOOKUP($A21,'8eme'!$F:$M,8,FALSE)),\"\",IF(VLOOKUP($A21,'8eme'!$F:$M,8,FALSE)=BG$2,\"X\",\"\")),IF(VLOOKUP($A21,'8eme'!$B:$M,12,FALSE)=BG$2,\"X\",\"\"))","v":""},{"$f":"IF(ISERROR(VLOOKUP($A21,'8eme'!$B:$M,12,FALSE)),IF(ISERROR(VLOOKUP($A21,'8eme'!$F:$M,8,FALSE)),\"\",IF(VLOOKUP($A21,'8eme'!$F:$M,8,FALSE)=BH$2,\"X\",\"\")),IF(VLOOKUP($A21,'8eme'!$B:$M,12,FALSE)=BH$2,\"X\",\"\"))","v":""},{"$f":"IF(ISERROR(VLOOKUP($A21,'8eme'!$B:$M,12,FALSE)),IF(ISERROR(VLOOKUP($A21,'8eme'!$F:$M,8,FALSE)),\"\",IF(VLOOKUP($A21,'8eme'!$F:$M,8,FALSE)=BI$2,\"X\",\"\")),IF(VLOOKUP($A21,'8eme'!$B:$M,12,FALSE)=BI$2,\"X\",\"\"))","v":""},{"$f":"IF(ISERROR(VLOOKUP($A21,'8eme'!$B:$M,12,FALSE)),IF(ISERROR(VLOOKUP($A21,'8eme'!$F:$M,8,FALSE)),\"\",IF(VLOOKUP($A21,'8eme'!$F:$M,8,FALSE)=BJ$2,\"X\",\"\")),IF(VLOOKUP($A21,'8eme'!$B:$M,12,FALSE)=BJ$2,\"X\",\"\"))","v":""},{"$f":"IF(ISERROR(VLOOKUP($A21,'8eme'!$B:$M,12,FALSE)),IF(ISERROR(VLOOKUP($A21,'8eme'!$F:$M,8,FALSE)),\"\",IF(VLOOKUP($A21,'8eme'!$F:$M,8,FALSE)=BK$2,\"X\",\"\")),IF(VLOOKUP($A21,'8eme'!$B:$M,12,FALSE)=BK$2,\"X\",\"\"))","v":""},{"$f":"IF(ISERROR(VLOOKUP($A21,'8eme'!$B:$M,12,FALSE)),IF(ISERROR(VLOOKUP($A21,'8eme'!$F:$M,8,FALSE)),\"\",IF(VLOOKUP($A21,'8eme'!$F:$M,8,FALSE)=BL$2,\"X\",\"\")),IF(VLOOKUP($A21,'8eme'!$B:$M,12,FALSE)=BL$2,\"X\",\"\"))","v":""},{"$f":"IF(ISERROR(VLOOKUP($A21,'8eme'!$B:$M,12,FALSE)),IF(ISERROR(VLOOKUP($A21,'8eme'!$F:$M,8,FALSE)),\"\",IF(VLOOKUP($A21,'8eme'!$F:$M,8,FALSE)=BM$2,\"X\",\"\")),IF(VLOOKUP($A21,'8eme'!$B:$M,12,FALSE)=BM$2,\"X\",\"\"))","v":""},{"$f":"IF(ISERROR(VLOOKUP($A21,quart!$B:$M,12,FALSE)),IF(ISERROR(VLOOKUP($A21,quart!$F:$M,8,FALSE)),\"\",IF(VLOOKUP($A21,quart!$F:$M,8,FALSE)=BN$2,\"X\",\"\")),IF(VLOOKUP($A21,quart!$B:$M,12,FALSE)=BN$2,\"X\",\"\"))","v":""},{"$f":"IF(ISERROR(VLOOKUP($A21,quart!$B:$M,12,FALSE)),IF(ISERROR(VLOOKUP($A21,quart!$F:$M,8,FALSE)),\"\",IF(VLOOKUP($A21,quart!$F:$M,8,FALSE)=BO$2,\"X\",\"\")),IF(VLOOKUP($A21,quart!$B:$M,12,FALSE)=BO$2,\"X\",\"\"))","v":""},{"$f":"IF(ISERROR(VLOOKUP($A21,quart!$B:$M,12,FALSE)),IF(ISERROR(VLOOKUP($A21,quart!$F:$M,8,FALSE)),\"\",IF(VLOOKUP($A21,quart!$F:$M,8,FALSE)=BP$2,\"X\",\"\")),IF(VLOOKUP($A21,quart!$B:$M,12,FALSE)=BP$2,\"X\",\"\"))","v":""},{"$f":"IF(ISERROR(VLOOKUP($A21,quart!$B:$M,12,FALSE)),IF(ISERROR(VLOOKUP($A21,quart!$F:$M,8,FALSE)),\"\",IF(VLOOKUP($A21,quart!$F:$M,8,FALSE)=BQ$2,\"X\",\"\")),IF(VLOOKUP($A21,quart!$B:$M,12,FALSE)=BQ$2,\"X\",\"\"))","v":""},{"$f":"IF(ISERROR(VLOOKUP($A21,quart!$B:$M,12,FALSE)),IF(ISERROR(VLOOKUP($A21,quart!$F:$M,8,FALSE)),\"\",IF(VLOOKUP($A21,quart!$F:$M,8,FALSE)=BR$2,\"X\",\"\")),IF(VLOOKUP($A21,quart!$B:$M,12,FALSE)=BR$2,\"X\",\"\"))","v":""},{"$f":"IF(ISERROR(VLOOKUP($A21,quart!$B:$M,12,FALSE)),IF(ISERROR(VLOOKUP($A21,quart!$F:$M,8,FALSE)),\"\",IF(VLOOKUP($A21,quart!$F:$M,8,FALSE)=BS$2,\"X\",\"\")),IF(VLOOKUP($A21,quart!$B:$M,12,FALSE)=BS$2,\"X\",\"\"))","v":""},{"$f":"IF(ISERROR(VLOOKUP($A21,quart!$B:$M,12,FALSE)),IF(ISERROR(VLOOKUP($A21,quart!$F:$M,8,FALSE)),\"\",IF(VLOOKUP($A21,quart!$F:$M,8,FALSE)=BT$2,\"X\",\"\")),IF(VLOOKUP($A21,quart!$B:$M,12,FALSE)=BT$2,\"X\",\"\"))","v":""},{"$f":"IF(ISERROR(VLOOKUP($A21,quart!$B:$M,12,FALSE)),IF(ISERROR(VLOOKUP($A21,quart!$F:$M,8,FALSE)),\"\",IF(VLOOKUP($A21,quart!$F:$M,8,FALSE)=BU$2,\"X\",\"\")),IF(VLOOKUP($A21,quart!$B:$M,12,FALSE)=BU$2,\"X\",\"\"))","v":""},{"$f":"IF(ISERROR(VLOOKUP($A21,quart!$B:$M,12,FALSE)),IF(ISERROR(VLOOKUP($A21,quart!$F:$M,8,FALSE)),\"\",IF(VLOOKUP($A21,quart!$F:$M,8,FALSE)=BV$2,\"X\",\"\")),IF(VLOOKUP($A21,quart!$B:$M,12,FALSE)=BV$2,\"X\",\"\"))","v":""},{"$f":"IF(ISERROR(VLOOKUP($A21,quart!$B:$M,12,FALSE)),IF(ISERROR(VLOOKUP($A21,quart!$F:$M,8,FALSE)),\"\",IF(VLOOKUP($A21,quart!$F:$M,8,FALSE)=BW$2,\"X\",\"\")),IF(VLOOKUP($A21,quart!$B:$M,12,FALSE)=BW$2,\"X\",\"\"))","v":""},{"$f":"IF(ISERROR(VLOOKUP($A21,quart!$B:$M,12,FALSE)),IF(ISERROR(VLOOKUP($A21,quart!$F:$M,8,FALSE)),\"\",IF(VLOOKUP($A21,quart!$F:$M,8,FALSE)=BX$2,\"X\",\"\")),IF(VLOOKUP($A21,quart!$B:$M,12,FALSE)=BX$2,\"X\",\"\"))","v":""},{"$f":"IF(ISERROR(VLOOKUP($A21,quart!$B:$M,12,FALSE)),IF(ISERROR(VLOOKUP($A21,quart!$F:$M,8,FALSE)),\"\",IF(VLOOKUP($A21,quart!$F:$M,8,FALSE)=BY$2,\"X\",\"\")),IF(VLOOKUP($A21,quart!$B:$M,12,FALSE)=BY$2,\"X\",\"\"))","v":""},{"$f":"IF(ISERROR(VLOOKUP($A21,quart!$B:$M,12,FALSE)),IF(ISERROR(VLOOKUP($A21,quart!$F:$M,8,FALSE)),\"\",IF(VLOOKUP($A21,quart!$F:$M,8,FALSE)=BZ$2,\"X\",\"\")),IF(VLOOKUP($A21,quart!$B:$M,12,FALSE)=BZ$2,\"X\",\"\"))","v":""},{"$f":"IF(ISERROR(VLOOKUP($A21,quart!$B:$M,12,FALSE)),IF(ISERROR(VLOOKUP($A21,quart!$F:$M,8,FALSE)),\"\",IF(VLOOKUP($A21,quart!$F:$M,8,FALSE)=CA$2,\"X\",\"\")),IF(VLOOKUP($A21,quart!$B:$M,12,FALSE)=CA$2,\"X\",\"\"))","v":""},{"$f":"IF(ISERROR(VLOOKUP($A21,quart!$B:$M,12,FALSE)),IF(ISERROR(VLOOKUP($A21,quart!$F:$M,8,FALSE)),\"\",IF(VLOOKUP($A21,quart!$F:$M,8,FALSE)=CB$2,\"X\",\"\")),IF(VLOOKUP($A21,quart!$B:$M,12,FALSE)=CB$2,\"X\",\"\"))","v":""},{"$f":"IF(ISERROR(VLOOKUP($A21,quart!$B:$M,12,FALSE)),IF(ISERROR(VLOOKUP($A21,quart!$F:$M,8,FALSE)),\"\",IF(VLOOKUP($A21,quart!$F:$M,8,FALSE)=CC$2,\"X\",\"\")),IF(VLOOKUP($A21,quart!$B:$M,12,FALSE)=CC$2,\"X\",\"\"))","v":""},{"$f":"IF(ISERROR(VLOOKUP($A21,demi!$B:$M,12,FALSE)),IF(ISERROR(VLOOKUP($A21,demi!$F:$M,8,FALSE)),\"\",IF(VLOOKUP($A21,demi!$F:$M,8,FALSE)=CD$2,\"X\",\"\")),IF(VLOOKUP($A21,demi!$B:$M,12,FALSE)=CD$2,\"X\",\"\"))","v":""},{"$f":"IF(ISERROR(VLOOKUP($A21,demi!$B:$M,12,FALSE)),IF(ISERROR(VLOOKUP($A21,demi!$F:$M,8,FALSE)),\"\",IF(VLOOKUP($A21,demi!$F:$M,8,FALSE)=CE$2,\"X\",\"\")),IF(VLOOKUP($A21,demi!$B:$M,12,FALSE)=CE$2,\"X\",\"\"))","v":""},{"$f":"IF(ISERROR(VLOOKUP($A21,demi!$B:$M,12,FALSE)),IF(ISERROR(VLOOKUP($A21,demi!$F:$M,8,FALSE)),\"\",IF(VLOOKUP($A21,demi!$F:$M,8,FALSE)=CF$2,\"X\",\"\")),IF(VLOOKUP($A21,demi!$B:$M,12,FALSE)=CF$2,\"X\",\"\"))","v":""},{"$f":"IF(ISERROR(VLOOKUP($A21,demi!$B:$M,12,FALSE)),IF(ISERROR(VLOOKUP($A21,demi!$F:$M,8,FALSE)),\"\",IF(VLOOKUP($A21,demi!$F:$M,8,FALSE)=CG$2,\"X\",\"\")),IF(VLOOKUP($A21,demi!$B:$M,12,FALSE)=CG$2,\"X\",\"\"))","v":""},{"$f":"IF(ISERROR(VLOOKUP($A21,demi!$B:$M,12,FALSE)),IF(ISERROR(VLOOKUP($A21,demi!$F:$M,8,FALSE)),\"\",IF(VLOOKUP($A21,demi!$F:$M,8,FALSE)=CH$2,\"X\",\"\")),IF(VLOOKUP($A21,demi!$B:$M,12,FALSE)=CH$2,\"X\",\"\"))","v":""},{"$f":"IF(ISERROR(VLOOKUP($A21,demi!$B:$M,12,FALSE)),IF(ISERROR(VLOOKUP($A21,demi!$F:$M,8,FALSE)),\"\",IF(VLOOKUP($A21,demi!$F:$M,8,FALSE)=CI$2,\"X\",\"\")),IF(VLOOKUP($A21,demi!$B:$M,12,FALSE)=CI$2,\"X\",\"\"))","v":""},{"$f":"IF(ISERROR(VLOOKUP($A21,demi!$B:$M,12,FALSE)),IF(ISERROR(VLOOKUP($A21,demi!$F:$M,8,FALSE)),\"\",IF(VLOOKUP($A21,demi!$F:$M,8,FALSE)=CJ$2,\"X\",\"\")),IF(VLOOKUP($A21,demi!$B:$M,12,FALSE)=CJ$2,\"X\",\"\"))","v":""},{"$f":"IF(ISERROR(VLOOKUP($A21,demi!$B:$M,12,FALSE)),IF(ISERROR(VLOOKUP($A21,demi!$F:$M,8,FALSE)),\"\",IF(VLOOKUP($A21,demi!$F:$M,8,FALSE)=CK$2,\"X\",\"\")),IF(VLOOKUP($A21,demi!$B:$M,12,FALSE)=CK$2,\"X\",\"\"))","v":""},{"$f":"IF(ISERROR(VLOOKUP($A21,demi!$B:$M,12,FALSE)),IF(ISERROR(VLOOKUP($A21,demi!$F:$M,8,FALSE)),\"\",IF(VLOOKUP($A21,demi!$F:$M,8,FALSE)=CL$2,\"X\",\"\")),IF(VLOOKUP($A21,demi!$B:$M,12,FALSE)=CL$2,\"X\",\"\"))","v":""},{"$f":"IF(ISERROR(VLOOKUP($A21,demi!$B:$M,12,FALSE)),IF(ISERROR(VLOOKUP($A21,demi!$F:$M,8,FALSE)),\"\",IF(VLOOKUP($A21,demi!$F:$M,8,FALSE)=CM$2,\"X\",\"\")),IF(VLOOKUP($A21,demi!$B:$M,12,FALSE)=CM$2,\"X\",\"\"))","v":""},{"$f":"IF(ISERROR(VLOOKUP($A21,demi!$B:$M,12,FALSE)),IF(ISERROR(VLOOKUP($A21,demi!$F:$M,8,FALSE)),\"\",IF(VLOOKUP($A21,demi!$F:$M,8,FALSE)=CN$2,\"X\",\"\")),IF(VLOOKUP($A21,demi!$B:$M,12,FALSE)=CN$2,\"X\",\"\"))","v":""},{"$f":"IF(ISERROR(VLOOKUP($A21,demi!$B:$M,12,FALSE)),IF(ISERROR(VLOOKUP($A21,demi!$F:$M,8,FALSE)),\"\",IF(VLOOKUP($A21,demi!$F:$M,8,FALSE)=CO$2,\"X\",\"\")),IF(VLOOKUP($A21,demi!$B:$M,12,FALSE)=CO$2,\"X\",\"\"))","v":""},{"$f":"IF(ISERROR(VLOOKUP($A21,demi!$B:$M,12,FALSE)),IF(ISERROR(VLOOKUP($A21,demi!$F:$M,8,FALSE)),\"\",IF(VLOOKUP($A21,demi!$F:$M,8,FALSE)=CP$2,\"X\",\"\")),IF(VLOOKUP($A21,demi!$B:$M,12,FALSE)=CP$2,\"X\",\"\"))","v":""},{"$f":"IF(ISERROR(VLOOKUP($A21,demi!$B:$M,12,FALSE)),IF(ISERROR(VLOOKUP($A21,demi!$F:$M,8,FALSE)),\"\",IF(VLOOKUP($A21,demi!$F:$M,8,FALSE)=CQ$2,\"X\",\"\")),IF(VLOOKUP($A21,demi!$B:$M,12,FALSE)=CQ$2,\"X\",\"\"))","v":""},{"$f":"IF(ISERROR(VLOOKUP($A21,demi!$B:$M,12,FALSE)),IF(ISERROR(VLOOKUP($A21,demi!$F:$M,8,FALSE)),\"\",IF(VLOOKUP($A21,demi!$F:$M,8,FALSE)=CR$2,\"X\",\"\")),IF(VLOOKUP($A21,demi!$B:$M,12,FALSE)=CR$2,\"X\",\"\"))","v":""},{"$f":"IF(ISERROR(VLOOKUP($A21,demi!$B:$M,12,FALSE)),IF(ISERROR(VLOOKUP($A21,demi!$F:$M,8,FALSE)),\"\",IF(VLOOKUP($A21,demi!$F:$M,8,FALSE)=CS$2,\"X\",\"\")),IF(VLOOKUP($A21,demi!$B:$M,12,FALSE)=CS$2,\"X\",\"\"))","v":""}]
[20,"X","X","X","X","X","X","X","X","X","X","X","X","X","X","X","X",{"$f":"IF(ISERROR(VLOOKUP($A22,'32eme'!$B:$M,12,FALSE)),IF(ISERROR(VLOOKUP($A22,'32eme'!$F:$M,8,FALSE)),\"\",IF(VLOOKUP($A22,'32eme'!$F:$M,8,FALSE)=R$2,\"X\",\"\")),IF(VLOOKUP($A22,'32eme'!$B:$M,12,FALSE)=R$2,\"X\",\"\"))","v":""},{"$f":"IF(ISERROR(VLOOKUP($A22,'32eme'!$B:$M,12,FALSE)),IF(ISERROR(VLOOKUP($A22,'32eme'!$F:$M,8,FALSE)),\"\",IF(VLOOKUP($A22,'32eme'!$F:$M,8,FALSE)=S$2,\"X\",\"\")),IF(VLOOKUP($A22,'32eme'!$B:$M,12,FALSE)=S$2,\"X\",\"\"))","v":""},{"$f":"IF(ISERROR(VLOOKUP($A22,'32eme'!$B:$M,12,FALSE)),IF(ISERROR(VLOOKUP($A22,'32eme'!$F:$M,8,FALSE)),\"\",IF(VLOOKUP($A22,'32eme'!$F:$M,8,FALSE)=T$2,\"X\",\"\")),IF(VLOOKUP($A22,'32eme'!$B:$M,12,FALSE)=T$2,\"X\",\"\"))","v":""},{"$f":"IF(ISERROR(VLOOKUP($A22,'32eme'!$B:$M,12,FALSE)),IF(ISERROR(VLOOKUP($A22,'32eme'!$F:$M,8,FALSE)),\"\",IF(VLOOKUP($A22,'32eme'!$F:$M,8,FALSE)=U$2,\"X\",\"\")),IF(VLOOKUP($A22,'32eme'!$B:$M,12,FALSE)=U$2,\"X\",\"\"))","v":""},{"$f":"IF(ISERROR(VLOOKUP($A22,'32eme'!$B:$M,12,FALSE)),IF(ISERROR(VLOOKUP($A22,'32eme'!$F:$M,8,FALSE)),\"\",IF(VLOOKUP($A22,'32eme'!$F:$M,8,FALSE)=V$2,\"X\",\"\")),IF(VLOOKUP($A22,'32eme'!$B:$M,12,FALSE)=V$2,\"X\",\"\"))","v":""},{"$f":"IF(ISERROR(VLOOKUP($A22,'32eme'!$B:$M,12,FALSE)),IF(ISERROR(VLOOKUP($A22,'32eme'!$F:$M,8,FALSE)),\"\",IF(VLOOKUP($A22,'32eme'!$F:$M,8,FALSE)=W$2,\"X\",\"\")),IF(VLOOKUP($A22,'32eme'!$B:$M,12,FALSE)=W$2,\"X\",\"\"))","v":""},{"$f":"IF(ISERROR(VLOOKUP($A22,'32eme'!$B:$M,12,FALSE)),IF(ISERROR(VLOOKUP($A22,'32eme'!$F:$M,8,FALSE)),\"\",IF(VLOOKUP($A22,'32eme'!$F:$M,8,FALSE)=X$2,\"X\",\"\")),IF(VLOOKUP($A22,'32eme'!$B:$M,12,FALSE)=X$2,\"X\",\"\"))","v":""},{"$f":"IF(ISERROR(VLOOKUP($A22,'32eme'!$B:$M,12,FALSE)),IF(ISERROR(VLOOKUP($A22,'32eme'!$F:$M,8,FALSE)),\"\",IF(VLOOKUP($A22,'32eme'!$F:$M,8,FALSE)=Y$2,\"X\",\"\")),IF(VLOOKUP($A22,'32eme'!$B:$M,12,FALSE)=Y$2,\"X\",\"\"))","v":""},{"$f":"IF(ISERROR(VLOOKUP($A22,'32eme'!$B:$M,12,FALSE)),IF(ISERROR(VLOOKUP($A22,'32eme'!$F:$M,8,FALSE)),\"\",IF(VLOOKUP($A22,'32eme'!$F:$M,8,FALSE)=Z$2,\"X\",\"\")),IF(VLOOKUP($A22,'32eme'!$B:$M,12,FALSE)=Z$2,\"X\",\"\"))","v":""},{"$f":"IF(ISERROR(VLOOKUP($A22,'32eme'!$B:$M,12,FALSE)),IF(ISERROR(VLOOKUP($A22,'32eme'!$F:$M,8,FALSE)),\"\",IF(VLOOKUP($A22,'32eme'!$F:$M,8,FALSE)=AA$2,\"X\",\"\")),IF(VLOOKUP($A22,'32eme'!$B:$M,12,FALSE)=AA$2,\"X\",\"\"))","v":""},{"$f":"IF(ISERROR(VLOOKUP($A22,'32eme'!$B:$M,12,FALSE)),IF(ISERROR(VLOOKUP($A22,'32eme'!$F:$M,8,FALSE)),\"\",IF(VLOOKUP($A22,'32eme'!$F:$M,8,FALSE)=AB$2,\"X\",\"\")),IF(VLOOKUP($A22,'32eme'!$B:$M,12,FALSE)=AB$2,\"X\",\"\"))","v":""},{"$f":"IF(ISERROR(VLOOKUP($A22,'32eme'!$B:$M,12,FALSE)),IF(ISERROR(VLOOKUP($A22,'32eme'!$F:$M,8,FALSE)),\"\",IF(VLOOKUP($A22,'32eme'!$F:$M,8,FALSE)=AC$2,\"X\",\"\")),IF(VLOOKUP($A22,'32eme'!$B:$M,12,FALSE)=AC$2,\"X\",\"\"))","v":""},{"$f":"IF(ISERROR(VLOOKUP($A22,'32eme'!$B:$M,12,FALSE)),IF(ISERROR(VLOOKUP($A22,'32eme'!$F:$M,8,FALSE)),\"\",IF(VLOOKUP($A22,'32eme'!$F:$M,8,FALSE)=AD$2,\"X\",\"\")),IF(VLOOKUP($A22,'32eme'!$B:$M,12,FALSE)=AD$2,\"X\",\"\"))","v":""},{"$f":"IF(ISERROR(VLOOKUP($A22,'32eme'!$B:$M,12,FALSE)),IF(ISERROR(VLOOKUP($A22,'32eme'!$F:$M,8,FALSE)),\"\",IF(VLOOKUP($A22,'32eme'!$F:$M,8,FALSE)=AE$2,\"X\",\"\")),IF(VLOOKUP($A22,'32eme'!$B:$M,12,FALSE)=AE$2,\"X\",\"\"))","v":""},{"$f":"IF(ISERROR(VLOOKUP($A22,'32eme'!$B:$M,12,FALSE)),IF(ISERROR(VLOOKUP($A22,'32eme'!$F:$M,8,FALSE)),\"\",IF(VLOOKUP($A22,'32eme'!$F:$M,8,FALSE)=AF$2,\"X\",\"\")),IF(VLOOKUP($A22,'32eme'!$B:$M,12,FALSE)=AF$2,\"X\",\"\"))","v":""},{"$f":"IF(ISERROR(VLOOKUP($A22,'32eme'!$B:$M,12,FALSE)),IF(ISERROR(VLOOKUP($A22,'32eme'!$F:$M,8,FALSE)),\"\",IF(VLOOKUP($A22,'32eme'!$F:$M,8,FALSE)=AG$2,\"X\",\"\")),IF(VLOOKUP($A22,'32eme'!$B:$M,12,FALSE)=AG$2,\"X\",\"\"))","v":""},{"$f":"IF(ISERROR(VLOOKUP($A22,'16eme'!$B:$M,12,FALSE)),IF(ISERROR(VLOOKUP($A22,'16eme'!$F:$M,8,FALSE)),\"\",IF(VLOOKUP($A22,'16eme'!$F:$M,8,FALSE)=AH$2,\"X\",\"\")),IF(VLOOKUP($A22,'16eme'!$B:$M,12,FALSE)=AH$2,\"X\",\"\"))","v":""},{"$f":"IF(ISERROR(VLOOKUP($A22,'16eme'!$B:$M,12,FALSE)),IF(ISERROR(VLOOKUP($A22,'16eme'!$F:$M,8,FALSE)),\"\",IF(VLOOKUP($A22,'16eme'!$F:$M,8,FALSE)=AI$2,\"X\",\"\")),IF(VLOOKUP($A22,'16eme'!$B:$M,12,FALSE)=AI$2,\"X\",\"\"))","v":""},{"$f":"IF(ISERROR(VLOOKUP($A22,'16eme'!$B:$M,12,FALSE)),IF(ISERROR(VLOOKUP($A22,'16eme'!$F:$M,8,FALSE)),\"\",IF(VLOOKUP($A22,'16eme'!$F:$M,8,FALSE)=AJ$2,\"X\",\"\")),IF(VLOOKUP($A22,'16eme'!$B:$M,12,FALSE)=AJ$2,\"X\",\"\"))","v":""},{"$f":"IF(ISERROR(VLOOKUP($A22,'16eme'!$B:$M,12,FALSE)),IF(ISERROR(VLOOKUP($A22,'16eme'!$F:$M,8,FALSE)),\"\",IF(VLOOKUP($A22,'16eme'!$F:$M,8,FALSE)=AK$2,\"X\",\"\")),IF(VLOOKUP($A22,'16eme'!$B:$M,12,FALSE)=AK$2,\"X\",\"\"))","v":""},{"$f":"IF(ISERROR(VLOOKUP($A22,'16eme'!$B:$M,12,FALSE)),IF(ISERROR(VLOOKUP($A22,'16eme'!$F:$M,8,FALSE)),\"\",IF(VLOOKUP($A22,'16eme'!$F:$M,8,FALSE)=AL$2,\"X\",\"\")),IF(VLOOKUP($A22,'16eme'!$B:$M,12,FALSE)=AL$2,\"X\",\"\"))","v":""},{"$f":"IF(ISERROR(VLOOKUP($A22,'16eme'!$B:$M,12,FALSE)),IF(ISERROR(VLOOKUP($A22,'16eme'!$F:$M,8,FALSE)),\"\",IF(VLOOKUP($A22,'16eme'!$F:$M,8,FALSE)=AM$2,\"X\",\"\")),IF(VLOOKUP($A22,'16eme'!$B:$M,12,FALSE)=AM$2,\"X\",\"\"))","v":""},{"$f":"IF(ISERROR(VLOOKUP($A22,'16eme'!$B:$M,12,FALSE)),IF(ISERROR(VLOOKUP($A22,'16eme'!$F:$M,8,FALSE)),\"\",IF(VLOOKUP($A22,'16eme'!$F:$M,8,FALSE)=AN$2,\"X\",\"\")),IF(VLOOKUP($A22,'16eme'!$B:$M,12,FALSE)=AN$2,\"X\",\"\"))","v":""},{"$f":"IF(ISERROR(VLOOKUP($A22,'16eme'!$B:$M,12,FALSE)),IF(ISERROR(VLOOKUP($A22,'16eme'!$F:$M,8,FALSE)),\"\",IF(VLOOKUP($A22,'16eme'!$F:$M,8,FALSE)=AO$2,\"X\",\"\")),IF(VLOOKUP($A22,'16eme'!$B:$M,12,FALSE)=AO$2,\"X\",\"\"))","v":""},{"$f":"IF(ISERROR(VLOOKUP($A22,'16eme'!$B:$M,12,FALSE)),IF(ISERROR(VLOOKUP($A22,'16eme'!$F:$M,8,FALSE)),\"\",IF(VLOOKUP($A22,'16eme'!$F:$M,8,FALSE)=AP$2,\"X\",\"\")),IF(VLOOKUP($A22,'16eme'!$B:$M,12,FALSE)=AP$2,\"X\",\"\"))","v":""},{"$f":"IF(ISERROR(VLOOKUP($A22,'16eme'!$B:$M,12,FALSE)),IF(ISERROR(VLOOKUP($A22,'16eme'!$F:$M,8,FALSE)),\"\",IF(VLOOKUP($A22,'16eme'!$F:$M,8,FALSE)=AQ$2,\"X\",\"\")),IF(VLOOKUP($A22,'16eme'!$B:$M,12,FALSE)=AQ$2,\"X\",\"\"))","v":""},{"$f":"IF(ISERROR(VLOOKUP($A22,'16eme'!$B:$M,12,FALSE)),IF(ISERROR(VLOOKUP($A22,'16eme'!$F:$M,8,FALSE)),\"\",IF(VLOOKUP($A22,'16eme'!$F:$M,8,FALSE)=AR$2,\"X\",\"\")),IF(VLOOKUP($A22,'16eme'!$B:$M,12,FALSE)=AR$2,\"X\",\"\"))","v":""},{"$f":"IF(ISERROR(VLOOKUP($A22,'16eme'!$B:$M,12,FALSE)),IF(ISERROR(VLOOKUP($A22,'16eme'!$F:$M,8,FALSE)),\"\",IF(VLOOKUP($A22,'16eme'!$F:$M,8,FALSE)=AS$2,\"X\",\"\")),IF(VLOOKUP($A22,'16eme'!$B:$M,12,FALSE)=AS$2,\"X\",\"\"))","v":""},{"$f":"IF(ISERROR(VLOOKUP($A22,'16eme'!$B:$M,12,FALSE)),IF(ISERROR(VLOOKUP($A22,'16eme'!$F:$M,8,FALSE)),\"\",IF(VLOOKUP($A22,'16eme'!$F:$M,8,FALSE)=AT$2,\"X\",\"\")),IF(VLOOKUP($A22,'16eme'!$B:$M,12,FALSE)=AT$2,\"X\",\"\"))","v":""},{"$f":"IF(ISERROR(VLOOKUP($A22,'16eme'!$B:$M,12,FALSE)),IF(ISERROR(VLOOKUP($A22,'16eme'!$F:$M,8,FALSE)),\"\",IF(VLOOKUP($A22,'16eme'!$F:$M,8,FALSE)=AU$2,\"X\",\"\")),IF(VLOOKUP($A22,'16eme'!$B:$M,12,FALSE)=AU$2,\"X\",\"\"))","v":""},{"$f":"IF(ISERROR(VLOOKUP($A22,'16eme'!$B:$M,12,FALSE)),IF(ISERROR(VLOOKUP($A22,'16eme'!$F:$M,8,FALSE)),\"\",IF(VLOOKUP($A22,'16eme'!$F:$M,8,FALSE)=AV$2,\"X\",\"\")),IF(VLOOKUP($A22,'16eme'!$B:$M,12,FALSE)=AV$2,\"X\",\"\"))","v":""},{"$f":"IF(ISERROR(VLOOKUP($A22,'16eme'!$B:$M,12,FALSE)),IF(ISERROR(VLOOKUP($A22,'16eme'!$F:$M,8,FALSE)),\"\",IF(VLOOKUP($A22,'16eme'!$F:$M,8,FALSE)=AW$2,\"X\",\"\")),IF(VLOOKUP($A22,'16eme'!$B:$M,12,FALSE)=AW$2,\"X\",\"\"))","v":""},{"$f":"IF(ISERROR(VLOOKUP($A22,'8eme'!$B:$M,12,FALSE)),IF(ISERROR(VLOOKUP($A22,'8eme'!$F:$M,8,FALSE)),\"\",IF(VLOOKUP($A22,'8eme'!$F:$M,8,FALSE)=AX$2,\"X\",\"\")),IF(VLOOKUP($A22,'8eme'!$B:$M,12,FALSE)=AX$2,\"X\",\"\"))","v":""},{"$f":"IF(ISERROR(VLOOKUP($A22,'8eme'!$B:$M,12,FALSE)),IF(ISERROR(VLOOKUP($A22,'8eme'!$F:$M,8,FALSE)),\"\",IF(VLOOKUP($A22,'8eme'!$F:$M,8,FALSE)=AY$2,\"X\",\"\")),IF(VLOOKUP($A22,'8eme'!$B:$M,12,FALSE)=AY$2,\"X\",\"\"))","v":""},{"$f":"IF(ISERROR(VLOOKUP($A22,'8eme'!$B:$M,12,FALSE)),IF(ISERROR(VLOOKUP($A22,'8eme'!$F:$M,8,FALSE)),\"\",IF(VLOOKUP($A22,'8eme'!$F:$M,8,FALSE)=AZ$2,\"X\",\"\")),IF(VLOOKUP($A22,'8eme'!$B:$M,12,FALSE)=AZ$2,\"X\",\"\"))","v":""},{"$f":"IF(ISERROR(VLOOKUP($A22,'8eme'!$B:$M,12,FALSE)),IF(ISERROR(VLOOKUP($A22,'8eme'!$F:$M,8,FALSE)),\"\",IF(VLOOKUP($A22,'8eme'!$F:$M,8,FALSE)=BA$2,\"X\",\"\")),IF(VLOOKUP($A22,'8eme'!$B:$M,12,FALSE)=BA$2,\"X\",\"\"))","v":""},{"$f":"IF(ISERROR(VLOOKUP($A22,'8eme'!$B:$M,12,FALSE)),IF(ISERROR(VLOOKUP($A22,'8eme'!$F:$M,8,FALSE)),\"\",IF(VLOOKUP($A22,'8eme'!$F:$M,8,FALSE)=BB$2,\"X\",\"\")),IF(VLOOKUP($A22,'8eme'!$B:$M,12,FALSE)=BB$2,\"X\",\"\"))","v":""},{"$f":"IF(ISERROR(VLOOKUP($A22,'8eme'!$B:$M,12,FALSE)),IF(ISERROR(VLOOKUP($A22,'8eme'!$F:$M,8,FALSE)),\"\",IF(VLOOKUP($A22,'8eme'!$F:$M,8,FALSE)=BC$2,\"X\",\"\")),IF(VLOOKUP($A22,'8eme'!$B:$M,12,FALSE)=BC$2,\"X\",\"\"))","v":""},{"$f":"IF(ISERROR(VLOOKUP($A22,'8eme'!$B:$M,12,FALSE)),IF(ISERROR(VLOOKUP($A22,'8eme'!$F:$M,8,FALSE)),\"\",IF(VLOOKUP($A22,'8eme'!$F:$M,8,FALSE)=BD$2,\"X\",\"\")),IF(VLOOKUP($A22,'8eme'!$B:$M,12,FALSE)=BD$2,\"X\",\"\"))","v":""},{"$f":"IF(ISERROR(VLOOKUP($A22,'8eme'!$B:$M,12,FALSE)),IF(ISERROR(VLOOKUP($A22,'8eme'!$F:$M,8,FALSE)),\"\",IF(VLOOKUP($A22,'8eme'!$F:$M,8,FALSE)=BE$2,\"X\",\"\")),IF(VLOOKUP($A22,'8eme'!$B:$M,12,FALSE)=BE$2,\"X\",\"\"))","v":""},{"$f":"IF(ISERROR(VLOOKUP($A22,'8eme'!$B:$M,12,FALSE)),IF(ISERROR(VLOOKUP($A22,'8eme'!$F:$M,8,FALSE)),\"\",IF(VLOOKUP($A22,'8eme'!$F:$M,8,FALSE)=BF$2,\"X\",\"\")),IF(VLOOKUP($A22,'8eme'!$B:$M,12,FALSE)=BF$2,\"X\",\"\"))","v":""},{"$f":"IF(ISERROR(VLOOKUP($A22,'8eme'!$B:$M,12,FALSE)),IF(ISERROR(VLOOKUP($A22,'8eme'!$F:$M,8,FALSE)),\"\",IF(VLOOKUP($A22,'8eme'!$F:$M,8,FALSE)=BG$2,\"X\",\"\")),IF(VLOOKUP($A22,'8eme'!$B:$M,12,FALSE)=BG$2,\"X\",\"\"))","v":""},{"$f":"IF(ISERROR(VLOOKUP($A22,'8eme'!$B:$M,12,FALSE)),IF(ISERROR(VLOOKUP($A22,'8eme'!$F:$M,8,FALSE)),\"\",IF(VLOOKUP($A22,'8eme'!$F:$M,8,FALSE)=BH$2,\"X\",\"\")),IF(VLOOKUP($A22,'8eme'!$B:$M,12,FALSE)=BH$2,\"X\",\"\"))","v":""},{"$f":"IF(ISERROR(VLOOKUP($A22,'8eme'!$B:$M,12,FALSE)),IF(ISERROR(VLOOKUP($A22,'8eme'!$F:$M,8,FALSE)),\"\",IF(VLOOKUP($A22,'8eme'!$F:$M,8,FALSE)=BI$2,\"X\",\"\")),IF(VLOOKUP($A22,'8eme'!$B:$M,12,FALSE)=BI$2,\"X\",\"\"))","v":""},{"$f":"IF(ISERROR(VLOOKUP($A22,'8eme'!$B:$M,12,FALSE)),IF(ISERROR(VLOOKUP($A22,'8eme'!$F:$M,8,FALSE)),\"\",IF(VLOOKUP($A22,'8eme'!$F:$M,8,FALSE)=BJ$2,\"X\",\"\")),IF(VLOOKUP($A22,'8eme'!$B:$M,12,FALSE)=BJ$2,\"X\",\"\"))","v":""},{"$f":"IF(ISERROR(VLOOKUP($A22,'8eme'!$B:$M,12,FALSE)),IF(ISERROR(VLOOKUP($A22,'8eme'!$F:$M,8,FALSE)),\"\",IF(VLOOKUP($A22,'8eme'!$F:$M,8,FALSE)=BK$2,\"X\",\"\")),IF(VLOOKUP($A22,'8eme'!$B:$M,12,FALSE)=BK$2,\"X\",\"\"))","v":""},{"$f":"IF(ISERROR(VLOOKUP($A22,'8eme'!$B:$M,12,FALSE)),IF(ISERROR(VLOOKUP($A22,'8eme'!$F:$M,8,FALSE)),\"\",IF(VLOOKUP($A22,'8eme'!$F:$M,8,FALSE)=BL$2,\"X\",\"\")),IF(VLOOKUP($A22,'8eme'!$B:$M,12,FALSE)=BL$2,\"X\",\"\"))","v":""},{"$f":"IF(ISERROR(VLOOKUP($A22,'8eme'!$B:$M,12,FALSE)),IF(ISERROR(VLOOKUP($A22,'8eme'!$F:$M,8,FALSE)),\"\",IF(VLOOKUP($A22,'8eme'!$F:$M,8,FALSE)=BM$2,\"X\",\"\")),IF(VLOOKUP($A22,'8eme'!$B:$M,12,FALSE)=BM$2,\"X\",\"\"))","v":""},{"$f":"IF(ISERROR(VLOOKUP($A22,quart!$B:$M,12,FALSE)),IF(ISERROR(VLOOKUP($A22,quart!$F:$M,8,FALSE)),\"\",IF(VLOOKUP($A22,quart!$F:$M,8,FALSE)=BN$2,\"X\",\"\")),IF(VLOOKUP($A22,quart!$B:$M,12,FALSE)=BN$2,\"X\",\"\"))","v":""},{"$f":"IF(ISERROR(VLOOKUP($A22,quart!$B:$M,12,FALSE)),IF(ISERROR(VLOOKUP($A22,quart!$F:$M,8,FALSE)),\"\",IF(VLOOKUP($A22,quart!$F:$M,8,FALSE)=BO$2,\"X\",\"\")),IF(VLOOKUP($A22,quart!$B:$M,12,FALSE)=BO$2,\"X\",\"\"))","v":""},{"$f":"IF(ISERROR(VLOOKUP($A22,quart!$B:$M,12,FALSE)),IF(ISERROR(VLOOKUP($A22,quart!$F:$M,8,FALSE)),\"\",IF(VLOOKUP($A22,quart!$F:$M,8,FALSE)=BP$2,\"X\",\"\")),IF(VLOOKUP($A22,quart!$B:$M,12,FALSE)=BP$2,\"X\",\"\"))","v":""},{"$f":"IF(ISERROR(VLOOKUP($A22,quart!$B:$M,12,FALSE)),IF(ISERROR(VLOOKUP($A22,quart!$F:$M,8,FALSE)),\"\",IF(VLOOKUP($A22,quart!$F:$M,8,FALSE)=BQ$2,\"X\",\"\")),IF(VLOOKUP($A22,quart!$B:$M,12,FALSE)=BQ$2,\"X\",\"\"))","v":""},{"$f":"IF(ISERROR(VLOOKUP($A22,quart!$B:$M,12,FALSE)),IF(ISERROR(VLOOKUP($A22,quart!$F:$M,8,FALSE)),\"\",IF(VLOOKUP($A22,quart!$F:$M,8,FALSE)=BR$2,\"X\",\"\")),IF(VLOOKUP($A22,quart!$B:$M,12,FALSE)=BR$2,\"X\",\"\"))","v":""},{"$f":"IF(ISERROR(VLOOKUP($A22,quart!$B:$M,12,FALSE)),IF(ISERROR(VLOOKUP($A22,quart!$F:$M,8,FALSE)),\"\",IF(VLOOKUP($A22,quart!$F:$M,8,FALSE)=BS$2,\"X\",\"\")),IF(VLOOKUP($A22,quart!$B:$M,12,FALSE)=BS$2,\"X\",\"\"))","v":""},{"$f":"IF(ISERROR(VLOOKUP($A22,quart!$B:$M,12,FALSE)),IF(ISERROR(VLOOKUP($A22,quart!$F:$M,8,FALSE)),\"\",IF(VLOOKUP($A22,quart!$F:$M,8,FALSE)=BT$2,\"X\",\"\")),IF(VLOOKUP($A22,quart!$B:$M,12,FALSE)=BT$2,\"X\",\"\"))","v":""},{"$f":"IF(ISERROR(VLOOKUP($A22,quart!$B:$M,12,FALSE)),IF(ISERROR(VLOOKUP($A22,quart!$F:$M,8,FALSE)),\"\",IF(VLOOKUP($A22,quart!$F:$M,8,FALSE)=BU$2,\"X\",\"\")),IF(VLOOKUP($A22,quart!$B:$M,12,FALSE)=BU$2,\"X\",\"\"))","v":""},{"$f":"IF(ISERROR(VLOOKUP($A22,quart!$B:$M,12,FALSE)),IF(ISERROR(VLOOKUP($A22,quart!$F:$M,8,FALSE)),\"\",IF(VLOOKUP($A22,quart!$F:$M,8,FALSE)=BV$2,\"X\",\"\")),IF(VLOOKUP($A22,quart!$B:$M,12,FALSE)=BV$2,\"X\",\"\"))","v":""},{"$f":"IF(ISERROR(VLOOKUP($A22,quart!$B:$M,12,FALSE)),IF(ISERROR(VLOOKUP($A22,quart!$F:$M,8,FALSE)),\"\",IF(VLOOKUP($A22,quart!$F:$M,8,FALSE)=BW$2,\"X\",\"\")),IF(VLOOKUP($A22,quart!$B:$M,12,FALSE)=BW$2,\"X\",\"\"))","v":""},{"$f":"IF(ISERROR(VLOOKUP($A22,quart!$B:$M,12,FALSE)),IF(ISERROR(VLOOKUP($A22,quart!$F:$M,8,FALSE)),\"\",IF(VLOOKUP($A22,quart!$F:$M,8,FALSE)=BX$2,\"X\",\"\")),IF(VLOOKUP($A22,quart!$B:$M,12,FALSE)=BX$2,\"X\",\"\"))","v":""},{"$f":"IF(ISERROR(VLOOKUP($A22,quart!$B:$M,12,FALSE)),IF(ISERROR(VLOOKUP($A22,quart!$F:$M,8,FALSE)),\"\",IF(VLOOKUP($A22,quart!$F:$M,8,FALSE)=BY$2,\"X\",\"\")),IF(VLOOKUP($A22,quart!$B:$M,12,FALSE)=BY$2,\"X\",\"\"))","v":""},{"$f":"IF(ISERROR(VLOOKUP($A22,quart!$B:$M,12,FALSE)),IF(ISERROR(VLOOKUP($A22,quart!$F:$M,8,FALSE)),\"\",IF(VLOOKUP($A22,quart!$F:$M,8,FALSE)=BZ$2,\"X\",\"\")),IF(VLOOKUP($A22,quart!$B:$M,12,FALSE)=BZ$2,\"X\",\"\"))","v":""},{"$f":"IF(ISERROR(VLOOKUP($A22,quart!$B:$M,12,FALSE)),IF(ISERROR(VLOOKUP($A22,quart!$F:$M,8,FALSE)),\"\",IF(VLOOKUP($A22,quart!$F:$M,8,FALSE)=CA$2,\"X\",\"\")),IF(VLOOKUP($A22,quart!$B:$M,12,FALSE)=CA$2,\"X\",\"\"))","v":""},{"$f":"IF(ISERROR(VLOOKUP($A22,quart!$B:$M,12,FALSE)),IF(ISERROR(VLOOKUP($A22,quart!$F:$M,8,FALSE)),\"\",IF(VLOOKUP($A22,quart!$F:$M,8,FALSE)=CB$2,\"X\",\"\")),IF(VLOOKUP($A22,quart!$B:$M,12,FALSE)=CB$2,\"X\",\"\"))","v":""},{"$f":"IF(ISERROR(VLOOKUP($A22,quart!$B:$M,12,FALSE)),IF(ISERROR(VLOOKUP($A22,quart!$F:$M,8,FALSE)),\"\",IF(VLOOKUP($A22,quart!$F:$M,8,FALSE)=CC$2,\"X\",\"\")),IF(VLOOKUP($A22,quart!$B:$M,12,FALSE)=CC$2,\"X\",\"\"))","v":""},{"$f":"IF(ISERROR(VLOOKUP($A22,demi!$B:$M,12,FALSE)),IF(ISERROR(VLOOKUP($A22,demi!$F:$M,8,FALSE)),\"\",IF(VLOOKUP($A22,demi!$F:$M,8,FALSE)=CD$2,\"X\",\"\")),IF(VLOOKUP($A22,demi!$B:$M,12,FALSE)=CD$2,\"X\",\"\"))","v":""},{"$f":"IF(ISERROR(VLOOKUP($A22,demi!$B:$M,12,FALSE)),IF(ISERROR(VLOOKUP($A22,demi!$F:$M,8,FALSE)),\"\",IF(VLOOKUP($A22,demi!$F:$M,8,FALSE)=CE$2,\"X\",\"\")),IF(VLOOKUP($A22,demi!$B:$M,12,FALSE)=CE$2,\"X\",\"\"))","v":""},{"$f":"IF(ISERROR(VLOOKUP($A22,demi!$B:$M,12,FALSE)),IF(ISERROR(VLOOKUP($A22,demi!$F:$M,8,FALSE)),\"\",IF(VLOOKUP($A22,demi!$F:$M,8,FALSE)=CF$2,\"X\",\"\")),IF(VLOOKUP($A22,demi!$B:$M,12,FALSE)=CF$2,\"X\",\"\"))","v":""},{"$f":"IF(ISERROR(VLOOKUP($A22,demi!$B:$M,12,FALSE)),IF(ISERROR(VLOOKUP($A22,demi!$F:$M,8,FALSE)),\"\",IF(VLOOKUP($A22,demi!$F:$M,8,FALSE)=CG$2,\"X\",\"\")),IF(VLOOKUP($A22,demi!$B:$M,12,FALSE)=CG$2,\"X\",\"\"))","v":""},{"$f":"IF(ISERROR(VLOOKUP($A22,demi!$B:$M,12,FALSE)),IF(ISERROR(VLOOKUP($A22,demi!$F:$M,8,FALSE)),\"\",IF(VLOOKUP($A22,demi!$F:$M,8,FALSE)=CH$2,\"X\",\"\")),IF(VLOOKUP($A22,demi!$B:$M,12,FALSE)=CH$2,\"X\",\"\"))","v":""},{"$f":"IF(ISERROR(VLOOKUP($A22,demi!$B:$M,12,FALSE)),IF(ISERROR(VLOOKUP($A22,demi!$F:$M,8,FALSE)),\"\",IF(VLOOKUP($A22,demi!$F:$M,8,FALSE)=CI$2,\"X\",\"\")),IF(VLOOKUP($A22,demi!$B:$M,12,FALSE)=CI$2,\"X\",\"\"))","v":""},{"$f":"IF(ISERROR(VLOOKUP($A22,demi!$B:$M,12,FALSE)),IF(ISERROR(VLOOKUP($A22,demi!$F:$M,8,FALSE)),\"\",IF(VLOOKUP($A22,demi!$F:$M,8,FALSE)=CJ$2,\"X\",\"\")),IF(VLOOKUP($A22,demi!$B:$M,12,FALSE)=CJ$2,\"X\",\"\"))","v":""},{"$f":"IF(ISERROR(VLOOKUP($A22,demi!$B:$M,12,FALSE)),IF(ISERROR(VLOOKUP($A22,demi!$F:$M,8,FALSE)),\"\",IF(VLOOKUP($A22,demi!$F:$M,8,FALSE)=CK$2,\"X\",\"\")),IF(VLOOKUP($A22,demi!$B:$M,12,FALSE)=CK$2,\"X\",\"\"))","v":""},{"$f":"IF(ISERROR(VLOOKUP($A22,demi!$B:$M,12,FALSE)),IF(ISERROR(VLOOKUP($A22,demi!$F:$M,8,FALSE)),\"\",IF(VLOOKUP($A22,demi!$F:$M,8,FALSE)=CL$2,\"X\",\"\")),IF(VLOOKUP($A22,demi!$B:$M,12,FALSE)=CL$2,\"X\",\"\"))","v":""},{"$f":"IF(ISERROR(VLOOKUP($A22,demi!$B:$M,12,FALSE)),IF(ISERROR(VLOOKUP($A22,demi!$F:$M,8,FALSE)),\"\",IF(VLOOKUP($A22,demi!$F:$M,8,FALSE)=CM$2,\"X\",\"\")),IF(VLOOKUP($A22,demi!$B:$M,12,FALSE)=CM$2,\"X\",\"\"))","v":""},{"$f":"IF(ISERROR(VLOOKUP($A22,demi!$B:$M,12,FALSE)),IF(ISERROR(VLOOKUP($A22,demi!$F:$M,8,FALSE)),\"\",IF(VLOOKUP($A22,demi!$F:$M,8,FALSE)=CN$2,\"X\",\"\")),IF(VLOOKUP($A22,demi!$B:$M,12,FALSE)=CN$2,\"X\",\"\"))","v":""},{"$f":"IF(ISERROR(VLOOKUP($A22,demi!$B:$M,12,FALSE)),IF(ISERROR(VLOOKUP($A22,demi!$F:$M,8,FALSE)),\"\",IF(VLOOKUP($A22,demi!$F:$M,8,FALSE)=CO$2,\"X\",\"\")),IF(VLOOKUP($A22,demi!$B:$M,12,FALSE)=CO$2,\"X\",\"\"))","v":""},{"$f":"IF(ISERROR(VLOOKUP($A22,demi!$B:$M,12,FALSE)),IF(ISERROR(VLOOKUP($A22,demi!$F:$M,8,FALSE)),\"\",IF(VLOOKUP($A22,demi!$F:$M,8,FALSE)=CP$2,\"X\",\"\")),IF(VLOOKUP($A22,demi!$B:$M,12,FALSE)=CP$2,\"X\",\"\"))","v":""},{"$f":"IF(ISERROR(VLOOKUP($A22,demi!$B:$M,12,FALSE)),IF(ISERROR(VLOOKUP($A22,demi!$F:$M,8,FALSE)),\"\",IF(VLOOKUP($A22,demi!$F:$M,8,FALSE)=CQ$2,\"X\",\"\")),IF(VLOOKUP($A22,demi!$B:$M,12,FALSE)=CQ$2,\"X\",\"\"))","v":""},{"$f":"IF(ISERROR(VLOOKUP($A22,demi!$B:$M,12,FALSE)),IF(ISERROR(VLOOKUP($A22,demi!$F:$M,8,FALSE)),\"\",IF(VLOOKUP($A22,demi!$F:$M,8,FALSE)=CR$2,\"X\",\"\")),IF(VLOOKUP($A22,demi!$B:$M,12,FALSE)=CR$2,\"X\",\"\"))","v":""},{"$f":"IF(ISERROR(VLOOKUP($A22,demi!$B:$M,12,FALSE)),IF(ISERROR(VLOOKUP($A22,demi!$F:$M,8,FALSE)),\"\",IF(VLOOKUP($A22,demi!$F:$M,8,FALSE)=CS$2,\"X\",\"\")),IF(VLOOKUP($A22,demi!$B:$M,12,FALSE)=CS$2,\"X\",\"\"))","v":""}]
[21,"X","X","X","X","X","X","X","X","X","X","X","X","X","X","X","X",{"$f":"IF(ISERROR(VLOOKUP($A23,'32eme'!$B:$M,12,FALSE)),IF(ISERROR(VLOOKUP($A23,'32eme'!$F:$M,8,FALSE)),\"\",IF(VLOOKUP($A23,'32eme'!$F:$M,8,FALSE)=R$2,\"X\",\"\")),IF(VLOOKUP($A23,'32eme'!$B:$M,12,FALSE)=R$2,\"X\",\"\"))","v":""},{"$f":"IF(ISERROR(VLOOKUP($A23,'32eme'!$B:$M,12,FALSE)),IF(ISERROR(VLOOKUP($A23,'32eme'!$F:$M,8,FALSE)),\"\",IF(VLOOKUP($A23,'32eme'!$F:$M,8,FALSE)=S$2,\"X\",\"\")),IF(VLOOKUP($A23,'32eme'!$B:$M,12,FALSE)=S$2,\"X\",\"\"))","v":""},{"$f":"IF(ISERROR(VLOOKUP($A23,'32eme'!$B:$M,12,FALSE)),IF(ISERROR(VLOOKUP($A23,'32eme'!$F:$M,8,FALSE)),\"\",IF(VLOOKUP($A23,'32eme'!$F:$M,8,FALSE)=T$2,\"X\",\"\")),IF(VLOOKUP($A23,'32eme'!$B:$M,12,FALSE)=T$2,\"X\",\"\"))","v":""},{"$f":"IF(ISERROR(VLOOKUP($A23,'32eme'!$B:$M,12,FALSE)),IF(ISERROR(VLOOKUP($A23,'32eme'!$F:$M,8,FALSE)),\"\",IF(VLOOKUP($A23,'32eme'!$F:$M,8,FALSE)=U$2,\"X\",\"\")),IF(VLOOKUP($A23,'32eme'!$B:$M,12,FALSE)=U$2,\"X\",\"\"))","v":""},{"$f":"IF(ISERROR(VLOOKUP($A23,'32eme'!$B:$M,12,FALSE)),IF(ISERROR(VLOOKUP($A23,'32eme'!$F:$M,8,FALSE)),\"\",IF(VLOOKUP($A23,'32eme'!$F:$M,8,FALSE)=V$2,\"X\",\"\")),IF(VLOOKUP($A23,'32eme'!$B:$M,12,FALSE)=V$2,\"X\",\"\"))","v":""},{"$f":"IF(ISERROR(VLOOKUP($A23,'32eme'!$B:$M,12,FALSE)),IF(ISERROR(VLOOKUP($A23,'32eme'!$F:$M,8,FALSE)),\"\",IF(VLOOKUP($A23,'32eme'!$F:$M,8,FALSE)=W$2,\"X\",\"\")),IF(VLOOKUP($A23,'32eme'!$B:$M,12,FALSE)=W$2,\"X\",\"\"))","v":""},{"$f":"IF(ISERROR(VLOOKUP($A23,'32eme'!$B:$M,12,FALSE)),IF(ISERROR(VLOOKUP($A23,'32eme'!$F:$M,8,FALSE)),\"\",IF(VLOOKUP($A23,'32eme'!$F:$M,8,FALSE)=X$2,\"X\",\"\")),IF(VLOOKUP($A23,'32eme'!$B:$M,12,FALSE)=X$2,\"X\",\"\"))","v":""},{"$f":"IF(ISERROR(VLOOKUP($A23,'32eme'!$B:$M,12,FALSE)),IF(ISERROR(VLOOKUP($A23,'32eme'!$F:$M,8,FALSE)),\"\",IF(VLOOKUP($A23,'32eme'!$F:$M,8,FALSE)=Y$2,\"X\",\"\")),IF(VLOOKUP($A23,'32eme'!$B:$M,12,FALSE)=Y$2,\"X\",\"\"))","v":""},{"$f":"IF(ISERROR(VLOOKUP($A23,'32eme'!$B:$M,12,FALSE)),IF(ISERROR(VLOOKUP($A23,'32eme'!$F:$M,8,FALSE)),\"\",IF(VLOOKUP($A23,'32eme'!$F:$M,8,FALSE)=Z$2,\"X\",\"\")),IF(VLOOKUP($A23,'32eme'!$B:$M,12,FALSE)=Z$2,\"X\",\"\"))","v":""},{"$f":"IF(ISERROR(VLOOKUP($A23,'32eme'!$B:$M,12,FALSE)),IF(ISERROR(VLOOKUP($A23,'32eme'!$F:$M,8,FALSE)),\"\",IF(VLOOKUP($A23,'32eme'!$F:$M,8,FALSE)=AA$2,\"X\",\"\")),IF(VLOOKUP($A23,'32eme'!$B:$M,12,FALSE)=AA$2,\"X\",\"\"))","v":""},{"$f":"IF(ISERROR(VLOOKUP($A23,'32eme'!$B:$M,12,FALSE)),IF(ISERROR(VLOOKUP($A23,'32eme'!$F:$M,8,FALSE)),\"\",IF(VLOOKUP($A23,'32eme'!$F:$M,8,FALSE)=AB$2,\"X\",\"\")),IF(VLOOKUP($A23,'32eme'!$B:$M,12,FALSE)=AB$2,\"X\",\"\"))","v":""},{"$f":"IF(ISERROR(VLOOKUP($A23,'32eme'!$B:$M,12,FALSE)),IF(ISERROR(VLOOKUP($A23,'32eme'!$F:$M,8,FALSE)),\"\",IF(VLOOKUP($A23,'32eme'!$F:$M,8,FALSE)=AC$2,\"X\",\"\")),IF(VLOOKUP($A23,'32eme'!$B:$M,12,FALSE)=AC$2,\"X\",\"\"))","v":""},{"$f":"IF(ISERROR(VLOOKUP($A23,'32eme'!$B:$M,12,FALSE)),IF(ISERROR(VLOOKUP($A23,'32eme'!$F:$M,8,FALSE)),\"\",IF(VLOOKUP($A23,'32eme'!$F:$M,8,FALSE)=AD$2,\"X\",\"\")),IF(VLOOKUP($A23,'32eme'!$B:$M,12,FALSE)=AD$2,\"X\",\"\"))","v":""},{"$f":"IF(ISERROR(VLOOKUP($A23,'32eme'!$B:$M,12,FALSE)),IF(ISERROR(VLOOKUP($A23,'32eme'!$F:$M,8,FALSE)),\"\",IF(VLOOKUP($A23,'32eme'!$F:$M,8,FALSE)=AE$2,\"X\",\"\")),IF(VLOOKUP($A23,'32eme'!$B:$M,12,FALSE)=AE$2,\"X\",\"\"))","v":""},{"$f":"IF(ISERROR(VLOOKUP($A23,'32eme'!$B:$M,12,FALSE)),IF(ISERROR(VLOOKUP($A23,'32eme'!$F:$M,8,FALSE)),\"\",IF(VLOOKUP($A23,'32eme'!$F:$M,8,FALSE)=AF$2,\"X\",\"\")),IF(VLOOKUP($A23,'32eme'!$B:$M,12,FALSE)=AF$2,\"X\",\"\"))","v":""},{"$f":"IF(ISERROR(VLOOKUP($A23,'32eme'!$B:$M,12,FALSE)),IF(ISERROR(VLOOKUP($A23,'32eme'!$F:$M,8,FALSE)),\"\",IF(VLOOKUP($A23,'32eme'!$F:$M,8,FALSE)=AG$2,\"X\",\"\")),IF(VLOOKUP($A23,'32eme'!$B:$M,12,FALSE)=AG$2,\"X\",\"\"))","v":""},{"$f":"IF(ISERROR(VLOOKUP($A23,'16eme'!$B:$M,12,FALSE)),IF(ISERROR(VLOOKUP($A23,'16eme'!$F:$M,8,FALSE)),\"\",IF(VLOOKUP($A23,'16eme'!$F:$M,8,FALSE)=AH$2,\"X\",\"\")),IF(VLOOKUP($A23,'16eme'!$B:$M,12,FALSE)=AH$2,\"X\",\"\"))","v":""},{"$f":"IF(ISERROR(VLOOKUP($A23,'16eme'!$B:$M,12,FALSE)),IF(ISERROR(VLOOKUP($A23,'16eme'!$F:$M,8,FALSE)),\"\",IF(VLOOKUP($A23,'16eme'!$F:$M,8,FALSE)=AI$2,\"X\",\"\")),IF(VLOOKUP($A23,'16eme'!$B:$M,12,FALSE)=AI$2,\"X\",\"\"))","v":""},{"$f":"IF(ISERROR(VLOOKUP($A23,'16eme'!$B:$M,12,FALSE)),IF(ISERROR(VLOOKUP($A23,'16eme'!$F:$M,8,FALSE)),\"\",IF(VLOOKUP($A23,'16eme'!$F:$M,8,FALSE)=AJ$2,\"X\",\"\")),IF(VLOOKUP($A23,'16eme'!$B:$M,12,FALSE)=AJ$2,\"X\",\"\"))","v":""},{"$f":"IF(ISERROR(VLOOKUP($A23,'16eme'!$B:$M,12,FALSE)),IF(ISERROR(VLOOKUP($A23,'16eme'!$F:$M,8,FALSE)),\"\",IF(VLOOKUP($A23,'16eme'!$F:$M,8,FALSE)=AK$2,\"X\",\"\")),IF(VLOOKUP($A23,'16eme'!$B:$M,12,FALSE)=AK$2,\"X\",\"\"))","v":""},{"$f":"IF(ISERROR(VLOOKUP($A23,'16eme'!$B:$M,12,FALSE)),IF(ISERROR(VLOOKUP($A23,'16eme'!$F:$M,8,FALSE)),\"\",IF(VLOOKUP($A23,'16eme'!$F:$M,8,FALSE)=AL$2,\"X\",\"\")),IF(VLOOKUP($A23,'16eme'!$B:$M,12,FALSE)=AL$2,\"X\",\"\"))","v":""},{"$f":"IF(ISERROR(VLOOKUP($A23,'16eme'!$B:$M,12,FALSE)),IF(ISERROR(VLOOKUP($A23,'16eme'!$F:$M,8,FALSE)),\"\",IF(VLOOKUP($A23,'16eme'!$F:$M,8,FALSE)=AM$2,\"X\",\"\")),IF(VLOOKUP($A23,'16eme'!$B:$M,12,FALSE)=AM$2,\"X\",\"\"))","v":""},{"$f":"IF(ISERROR(VLOOKUP($A23,'16eme'!$B:$M,12,FALSE)),IF(ISERROR(VLOOKUP($A23,'16eme'!$F:$M,8,FALSE)),\"\",IF(VLOOKUP($A23,'16eme'!$F:$M,8,FALSE)=AN$2,\"X\",\"\")),IF(VLOOKUP($A23,'16eme'!$B:$M,12,FALSE)=AN$2,\"X\",\"\"))","v":""},{"$f":"IF(ISERROR(VLOOKUP($A23,'16eme'!$B:$M,12,FALSE)),IF(ISERROR(VLOOKUP($A23,'16eme'!$F:$M,8,FALSE)),\"\",IF(VLOOKUP($A23,'16eme'!$F:$M,8,FALSE)=AO$2,\"X\",\"\")),IF(VLOOKUP($A23,'16eme'!$B:$M,12,FALSE)=AO$2,\"X\",\"\"))","v":""},{"$f":"IF(ISERROR(VLOOKUP($A23,'16eme'!$B:$M,12,FALSE)),IF(ISERROR(VLOOKUP($A23,'16eme'!$F:$M,8,FALSE)),\"\",IF(VLOOKUP($A23,'16eme'!$F:$M,8,FALSE)=AP$2,\"X\",\"\")),IF(VLOOKUP($A23,'16eme'!$B:$M,12,FALSE)=AP$2,\"X\",\"\"))","v":""},{"$f":"IF(ISERROR(VLOOKUP($A23,'16eme'!$B:$M,12,FALSE)),IF(ISERROR(VLOOKUP($A23,'16eme'!$F:$M,8,FALSE)),\"\",IF(VLOOKUP($A23,'16eme'!$F:$M,8,FALSE)=AQ$2,\"X\",\"\")),IF(VLOOKUP($A23,'16eme'!$B:$M,12,FALSE)=AQ$2,\"X\",\"\"))","v":""},{"$f":"IF(ISERROR(VLOOKUP($A23,'16eme'!$B:$M,12,FALSE)),IF(ISERROR(VLOOKUP($A23,'16eme'!$F:$M,8,FALSE)),\"\",IF(VLOOKUP($A23,'16eme'!$F:$M,8,FALSE)=AR$2,\"X\",\"\")),IF(VLOOKUP($A23,'16eme'!$B:$M,12,FALSE)=AR$2,\"X\",\"\"))","v":""},{"$f":"IF(ISERROR(VLOOKUP($A23,'16eme'!$B:$M,12,FALSE)),IF(ISERROR(VLOOKUP($A23,'16eme'!$F:$M,8,FALSE)),\"\",IF(VLOOKUP($A23,'16eme'!$F:$M,8,FALSE)=AS$2,\"X\",\"\")),IF(VLOOKUP($A23,'16eme'!$B:$M,12,FALSE)=AS$2,\"X\",\"\"))","v":""},{"$f":"IF(ISERROR(VLOOKUP($A23,'16eme'!$B:$M,12,FALSE)),IF(ISERROR(VLOOKUP($A23,'16eme'!$F:$M,8,FALSE)),\"\",IF(VLOOKUP($A23,'16eme'!$F:$M,8,FALSE)=AT$2,\"X\",\"\")),IF(VLOOKUP($A23,'16eme'!$B:$M,12,FALSE)=AT$2,\"X\",\"\"))","v":""},{"$f":"IF(ISERROR(VLOOKUP($A23,'16eme'!$B:$M,12,FALSE)),IF(ISERROR(VLOOKUP($A23,'16eme'!$F:$M,8,FALSE)),\"\",IF(VLOOKUP($A23,'16eme'!$F:$M,8,FALSE)=AU$2,\"X\",\"\")),IF(VLOOKUP($A23,'16eme'!$B:$M,12,FALSE)=AU$2,\"X\",\"\"))","v":""},{"$f":"IF(ISERROR(VLOOKUP($A23,'16eme'!$B:$M,12,FALSE)),IF(ISERROR(VLOOKUP($A23,'16eme'!$F:$M,8,FALSE)),\"\",IF(VLOOKUP($A23,'16eme'!$F:$M,8,FALSE)=AV$2,\"X\",\"\")),IF(VLOOKUP($A23,'16eme'!$B:$M,12,FALSE)=AV$2,\"X\",\"\"))","v":""},{"$f":"IF(ISERROR(VLOOKUP($A23,'16eme'!$B:$M,12,FALSE)),IF(ISERROR(VLOOKUP($A23,'16eme'!$F:$M,8,FALSE)),\"\",IF(VLOOKUP($A23,'16eme'!$F:$M,8,FALSE)=AW$2,\"X\",\"\")),IF(VLOOKUP($A23,'16eme'!$B:$M,12,FALSE)=AW$2,\"X\",\"\"))","v":""},{"$f":"IF(ISERROR(VLOOKUP($A23,'8eme'!$B:$M,12,FALSE)),IF(ISERROR(VLOOKUP($A23,'8eme'!$F:$M,8,FALSE)),\"\",IF(VLOOKUP($A23,'8eme'!$F:$M,8,FALSE)=AX$2,\"X\",\"\")),IF(VLOOKUP($A23,'8eme'!$B:$M,12,FALSE)=AX$2,\"X\",\"\"))","v":""},{"$f":"IF(ISERROR(VLOOKUP($A23,'8eme'!$B:$M,12,FALSE)),IF(ISERROR(VLOOKUP($A23,'8eme'!$F:$M,8,FALSE)),\"\",IF(VLOOKUP($A23,'8eme'!$F:$M,8,FALSE)=AY$2,\"X\",\"\")),IF(VLOOKUP($A23,'8eme'!$B:$M,12,FALSE)=AY$2,\"X\",\"\"))","v":""},{"$f":"IF(ISERROR(VLOOKUP($A23,'8eme'!$B:$M,12,FALSE)),IF(ISERROR(VLOOKUP($A23,'8eme'!$F:$M,8,FALSE)),\"\",IF(VLOOKUP($A23,'8eme'!$F:$M,8,FALSE)=AZ$2,\"X\",\"\")),IF(VLOOKUP($A23,'8eme'!$B:$M,12,FALSE)=AZ$2,\"X\",\"\"))","v":""},{"$f":"IF(ISERROR(VLOOKUP($A23,'8eme'!$B:$M,12,FALSE)),IF(ISERROR(VLOOKUP($A23,'8eme'!$F:$M,8,FALSE)),\"\",IF(VLOOKUP($A23,'8eme'!$F:$M,8,FALSE)=BA$2,\"X\",\"\")),IF(VLOOKUP($A23,'8eme'!$B:$M,12,FALSE)=BA$2,\"X\",\"\"))","v":""},{"$f":"IF(ISERROR(VLOOKUP($A23,'8eme'!$B:$M,12,FALSE)),IF(ISERROR(VLOOKUP($A23,'8eme'!$F:$M,8,FALSE)),\"\",IF(VLOOKUP($A23,'8eme'!$F:$M,8,FALSE)=BB$2,\"X\",\"\")),IF(VLOOKUP($A23,'8eme'!$B:$M,12,FALSE)=BB$2,\"X\",\"\"))","v":""},{"$f":"IF(ISERROR(VLOOKUP($A23,'8eme'!$B:$M,12,FALSE)),IF(ISERROR(VLOOKUP($A23,'8eme'!$F:$M,8,FALSE)),\"\",IF(VLOOKUP($A23,'8eme'!$F:$M,8,FALSE)=BC$2,\"X\",\"\")),IF(VLOOKUP($A23,'8eme'!$B:$M,12,FALSE)=BC$2,\"X\",\"\"))","v":""},{"$f":"IF(ISERROR(VLOOKUP($A23,'8eme'!$B:$M,12,FALSE)),IF(ISERROR(VLOOKUP($A23,'8eme'!$F:$M,8,FALSE)),\"\",IF(VLOOKUP($A23,'8eme'!$F:$M,8,FALSE)=BD$2,\"X\",\"\")),IF(VLOOKUP($A23,'8eme'!$B:$M,12,FALSE)=BD$2,\"X\",\"\"))","v":""},{"$f":"IF(ISERROR(VLOOKUP($A23,'8eme'!$B:$M,12,FALSE)),IF(ISERROR(VLOOKUP($A23,'8eme'!$F:$M,8,FALSE)),\"\",IF(VLOOKUP($A23,'8eme'!$F:$M,8,FALSE)=BE$2,\"X\",\"\")),IF(VLOOKUP($A23,'8eme'!$B:$M,12,FALSE)=BE$2,\"X\",\"\"))","v":""},{"$f":"IF(ISERROR(VLOOKUP($A23,'8eme'!$B:$M,12,FALSE)),IF(ISERROR(VLOOKUP($A23,'8eme'!$F:$M,8,FALSE)),\"\",IF(VLOOKUP($A23,'8eme'!$F:$M,8,FALSE)=BF$2,\"X\",\"\")),IF(VLOOKUP($A23,'8eme'!$B:$M,12,FALSE)=BF$2,\"X\",\"\"))","v":""},{"$f":"IF(ISERROR(VLOOKUP($A23,'8eme'!$B:$M,12,FALSE)),IF(ISERROR(VLOOKUP($A23,'8eme'!$F:$M,8,FALSE)),\"\",IF(VLOOKUP($A23,'8eme'!$F:$M,8,FALSE)=BG$2,\"X\",\"\")),IF(VLOOKUP($A23,'8eme'!$B:$M,12,FALSE)=BG$2,\"X\",\"\"))","v":""},{"$f":"IF(ISERROR(VLOOKUP($A23,'8eme'!$B:$M,12,FALSE)),IF(ISERROR(VLOOKUP($A23,'8eme'!$F:$M,8,FALSE)),\"\",IF(VLOOKUP($A23,'8eme'!$F:$M,8,FALSE)=BH$2,\"X\",\"\")),IF(VLOOKUP($A23,'8eme'!$B:$M,12,FALSE)=BH$2,\"X\",\"\"))","v":""},{"$f":"IF(ISERROR(VLOOKUP($A23,'8eme'!$B:$M,12,FALSE)),IF(ISERROR(VLOOKUP($A23,'8eme'!$F:$M,8,FALSE)),\"\",IF(VLOOKUP($A23,'8eme'!$F:$M,8,FALSE)=BI$2,\"X\",\"\")),IF(VLOOKUP($A23,'8eme'!$B:$M,12,FALSE)=BI$2,\"X\",\"\"))","v":""},{"$f":"IF(ISERROR(VLOOKUP($A23,'8eme'!$B:$M,12,FALSE)),IF(ISERROR(VLOOKUP($A23,'8eme'!$F:$M,8,FALSE)),\"\",IF(VLOOKUP($A23,'8eme'!$F:$M,8,FALSE)=BJ$2,\"X\",\"\")),IF(VLOOKUP($A23,'8eme'!$B:$M,12,FALSE)=BJ$2,\"X\",\"\"))","v":""},{"$f":"IF(ISERROR(VLOOKUP($A23,'8eme'!$B:$M,12,FALSE)),IF(ISERROR(VLOOKUP($A23,'8eme'!$F:$M,8,FALSE)),\"\",IF(VLOOKUP($A23,'8eme'!$F:$M,8,FALSE)=BK$2,\"X\",\"\")),IF(VLOOKUP($A23,'8eme'!$B:$M,12,FALSE)=BK$2,\"X\",\"\"))","v":""},{"$f":"IF(ISERROR(VLOOKUP($A23,'8eme'!$B:$M,12,FALSE)),IF(ISERROR(VLOOKUP($A23,'8eme'!$F:$M,8,FALSE)),\"\",IF(VLOOKUP($A23,'8eme'!$F:$M,8,FALSE)=BL$2,\"X\",\"\")),IF(VLOOKUP($A23,'8eme'!$B:$M,12,FALSE)=BL$2,\"X\",\"\"))","v":""},{"$f":"IF(ISERROR(VLOOKUP($A23,'8eme'!$B:$M,12,FALSE)),IF(ISERROR(VLOOKUP($A23,'8eme'!$F:$M,8,FALSE)),\"\",IF(VLOOKUP($A23,'8eme'!$F:$M,8,FALSE)=BM$2,\"X\",\"\")),IF(VLOOKUP($A23,'8eme'!$B:$M,12,FALSE)=BM$2,\"X\",\"\"))","v":""},{"$f":"IF(ISERROR(VLOOKUP($A23,quart!$B:$M,12,FALSE)),IF(ISERROR(VLOOKUP($A23,quart!$F:$M,8,FALSE)),\"\",IF(VLOOKUP($A23,quart!$F:$M,8,FALSE)=BN$2,\"X\",\"\")),IF(VLOOKUP($A23,quart!$B:$M,12,FALSE)=BN$2,\"X\",\"\"))","v":""},{"$f":"IF(ISERROR(VLOOKUP($A23,quart!$B:$M,12,FALSE)),IF(ISERROR(VLOOKUP($A23,quart!$F:$M,8,FALSE)),\"\",IF(VLOOKUP($A23,quart!$F:$M,8,FALSE)=BO$2,\"X\",\"\")),IF(VLOOKUP($A23,quart!$B:$M,12,FALSE)=BO$2,\"X\",\"\"))","v":""},{"$f":"IF(ISERROR(VLOOKUP($A23,quart!$B:$M,12,FALSE)),IF(ISERROR(VLOOKUP($A23,quart!$F:$M,8,FALSE)),\"\",IF(VLOOKUP($A23,quart!$F:$M,8,FALSE)=BP$2,\"X\",\"\")),IF(VLOOKUP($A23,quart!$B:$M,12,FALSE)=BP$2,\"X\",\"\"))","v":""},{"$f":"IF(ISERROR(VLOOKUP($A23,quart!$B:$M,12,FALSE)),IF(ISERROR(VLOOKUP($A23,quart!$F:$M,8,FALSE)),\"\",IF(VLOOKUP($A23,quart!$F:$M,8,FALSE)=BQ$2,\"X\",\"\")),IF(VLOOKUP($A23,quart!$B:$M,12,FALSE)=BQ$2,\"X\",\"\"))","v":""},{"$f":"IF(ISERROR(VLOOKUP($A23,quart!$B:$M,12,FALSE)),IF(ISERROR(VLOOKUP($A23,quart!$F:$M,8,FALSE)),\"\",IF(VLOOKUP($A23,quart!$F:$M,8,FALSE)=BR$2,\"X\",\"\")),IF(VLOOKUP($A23,quart!$B:$M,12,FALSE)=BR$2,\"X\",\"\"))","v":""},{"$f":"IF(ISERROR(VLOOKUP($A23,quart!$B:$M,12,FALSE)),IF(ISERROR(VLOOKUP($A23,quart!$F:$M,8,FALSE)),\"\",IF(VLOOKUP($A23,quart!$F:$M,8,FALSE)=BS$2,\"X\",\"\")),IF(VLOOKUP($A23,quart!$B:$M,12,FALSE)=BS$2,\"X\",\"\"))","v":""},{"$f":"IF(ISERROR(VLOOKUP($A23,quart!$B:$M,12,FALSE)),IF(ISERROR(VLOOKUP($A23,quart!$F:$M,8,FALSE)),\"\",IF(VLOOKUP($A23,quart!$F:$M,8,FALSE)=BT$2,\"X\",\"\")),IF(VLOOKUP($A23,quart!$B:$M,12,FALSE)=BT$2,\"X\",\"\"))","v":""},{"$f":"IF(ISERROR(VLOOKUP($A23,quart!$B:$M,12,FALSE)),IF(ISERROR(VLOOKUP($A23,quart!$F:$M,8,FALSE)),\"\",IF(VLOOKUP($A23,quart!$F:$M,8,FALSE)=BU$2,\"X\",\"\")),IF(VLOOKUP($A23,quart!$B:$M,12,FALSE)=BU$2,\"X\",\"\"))","v":""},{"$f":"IF(ISERROR(VLOOKUP($A23,quart!$B:$M,12,FALSE)),IF(ISERROR(VLOOKUP($A23,quart!$F:$M,8,FALSE)),\"\",IF(VLOOKUP($A23,quart!$F:$M,8,FALSE)=BV$2,\"X\",\"\")),IF(VLOOKUP($A23,quart!$B:$M,12,FALSE)=BV$2,\"X\",\"\"))","v":""},{"$f":"IF(ISERROR(VLOOKUP($A23,quart!$B:$M,12,FALSE)),IF(ISERROR(VLOOKUP($A23,quart!$F:$M,8,FALSE)),\"\",IF(VLOOKUP($A23,quart!$F:$M,8,FALSE)=BW$2,\"X\",\"\")),IF(VLOOKUP($A23,quart!$B:$M,12,FALSE)=BW$2,\"X\",\"\"))","v":""},{"$f":"IF(ISERROR(VLOOKUP($A23,quart!$B:$M,12,FALSE)),IF(ISERROR(VLOOKUP($A23,quart!$F:$M,8,FALSE)),\"\",IF(VLOOKUP($A23,quart!$F:$M,8,FALSE)=BX$2,\"X\",\"\")),IF(VLOOKUP($A23,quart!$B:$M,12,FALSE)=BX$2,\"X\",\"\"))","v":""},{"$f":"IF(ISERROR(VLOOKUP($A23,quart!$B:$M,12,FALSE)),IF(ISERROR(VLOOKUP($A23,quart!$F:$M,8,FALSE)),\"\",IF(VLOOKUP($A23,quart!$F:$M,8,FALSE)=BY$2,\"X\",\"\")),IF(VLOOKUP($A23,quart!$B:$M,12,FALSE)=BY$2,\"X\",\"\"))","v":""},{"$f":"IF(ISERROR(VLOOKUP($A23,quart!$B:$M,12,FALSE)),IF(ISERROR(VLOOKUP($A23,quart!$F:$M,8,FALSE)),\"\",IF(VLOOKUP($A23,quart!$F:$M,8,FALSE)=BZ$2,\"X\",\"\")),IF(VLOOKUP($A23,quart!$B:$M,12,FALSE)=BZ$2,\"X\",\"\"))","v":""},{"$f":"IF(ISERROR(VLOOKUP($A23,quart!$B:$M,12,FALSE)),IF(ISERROR(VLOOKUP($A23,quart!$F:$M,8,FALSE)),\"\",IF(VLOOKUP($A23,quart!$F:$M,8,FALSE)=CA$2,\"X\",\"\")),IF(VLOOKUP($A23,quart!$B:$M,12,FALSE)=CA$2,\"X\",\"\"))","v":""},{"$f":"IF(ISERROR(VLOOKUP($A23,quart!$B:$M,12,FALSE)),IF(ISERROR(VLOOKUP($A23,quart!$F:$M,8,FALSE)),\"\",IF(VLOOKUP($A23,quart!$F:$M,8,FALSE)=CB$2,\"X\",\"\")),IF(VLOOKUP($A23,quart!$B:$M,12,FALSE)=CB$2,\"X\",\"\"))","v":""},{"$f":"IF(ISERROR(VLOOKUP($A23,quart!$B:$M,12,FALSE)),IF(ISERROR(VLOOKUP($A23,quart!$F:$M,8,FALSE)),\"\",IF(VLOOKUP($A23,quart!$F:$M,8,FALSE)=CC$2,\"X\",\"\")),IF(VLOOKUP($A23,quart!$B:$M,12,FALSE)=CC$2,\"X\",\"\"))","v":""},{"$f":"IF(ISERROR(VLOOKUP($A23,demi!$B:$M,12,FALSE)),IF(ISERROR(VLOOKUP($A23,demi!$F:$M,8,FALSE)),\"\",IF(VLOOKUP($A23,demi!$F:$M,8,FALSE)=CD$2,\"X\",\"\")),IF(VLOOKUP($A23,demi!$B:$M,12,FALSE)=CD$2,\"X\",\"\"))","v":""},{"$f":"IF(ISERROR(VLOOKUP($A23,demi!$B:$M,12,FALSE)),IF(ISERROR(VLOOKUP($A23,demi!$F:$M,8,FALSE)),\"\",IF(VLOOKUP($A23,demi!$F:$M,8,FALSE)=CE$2,\"X\",\"\")),IF(VLOOKUP($A23,demi!$B:$M,12,FALSE)=CE$2,\"X\",\"\"))","v":""},{"$f":"IF(ISERROR(VLOOKUP($A23,demi!$B:$M,12,FALSE)),IF(ISERROR(VLOOKUP($A23,demi!$F:$M,8,FALSE)),\"\",IF(VLOOKUP($A23,demi!$F:$M,8,FALSE)=CF$2,\"X\",\"\")),IF(VLOOKUP($A23,demi!$B:$M,12,FALSE)=CF$2,\"X\",\"\"))","v":""},{"$f":"IF(ISERROR(VLOOKUP($A23,demi!$B:$M,12,FALSE)),IF(ISERROR(VLOOKUP($A23,demi!$F:$M,8,FALSE)),\"\",IF(VLOOKUP($A23,demi!$F:$M,8,FALSE)=CG$2,\"X\",\"\")),IF(VLOOKUP($A23,demi!$B:$M,12,FALSE)=CG$2,\"X\",\"\"))","v":""},{"$f":"IF(ISERROR(VLOOKUP($A23,demi!$B:$M,12,FALSE)),IF(ISERROR(VLOOKUP($A23,demi!$F:$M,8,FALSE)),\"\",IF(VLOOKUP($A23,demi!$F:$M,8,FALSE)=CH$2,\"X\",\"\")),IF(VLOOKUP($A23,demi!$B:$M,12,FALSE)=CH$2,\"X\",\"\"))","v":""},{"$f":"IF(ISERROR(VLOOKUP($A23,demi!$B:$M,12,FALSE)),IF(ISERROR(VLOOKUP($A23,demi!$F:$M,8,FALSE)),\"\",IF(VLOOKUP($A23,demi!$F:$M,8,FALSE)=CI$2,\"X\",\"\")),IF(VLOOKUP($A23,demi!$B:$M,12,FALSE)=CI$2,\"X\",\"\"))","v":""},{"$f":"IF(ISERROR(VLOOKUP($A23,demi!$B:$M,12,FALSE)),IF(ISERROR(VLOOKUP($A23,demi!$F:$M,8,FALSE)),\"\",IF(VLOOKUP($A23,demi!$F:$M,8,FALSE)=CJ$2,\"X\",\"\")),IF(VLOOKUP($A23,demi!$B:$M,12,FALSE)=CJ$2,\"X\",\"\"))","v":""},{"$f":"IF(ISERROR(VLOOKUP($A23,demi!$B:$M,12,FALSE)),IF(ISERROR(VLOOKUP($A23,demi!$F:$M,8,FALSE)),\"\",IF(VLOOKUP($A23,demi!$F:$M,8,FALSE)=CK$2,\"X\",\"\")),IF(VLOOKUP($A23,demi!$B:$M,12,FALSE)=CK$2,\"X\",\"\"))","v":""},{"$f":"IF(ISERROR(VLOOKUP($A23,demi!$B:$M,12,FALSE)),IF(ISERROR(VLOOKUP($A23,demi!$F:$M,8,FALSE)),\"\",IF(VLOOKUP($A23,demi!$F:$M,8,FALSE)=CL$2,\"X\",\"\")),IF(VLOOKUP($A23,demi!$B:$M,12,FALSE)=CL$2,\"X\",\"\"))","v":""},{"$f":"IF(ISERROR(VLOOKUP($A23,demi!$B:$M,12,FALSE)),IF(ISERROR(VLOOKUP($A23,demi!$F:$M,8,FALSE)),\"\",IF(VLOOKUP($A23,demi!$F:$M,8,FALSE)=CM$2,\"X\",\"\")),IF(VLOOKUP($A23,demi!$B:$M,12,FALSE)=CM$2,\"X\",\"\"))","v":""},{"$f":"IF(ISERROR(VLOOKUP($A23,demi!$B:$M,12,FALSE)),IF(ISERROR(VLOOKUP($A23,demi!$F:$M,8,FALSE)),\"\",IF(VLOOKUP($A23,demi!$F:$M,8,FALSE)=CN$2,\"X\",\"\")),IF(VLOOKUP($A23,demi!$B:$M,12,FALSE)=CN$2,\"X\",\"\"))","v":""},{"$f":"IF(ISERROR(VLOOKUP($A23,demi!$B:$M,12,FALSE)),IF(ISERROR(VLOOKUP($A23,demi!$F:$M,8,FALSE)),\"\",IF(VLOOKUP($A23,demi!$F:$M,8,FALSE)=CO$2,\"X\",\"\")),IF(VLOOKUP($A23,demi!$B:$M,12,FALSE)=CO$2,\"X\",\"\"))","v":""},{"$f":"IF(ISERROR(VLOOKUP($A23,demi!$B:$M,12,FALSE)),IF(ISERROR(VLOOKUP($A23,demi!$F:$M,8,FALSE)),\"\",IF(VLOOKUP($A23,demi!$F:$M,8,FALSE)=CP$2,\"X\",\"\")),IF(VLOOKUP($A23,demi!$B:$M,12,FALSE)=CP$2,\"X\",\"\"))","v":""},{"$f":"IF(ISERROR(VLOOKUP($A23,demi!$B:$M,12,FALSE)),IF(ISERROR(VLOOKUP($A23,demi!$F:$M,8,FALSE)),\"\",IF(VLOOKUP($A23,demi!$F:$M,8,FALSE)=CQ$2,\"X\",\"\")),IF(VLOOKUP($A23,demi!$B:$M,12,FALSE)=CQ$2,\"X\",\"\"))","v":""},{"$f":"IF(ISERROR(VLOOKUP($A23,demi!$B:$M,12,FALSE)),IF(ISERROR(VLOOKUP($A23,demi!$F:$M,8,FALSE)),\"\",IF(VLOOKUP($A23,demi!$F:$M,8,FALSE)=CR$2,\"X\",\"\")),IF(VLOOKUP($A23,demi!$B:$M,12,FALSE)=CR$2,\"X\",\"\"))","v":""},{"$f":"IF(ISERROR(VLOOKUP($A23,demi!$B:$M,12,FALSE)),IF(ISERROR(VLOOKUP($A23,demi!$F:$M,8,FALSE)),\"\",IF(VLOOKUP($A23,demi!$F:$M,8,FALSE)=CS$2,\"X\",\"\")),IF(VLOOKUP($A23,demi!$B:$M,12,FALSE)=CS$2,\"X\",\"\"))","v":""}]
[22,"X","X","X","X","X","X","X","X","X","X","X","X","X","X","X","X",{"$f":"IF(ISERROR(VLOOKUP($A24,'32eme'!$B:$M,12,FALSE)),IF(ISERROR(VLOOKUP($A24,'32eme'!$F:$M,8,FALSE)),\"\",IF(VLOOKUP($A24,'32eme'!$F:$M,8,FALSE)=R$2,\"X\",\"\")),IF(VLOOKUP($A24,'32eme'!$B:$M,12,FALSE)=R$2,\"X\",\"\"))","v":""},{"$f":"IF(ISERROR(VLOOKUP($A24,'32eme'!$B:$M,12,FALSE)),IF(ISERROR(VLOOKUP($A24,'32eme'!$F:$M,8,FALSE)),\"\",IF(VLOOKUP($A24,'32eme'!$F:$M,8,FALSE)=S$2,\"X\",\"\")),IF(VLOOKUP($A24,'32eme'!$B:$M,12,FALSE)=S$2,\"X\",\"\"))","v":""},{"$f":"IF(ISERROR(VLOOKUP($A24,'32eme'!$B:$M,12,FALSE)),IF(ISERROR(VLOOKUP($A24,'32eme'!$F:$M,8,FALSE)),\"\",IF(VLOOKUP($A24,'32eme'!$F:$M,8,FALSE)=T$2,\"X\",\"\")),IF(VLOOKUP($A24,'32eme'!$B:$M,12,FALSE)=T$2,\"X\",\"\"))","v":""},{"$f":"IF(ISERROR(VLOOKUP($A24,'32eme'!$B:$M,12,FALSE)),IF(ISERROR(VLOOKUP($A24,'32eme'!$F:$M,8,FALSE)),\"\",IF(VLOOKUP($A24,'32eme'!$F:$M,8,FALSE)=U$2,\"X\",\"\")),IF(VLOOKUP($A24,'32eme'!$B:$M,12,FALSE)=U$2,\"X\",\"\"))","v":""},{"$f":"IF(ISERROR(VLOOKUP($A24,'32eme'!$B:$M,12,FALSE)),IF(ISERROR(VLOOKUP($A24,'32eme'!$F:$M,8,FALSE)),\"\",IF(VLOOKUP($A24,'32eme'!$F:$M,8,FALSE)=V$2,\"X\",\"\")),IF(VLOOKUP($A24,'32eme'!$B:$M,12,FALSE)=V$2,\"X\",\"\"))","v":""},{"$f":"IF(ISERROR(VLOOKUP($A24,'32eme'!$B:$M,12,FALSE)),IF(ISERROR(VLOOKUP($A24,'32eme'!$F:$M,8,FALSE)),\"\",IF(VLOOKUP($A24,'32eme'!$F:$M,8,FALSE)=W$2,\"X\",\"\")),IF(VLOOKUP($A24,'32eme'!$B:$M,12,FALSE)=W$2,\"X\",\"\"))","v":""},{"$f":"IF(ISERROR(VLOOKUP($A24,'32eme'!$B:$M,12,FALSE)),IF(ISERROR(VLOOKUP($A24,'32eme'!$F:$M,8,FALSE)),\"\",IF(VLOOKUP($A24,'32eme'!$F:$M,8,FALSE)=X$2,\"X\",\"\")),IF(VLOOKUP($A24,'32eme'!$B:$M,12,FALSE)=X$2,\"X\",\"\"))","v":""},{"$f":"IF(ISERROR(VLOOKUP($A24,'32eme'!$B:$M,12,FALSE)),IF(ISERROR(VLOOKUP($A24,'32eme'!$F:$M,8,FALSE)),\"\",IF(VLOOKUP($A24,'32eme'!$F:$M,8,FALSE)=Y$2,\"X\",\"\")),IF(VLOOKUP($A24,'32eme'!$B:$M,12,FALSE)=Y$2,\"X\",\"\"))","v":""},{"$f":"IF(ISERROR(VLOOKUP($A24,'32eme'!$B:$M,12,FALSE)),IF(ISERROR(VLOOKUP($A24,'32eme'!$F:$M,8,FALSE)),\"\",IF(VLOOKUP($A24,'32eme'!$F:$M,8,FALSE)=Z$2,\"X\",\"\")),IF(VLOOKUP($A24,'32eme'!$B:$M,12,FALSE)=Z$2,\"X\",\"\"))","v":""},{"$f":"IF(ISERROR(VLOOKUP($A24,'32eme'!$B:$M,12,FALSE)),IF(ISERROR(VLOOKUP($A24,'32eme'!$F:$M,8,FALSE)),\"\",IF(VLOOKUP($A24,'32eme'!$F:$M,8,FALSE)=AA$2,\"X\",\"\")),IF(VLOOKUP($A24,'32eme'!$B:$M,12,FALSE)=AA$2,\"X\",\"\"))","v":""},{"$f":"IF(ISERROR(VLOOKUP($A24,'32eme'!$B:$M,12,FALSE)),IF(ISERROR(VLOOKUP($A24,'32eme'!$F:$M,8,FALSE)),\"\",IF(VLOOKUP($A24,'32eme'!$F:$M,8,FALSE)=AB$2,\"X\",\"\")),IF(VLOOKUP($A24,'32eme'!$B:$M,12,FALSE)=AB$2,\"X\",\"\"))","v":""},{"$f":"IF(ISERROR(VLOOKUP($A24,'32eme'!$B:$M,12,FALSE)),IF(ISERROR(VLOOKUP($A24,'32eme'!$F:$M,8,FALSE)),\"\",IF(VLOOKUP($A24,'32eme'!$F:$M,8,FALSE)=AC$2,\"X\",\"\")),IF(VLOOKUP($A24,'32eme'!$B:$M,12,FALSE)=AC$2,\"X\",\"\"))","v":""},{"$f":"IF(ISERROR(VLOOKUP($A24,'32eme'!$B:$M,12,FALSE)),IF(ISERROR(VLOOKUP($A24,'32eme'!$F:$M,8,FALSE)),\"\",IF(VLOOKUP($A24,'32eme'!$F:$M,8,FALSE)=AD$2,\"X\",\"\")),IF(VLOOKUP($A24,'32eme'!$B:$M,12,FALSE)=AD$2,\"X\",\"\"))","v":""},{"$f":"IF(ISERROR(VLOOKUP($A24,'32eme'!$B:$M,12,FALSE)),IF(ISERROR(VLOOKUP($A24,'32eme'!$F:$M,8,FALSE)),\"\",IF(VLOOKUP($A24,'32eme'!$F:$M,8,FALSE)=AE$2,\"X\",\"\")),IF(VLOOKUP($A24,'32eme'!$B:$M,12,FALSE)=AE$2,\"X\",\"\"))","v":""},{"$f":"IF(ISERROR(VLOOKUP($A24,'32eme'!$B:$M,12,FALSE)),IF(ISERROR(VLOOKUP($A24,'32eme'!$F:$M,8,FALSE)),\"\",IF(VLOOKUP($A24,'32eme'!$F:$M,8,FALSE)=AF$2,\"X\",\"\")),IF(VLOOKUP($A24,'32eme'!$B:$M,12,FALSE)=AF$2,\"X\",\"\"))","v":""},{"$f":"IF(ISERROR(VLOOKUP($A24,'32eme'!$B:$M,12,FALSE)),IF(ISERROR(VLOOKUP($A24,'32eme'!$F:$M,8,FALSE)),\"\",IF(VLOOKUP($A24,'32eme'!$F:$M,8,FALSE)=AG$2,\"X\",\"\")),IF(VLOOKUP($A24,'32eme'!$B:$M,12,FALSE)=AG$2,\"X\",\"\"))","v":""},{"$f":"IF(ISERROR(VLOOKUP($A24,'16eme'!$B:$M,12,FALSE)),IF(ISERROR(VLOOKUP($A24,'16eme'!$F:$M,8,FALSE)),\"\",IF(VLOOKUP($A24,'16eme'!$F:$M,8,FALSE)=AH$2,\"X\",\"\")),IF(VLOOKUP($A24,'16eme'!$B:$M,12,FALSE)=AH$2,\"X\",\"\"))","v":""},{"$f":"IF(ISERROR(VLOOKUP($A24,'16eme'!$B:$M,12,FALSE)),IF(ISERROR(VLOOKUP($A24,'16eme'!$F:$M,8,FALSE)),\"\",IF(VLOOKUP($A24,'16eme'!$F:$M,8,FALSE)=AI$2,\"X\",\"\")),IF(VLOOKUP($A24,'16eme'!$B:$M,12,FALSE)=AI$2,\"X\",\"\"))","v":""},{"$f":"IF(ISERROR(VLOOKUP($A24,'16eme'!$B:$M,12,FALSE)),IF(ISERROR(VLOOKUP($A24,'16eme'!$F:$M,8,FALSE)),\"\",IF(VLOOKUP($A24,'16eme'!$F:$M,8,FALSE)=AJ$2,\"X\",\"\")),IF(VLOOKUP($A24,'16eme'!$B:$M,12,FALSE)=AJ$2,\"X\",\"\"))","v":""},{"$f":"IF(ISERROR(VLOOKUP($A24,'16eme'!$B:$M,12,FALSE)),IF(ISERROR(VLOOKUP($A24,'16eme'!$F:$M,8,FALSE)),\"\",IF(VLOOKUP($A24,'16eme'!$F:$M,8,FALSE)=AK$2,\"X\",\"\")),IF(VLOOKUP($A24,'16eme'!$B:$M,12,FALSE)=AK$2,\"X\",\"\"))","v":""},{"$f":"IF(ISERROR(VLOOKUP($A24,'16eme'!$B:$M,12,FALSE)),IF(ISERROR(VLOOKUP($A24,'16eme'!$F:$M,8,FALSE)),\"\",IF(VLOOKUP($A24,'16eme'!$F:$M,8,FALSE)=AL$2,\"X\",\"\")),IF(VLOOKUP($A24,'16eme'!$B:$M,12,FALSE)=AL$2,\"X\",\"\"))","v":""},{"$f":"IF(ISERROR(VLOOKUP($A24,'16eme'!$B:$M,12,FALSE)),IF(ISERROR(VLOOKUP($A24,'16eme'!$F:$M,8,FALSE)),\"\",IF(VLOOKUP($A24,'16eme'!$F:$M,8,FALSE)=AM$2,\"X\",\"\")),IF(VLOOKUP($A24,'16eme'!$B:$M,12,FALSE)=AM$2,\"X\",\"\"))","v":""},{"$f":"IF(ISERROR(VLOOKUP($A24,'16eme'!$B:$M,12,FALSE)),IF(ISERROR(VLOOKUP($A24,'16eme'!$F:$M,8,FALSE)),\"\",IF(VLOOKUP($A24,'16eme'!$F:$M,8,FALSE)=AN$2,\"X\",\"\")),IF(VLOOKUP($A24,'16eme'!$B:$M,12,FALSE)=AN$2,\"X\",\"\"))","v":""},{"$f":"IF(ISERROR(VLOOKUP($A24,'16eme'!$B:$M,12,FALSE)),IF(ISERROR(VLOOKUP($A24,'16eme'!$F:$M,8,FALSE)),\"\",IF(VLOOKUP($A24,'16eme'!$F:$M,8,FALSE)=AO$2,\"X\",\"\")),IF(VLOOKUP($A24,'16eme'!$B:$M,12,FALSE)=AO$2,\"X\",\"\"))","v":""},{"$f":"IF(ISERROR(VLOOKUP($A24,'16eme'!$B:$M,12,FALSE)),IF(ISERROR(VLOOKUP($A24,'16eme'!$F:$M,8,FALSE)),\"\",IF(VLOOKUP($A24,'16eme'!$F:$M,8,FALSE)=AP$2,\"X\",\"\")),IF(VLOOKUP($A24,'16eme'!$B:$M,12,FALSE)=AP$2,\"X\",\"\"))","v":""},{"$f":"IF(ISERROR(VLOOKUP($A24,'16eme'!$B:$M,12,FALSE)),IF(ISERROR(VLOOKUP($A24,'16eme'!$F:$M,8,FALSE)),\"\",IF(VLOOKUP($A24,'16eme'!$F:$M,8,FALSE)=AQ$2,\"X\",\"\")),IF(VLOOKUP($A24,'16eme'!$B:$M,12,FALSE)=AQ$2,\"X\",\"\"))","v":""},{"$f":"IF(ISERROR(VLOOKUP($A24,'16eme'!$B:$M,12,FALSE)),IF(ISERROR(VLOOKUP($A24,'16eme'!$F:$M,8,FALSE)),\"\",IF(VLOOKUP($A24,'16eme'!$F:$M,8,FALSE)=AR$2,\"X\",\"\")),IF(VLOOKUP($A24,'16eme'!$B:$M,12,FALSE)=AR$2,\"X\",\"\"))","v":""},{"$f":"IF(ISERROR(VLOOKUP($A24,'16eme'!$B:$M,12,FALSE)),IF(ISERROR(VLOOKUP($A24,'16eme'!$F:$M,8,FALSE)),\"\",IF(VLOOKUP($A24,'16eme'!$F:$M,8,FALSE)=AS$2,\"X\",\"\")),IF(VLOOKUP($A24,'16eme'!$B:$M,12,FALSE)=AS$2,\"X\",\"\"))","v":""},{"$f":"IF(ISERROR(VLOOKUP($A24,'16eme'!$B:$M,12,FALSE)),IF(ISERROR(VLOOKUP($A24,'16eme'!$F:$M,8,FALSE)),\"\",IF(VLOOKUP($A24,'16eme'!$F:$M,8,FALSE)=AT$2,\"X\",\"\")),IF(VLOOKUP($A24,'16eme'!$B:$M,12,FALSE)=AT$2,\"X\",\"\"))","v":""},{"$f":"IF(ISERROR(VLOOKUP($A24,'16eme'!$B:$M,12,FALSE)),IF(ISERROR(VLOOKUP($A24,'16eme'!$F:$M,8,FALSE)),\"\",IF(VLOOKUP($A24,'16eme'!$F:$M,8,FALSE)=AU$2,\"X\",\"\")),IF(VLOOKUP($A24,'16eme'!$B:$M,12,FALSE)=AU$2,\"X\",\"\"))","v":""},{"$f":"IF(ISERROR(VLOOKUP($A24,'16eme'!$B:$M,12,FALSE)),IF(ISERROR(VLOOKUP($A24,'16eme'!$F:$M,8,FALSE)),\"\",IF(VLOOKUP($A24,'16eme'!$F:$M,8,FALSE)=AV$2,\"X\",\"\")),IF(VLOOKUP($A24,'16eme'!$B:$M,12,FALSE)=AV$2,\"X\",\"\"))","v":""},{"$f":"IF(ISERROR(VLOOKUP($A24,'16eme'!$B:$M,12,FALSE)),IF(ISERROR(VLOOKUP($A24,'16eme'!$F:$M,8,FALSE)),\"\",IF(VLOOKUP($A24,'16eme'!$F:$M,8,FALSE)=AW$2,\"X\",\"\")),IF(VLOOKUP($A24,'16eme'!$B:$M,12,FALSE)=AW$2,\"X\",\"\"))","v":""},{"$f":"IF(ISERROR(VLOOKUP($A24,'8eme'!$B:$M,12,FALSE)),IF(ISERROR(VLOOKUP($A24,'8eme'!$F:$M,8,FALSE)),\"\",IF(VLOOKUP($A24,'8eme'!$F:$M,8,FALSE)=AX$2,\"X\",\"\")),IF(VLOOKUP($A24,'8eme'!$B:$M,12,FALSE)=AX$2,\"X\",\"\"))","v":""},{"$f":"IF(ISERROR(VLOOKUP($A24,'8eme'!$B:$M,12,FALSE)),IF(ISERROR(VLOOKUP($A24,'8eme'!$F:$M,8,FALSE)),\"\",IF(VLOOKUP($A24,'8eme'!$F:$M,8,FALSE)=AY$2,\"X\",\"\")),IF(VLOOKUP($A24,'8eme'!$B:$M,12,FALSE)=AY$2,\"X\",\"\"))","v":""},{"$f":"IF(ISERROR(VLOOKUP($A24,'8eme'!$B:$M,12,FALSE)),IF(ISERROR(VLOOKUP($A24,'8eme'!$F:$M,8,FALSE)),\"\",IF(VLOOKUP($A24,'8eme'!$F:$M,8,FALSE)=AZ$2,\"X\",\"\")),IF(VLOOKUP($A24,'8eme'!$B:$M,12,FALSE)=AZ$2,\"X\",\"\"))","v":""},{"$f":"IF(ISERROR(VLOOKUP($A24,'8eme'!$B:$M,12,FALSE)),IF(ISERROR(VLOOKUP($A24,'8eme'!$F:$M,8,FALSE)),\"\",IF(VLOOKUP($A24,'8eme'!$F:$M,8,FALSE)=BA$2,\"X\",\"\")),IF(VLOOKUP($A24,'8eme'!$B:$M,12,FALSE)=BA$2,\"X\",\"\"))","v":""},{"$f":"IF(ISERROR(VLOOKUP($A24,'8eme'!$B:$M,12,FALSE)),IF(ISERROR(VLOOKUP($A24,'8eme'!$F:$M,8,FALSE)),\"\",IF(VLOOKUP($A24,'8eme'!$F:$M,8,FALSE)=BB$2,\"X\",\"\")),IF(VLOOKUP($A24,'8eme'!$B:$M,12,FALSE)=BB$2,\"X\",\"\"))","v":""},{"$f":"IF(ISERROR(VLOOKUP($A24,'8eme'!$B:$M,12,FALSE)),IF(ISERROR(VLOOKUP($A24,'8eme'!$F:$M,8,FALSE)),\"\",IF(VLOOKUP($A24,'8eme'!$F:$M,8,FALSE)=BC$2,\"X\",\"\")),IF(VLOOKUP($A24,'8eme'!$B:$M,12,FALSE)=BC$2,\"X\",\"\"))","v":""},{"$f":"IF(ISERROR(VLOOKUP($A24,'8eme'!$B:$M,12,FALSE)),IF(ISERROR(VLOOKUP($A24,'8eme'!$F:$M,8,FALSE)),\"\",IF(VLOOKUP($A24,'8eme'!$F:$M,8,FALSE)=BD$2,\"X\",\"\")),IF(VLOOKUP($A24,'8eme'!$B:$M,12,FALSE)=BD$2,\"X\",\"\"))","v":""},{"$f":"IF(ISERROR(VLOOKUP($A24,'8eme'!$B:$M,12,FALSE)),IF(ISERROR(VLOOKUP($A24,'8eme'!$F:$M,8,FALSE)),\"\",IF(VLOOKUP($A24,'8eme'!$F:$M,8,FALSE)=BE$2,\"X\",\"\")),IF(VLOOKUP($A24,'8eme'!$B:$M,12,FALSE)=BE$2,\"X\",\"\"))","v":""},{"$f":"IF(ISERROR(VLOOKUP($A24,'8eme'!$B:$M,12,FALSE)),IF(ISERROR(VLOOKUP($A24,'8eme'!$F:$M,8,FALSE)),\"\",IF(VLOOKUP($A24,'8eme'!$F:$M,8,FALSE)=BF$2,\"X\",\"\")),IF(VLOOKUP($A24,'8eme'!$B:$M,12,FALSE)=BF$2,\"X\",\"\"))","v":""},{"$f":"IF(ISERROR(VLOOKUP($A24,'8eme'!$B:$M,12,FALSE)),IF(ISERROR(VLOOKUP($A24,'8eme'!$F:$M,8,FALSE)),\"\",IF(VLOOKUP($A24,'8eme'!$F:$M,8,FALSE)=BG$2,\"X\",\"\")),IF(VLOOKUP($A24,'8eme'!$B:$M,12,FALSE)=BG$2,\"X\",\"\"))","v":""},{"$f":"IF(ISERROR(VLOOKUP($A24,'8eme'!$B:$M,12,FALSE)),IF(ISERROR(VLOOKUP($A24,'8eme'!$F:$M,8,FALSE)),\"\",IF(VLOOKUP($A24,'8eme'!$F:$M,8,FALSE)=BH$2,\"X\",\"\")),IF(VLOOKUP($A24,'8eme'!$B:$M,12,FALSE)=BH$2,\"X\",\"\"))","v":""},{"$f":"IF(ISERROR(VLOOKUP($A24,'8eme'!$B:$M,12,FALSE)),IF(ISERROR(VLOOKUP($A24,'8eme'!$F:$M,8,FALSE)),\"\",IF(VLOOKUP($A24,'8eme'!$F:$M,8,FALSE)=BI$2,\"X\",\"\")),IF(VLOOKUP($A24,'8eme'!$B:$M,12,FALSE)=BI$2,\"X\",\"\"))","v":""},{"$f":"IF(ISERROR(VLOOKUP($A24,'8eme'!$B:$M,12,FALSE)),IF(ISERROR(VLOOKUP($A24,'8eme'!$F:$M,8,FALSE)),\"\",IF(VLOOKUP($A24,'8eme'!$F:$M,8,FALSE)=BJ$2,\"X\",\"\")),IF(VLOOKUP($A24,'8eme'!$B:$M,12,FALSE)=BJ$2,\"X\",\"\"))","v":""},{"$f":"IF(ISERROR(VLOOKUP($A24,'8eme'!$B:$M,12,FALSE)),IF(ISERROR(VLOOKUP($A24,'8eme'!$F:$M,8,FALSE)),\"\",IF(VLOOKUP($A24,'8eme'!$F:$M,8,FALSE)=BK$2,\"X\",\"\")),IF(VLOOKUP($A24,'8eme'!$B:$M,12,FALSE)=BK$2,\"X\",\"\"))","v":""},{"$f":"IF(ISERROR(VLOOKUP($A24,'8eme'!$B:$M,12,FALSE)),IF(ISERROR(VLOOKUP($A24,'8eme'!$F:$M,8,FALSE)),\"\",IF(VLOOKUP($A24,'8eme'!$F:$M,8,FALSE)=BL$2,\"X\",\"\")),IF(VLOOKUP($A24,'8eme'!$B:$M,12,FALSE)=BL$2,\"X\",\"\"))","v":""},{"$f":"IF(ISERROR(VLOOKUP($A24,'8eme'!$B:$M,12,FALSE)),IF(ISERROR(VLOOKUP($A24,'8eme'!$F:$M,8,FALSE)),\"\",IF(VLOOKUP($A24,'8eme'!$F:$M,8,FALSE)=BM$2,\"X\",\"\")),IF(VLOOKUP($A24,'8eme'!$B:$M,12,FALSE)=BM$2,\"X\",\"\"))","v":""},{"$f":"IF(ISERROR(VLOOKUP($A24,quart!$B:$M,12,FALSE)),IF(ISERROR(VLOOKUP($A24,quart!$F:$M,8,FALSE)),\"\",IF(VLOOKUP($A24,quart!$F:$M,8,FALSE)=BN$2,\"X\",\"\")),IF(VLOOKUP($A24,quart!$B:$M,12,FALSE)=BN$2,\"X\",\"\"))","v":""},{"$f":"IF(ISERROR(VLOOKUP($A24,quart!$B:$M,12,FALSE)),IF(ISERROR(VLOOKUP($A24,quart!$F:$M,8,FALSE)),\"\",IF(VLOOKUP($A24,quart!$F:$M,8,FALSE)=BO$2,\"X\",\"\")),IF(VLOOKUP($A24,quart!$B:$M,12,FALSE)=BO$2,\"X\",\"\"))","v":""},{"$f":"IF(ISERROR(VLOOKUP($A24,quart!$B:$M,12,FALSE)),IF(ISERROR(VLOOKUP($A24,quart!$F:$M,8,FALSE)),\"\",IF(VLOOKUP($A24,quart!$F:$M,8,FALSE)=BP$2,\"X\",\"\")),IF(VLOOKUP($A24,quart!$B:$M,12,FALSE)=BP$2,\"X\",\"\"))","v":""},{"$f":"IF(ISERROR(VLOOKUP($A24,quart!$B:$M,12,FALSE)),IF(ISERROR(VLOOKUP($A24,quart!$F:$M,8,FALSE)),\"\",IF(VLOOKUP($A24,quart!$F:$M,8,FALSE)=BQ$2,\"X\",\"\")),IF(VLOOKUP($A24,quart!$B:$M,12,FALSE)=BQ$2,\"X\",\"\"))","v":""},{"$f":"IF(ISERROR(VLOOKUP($A24,quart!$B:$M,12,FALSE)),IF(ISERROR(VLOOKUP($A24,quart!$F:$M,8,FALSE)),\"\",IF(VLOOKUP($A24,quart!$F:$M,8,FALSE)=BR$2,\"X\",\"\")),IF(VLOOKUP($A24,quart!$B:$M,12,FALSE)=BR$2,\"X\",\"\"))","v":""},{"$f":"IF(ISERROR(VLOOKUP($A24,quart!$B:$M,12,FALSE)),IF(ISERROR(VLOOKUP($A24,quart!$F:$M,8,FALSE)),\"\",IF(VLOOKUP($A24,quart!$F:$M,8,FALSE)=BS$2,\"X\",\"\")),IF(VLOOKUP($A24,quart!$B:$M,12,FALSE)=BS$2,\"X\",\"\"))","v":""},{"$f":"IF(ISERROR(VLOOKUP($A24,quart!$B:$M,12,FALSE)),IF(ISERROR(VLOOKUP($A24,quart!$F:$M,8,FALSE)),\"\",IF(VLOOKUP($A24,quart!$F:$M,8,FALSE)=BT$2,\"X\",\"\")),IF(VLOOKUP($A24,quart!$B:$M,12,FALSE)=BT$2,\"X\",\"\"))","v":""},{"$f":"IF(ISERROR(VLOOKUP($A24,quart!$B:$M,12,FALSE)),IF(ISERROR(VLOOKUP($A24,quart!$F:$M,8,FALSE)),\"\",IF(VLOOKUP($A24,quart!$F:$M,8,FALSE)=BU$2,\"X\",\"\")),IF(VLOOKUP($A24,quart!$B:$M,12,FALSE)=BU$2,\"X\",\"\"))","v":""},{"$f":"IF(ISERROR(VLOOKUP($A24,quart!$B:$M,12,FALSE)),IF(ISERROR(VLOOKUP($A24,quart!$F:$M,8,FALSE)),\"\",IF(VLOOKUP($A24,quart!$F:$M,8,FALSE)=BV$2,\"X\",\"\")),IF(VLOOKUP($A24,quart!$B:$M,12,FALSE)=BV$2,\"X\",\"\"))","v":""},{"$f":"IF(ISERROR(VLOOKUP($A24,quart!$B:$M,12,FALSE)),IF(ISERROR(VLOOKUP($A24,quart!$F:$M,8,FALSE)),\"\",IF(VLOOKUP($A24,quart!$F:$M,8,FALSE)=BW$2,\"X\",\"\")),IF(VLOOKUP($A24,quart!$B:$M,12,FALSE)=BW$2,\"X\",\"\"))","v":""},{"$f":"IF(ISERROR(VLOOKUP($A24,quart!$B:$M,12,FALSE)),IF(ISERROR(VLOOKUP($A24,quart!$F:$M,8,FALSE)),\"\",IF(VLOOKUP($A24,quart!$F:$M,8,FALSE)=BX$2,\"X\",\"\")),IF(VLOOKUP($A24,quart!$B:$M,12,FALSE)=BX$2,\"X\",\"\"))","v":""},{"$f":"IF(ISERROR(VLOOKUP($A24,quart!$B:$M,12,FALSE)),IF(ISERROR(VLOOKUP($A24,quart!$F:$M,8,FALSE)),\"\",IF(VLOOKUP($A24,quart!$F:$M,8,FALSE)=BY$2,\"X\",\"\")),IF(VLOOKUP($A24,quart!$B:$M,12,FALSE)=BY$2,\"X\",\"\"))","v":""},{"$f":"IF(ISERROR(VLOOKUP($A24,quart!$B:$M,12,FALSE)),IF(ISERROR(VLOOKUP($A24,quart!$F:$M,8,FALSE)),\"\",IF(VLOOKUP($A24,quart!$F:$M,8,FALSE)=BZ$2,\"X\",\"\")),IF(VLOOKUP($A24,quart!$B:$M,12,FALSE)=BZ$2,\"X\",\"\"))","v":""},{"$f":"IF(ISERROR(VLOOKUP($A24,quart!$B:$M,12,FALSE)),IF(ISERROR(VLOOKUP($A24,quart!$F:$M,8,FALSE)),\"\",IF(VLOOKUP($A24,quart!$F:$M,8,FALSE)=CA$2,\"X\",\"\")),IF(VLOOKUP($A24,quart!$B:$M,12,FALSE)=CA$2,\"X\",\"\"))","v":""},{"$f":"IF(ISERROR(VLOOKUP($A24,quart!$B:$M,12,FALSE)),IF(ISERROR(VLOOKUP($A24,quart!$F:$M,8,FALSE)),\"\",IF(VLOOKUP($A24,quart!$F:$M,8,FALSE)=CB$2,\"X\",\"\")),IF(VLOOKUP($A24,quart!$B:$M,12,FALSE)=CB$2,\"X\",\"\"))","v":""},{"$f":"IF(ISERROR(VLOOKUP($A24,quart!$B:$M,12,FALSE)),IF(ISERROR(VLOOKUP($A24,quart!$F:$M,8,FALSE)),\"\",IF(VLOOKUP($A24,quart!$F:$M,8,FALSE)=CC$2,\"X\",\"\")),IF(VLOOKUP($A24,quart!$B:$M,12,FALSE)=CC$2,\"X\",\"\"))","v":""},{"$f":"IF(ISERROR(VLOOKUP($A24,demi!$B:$M,12,FALSE)),IF(ISERROR(VLOOKUP($A24,demi!$F:$M,8,FALSE)),\"\",IF(VLOOKUP($A24,demi!$F:$M,8,FALSE)=CD$2,\"X\",\"\")),IF(VLOOKUP($A24,demi!$B:$M,12,FALSE)=CD$2,\"X\",\"\"))","v":""},{"$f":"IF(ISERROR(VLOOKUP($A24,demi!$B:$M,12,FALSE)),IF(ISERROR(VLOOKUP($A24,demi!$F:$M,8,FALSE)),\"\",IF(VLOOKUP($A24,demi!$F:$M,8,FALSE)=CE$2,\"X\",\"\")),IF(VLOOKUP($A24,demi!$B:$M,12,FALSE)=CE$2,\"X\",\"\"))","v":""},{"$f":"IF(ISERROR(VLOOKUP($A24,demi!$B:$M,12,FALSE)),IF(ISERROR(VLOOKUP($A24,demi!$F:$M,8,FALSE)),\"\",IF(VLOOKUP($A24,demi!$F:$M,8,FALSE)=CF$2,\"X\",\"\")),IF(VLOOKUP($A24,demi!$B:$M,12,FALSE)=CF$2,\"X\",\"\"))","v":""},{"$f":"IF(ISERROR(VLOOKUP($A24,demi!$B:$M,12,FALSE)),IF(ISERROR(VLOOKUP($A24,demi!$F:$M,8,FALSE)),\"\",IF(VLOOKUP($A24,demi!$F:$M,8,FALSE)=CG$2,\"X\",\"\")),IF(VLOOKUP($A24,demi!$B:$M,12,FALSE)=CG$2,\"X\",\"\"))","v":""},{"$f":"IF(ISERROR(VLOOKUP($A24,demi!$B:$M,12,FALSE)),IF(ISERROR(VLOOKUP($A24,demi!$F:$M,8,FALSE)),\"\",IF(VLOOKUP($A24,demi!$F:$M,8,FALSE)=CH$2,\"X\",\"\")),IF(VLOOKUP($A24,demi!$B:$M,12,FALSE)=CH$2,\"X\",\"\"))","v":""},{"$f":"IF(ISERROR(VLOOKUP($A24,demi!$B:$M,12,FALSE)),IF(ISERROR(VLOOKUP($A24,demi!$F:$M,8,FALSE)),\"\",IF(VLOOKUP($A24,demi!$F:$M,8,FALSE)=CI$2,\"X\",\"\")),IF(VLOOKUP($A24,demi!$B:$M,12,FALSE)=CI$2,\"X\",\"\"))","v":""},{"$f":"IF(ISERROR(VLOOKUP($A24,demi!$B:$M,12,FALSE)),IF(ISERROR(VLOOKUP($A24,demi!$F:$M,8,FALSE)),\"\",IF(VLOOKUP($A24,demi!$F:$M,8,FALSE)=CJ$2,\"X\",\"\")),IF(VLOOKUP($A24,demi!$B:$M,12,FALSE)=CJ$2,\"X\",\"\"))","v":""},{"$f":"IF(ISERROR(VLOOKUP($A24,demi!$B:$M,12,FALSE)),IF(ISERROR(VLOOKUP($A24,demi!$F:$M,8,FALSE)),\"\",IF(VLOOKUP($A24,demi!$F:$M,8,FALSE)=CK$2,\"X\",\"\")),IF(VLOOKUP($A24,demi!$B:$M,12,FALSE)=CK$2,\"X\",\"\"))","v":""},{"$f":"IF(ISERROR(VLOOKUP($A24,demi!$B:$M,12,FALSE)),IF(ISERROR(VLOOKUP($A24,demi!$F:$M,8,FALSE)),\"\",IF(VLOOKUP($A24,demi!$F:$M,8,FALSE)=CL$2,\"X\",\"\")),IF(VLOOKUP($A24,demi!$B:$M,12,FALSE)=CL$2,\"X\",\"\"))","v":""},{"$f":"IF(ISERROR(VLOOKUP($A24,demi!$B:$M,12,FALSE)),IF(ISERROR(VLOOKUP($A24,demi!$F:$M,8,FALSE)),\"\",IF(VLOOKUP($A24,demi!$F:$M,8,FALSE)=CM$2,\"X\",\"\")),IF(VLOOKUP($A24,demi!$B:$M,12,FALSE)=CM$2,\"X\",\"\"))","v":""},{"$f":"IF(ISERROR(VLOOKUP($A24,demi!$B:$M,12,FALSE)),IF(ISERROR(VLOOKUP($A24,demi!$F:$M,8,FALSE)),\"\",IF(VLOOKUP($A24,demi!$F:$M,8,FALSE)=CN$2,\"X\",\"\")),IF(VLOOKUP($A24,demi!$B:$M,12,FALSE)=CN$2,\"X\",\"\"))","v":""},{"$f":"IF(ISERROR(VLOOKUP($A24,demi!$B:$M,12,FALSE)),IF(ISERROR(VLOOKUP($A24,demi!$F:$M,8,FALSE)),\"\",IF(VLOOKUP($A24,demi!$F:$M,8,FALSE)=CO$2,\"X\",\"\")),IF(VLOOKUP($A24,demi!$B:$M,12,FALSE)=CO$2,\"X\",\"\"))","v":""},{"$f":"IF(ISERROR(VLOOKUP($A24,demi!$B:$M,12,FALSE)),IF(ISERROR(VLOOKUP($A24,demi!$F:$M,8,FALSE)),\"\",IF(VLOOKUP($A24,demi!$F:$M,8,FALSE)=CP$2,\"X\",\"\")),IF(VLOOKUP($A24,demi!$B:$M,12,FALSE)=CP$2,\"X\",\"\"))","v":""},{"$f":"IF(ISERROR(VLOOKUP($A24,demi!$B:$M,12,FALSE)),IF(ISERROR(VLOOKUP($A24,demi!$F:$M,8,FALSE)),\"\",IF(VLOOKUP($A24,demi!$F:$M,8,FALSE)=CQ$2,\"X\",\"\")),IF(VLOOKUP($A24,demi!$B:$M,12,FALSE)=CQ$2,\"X\",\"\"))","v":""},{"$f":"IF(ISERROR(VLOOKUP($A24,demi!$B:$M,12,FALSE)),IF(ISERROR(VLOOKUP($A24,demi!$F:$M,8,FALSE)),\"\",IF(VLOOKUP($A24,demi!$F:$M,8,FALSE)=CR$2,\"X\",\"\")),IF(VLOOKUP($A24,demi!$B:$M,12,FALSE)=CR$2,\"X\",\"\"))","v":""},{"$f":"IF(ISERROR(VLOOKUP($A24,demi!$B:$M,12,FALSE)),IF(ISERROR(VLOOKUP($A24,demi!$F:$M,8,FALSE)),\"\",IF(VLOOKUP($A24,demi!$F:$M,8,FALSE)=CS$2,\"X\",\"\")),IF(VLOOKUP($A24,demi!$B:$M,12,FALSE)=CS$2,\"X\",\"\"))","v":""}]
[23,"X","X","X","X","X","X","X","X","X","X","X","X","X","X","X","X",{"$f":"IF(ISERROR(VLOOKUP($A25,'32eme'!$B:$M,12,FALSE)),IF(ISERROR(VLOOKUP($A25,'32eme'!$F:$M,8,FALSE)),\"\",IF(VLOOKUP($A25,'32eme'!$F:$M,8,FALSE)=R$2,\"X\",\"\")),IF(VLOOKUP($A25,'32eme'!$B:$M,12,FALSE)=R$2,\"X\",\"\"))","v":""},{"$f":"IF(ISERROR(VLOOKUP($A25,'32eme'!$B:$M,12,FALSE)),IF(ISERROR(VLOOKUP($A25,'32eme'!$F:$M,8,FALSE)),\"\",IF(VLOOKUP($A25,'32eme'!$F:$M,8,FALSE)=S$2,\"X\",\"\")),IF(VLOOKUP($A25,'32eme'!$B:$M,12,FALSE)=S$2,\"X\",\"\"))","v":""},{"$f":"IF(ISERROR(VLOOKUP($A25,'32eme'!$B:$M,12,FALSE)),IF(ISERROR(VLOOKUP($A25,'32eme'!$F:$M,8,FALSE)),\"\",IF(VLOOKUP($A25,'32eme'!$F:$M,8,FALSE)=T$2,\"X\",\"\")),IF(VLOOKUP($A25,'32eme'!$B:$M,12,FALSE)=T$2,\"X\",\"\"))","v":""},{"$f":"IF(ISERROR(VLOOKUP($A25,'32eme'!$B:$M,12,FALSE)),IF(ISERROR(VLOOKUP($A25,'32eme'!$F:$M,8,FALSE)),\"\",IF(VLOOKUP($A25,'32eme'!$F:$M,8,FALSE)=U$2,\"X\",\"\")),IF(VLOOKUP($A25,'32eme'!$B:$M,12,FALSE)=U$2,\"X\",\"\"))","v":""},{"$f":"IF(ISERROR(VLOOKUP($A25,'32eme'!$B:$M,12,FALSE)),IF(ISERROR(VLOOKUP($A25,'32eme'!$F:$M,8,FALSE)),\"\",IF(VLOOKUP($A25,'32eme'!$F:$M,8,FALSE)=V$2,\"X\",\"\")),IF(VLOOKUP($A25,'32eme'!$B:$M,12,FALSE)=V$2,\"X\",\"\"))","v":""},{"$f":"IF(ISERROR(VLOOKUP($A25,'32eme'!$B:$M,12,FALSE)),IF(ISERROR(VLOOKUP($A25,'32eme'!$F:$M,8,FALSE)),\"\",IF(VLOOKUP($A25,'32eme'!$F:$M,8,FALSE)=W$2,\"X\",\"\")),IF(VLOOKUP($A25,'32eme'!$B:$M,12,FALSE)=W$2,\"X\",\"\"))","v":""},{"$f":"IF(ISERROR(VLOOKUP($A25,'32eme'!$B:$M,12,FALSE)),IF(ISERROR(VLOOKUP($A25,'32eme'!$F:$M,8,FALSE)),\"\",IF(VLOOKUP($A25,'32eme'!$F:$M,8,FALSE)=X$2,\"X\",\"\")),IF(VLOOKUP($A25,'32eme'!$B:$M,12,FALSE)=X$2,\"X\",\"\"))","v":""},{"$f":"IF(ISERROR(VLOOKUP($A25,'32eme'!$B:$M,12,FALSE)),IF(ISERROR(VLOOKUP($A25,'32eme'!$F:$M,8,FALSE)),\"\",IF(VLOOKUP($A25,'32eme'!$F:$M,8,FALSE)=Y$2,\"X\",\"\")),IF(VLOOKUP($A25,'32eme'!$B:$M,12,FALSE)=Y$2,\"X\",\"\"))","v":""},{"$f":"IF(ISERROR(VLOOKUP($A25,'32eme'!$B:$M,12,FALSE)),IF(ISERROR(VLOOKUP($A25,'32eme'!$F:$M,8,FALSE)),\"\",IF(VLOOKUP($A25,'32eme'!$F:$M,8,FALSE)=Z$2,\"X\",\"\")),IF(VLOOKUP($A25,'32eme'!$B:$M,12,FALSE)=Z$2,\"X\",\"\"))","v":""},{"$f":"IF(ISERROR(VLOOKUP($A25,'32eme'!$B:$M,12,FALSE)),IF(ISERROR(VLOOKUP($A25,'32eme'!$F:$M,8,FALSE)),\"\",IF(VLOOKUP($A25,'32eme'!$F:$M,8,FALSE)=AA$2,\"X\",\"\")),IF(VLOOKUP($A25,'32eme'!$B:$M,12,FALSE)=AA$2,\"X\",\"\"))","v":""},{"$f":"IF(ISERROR(VLOOKUP($A25,'32eme'!$B:$M,12,FALSE)),IF(ISERROR(VLOOKUP($A25,'32eme'!$F:$M,8,FALSE)),\"\",IF(VLOOKUP($A25,'32eme'!$F:$M,8,FALSE)=AB$2,\"X\",\"\")),IF(VLOOKUP($A25,'32eme'!$B:$M,12,FALSE)=AB$2,\"X\",\"\"))","v":""},{"$f":"IF(ISERROR(VLOOKUP($A25,'32eme'!$B:$M,12,FALSE)),IF(ISERROR(VLOOKUP($A25,'32eme'!$F:$M,8,FALSE)),\"\",IF(VLOOKUP($A25,'32eme'!$F:$M,8,FALSE)=AC$2,\"X\",\"\")),IF(VLOOKUP($A25,'32eme'!$B:$M,12,FALSE)=AC$2,\"X\",\"\"))","v":""},{"$f":"IF(ISERROR(VLOOKUP($A25,'32eme'!$B:$M,12,FALSE)),IF(ISERROR(VLOOKUP($A25,'32eme'!$F:$M,8,FALSE)),\"\",IF(VLOOKUP($A25,'32eme'!$F:$M,8,FALSE)=AD$2,\"X\",\"\")),IF(VLOOKUP($A25,'32eme'!$B:$M,12,FALSE)=AD$2,\"X\",\"\"))","v":""},{"$f":"IF(ISERROR(VLOOKUP($A25,'32eme'!$B:$M,12,FALSE)),IF(ISERROR(VLOOKUP($A25,'32eme'!$F:$M,8,FALSE)),\"\",IF(VLOOKUP($A25,'32eme'!$F:$M,8,FALSE)=AE$2,\"X\",\"\")),IF(VLOOKUP($A25,'32eme'!$B:$M,12,FALSE)=AE$2,\"X\",\"\"))","v":""},{"$f":"IF(ISERROR(VLOOKUP($A25,'32eme'!$B:$M,12,FALSE)),IF(ISERROR(VLOOKUP($A25,'32eme'!$F:$M,8,FALSE)),\"\",IF(VLOOKUP($A25,'32eme'!$F:$M,8,FALSE)=AF$2,\"X\",\"\")),IF(VLOOKUP($A25,'32eme'!$B:$M,12,FALSE)=AF$2,\"X\",\"\"))","v":""},{"$f":"IF(ISERROR(VLOOKUP($A25,'32eme'!$B:$M,12,FALSE)),IF(ISERROR(VLOOKUP($A25,'32eme'!$F:$M,8,FALSE)),\"\",IF(VLOOKUP($A25,'32eme'!$F:$M,8,FALSE)=AG$2,\"X\",\"\")),IF(VLOOKUP($A25,'32eme'!$B:$M,12,FALSE)=AG$2,\"X\",\"\"))","v":""},{"$f":"IF(ISERROR(VLOOKUP($A25,'16eme'!$B:$M,12,FALSE)),IF(ISERROR(VLOOKUP($A25,'16eme'!$F:$M,8,FALSE)),\"\",IF(VLOOKUP($A25,'16eme'!$F:$M,8,FALSE)=AH$2,\"X\",\"\")),IF(VLOOKUP($A25,'16eme'!$B:$M,12,FALSE)=AH$2,\"X\",\"\"))","v":""},{"$f":"IF(ISERROR(VLOOKUP($A25,'16eme'!$B:$M,12,FALSE)),IF(ISERROR(VLOOKUP($A25,'16eme'!$F:$M,8,FALSE)),\"\",IF(VLOOKUP($A25,'16eme'!$F:$M,8,FALSE)=AI$2,\"X\",\"\")),IF(VLOOKUP($A25,'16eme'!$B:$M,12,FALSE)=AI$2,\"X\",\"\"))","v":""},{"$f":"IF(ISERROR(VLOOKUP($A25,'16eme'!$B:$M,12,FALSE)),IF(ISERROR(VLOOKUP($A25,'16eme'!$F:$M,8,FALSE)),\"\",IF(VLOOKUP($A25,'16eme'!$F:$M,8,FALSE)=AJ$2,\"X\",\"\")),IF(VLOOKUP($A25,'16eme'!$B:$M,12,FALSE)=AJ$2,\"X\",\"\"))","v":""},{"$f":"IF(ISERROR(VLOOKUP($A25,'16eme'!$B:$M,12,FALSE)),IF(ISERROR(VLOOKUP($A25,'16eme'!$F:$M,8,FALSE)),\"\",IF(VLOOKUP($A25,'16eme'!$F:$M,8,FALSE)=AK$2,\"X\",\"\")),IF(VLOOKUP($A25,'16eme'!$B:$M,12,FALSE)=AK$2,\"X\",\"\"))","v":""},{"$f":"IF(ISERROR(VLOOKUP($A25,'16eme'!$B:$M,12,FALSE)),IF(ISERROR(VLOOKUP($A25,'16eme'!$F:$M,8,FALSE)),\"\",IF(VLOOKUP($A25,'16eme'!$F:$M,8,FALSE)=AL$2,\"X\",\"\")),IF(VLOOKUP($A25,'16eme'!$B:$M,12,FALSE)=AL$2,\"X\",\"\"))","v":""},{"$f":"IF(ISERROR(VLOOKUP($A25,'16eme'!$B:$M,12,FALSE)),IF(ISERROR(VLOOKUP($A25,'16eme'!$F:$M,8,FALSE)),\"\",IF(VLOOKUP($A25,'16eme'!$F:$M,8,FALSE)=AM$2,\"X\",\"\")),IF(VLOOKUP($A25,'16eme'!$B:$M,12,FALSE)=AM$2,\"X\",\"\"))","v":""},{"$f":"IF(ISERROR(VLOOKUP($A25,'16eme'!$B:$M,12,FALSE)),IF(ISERROR(VLOOKUP($A25,'16eme'!$F:$M,8,FALSE)),\"\",IF(VLOOKUP($A25,'16eme'!$F:$M,8,FALSE)=AN$2,\"X\",\"\")),IF(VLOOKUP($A25,'16eme'!$B:$M,12,FALSE)=AN$2,\"X\",\"\"))","v":""},{"$f":"IF(ISERROR(VLOOKUP($A25,'16eme'!$B:$M,12,FALSE)),IF(ISERROR(VLOOKUP($A25,'16eme'!$F:$M,8,FALSE)),\"\",IF(VLOOKUP($A25,'16eme'!$F:$M,8,FALSE)=AO$2,\"X\",\"\")),IF(VLOOKUP($A25,'16eme'!$B:$M,12,FALSE)=AO$2,\"X\",\"\"))","v":""},{"$f":"IF(ISERROR(VLOOKUP($A25,'16eme'!$B:$M,12,FALSE)),IF(ISERROR(VLOOKUP($A25,'16eme'!$F:$M,8,FALSE)),\"\",IF(VLOOKUP($A25,'16eme'!$F:$M,8,FALSE)=AP$2,\"X\",\"\")),IF(VLOOKUP($A25,'16eme'!$B:$M,12,FALSE)=AP$2,\"X\",\"\"))","v":""},{"$f":"IF(ISERROR(VLOOKUP($A25,'16eme'!$B:$M,12,FALSE)),IF(ISERROR(VLOOKUP($A25,'16eme'!$F:$M,8,FALSE)),\"\",IF(VLOOKUP($A25,'16eme'!$F:$M,8,FALSE)=AQ$2,\"X\",\"\")),IF(VLOOKUP($A25,'16eme'!$B:$M,12,FALSE)=AQ$2,\"X\",\"\"))","v":""},{"$f":"IF(ISERROR(VLOOKUP($A25,'16eme'!$B:$M,12,FALSE)),IF(ISERROR(VLOOKUP($A25,'16eme'!$F:$M,8,FALSE)),\"\",IF(VLOOKUP($A25,'16eme'!$F:$M,8,FALSE)=AR$2,\"X\",\"\")),IF(VLOOKUP($A25,'16eme'!$B:$M,12,FALSE)=AR$2,\"X\",\"\"))","v":""},{"$f":"IF(ISERROR(VLOOKUP($A25,'16eme'!$B:$M,12,FALSE)),IF(ISERROR(VLOOKUP($A25,'16eme'!$F:$M,8,FALSE)),\"\",IF(VLOOKUP($A25,'16eme'!$F:$M,8,FALSE)=AS$2,\"X\",\"\")),IF(VLOOKUP($A25,'16eme'!$B:$M,12,FALSE)=AS$2,\"X\",\"\"))","v":""},{"$f":"IF(ISERROR(VLOOKUP($A25,'16eme'!$B:$M,12,FALSE)),IF(ISERROR(VLOOKUP($A25,'16eme'!$F:$M,8,FALSE)),\"\",IF(VLOOKUP($A25,'16eme'!$F:$M,8,FALSE)=AT$2,\"X\",\"\")),IF(VLOOKUP($A25,'16eme'!$B:$M,12,FALSE)=AT$2,\"X\",\"\"))","v":""},{"$f":"IF(ISERROR(VLOOKUP($A25,'16eme'!$B:$M,12,FALSE)),IF(ISERROR(VLOOKUP($A25,'16eme'!$F:$M,8,FALSE)),\"\",IF(VLOOKUP($A25,'16eme'!$F:$M,8,FALSE)=AU$2,\"X\",\"\")),IF(VLOOKUP($A25,'16eme'!$B:$M,12,FALSE)=AU$2,\"X\",\"\"))","v":""},{"$f":"IF(ISERROR(VLOOKUP($A25,'16eme'!$B:$M,12,FALSE)),IF(ISERROR(VLOOKUP($A25,'16eme'!$F:$M,8,FALSE)),\"\",IF(VLOOKUP($A25,'16eme'!$F:$M,8,FALSE)=AV$2,\"X\",\"\")),IF(VLOOKUP($A25,'16eme'!$B:$M,12,FALSE)=AV$2,\"X\",\"\"))","v":""},{"$f":"IF(ISERROR(VLOOKUP($A25,'16eme'!$B:$M,12,FALSE)),IF(ISERROR(VLOOKUP($A25,'16eme'!$F:$M,8,FALSE)),\"\",IF(VLOOKUP($A25,'16eme'!$F:$M,8,FALSE)=AW$2,\"X\",\"\")),IF(VLOOKUP($A25,'16eme'!$B:$M,12,FALSE)=AW$2,\"X\",\"\"))","v":""},{"$f":"IF(ISERROR(VLOOKUP($A25,'8eme'!$B:$M,12,FALSE)),IF(ISERROR(VLOOKUP($A25,'8eme'!$F:$M,8,FALSE)),\"\",IF(VLOOKUP($A25,'8eme'!$F:$M,8,FALSE)=AX$2,\"X\",\"\")),IF(VLOOKUP($A25,'8eme'!$B:$M,12,FALSE)=AX$2,\"X\",\"\"))","v":""},{"$f":"IF(ISERROR(VLOOKUP($A25,'8eme'!$B:$M,12,FALSE)),IF(ISERROR(VLOOKUP($A25,'8eme'!$F:$M,8,FALSE)),\"\",IF(VLOOKUP($A25,'8eme'!$F:$M,8,FALSE)=AY$2,\"X\",\"\")),IF(VLOOKUP($A25,'8eme'!$B:$M,12,FALSE)=AY$2,\"X\",\"\"))","v":""},{"$f":"IF(ISERROR(VLOOKUP($A25,'8eme'!$B:$M,12,FALSE)),IF(ISERROR(VLOOKUP($A25,'8eme'!$F:$M,8,FALSE)),\"\",IF(VLOOKUP($A25,'8eme'!$F:$M,8,FALSE)=AZ$2,\"X\",\"\")),IF(VLOOKUP($A25,'8eme'!$B:$M,12,FALSE)=AZ$2,\"X\",\"\"))","v":""},{"$f":"IF(ISERROR(VLOOKUP($A25,'8eme'!$B:$M,12,FALSE)),IF(ISERROR(VLOOKUP($A25,'8eme'!$F:$M,8,FALSE)),\"\",IF(VLOOKUP($A25,'8eme'!$F:$M,8,FALSE)=BA$2,\"X\",\"\")),IF(VLOOKUP($A25,'8eme'!$B:$M,12,FALSE)=BA$2,\"X\",\"\"))","v":""},{"$f":"IF(ISERROR(VLOOKUP($A25,'8eme'!$B:$M,12,FALSE)),IF(ISERROR(VLOOKUP($A25,'8eme'!$F:$M,8,FALSE)),\"\",IF(VLOOKUP($A25,'8eme'!$F:$M,8,FALSE)=BB$2,\"X\",\"\")),IF(VLOOKUP($A25,'8eme'!$B:$M,12,FALSE)=BB$2,\"X\",\"\"))","v":""},{"$f":"IF(ISERROR(VLOOKUP($A25,'8eme'!$B:$M,12,FALSE)),IF(ISERROR(VLOOKUP($A25,'8eme'!$F:$M,8,FALSE)),\"\",IF(VLOOKUP($A25,'8eme'!$F:$M,8,FALSE)=BC$2,\"X\",\"\")),IF(VLOOKUP($A25,'8eme'!$B:$M,12,FALSE)=BC$2,\"X\",\"\"))","v":""},{"$f":"IF(ISERROR(VLOOKUP($A25,'8eme'!$B:$M,12,FALSE)),IF(ISERROR(VLOOKUP($A25,'8eme'!$F:$M,8,FALSE)),\"\",IF(VLOOKUP($A25,'8eme'!$F:$M,8,FALSE)=BD$2,\"X\",\"\")),IF(VLOOKUP($A25,'8eme'!$B:$M,12,FALSE)=BD$2,\"X\",\"\"))","v":""},{"$f":"IF(ISERROR(VLOOKUP($A25,'8eme'!$B:$M,12,FALSE)),IF(ISERROR(VLOOKUP($A25,'8eme'!$F:$M,8,FALSE)),\"\",IF(VLOOKUP($A25,'8eme'!$F:$M,8,FALSE)=BE$2,\"X\",\"\")),IF(VLOOKUP($A25,'8eme'!$B:$M,12,FALSE)=BE$2,\"X\",\"\"))","v":""},{"$f":"IF(ISERROR(VLOOKUP($A25,'8eme'!$B:$M,12,FALSE)),IF(ISERROR(VLOOKUP($A25,'8eme'!$F:$M,8,FALSE)),\"\",IF(VLOOKUP($A25,'8eme'!$F:$M,8,FALSE)=BF$2,\"X\",\"\")),IF(VLOOKUP($A25,'8eme'!$B:$M,12,FALSE)=BF$2,\"X\",\"\"))","v":""},{"$f":"IF(ISERROR(VLOOKUP($A25,'8eme'!$B:$M,12,FALSE)),IF(ISERROR(VLOOKUP($A25,'8eme'!$F:$M,8,FALSE)),\"\",IF(VLOOKUP($A25,'8eme'!$F:$M,8,FALSE)=BG$2,\"X\",\"\")),IF(VLOOKUP($A25,'8eme'!$B:$M,12,FALSE)=BG$2,\"X\",\"\"))","v":""},{"$f":"IF(ISERROR(VLOOKUP($A25,'8eme'!$B:$M,12,FALSE)),IF(ISERROR(VLOOKUP($A25,'8eme'!$F:$M,8,FALSE)),\"\",IF(VLOOKUP($A25,'8eme'!$F:$M,8,FALSE)=BH$2,\"X\",\"\")),IF(VLOOKUP($A25,'8eme'!$B:$M,12,FALSE)=BH$2,\"X\",\"\"))","v":""},{"$f":"IF(ISERROR(VLOOKUP($A25,'8eme'!$B:$M,12,FALSE)),IF(ISERROR(VLOOKUP($A25,'8eme'!$F:$M,8,FALSE)),\"\",IF(VLOOKUP($A25,'8eme'!$F:$M,8,FALSE)=BI$2,\"X\",\"\")),IF(VLOOKUP($A25,'8eme'!$B:$M,12,FALSE)=BI$2,\"X\",\"\"))","v":""},{"$f":"IF(ISERROR(VLOOKUP($A25,'8eme'!$B:$M,12,FALSE)),IF(ISERROR(VLOOKUP($A25,'8eme'!$F:$M,8,FALSE)),\"\",IF(VLOOKUP($A25,'8eme'!$F:$M,8,FALSE)=BJ$2,\"X\",\"\")),IF(VLOOKUP($A25,'8eme'!$B:$M,12,FALSE)=BJ$2,\"X\",\"\"))","v":""},{"$f":"IF(ISERROR(VLOOKUP($A25,'8eme'!$B:$M,12,FALSE)),IF(ISERROR(VLOOKUP($A25,'8eme'!$F:$M,8,FALSE)),\"\",IF(VLOOKUP($A25,'8eme'!$F:$M,8,FALSE)=BK$2,\"X\",\"\")),IF(VLOOKUP($A25,'8eme'!$B:$M,12,FALSE)=BK$2,\"X\",\"\"))","v":""},{"$f":"IF(ISERROR(VLOOKUP($A25,'8eme'!$B:$M,12,FALSE)),IF(ISERROR(VLOOKUP($A25,'8eme'!$F:$M,8,FALSE)),\"\",IF(VLOOKUP($A25,'8eme'!$F:$M,8,FALSE)=BL$2,\"X\",\"\")),IF(VLOOKUP($A25,'8eme'!$B:$M,12,FALSE)=BL$2,\"X\",\"\"))","v":""},{"$f":"IF(ISERROR(VLOOKUP($A25,'8eme'!$B:$M,12,FALSE)),IF(ISERROR(VLOOKUP($A25,'8eme'!$F:$M,8,FALSE)),\"\",IF(VLOOKUP($A25,'8eme'!$F:$M,8,FALSE)=BM$2,\"X\",\"\")),IF(VLOOKUP($A25,'8eme'!$B:$M,12,FALSE)=BM$2,\"X\",\"\"))","v":""},{"$f":"IF(ISERROR(VLOOKUP($A25,quart!$B:$M,12,FALSE)),IF(ISERROR(VLOOKUP($A25,quart!$F:$M,8,FALSE)),\"\",IF(VLOOKUP($A25,quart!$F:$M,8,FALSE)=BN$2,\"X\",\"\")),IF(VLOOKUP($A25,quart!$B:$M,12,FALSE)=BN$2,\"X\",\"\"))","v":""},{"$f":"IF(ISERROR(VLOOKUP($A25,quart!$B:$M,12,FALSE)),IF(ISERROR(VLOOKUP($A25,quart!$F:$M,8,FALSE)),\"\",IF(VLOOKUP($A25,quart!$F:$M,8,FALSE)=BO$2,\"X\",\"\")),IF(VLOOKUP($A25,quart!$B:$M,12,FALSE)=BO$2,\"X\",\"\"))","v":""},{"$f":"IF(ISERROR(VLOOKUP($A25,quart!$B:$M,12,FALSE)),IF(ISERROR(VLOOKUP($A25,quart!$F:$M,8,FALSE)),\"\",IF(VLOOKUP($A25,quart!$F:$M,8,FALSE)=BP$2,\"X\",\"\")),IF(VLOOKUP($A25,quart!$B:$M,12,FALSE)=BP$2,\"X\",\"\"))","v":""},{"$f":"IF(ISERROR(VLOOKUP($A25,quart!$B:$M,12,FALSE)),IF(ISERROR(VLOOKUP($A25,quart!$F:$M,8,FALSE)),\"\",IF(VLOOKUP($A25,quart!$F:$M,8,FALSE)=BQ$2,\"X\",\"\")),IF(VLOOKUP($A25,quart!$B:$M,12,FALSE)=BQ$2,\"X\",\"\"))","v":""},{"$f":"IF(ISERROR(VLOOKUP($A25,quart!$B:$M,12,FALSE)),IF(ISERROR(VLOOKUP($A25,quart!$F:$M,8,FALSE)),\"\",IF(VLOOKUP($A25,quart!$F:$M,8,FALSE)=BR$2,\"X\",\"\")),IF(VLOOKUP($A25,quart!$B:$M,12,FALSE)=BR$2,\"X\",\"\"))","v":""},{"$f":"IF(ISERROR(VLOOKUP($A25,quart!$B:$M,12,FALSE)),IF(ISERROR(VLOOKUP($A25,quart!$F:$M,8,FALSE)),\"\",IF(VLOOKUP($A25,quart!$F:$M,8,FALSE)=BS$2,\"X\",\"\")),IF(VLOOKUP($A25,quart!$B:$M,12,FALSE)=BS$2,\"X\",\"\"))","v":""},{"$f":"IF(ISERROR(VLOOKUP($A25,quart!$B:$M,12,FALSE)),IF(ISERROR(VLOOKUP($A25,quart!$F:$M,8,FALSE)),\"\",IF(VLOOKUP($A25,quart!$F:$M,8,FALSE)=BT$2,\"X\",\"\")),IF(VLOOKUP($A25,quart!$B:$M,12,FALSE)=BT$2,\"X\",\"\"))","v":""},{"$f":"IF(ISERROR(VLOOKUP($A25,quart!$B:$M,12,FALSE)),IF(ISERROR(VLOOKUP($A25,quart!$F:$M,8,FALSE)),\"\",IF(VLOOKUP($A25,quart!$F:$M,8,FALSE)=BU$2,\"X\",\"\")),IF(VLOOKUP($A25,quart!$B:$M,12,FALSE)=BU$2,\"X\",\"\"))","v":""},{"$f":"IF(ISERROR(VLOOKUP($A25,quart!$B:$M,12,FALSE)),IF(ISERROR(VLOOKUP($A25,quart!$F:$M,8,FALSE)),\"\",IF(VLOOKUP($A25,quart!$F:$M,8,FALSE)=BV$2,\"X\",\"\")),IF(VLOOKUP($A25,quart!$B:$M,12,FALSE)=BV$2,\"X\",\"\"))","v":""},{"$f":"IF(ISERROR(VLOOKUP($A25,quart!$B:$M,12,FALSE)),IF(ISERROR(VLOOKUP($A25,quart!$F:$M,8,FALSE)),\"\",IF(VLOOKUP($A25,quart!$F:$M,8,FALSE)=BW$2,\"X\",\"\")),IF(VLOOKUP($A25,quart!$B:$M,12,FALSE)=BW$2,\"X\",\"\"))","v":""},{"$f":"IF(ISERROR(VLOOKUP($A25,quart!$B:$M,12,FALSE)),IF(ISERROR(VLOOKUP($A25,quart!$F:$M,8,FALSE)),\"\",IF(VLOOKUP($A25,quart!$F:$M,8,FALSE)=BX$2,\"X\",\"\")),IF(VLOOKUP($A25,quart!$B:$M,12,FALSE)=BX$2,\"X\",\"\"))","v":""},{"$f":"IF(ISERROR(VLOOKUP($A25,quart!$B:$M,12,FALSE)),IF(ISERROR(VLOOKUP($A25,quart!$F:$M,8,FALSE)),\"\",IF(VLOOKUP($A25,quart!$F:$M,8,FALSE)=BY$2,\"X\",\"\")),IF(VLOOKUP($A25,quart!$B:$M,12,FALSE)=BY$2,\"X\",\"\"))","v":""},{"$f":"IF(ISERROR(VLOOKUP($A25,quart!$B:$M,12,FALSE)),IF(ISERROR(VLOOKUP($A25,quart!$F:$M,8,FALSE)),\"\",IF(VLOOKUP($A25,quart!$F:$M,8,FALSE)=BZ$2,\"X\",\"\")),IF(VLOOKUP($A25,quart!$B:$M,12,FALSE)=BZ$2,\"X\",\"\"))","v":""},{"$f":"IF(ISERROR(VLOOKUP($A25,quart!$B:$M,12,FALSE)),IF(ISERROR(VLOOKUP($A25,quart!$F:$M,8,FALSE)),\"\",IF(VLOOKUP($A25,quart!$F:$M,8,FALSE)=CA$2,\"X\",\"\")),IF(VLOOKUP($A25,quart!$B:$M,12,FALSE)=CA$2,\"X\",\"\"))","v":""},{"$f":"IF(ISERROR(VLOOKUP($A25,quart!$B:$M,12,FALSE)),IF(ISERROR(VLOOKUP($A25,quart!$F:$M,8,FALSE)),\"\",IF(VLOOKUP($A25,quart!$F:$M,8,FALSE)=CB$2,\"X\",\"\")),IF(VLOOKUP($A25,quart!$B:$M,12,FALSE)=CB$2,\"X\",\"\"))","v":""},{"$f":"IF(ISERROR(VLOOKUP($A25,quart!$B:$M,12,FALSE)),IF(ISERROR(VLOOKUP($A25,quart!$F:$M,8,FALSE)),\"\",IF(VLOOKUP($A25,quart!$F:$M,8,FALSE)=CC$2,\"X\",\"\")),IF(VLOOKUP($A25,quart!$B:$M,12,FALSE)=CC$2,\"X\",\"\"))","v":""},{"$f":"IF(ISERROR(VLOOKUP($A25,demi!$B:$M,12,FALSE)),IF(ISERROR(VLOOKUP($A25,demi!$F:$M,8,FALSE)),\"\",IF(VLOOKUP($A25,demi!$F:$M,8,FALSE)=CD$2,\"X\",\"\")),IF(VLOOKUP($A25,demi!$B:$M,12,FALSE)=CD$2,\"X\",\"\"))","v":""},{"$f":"IF(ISERROR(VLOOKUP($A25,demi!$B:$M,12,FALSE)),IF(ISERROR(VLOOKUP($A25,demi!$F:$M,8,FALSE)),\"\",IF(VLOOKUP($A25,demi!$F:$M,8,FALSE)=CE$2,\"X\",\"\")),IF(VLOOKUP($A25,demi!$B:$M,12,FALSE)=CE$2,\"X\",\"\"))","v":""},{"$f":"IF(ISERROR(VLOOKUP($A25,demi!$B:$M,12,FALSE)),IF(ISERROR(VLOOKUP($A25,demi!$F:$M,8,FALSE)),\"\",IF(VLOOKUP($A25,demi!$F:$M,8,FALSE)=CF$2,\"X\",\"\")),IF(VLOOKUP($A25,demi!$B:$M,12,FALSE)=CF$2,\"X\",\"\"))","v":""},{"$f":"IF(ISERROR(VLOOKUP($A25,demi!$B:$M,12,FALSE)),IF(ISERROR(VLOOKUP($A25,demi!$F:$M,8,FALSE)),\"\",IF(VLOOKUP($A25,demi!$F:$M,8,FALSE)=CG$2,\"X\",\"\")),IF(VLOOKUP($A25,demi!$B:$M,12,FALSE)=CG$2,\"X\",\"\"))","v":""},{"$f":"IF(ISERROR(VLOOKUP($A25,demi!$B:$M,12,FALSE)),IF(ISERROR(VLOOKUP($A25,demi!$F:$M,8,FALSE)),\"\",IF(VLOOKUP($A25,demi!$F:$M,8,FALSE)=CH$2,\"X\",\"\")),IF(VLOOKUP($A25,demi!$B:$M,12,FALSE)=CH$2,\"X\",\"\"))","v":""},{"$f":"IF(ISERROR(VLOOKUP($A25,demi!$B:$M,12,FALSE)),IF(ISERROR(VLOOKUP($A25,demi!$F:$M,8,FALSE)),\"\",IF(VLOOKUP($A25,demi!$F:$M,8,FALSE)=CI$2,\"X\",\"\")),IF(VLOOKUP($A25,demi!$B:$M,12,FALSE)=CI$2,\"X\",\"\"))","v":""},{"$f":"IF(ISERROR(VLOOKUP($A25,demi!$B:$M,12,FALSE)),IF(ISERROR(VLOOKUP($A25,demi!$F:$M,8,FALSE)),\"\",IF(VLOOKUP($A25,demi!$F:$M,8,FALSE)=CJ$2,\"X\",\"\")),IF(VLOOKUP($A25,demi!$B:$M,12,FALSE)=CJ$2,\"X\",\"\"))","v":""},{"$f":"IF(ISERROR(VLOOKUP($A25,demi!$B:$M,12,FALSE)),IF(ISERROR(VLOOKUP($A25,demi!$F:$M,8,FALSE)),\"\",IF(VLOOKUP($A25,demi!$F:$M,8,FALSE)=CK$2,\"X\",\"\")),IF(VLOOKUP($A25,demi!$B:$M,12,FALSE)=CK$2,\"X\",\"\"))","v":""},{"$f":"IF(ISERROR(VLOOKUP($A25,demi!$B:$M,12,FALSE)),IF(ISERROR(VLOOKUP($A25,demi!$F:$M,8,FALSE)),\"\",IF(VLOOKUP($A25,demi!$F:$M,8,FALSE)=CL$2,\"X\",\"\")),IF(VLOOKUP($A25,demi!$B:$M,12,FALSE)=CL$2,\"X\",\"\"))","v":""},{"$f":"IF(ISERROR(VLOOKUP($A25,demi!$B:$M,12,FALSE)),IF(ISERROR(VLOOKUP($A25,demi!$F:$M,8,FALSE)),\"\",IF(VLOOKUP($A25,demi!$F:$M,8,FALSE)=CM$2,\"X\",\"\")),IF(VLOOKUP($A25,demi!$B:$M,12,FALSE)=CM$2,\"X\",\"\"))","v":""},{"$f":"IF(ISERROR(VLOOKUP($A25,demi!$B:$M,12,FALSE)),IF(ISERROR(VLOOKUP($A25,demi!$F:$M,8,FALSE)),\"\",IF(VLOOKUP($A25,demi!$F:$M,8,FALSE)=CN$2,\"X\",\"\")),IF(VLOOKUP($A25,demi!$B:$M,12,FALSE)=CN$2,\"X\",\"\"))","v":""},{"$f":"IF(ISERROR(VLOOKUP($A25,demi!$B:$M,12,FALSE)),IF(ISERROR(VLOOKUP($A25,demi!$F:$M,8,FALSE)),\"\",IF(VLOOKUP($A25,demi!$F:$M,8,FALSE)=CO$2,\"X\",\"\")),IF(VLOOKUP($A25,demi!$B:$M,12,FALSE)=CO$2,\"X\",\"\"))","v":""},{"$f":"IF(ISERROR(VLOOKUP($A25,demi!$B:$M,12,FALSE)),IF(ISERROR(VLOOKUP($A25,demi!$F:$M,8,FALSE)),\"\",IF(VLOOKUP($A25,demi!$F:$M,8,FALSE)=CP$2,\"X\",\"\")),IF(VLOOKUP($A25,demi!$B:$M,12,FALSE)=CP$2,\"X\",\"\"))","v":""},{"$f":"IF(ISERROR(VLOOKUP($A25,demi!$B:$M,12,FALSE)),IF(ISERROR(VLOOKUP($A25,demi!$F:$M,8,FALSE)),\"\",IF(VLOOKUP($A25,demi!$F:$M,8,FALSE)=CQ$2,\"X\",\"\")),IF(VLOOKUP($A25,demi!$B:$M,12,FALSE)=CQ$2,\"X\",\"\"))","v":""},{"$f":"IF(ISERROR(VLOOKUP($A25,demi!$B:$M,12,FALSE)),IF(ISERROR(VLOOKUP($A25,demi!$F:$M,8,FALSE)),\"\",IF(VLOOKUP($A25,demi!$F:$M,8,FALSE)=CR$2,\"X\",\"\")),IF(VLOOKUP($A25,demi!$B:$M,12,FALSE)=CR$2,\"X\",\"\"))","v":""},{"$f":"IF(ISERROR(VLOOKUP($A25,demi!$B:$M,12,FALSE)),IF(ISERROR(VLOOKUP($A25,demi!$F:$M,8,FALSE)),\"\",IF(VLOOKUP($A25,demi!$F:$M,8,FALSE)=CS$2,\"X\",\"\")),IF(VLOOKUP($A25,demi!$B:$M,12,FALSE)=CS$2,\"X\",\"\"))","v":""}]
[24,"X","X","X","X","X","X","X","X","X","X","X","X","X","X","X","X",{"$f":"IF(ISERROR(VLOOKUP($A26,'32eme'!$B:$M,12,FALSE)),IF(ISERROR(VLOOKUP($A26,'32eme'!$F:$M,8,FALSE)),\"\",IF(VLOOKUP($A26,'32eme'!$F:$M,8,FALSE)=R$2,\"X\",\"\")),IF(VLOOKUP($A26,'32eme'!$B:$M,12,FALSE)=R$2,\"X\",\"\"))","v":""},{"$f":"IF(ISERROR(VLOOKUP($A26,'32eme'!$B:$M,12,FALSE)),IF(ISERROR(VLOOKUP($A26,'32eme'!$F:$M,8,FALSE)),\"\",IF(VLOOKUP($A26,'32eme'!$F:$M,8,FALSE)=S$2,\"X\",\"\")),IF(VLOOKUP($A26,'32eme'!$B:$M,12,FALSE)=S$2,\"X\",\"\"))","v":""},{"$f":"IF(ISERROR(VLOOKUP($A26,'32eme'!$B:$M,12,FALSE)),IF(ISERROR(VLOOKUP($A26,'32eme'!$F:$M,8,FALSE)),\"\",IF(VLOOKUP($A26,'32eme'!$F:$M,8,FALSE)=T$2,\"X\",\"\")),IF(VLOOKUP($A26,'32eme'!$B:$M,12,FALSE)=T$2,\"X\",\"\"))","v":""},{"$f":"IF(ISERROR(VLOOKUP($A26,'32eme'!$B:$M,12,FALSE)),IF(ISERROR(VLOOKUP($A26,'32eme'!$F:$M,8,FALSE)),\"\",IF(VLOOKUP($A26,'32eme'!$F:$M,8,FALSE)=U$2,\"X\",\"\")),IF(VLOOKUP($A26,'32eme'!$B:$M,12,FALSE)=U$2,\"X\",\"\"))","v":""},{"$f":"IF(ISERROR(VLOOKUP($A26,'32eme'!$B:$M,12,FALSE)),IF(ISERROR(VLOOKUP($A26,'32eme'!$F:$M,8,FALSE)),\"\",IF(VLOOKUP($A26,'32eme'!$F:$M,8,FALSE)=V$2,\"X\",\"\")),IF(VLOOKUP($A26,'32eme'!$B:$M,12,FALSE)=V$2,\"X\",\"\"))","v":""},{"$f":"IF(ISERROR(VLOOKUP($A26,'32eme'!$B:$M,12,FALSE)),IF(ISERROR(VLOOKUP($A26,'32eme'!$F:$M,8,FALSE)),\"\",IF(VLOOKUP($A26,'32eme'!$F:$M,8,FALSE)=W$2,\"X\",\"\")),IF(VLOOKUP($A26,'32eme'!$B:$M,12,FALSE)=W$2,\"X\",\"\"))","v":""},{"$f":"IF(ISERROR(VLOOKUP($A26,'32eme'!$B:$M,12,FALSE)),IF(ISERROR(VLOOKUP($A26,'32eme'!$F:$M,8,FALSE)),\"\",IF(VLOOKUP($A26,'32eme'!$F:$M,8,FALSE)=X$2,\"X\",\"\")),IF(VLOOKUP($A26,'32eme'!$B:$M,12,FALSE)=X$2,\"X\",\"\"))","v":""},{"$f":"IF(ISERROR(VLOOKUP($A26,'32eme'!$B:$M,12,FALSE)),IF(ISERROR(VLOOKUP($A26,'32eme'!$F:$M,8,FALSE)),\"\",IF(VLOOKUP($A26,'32eme'!$F:$M,8,FALSE)=Y$2,\"X\",\"\")),IF(VLOOKUP($A26,'32eme'!$B:$M,12,FALSE)=Y$2,\"X\",\"\"))","v":""},{"$f":"IF(ISERROR(VLOOKUP($A26,'32eme'!$B:$M,12,FALSE)),IF(ISERROR(VLOOKUP($A26,'32eme'!$F:$M,8,FALSE)),\"\",IF(VLOOKUP($A26,'32eme'!$F:$M,8,FALSE)=Z$2,\"X\",\"\")),IF(VLOOKUP($A26,'32eme'!$B:$M,12,FALSE)=Z$2,\"X\",\"\"))","v":""},{"$f":"IF(ISERROR(VLOOKUP($A26,'32eme'!$B:$M,12,FALSE)),IF(ISERROR(VLOOKUP($A26,'32eme'!$F:$M,8,FALSE)),\"\",IF(VLOOKUP($A26,'32eme'!$F:$M,8,FALSE)=AA$2,\"X\",\"\")),IF(VLOOKUP($A26,'32eme'!$B:$M,12,FALSE)=AA$2,\"X\",\"\"))","v":""},{"$f":"IF(ISERROR(VLOOKUP($A26,'32eme'!$B:$M,12,FALSE)),IF(ISERROR(VLOOKUP($A26,'32eme'!$F:$M,8,FALSE)),\"\",IF(VLOOKUP($A26,'32eme'!$F:$M,8,FALSE)=AB$2,\"X\",\"\")),IF(VLOOKUP($A26,'32eme'!$B:$M,12,FALSE)=AB$2,\"X\",\"\"))","v":""},{"$f":"IF(ISERROR(VLOOKUP($A26,'32eme'!$B:$M,12,FALSE)),IF(ISERROR(VLOOKUP($A26,'32eme'!$F:$M,8,FALSE)),\"\",IF(VLOOKUP($A26,'32eme'!$F:$M,8,FALSE)=AC$2,\"X\",\"\")),IF(VLOOKUP($A26,'32eme'!$B:$M,12,FALSE)=AC$2,\"X\",\"\"))","v":""},{"$f":"IF(ISERROR(VLOOKUP($A26,'32eme'!$B:$M,12,FALSE)),IF(ISERROR(VLOOKUP($A26,'32eme'!$F:$M,8,FALSE)),\"\",IF(VLOOKUP($A26,'32eme'!$F:$M,8,FALSE)=AD$2,\"X\",\"\")),IF(VLOOKUP($A26,'32eme'!$B:$M,12,FALSE)=AD$2,\"X\",\"\"))","v":""},{"$f":"IF(ISERROR(VLOOKUP($A26,'32eme'!$B:$M,12,FALSE)),IF(ISERROR(VLOOKUP($A26,'32eme'!$F:$M,8,FALSE)),\"\",IF(VLOOKUP($A26,'32eme'!$F:$M,8,FALSE)=AE$2,\"X\",\"\")),IF(VLOOKUP($A26,'32eme'!$B:$M,12,FALSE)=AE$2,\"X\",\"\"))","v":""},{"$f":"IF(ISERROR(VLOOKUP($A26,'32eme'!$B:$M,12,FALSE)),IF(ISERROR(VLOOKUP($A26,'32eme'!$F:$M,8,FALSE)),\"\",IF(VLOOKUP($A26,'32eme'!$F:$M,8,FALSE)=AF$2,\"X\",\"\")),IF(VLOOKUP($A26,'32eme'!$B:$M,12,FALSE)=AF$2,\"X\",\"\"))","v":""},{"$f":"IF(ISERROR(VLOOKUP($A26,'32eme'!$B:$M,12,FALSE)),IF(ISERROR(VLOOKUP($A26,'32eme'!$F:$M,8,FALSE)),\"\",IF(VLOOKUP($A26,'32eme'!$F:$M,8,FALSE)=AG$2,\"X\",\"\")),IF(VLOOKUP($A26,'32eme'!$B:$M,12,FALSE)=AG$2,\"X\",\"\"))","v":""},{"$f":"IF(ISERROR(VLOOKUP($A26,'16eme'!$B:$M,12,FALSE)),IF(ISERROR(VLOOKUP($A26,'16eme'!$F:$M,8,FALSE)),\"\",IF(VLOOKUP($A26,'16eme'!$F:$M,8,FALSE)=AH$2,\"X\",\"\")),IF(VLOOKUP($A26,'16eme'!$B:$M,12,FALSE)=AH$2,\"X\",\"\"))","v":""},{"$f":"IF(ISERROR(VLOOKUP($A26,'16eme'!$B:$M,12,FALSE)),IF(ISERROR(VLOOKUP($A26,'16eme'!$F:$M,8,FALSE)),\"\",IF(VLOOKUP($A26,'16eme'!$F:$M,8,FALSE)=AI$2,\"X\",\"\")),IF(VLOOKUP($A26,'16eme'!$B:$M,12,FALSE)=AI$2,\"X\",\"\"))","v":""},{"$f":"IF(ISERROR(VLOOKUP($A26,'16eme'!$B:$M,12,FALSE)),IF(ISERROR(VLOOKUP($A26,'16eme'!$F:$M,8,FALSE)),\"\",IF(VLOOKUP($A26,'16eme'!$F:$M,8,FALSE)=AJ$2,\"X\",\"\")),IF(VLOOKUP($A26,'16eme'!$B:$M,12,FALSE)=AJ$2,\"X\",\"\"))","v":""},{"$f":"IF(ISERROR(VLOOKUP($A26,'16eme'!$B:$M,12,FALSE)),IF(ISERROR(VLOOKUP($A26,'16eme'!$F:$M,8,FALSE)),\"\",IF(VLOOKUP($A26,'16eme'!$F:$M,8,FALSE)=AK$2,\"X\",\"\")),IF(VLOOKUP($A26,'16eme'!$B:$M,12,FALSE)=AK$2,\"X\",\"\"))","v":""},{"$f":"IF(ISERROR(VLOOKUP($A26,'16eme'!$B:$M,12,FALSE)),IF(ISERROR(VLOOKUP($A26,'16eme'!$F:$M,8,FALSE)),\"\",IF(VLOOKUP($A26,'16eme'!$F:$M,8,FALSE)=AL$2,\"X\",\"\")),IF(VLOOKUP($A26,'16eme'!$B:$M,12,FALSE)=AL$2,\"X\",\"\"))","v":""},{"$f":"IF(ISERROR(VLOOKUP($A26,'16eme'!$B:$M,12,FALSE)),IF(ISERROR(VLOOKUP($A26,'16eme'!$F:$M,8,FALSE)),\"\",IF(VLOOKUP($A26,'16eme'!$F:$M,8,FALSE)=AM$2,\"X\",\"\")),IF(VLOOKUP($A26,'16eme'!$B:$M,12,FALSE)=AM$2,\"X\",\"\"))","v":""},{"$f":"IF(ISERROR(VLOOKUP($A26,'16eme'!$B:$M,12,FALSE)),IF(ISERROR(VLOOKUP($A26,'16eme'!$F:$M,8,FALSE)),\"\",IF(VLOOKUP($A26,'16eme'!$F:$M,8,FALSE)=AN$2,\"X\",\"\")),IF(VLOOKUP($A26,'16eme'!$B:$M,12,FALSE)=AN$2,\"X\",\"\"))","v":""},{"$f":"IF(ISERROR(VLOOKUP($A26,'16eme'!$B:$M,12,FALSE)),IF(ISERROR(VLOOKUP($A26,'16eme'!$F:$M,8,FALSE)),\"\",IF(VLOOKUP($A26,'16eme'!$F:$M,8,FALSE)=AO$2,\"X\",\"\")),IF(VLOOKUP($A26,'16eme'!$B:$M,12,FALSE)=AO$2,\"X\",\"\"))","v":""},{"$f":"IF(ISERROR(VLOOKUP($A26,'16eme'!$B:$M,12,FALSE)),IF(ISERROR(VLOOKUP($A26,'16eme'!$F:$M,8,FALSE)),\"\",IF(VLOOKUP($A26,'16eme'!$F:$M,8,FALSE)=AP$2,\"X\",\"\")),IF(VLOOKUP($A26,'16eme'!$B:$M,12,FALSE)=AP$2,\"X\",\"\"))","v":""},{"$f":"IF(ISERROR(VLOOKUP($A26,'16eme'!$B:$M,12,FALSE)),IF(ISERROR(VLOOKUP($A26,'16eme'!$F:$M,8,FALSE)),\"\",IF(VLOOKUP($A26,'16eme'!$F:$M,8,FALSE)=AQ$2,\"X\",\"\")),IF(VLOOKUP($A26,'16eme'!$B:$M,12,FALSE)=AQ$2,\"X\",\"\"))","v":""},{"$f":"IF(ISERROR(VLOOKUP($A26,'16eme'!$B:$M,12,FALSE)),IF(ISERROR(VLOOKUP($A26,'16eme'!$F:$M,8,FALSE)),\"\",IF(VLOOKUP($A26,'16eme'!$F:$M,8,FALSE)=AR$2,\"X\",\"\")),IF(VLOOKUP($A26,'16eme'!$B:$M,12,FALSE)=AR$2,\"X\",\"\"))","v":""},{"$f":"IF(ISERROR(VLOOKUP($A26,'16eme'!$B:$M,12,FALSE)),IF(ISERROR(VLOOKUP($A26,'16eme'!$F:$M,8,FALSE)),\"\",IF(VLOOKUP($A26,'16eme'!$F:$M,8,FALSE)=AS$2,\"X\",\"\")),IF(VLOOKUP($A26,'16eme'!$B:$M,12,FALSE)=AS$2,\"X\",\"\"))","v":""},{"$f":"IF(ISERROR(VLOOKUP($A26,'16eme'!$B:$M,12,FALSE)),IF(ISERROR(VLOOKUP($A26,'16eme'!$F:$M,8,FALSE)),\"\",IF(VLOOKUP($A26,'16eme'!$F:$M,8,FALSE)=AT$2,\"X\",\"\")),IF(VLOOKUP($A26,'16eme'!$B:$M,12,FALSE)=AT$2,\"X\",\"\"))","v":""},{"$f":"IF(ISERROR(VLOOKUP($A26,'16eme'!$B:$M,12,FALSE)),IF(ISERROR(VLOOKUP($A26,'16eme'!$F:$M,8,FALSE)),\"\",IF(VLOOKUP($A26,'16eme'!$F:$M,8,FALSE)=AU$2,\"X\",\"\")),IF(VLOOKUP($A26,'16eme'!$B:$M,12,FALSE)=AU$2,\"X\",\"\"))","v":""},{"$f":"IF(ISERROR(VLOOKUP($A26,'16eme'!$B:$M,12,FALSE)),IF(ISERROR(VLOOKUP($A26,'16eme'!$F:$M,8,FALSE)),\"\",IF(VLOOKUP($A26,'16eme'!$F:$M,8,FALSE)=AV$2,\"X\",\"\")),IF(VLOOKUP($A26,'16eme'!$B:$M,12,FALSE)=AV$2,\"X\",\"\"))","v":""},{"$f":"IF(ISERROR(VLOOKUP($A26,'16eme'!$B:$M,12,FALSE)),IF(ISERROR(VLOOKUP($A26,'16eme'!$F:$M,8,FALSE)),\"\",IF(VLOOKUP($A26,'16eme'!$F:$M,8,FALSE)=AW$2,\"X\",\"\")),IF(VLOOKUP($A26,'16eme'!$B:$M,12,FALSE)=AW$2,\"X\",\"\"))","v":""},{"$f":"IF(ISERROR(VLOOKUP($A26,'8eme'!$B:$M,12,FALSE)),IF(ISERROR(VLOOKUP($A26,'8eme'!$F:$M,8,FALSE)),\"\",IF(VLOOKUP($A26,'8eme'!$F:$M,8,FALSE)=AX$2,\"X\",\"\")),IF(VLOOKUP($A26,'8eme'!$B:$M,12,FALSE)=AX$2,\"X\",\"\"))","v":""},{"$f":"IF(ISERROR(VLOOKUP($A26,'8eme'!$B:$M,12,FALSE)),IF(ISERROR(VLOOKUP($A26,'8eme'!$F:$M,8,FALSE)),\"\",IF(VLOOKUP($A26,'8eme'!$F:$M,8,FALSE)=AY$2,\"X\",\"\")),IF(VLOOKUP($A26,'8eme'!$B:$M,12,FALSE)=AY$2,\"X\",\"\"))","v":""},{"$f":"IF(ISERROR(VLOOKUP($A26,'8eme'!$B:$M,12,FALSE)),IF(ISERROR(VLOOKUP($A26,'8eme'!$F:$M,8,FALSE)),\"\",IF(VLOOKUP($A26,'8eme'!$F:$M,8,FALSE)=AZ$2,\"X\",\"\")),IF(VLOOKUP($A26,'8eme'!$B:$M,12,FALSE)=AZ$2,\"X\",\"\"))","v":""},{"$f":"IF(ISERROR(VLOOKUP($A26,'8eme'!$B:$M,12,FALSE)),IF(ISERROR(VLOOKUP($A26,'8eme'!$F:$M,8,FALSE)),\"\",IF(VLOOKUP($A26,'8eme'!$F:$M,8,FALSE)=BA$2,\"X\",\"\")),IF(VLOOKUP($A26,'8eme'!$B:$M,12,FALSE)=BA$2,\"X\",\"\"))","v":""},{"$f":"IF(ISERROR(VLOOKUP($A26,'8eme'!$B:$M,12,FALSE)),IF(ISERROR(VLOOKUP($A26,'8eme'!$F:$M,8,FALSE)),\"\",IF(VLOOKUP($A26,'8eme'!$F:$M,8,FALSE)=BB$2,\"X\",\"\")),IF(VLOOKUP($A26,'8eme'!$B:$M,12,FALSE)=BB$2,\"X\",\"\"))","v":""},{"$f":"IF(ISERROR(VLOOKUP($A26,'8eme'!$B:$M,12,FALSE)),IF(ISERROR(VLOOKUP($A26,'8eme'!$F:$M,8,FALSE)),\"\",IF(VLOOKUP($A26,'8eme'!$F:$M,8,FALSE)=BC$2,\"X\",\"\")),IF(VLOOKUP($A26,'8eme'!$B:$M,12,FALSE)=BC$2,\"X\",\"\"))","v":""},{"$f":"IF(ISERROR(VLOOKUP($A26,'8eme'!$B:$M,12,FALSE)),IF(ISERROR(VLOOKUP($A26,'8eme'!$F:$M,8,FALSE)),\"\",IF(VLOOKUP($A26,'8eme'!$F:$M,8,FALSE)=BD$2,\"X\",\"\")),IF(VLOOKUP($A26,'8eme'!$B:$M,12,FALSE)=BD$2,\"X\",\"\"))","v":""},{"$f":"IF(ISERROR(VLOOKUP($A26,'8eme'!$B:$M,12,FALSE)),IF(ISERROR(VLOOKUP($A26,'8eme'!$F:$M,8,FALSE)),\"\",IF(VLOOKUP($A26,'8eme'!$F:$M,8,FALSE)=BE$2,\"X\",\"\")),IF(VLOOKUP($A26,'8eme'!$B:$M,12,FALSE)=BE$2,\"X\",\"\"))","v":""},{"$f":"IF(ISERROR(VLOOKUP($A26,'8eme'!$B:$M,12,FALSE)),IF(ISERROR(VLOOKUP($A26,'8eme'!$F:$M,8,FALSE)),\"\",IF(VLOOKUP($A26,'8eme'!$F:$M,8,FALSE)=BF$2,\"X\",\"\")),IF(VLOOKUP($A26,'8eme'!$B:$M,12,FALSE)=BF$2,\"X\",\"\"))","v":""},{"$f":"IF(ISERROR(VLOOKUP($A26,'8eme'!$B:$M,12,FALSE)),IF(ISERROR(VLOOKUP($A26,'8eme'!$F:$M,8,FALSE)),\"\",IF(VLOOKUP($A26,'8eme'!$F:$M,8,FALSE)=BG$2,\"X\",\"\")),IF(VLOOKUP($A26,'8eme'!$B:$M,12,FALSE)=BG$2,\"X\",\"\"))","v":""},{"$f":"IF(ISERROR(VLOOKUP($A26,'8eme'!$B:$M,12,FALSE)),IF(ISERROR(VLOOKUP($A26,'8eme'!$F:$M,8,FALSE)),\"\",IF(VLOOKUP($A26,'8eme'!$F:$M,8,FALSE)=BH$2,\"X\",\"\")),IF(VLOOKUP($A26,'8eme'!$B:$M,12,FALSE)=BH$2,\"X\",\"\"))","v":""},{"$f":"IF(ISERROR(VLOOKUP($A26,'8eme'!$B:$M,12,FALSE)),IF(ISERROR(VLOOKUP($A26,'8eme'!$F:$M,8,FALSE)),\"\",IF(VLOOKUP($A26,'8eme'!$F:$M,8,FALSE)=BI$2,\"X\",\"\")),IF(VLOOKUP($A26,'8eme'!$B:$M,12,FALSE)=BI$2,\"X\",\"\"))","v":""},{"$f":"IF(ISERROR(VLOOKUP($A26,'8eme'!$B:$M,12,FALSE)),IF(ISERROR(VLOOKUP($A26,'8eme'!$F:$M,8,FALSE)),\"\",IF(VLOOKUP($A26,'8eme'!$F:$M,8,FALSE)=BJ$2,\"X\",\"\")),IF(VLOOKUP($A26,'8eme'!$B:$M,12,FALSE)=BJ$2,\"X\",\"\"))","v":""},{"$f":"IF(ISERROR(VLOOKUP($A26,'8eme'!$B:$M,12,FALSE)),IF(ISERROR(VLOOKUP($A26,'8eme'!$F:$M,8,FALSE)),\"\",IF(VLOOKUP($A26,'8eme'!$F:$M,8,FALSE)=BK$2,\"X\",\"\")),IF(VLOOKUP($A26,'8eme'!$B:$M,12,FALSE)=BK$2,\"X\",\"\"))","v":""},{"$f":"IF(ISERROR(VLOOKUP($A26,'8eme'!$B:$M,12,FALSE)),IF(ISERROR(VLOOKUP($A26,'8eme'!$F:$M,8,FALSE)),\"\",IF(VLOOKUP($A26,'8eme'!$F:$M,8,FALSE)=BL$2,\"X\",\"\")),IF(VLOOKUP($A26,'8eme'!$B:$M,12,FALSE)=BL$2,\"X\",\"\"))","v":""},{"$f":"IF(ISERROR(VLOOKUP($A26,'8eme'!$B:$M,12,FALSE)),IF(ISERROR(VLOOKUP($A26,'8eme'!$F:$M,8,FALSE)),\"\",IF(VLOOKUP($A26,'8eme'!$F:$M,8,FALSE)=BM$2,\"X\",\"\")),IF(VLOOKUP($A26,'8eme'!$B:$M,12,FALSE)=BM$2,\"X\",\"\"))","v":""},{"$f":"IF(ISERROR(VLOOKUP($A26,quart!$B:$M,12,FALSE)),IF(ISERROR(VLOOKUP($A26,quart!$F:$M,8,FALSE)),\"\",IF(VLOOKUP($A26,quart!$F:$M,8,FALSE)=BN$2,\"X\",\"\")),IF(VLOOKUP($A26,quart!$B:$M,12,FALSE)=BN$2,\"X\",\"\"))","v":""},{"$f":"IF(ISERROR(VLOOKUP($A26,quart!$B:$M,12,FALSE)),IF(ISERROR(VLOOKUP($A26,quart!$F:$M,8,FALSE)),\"\",IF(VLOOKUP($A26,quart!$F:$M,8,FALSE)=BO$2,\"X\",\"\")),IF(VLOOKUP($A26,quart!$B:$M,12,FALSE)=BO$2,\"X\",\"\"))","v":""},{"$f":"IF(ISERROR(VLOOKUP($A26,quart!$B:$M,12,FALSE)),IF(ISERROR(VLOOKUP($A26,quart!$F:$M,8,FALSE)),\"\",IF(VLOOKUP($A26,quart!$F:$M,8,FALSE)=BP$2,\"X\",\"\")),IF(VLOOKUP($A26,quart!$B:$M,12,FALSE)=BP$2,\"X\",\"\"))","v":""},{"$f":"IF(ISERROR(VLOOKUP($A26,quart!$B:$M,12,FALSE)),IF(ISERROR(VLOOKUP($A26,quart!$F:$M,8,FALSE)),\"\",IF(VLOOKUP($A26,quart!$F:$M,8,FALSE)=BQ$2,\"X\",\"\")),IF(VLOOKUP($A26,quart!$B:$M,12,FALSE)=BQ$2,\"X\",\"\"))","v":""},{"$f":"IF(ISERROR(VLOOKUP($A26,quart!$B:$M,12,FALSE)),IF(ISERROR(VLOOKUP($A26,quart!$F:$M,8,FALSE)),\"\",IF(VLOOKUP($A26,quart!$F:$M,8,FALSE)=BR$2,\"X\",\"\")),IF(VLOOKUP($A26,quart!$B:$M,12,FALSE)=BR$2,\"X\",\"\"))","v":""},{"$f":"IF(ISERROR(VLOOKUP($A26,quart!$B:$M,12,FALSE)),IF(ISERROR(VLOOKUP($A26,quart!$F:$M,8,FALSE)),\"\",IF(VLOOKUP($A26,quart!$F:$M,8,FALSE)=BS$2,\"X\",\"\")),IF(VLOOKUP($A26,quart!$B:$M,12,FALSE)=BS$2,\"X\",\"\"))","v":""},{"$f":"IF(ISERROR(VLOOKUP($A26,quart!$B:$M,12,FALSE)),IF(ISERROR(VLOOKUP($A26,quart!$F:$M,8,FALSE)),\"\",IF(VLOOKUP($A26,quart!$F:$M,8,FALSE)=BT$2,\"X\",\"\")),IF(VLOOKUP($A26,quart!$B:$M,12,FALSE)=BT$2,\"X\",\"\"))","v":""},{"$f":"IF(ISERROR(VLOOKUP($A26,quart!$B:$M,12,FALSE)),IF(ISERROR(VLOOKUP($A26,quart!$F:$M,8,FALSE)),\"\",IF(VLOOKUP($A26,quart!$F:$M,8,FALSE)=BU$2,\"X\",\"\")),IF(VLOOKUP($A26,quart!$B:$M,12,FALSE)=BU$2,\"X\",\"\"))","v":""},{"$f":"IF(ISERROR(VLOOKUP($A26,quart!$B:$M,12,FALSE)),IF(ISERROR(VLOOKUP($A26,quart!$F:$M,8,FALSE)),\"\",IF(VLOOKUP($A26,quart!$F:$M,8,FALSE)=BV$2,\"X\",\"\")),IF(VLOOKUP($A26,quart!$B:$M,12,FALSE)=BV$2,\"X\",\"\"))","v":""},{"$f":"IF(ISERROR(VLOOKUP($A26,quart!$B:$M,12,FALSE)),IF(ISERROR(VLOOKUP($A26,quart!$F:$M,8,FALSE)),\"\",IF(VLOOKUP($A26,quart!$F:$M,8,FALSE)=BW$2,\"X\",\"\")),IF(VLOOKUP($A26,quart!$B:$M,12,FALSE)=BW$2,\"X\",\"\"))","v":""},{"$f":"IF(ISERROR(VLOOKUP($A26,quart!$B:$M,12,FALSE)),IF(ISERROR(VLOOKUP($A26,quart!$F:$M,8,FALSE)),\"\",IF(VLOOKUP($A26,quart!$F:$M,8,FALSE)=BX$2,\"X\",\"\")),IF(VLOOKUP($A26,quart!$B:$M,12,FALSE)=BX$2,\"X\",\"\"))","v":""},{"$f":"IF(ISERROR(VLOOKUP($A26,quart!$B:$M,12,FALSE)),IF(ISERROR(VLOOKUP($A26,quart!$F:$M,8,FALSE)),\"\",IF(VLOOKUP($A26,quart!$F:$M,8,FALSE)=BY$2,\"X\",\"\")),IF(VLOOKUP($A26,quart!$B:$M,12,FALSE)=BY$2,\"X\",\"\"))","v":""},{"$f":"IF(ISERROR(VLOOKUP($A26,quart!$B:$M,12,FALSE)),IF(ISERROR(VLOOKUP($A26,quart!$F:$M,8,FALSE)),\"\",IF(VLOOKUP($A26,quart!$F:$M,8,FALSE)=BZ$2,\"X\",\"\")),IF(VLOOKUP($A26,quart!$B:$M,12,FALSE)=BZ$2,\"X\",\"\"))","v":""},{"$f":"IF(ISERROR(VLOOKUP($A26,quart!$B:$M,12,FALSE)),IF(ISERROR(VLOOKUP($A26,quart!$F:$M,8,FALSE)),\"\",IF(VLOOKUP($A26,quart!$F:$M,8,FALSE)=CA$2,\"X\",\"\")),IF(VLOOKUP($A26,quart!$B:$M,12,FALSE)=CA$2,\"X\",\"\"))","v":""},{"$f":"IF(ISERROR(VLOOKUP($A26,quart!$B:$M,12,FALSE)),IF(ISERROR(VLOOKUP($A26,quart!$F:$M,8,FALSE)),\"\",IF(VLOOKUP($A26,quart!$F:$M,8,FALSE)=CB$2,\"X\",\"\")),IF(VLOOKUP($A26,quart!$B:$M,12,FALSE)=CB$2,\"X\",\"\"))","v":""},{"$f":"IF(ISERROR(VLOOKUP($A26,quart!$B:$M,12,FALSE)),IF(ISERROR(VLOOKUP($A26,quart!$F:$M,8,FALSE)),\"\",IF(VLOOKUP($A26,quart!$F:$M,8,FALSE)=CC$2,\"X\",\"\")),IF(VLOOKUP($A26,quart!$B:$M,12,FALSE)=CC$2,\"X\",\"\"))","v":""},{"$f":"IF(ISERROR(VLOOKUP($A26,demi!$B:$M,12,FALSE)),IF(ISERROR(VLOOKUP($A26,demi!$F:$M,8,FALSE)),\"\",IF(VLOOKUP($A26,demi!$F:$M,8,FALSE)=CD$2,\"X\",\"\")),IF(VLOOKUP($A26,demi!$B:$M,12,FALSE)=CD$2,\"X\",\"\"))","v":""},{"$f":"IF(ISERROR(VLOOKUP($A26,demi!$B:$M,12,FALSE)),IF(ISERROR(VLOOKUP($A26,demi!$F:$M,8,FALSE)),\"\",IF(VLOOKUP($A26,demi!$F:$M,8,FALSE)=CE$2,\"X\",\"\")),IF(VLOOKUP($A26,demi!$B:$M,12,FALSE)=CE$2,\"X\",\"\"))","v":""},{"$f":"IF(ISERROR(VLOOKUP($A26,demi!$B:$M,12,FALSE)),IF(ISERROR(VLOOKUP($A26,demi!$F:$M,8,FALSE)),\"\",IF(VLOOKUP($A26,demi!$F:$M,8,FALSE)=CF$2,\"X\",\"\")),IF(VLOOKUP($A26,demi!$B:$M,12,FALSE)=CF$2,\"X\",\"\"))","v":""},{"$f":"IF(ISERROR(VLOOKUP($A26,demi!$B:$M,12,FALSE)),IF(ISERROR(VLOOKUP($A26,demi!$F:$M,8,FALSE)),\"\",IF(VLOOKUP($A26,demi!$F:$M,8,FALSE)=CG$2,\"X\",\"\")),IF(VLOOKUP($A26,demi!$B:$M,12,FALSE)=CG$2,\"X\",\"\"))","v":""},{"$f":"IF(ISERROR(VLOOKUP($A26,demi!$B:$M,12,FALSE)),IF(ISERROR(VLOOKUP($A26,demi!$F:$M,8,FALSE)),\"\",IF(VLOOKUP($A26,demi!$F:$M,8,FALSE)=CH$2,\"X\",\"\")),IF(VLOOKUP($A26,demi!$B:$M,12,FALSE)=CH$2,\"X\",\"\"))","v":""},{"$f":"IF(ISERROR(VLOOKUP($A26,demi!$B:$M,12,FALSE)),IF(ISERROR(VLOOKUP($A26,demi!$F:$M,8,FALSE)),\"\",IF(VLOOKUP($A26,demi!$F:$M,8,FALSE)=CI$2,\"X\",\"\")),IF(VLOOKUP($A26,demi!$B:$M,12,FALSE)=CI$2,\"X\",\"\"))","v":""},{"$f":"IF(ISERROR(VLOOKUP($A26,demi!$B:$M,12,FALSE)),IF(ISERROR(VLOOKUP($A26,demi!$F:$M,8,FALSE)),\"\",IF(VLOOKUP($A26,demi!$F:$M,8,FALSE)=CJ$2,\"X\",\"\")),IF(VLOOKUP($A26,demi!$B:$M,12,FALSE)=CJ$2,\"X\",\"\"))","v":""},{"$f":"IF(ISERROR(VLOOKUP($A26,demi!$B:$M,12,FALSE)),IF(ISERROR(VLOOKUP($A26,demi!$F:$M,8,FALSE)),\"\",IF(VLOOKUP($A26,demi!$F:$M,8,FALSE)=CK$2,\"X\",\"\")),IF(VLOOKUP($A26,demi!$B:$M,12,FALSE)=CK$2,\"X\",\"\"))","v":""},{"$f":"IF(ISERROR(VLOOKUP($A26,demi!$B:$M,12,FALSE)),IF(ISERROR(VLOOKUP($A26,demi!$F:$M,8,FALSE)),\"\",IF(VLOOKUP($A26,demi!$F:$M,8,FALSE)=CL$2,\"X\",\"\")),IF(VLOOKUP($A26,demi!$B:$M,12,FALSE)=CL$2,\"X\",\"\"))","v":""},{"$f":"IF(ISERROR(VLOOKUP($A26,demi!$B:$M,12,FALSE)),IF(ISERROR(VLOOKUP($A26,demi!$F:$M,8,FALSE)),\"\",IF(VLOOKUP($A26,demi!$F:$M,8,FALSE)=CM$2,\"X\",\"\")),IF(VLOOKUP($A26,demi!$B:$M,12,FALSE)=CM$2,\"X\",\"\"))","v":""},{"$f":"IF(ISERROR(VLOOKUP($A26,demi!$B:$M,12,FALSE)),IF(ISERROR(VLOOKUP($A26,demi!$F:$M,8,FALSE)),\"\",IF(VLOOKUP($A26,demi!$F:$M,8,FALSE)=CN$2,\"X\",\"\")),IF(VLOOKUP($A26,demi!$B:$M,12,FALSE)=CN$2,\"X\",\"\"))","v":""},{"$f":"IF(ISERROR(VLOOKUP($A26,demi!$B:$M,12,FALSE)),IF(ISERROR(VLOOKUP($A26,demi!$F:$M,8,FALSE)),\"\",IF(VLOOKUP($A26,demi!$F:$M,8,FALSE)=CO$2,\"X\",\"\")),IF(VLOOKUP($A26,demi!$B:$M,12,FALSE)=CO$2,\"X\",\"\"))","v":""},{"$f":"IF(ISERROR(VLOOKUP($A26,demi!$B:$M,12,FALSE)),IF(ISERROR(VLOOKUP($A26,demi!$F:$M,8,FALSE)),\"\",IF(VLOOKUP($A26,demi!$F:$M,8,FALSE)=CP$2,\"X\",\"\")),IF(VLOOKUP($A26,demi!$B:$M,12,FALSE)=CP$2,\"X\",\"\"))","v":""},{"$f":"IF(ISERROR(VLOOKUP($A26,demi!$B:$M,12,FALSE)),IF(ISERROR(VLOOKUP($A26,demi!$F:$M,8,FALSE)),\"\",IF(VLOOKUP($A26,demi!$F:$M,8,FALSE)=CQ$2,\"X\",\"\")),IF(VLOOKUP($A26,demi!$B:$M,12,FALSE)=CQ$2,\"X\",\"\"))","v":""},{"$f":"IF(ISERROR(VLOOKUP($A26,demi!$B:$M,12,FALSE)),IF(ISERROR(VLOOKUP($A26,demi!$F:$M,8,FALSE)),\"\",IF(VLOOKUP($A26,demi!$F:$M,8,FALSE)=CR$2,\"X\",\"\")),IF(VLOOKUP($A26,demi!$B:$M,12,FALSE)=CR$2,\"X\",\"\"))","v":""},{"$f":"IF(ISERROR(VLOOKUP($A26,demi!$B:$M,12,FALSE)),IF(ISERROR(VLOOKUP($A26,demi!$F:$M,8,FALSE)),\"\",IF(VLOOKUP($A26,demi!$F:$M,8,FALSE)=CS$2,\"X\",\"\")),IF(VLOOKUP($A26,demi!$B:$M,12,FALSE)=CS$2,\"X\",\"\"))","v":""}]
[25,"X","X","X","X","X","X","X","X","X","X","X","X","X","X","X","X",{"$f":"IF(ISERROR(VLOOKUP($A27,'32eme'!$B:$M,12,FALSE)),IF(ISERROR(VLOOKUP($A27,'32eme'!$F:$M,8,FALSE)),\"\",IF(VLOOKUP($A27,'32eme'!$F:$M,8,FALSE)=R$2,\"X\",\"\")),IF(VLOOKUP($A27,'32eme'!$B:$M,12,FALSE)=R$2,\"X\",\"\"))","v":""},{"$f":"IF(ISERROR(VLOOKUP($A27,'32eme'!$B:$M,12,FALSE)),IF(ISERROR(VLOOKUP($A27,'32eme'!$F:$M,8,FALSE)),\"\",IF(VLOOKUP($A27,'32eme'!$F:$M,8,FALSE)=S$2,\"X\",\"\")),IF(VLOOKUP($A27,'32eme'!$B:$M,12,FALSE)=S$2,\"X\",\"\"))","v":""},{"$f":"IF(ISERROR(VLOOKUP($A27,'32eme'!$B:$M,12,FALSE)),IF(ISERROR(VLOOKUP($A27,'32eme'!$F:$M,8,FALSE)),\"\",IF(VLOOKUP($A27,'32eme'!$F:$M,8,FALSE)=T$2,\"X\",\"\")),IF(VLOOKUP($A27,'32eme'!$B:$M,12,FALSE)=T$2,\"X\",\"\"))","v":""},{"$f":"IF(ISERROR(VLOOKUP($A27,'32eme'!$B:$M,12,FALSE)),IF(ISERROR(VLOOKUP($A27,'32eme'!$F:$M,8,FALSE)),\"\",IF(VLOOKUP($A27,'32eme'!$F:$M,8,FALSE)=U$2,\"X\",\"\")),IF(VLOOKUP($A27,'32eme'!$B:$M,12,FALSE)=U$2,\"X\",\"\"))","v":""},{"$f":"IF(ISERROR(VLOOKUP($A27,'32eme'!$B:$M,12,FALSE)),IF(ISERROR(VLOOKUP($A27,'32eme'!$F:$M,8,FALSE)),\"\",IF(VLOOKUP($A27,'32eme'!$F:$M,8,FALSE)=V$2,\"X\",\"\")),IF(VLOOKUP($A27,'32eme'!$B:$M,12,FALSE)=V$2,\"X\",\"\"))","v":""},{"$f":"IF(ISERROR(VLOOKUP($A27,'32eme'!$B:$M,12,FALSE)),IF(ISERROR(VLOOKUP($A27,'32eme'!$F:$M,8,FALSE)),\"\",IF(VLOOKUP($A27,'32eme'!$F:$M,8,FALSE)=W$2,\"X\",\"\")),IF(VLOOKUP($A27,'32eme'!$B:$M,12,FALSE)=W$2,\"X\",\"\"))","v":""},{"$f":"IF(ISERROR(VLOOKUP($A27,'32eme'!$B:$M,12,FALSE)),IF(ISERROR(VLOOKUP($A27,'32eme'!$F:$M,8,FALSE)),\"\",IF(VLOOKUP($A27,'32eme'!$F:$M,8,FALSE)=X$2,\"X\",\"\")),IF(VLOOKUP($A27,'32eme'!$B:$M,12,FALSE)=X$2,\"X\",\"\"))","v":""},{"$f":"IF(ISERROR(VLOOKUP($A27,'32eme'!$B:$M,12,FALSE)),IF(ISERROR(VLOOKUP($A27,'32eme'!$F:$M,8,FALSE)),\"\",IF(VLOOKUP($A27,'32eme'!$F:$M,8,FALSE)=Y$2,\"X\",\"\")),IF(VLOOKUP($A27,'32eme'!$B:$M,12,FALSE)=Y$2,\"X\",\"\"))","v":""},{"$f":"IF(ISERROR(VLOOKUP($A27,'32eme'!$B:$M,12,FALSE)),IF(ISERROR(VLOOKUP($A27,'32eme'!$F:$M,8,FALSE)),\"\",IF(VLOOKUP($A27,'32eme'!$F:$M,8,FALSE)=Z$2,\"X\",\"\")),IF(VLOOKUP($A27,'32eme'!$B:$M,12,FALSE)=Z$2,\"X\",\"\"))","v":""},{"$f":"IF(ISERROR(VLOOKUP($A27,'32eme'!$B:$M,12,FALSE)),IF(ISERROR(VLOOKUP($A27,'32eme'!$F:$M,8,FALSE)),\"\",IF(VLOOKUP($A27,'32eme'!$F:$M,8,FALSE)=AA$2,\"X\",\"\")),IF(VLOOKUP($A27,'32eme'!$B:$M,12,FALSE)=AA$2,\"X\",\"\"))","v":""},{"$f":"IF(ISERROR(VLOOKUP($A27,'32eme'!$B:$M,12,FALSE)),IF(ISERROR(VLOOKUP($A27,'32eme'!$F:$M,8,FALSE)),\"\",IF(VLOOKUP($A27,'32eme'!$F:$M,8,FALSE)=AB$2,\"X\",\"\")),IF(VLOOKUP($A27,'32eme'!$B:$M,12,FALSE)=AB$2,\"X\",\"\"))","v":""},{"$f":"IF(ISERROR(VLOOKUP($A27,'32eme'!$B:$M,12,FALSE)),IF(ISERROR(VLOOKUP($A27,'32eme'!$F:$M,8,FALSE)),\"\",IF(VLOOKUP($A27,'32eme'!$F:$M,8,FALSE)=AC$2,\"X\",\"\")),IF(VLOOKUP($A27,'32eme'!$B:$M,12,FALSE)=AC$2,\"X\",\"\"))","v":""},{"$f":"IF(ISERROR(VLOOKUP($A27,'32eme'!$B:$M,12,FALSE)),IF(ISERROR(VLOOKUP($A27,'32eme'!$F:$M,8,FALSE)),\"\",IF(VLOOKUP($A27,'32eme'!$F:$M,8,FALSE)=AD$2,\"X\",\"\")),IF(VLOOKUP($A27,'32eme'!$B:$M,12,FALSE)=AD$2,\"X\",\"\"))","v":""},{"$f":"IF(ISERROR(VLOOKUP($A27,'32eme'!$B:$M,12,FALSE)),IF(ISERROR(VLOOKUP($A27,'32eme'!$F:$M,8,FALSE)),\"\",IF(VLOOKUP($A27,'32eme'!$F:$M,8,FALSE)=AE$2,\"X\",\"\")),IF(VLOOKUP($A27,'32eme'!$B:$M,12,FALSE)=AE$2,\"X\",\"\"))","v":""},{"$f":"IF(ISERROR(VLOOKUP($A27,'32eme'!$B:$M,12,FALSE)),IF(ISERROR(VLOOKUP($A27,'32eme'!$F:$M,8,FALSE)),\"\",IF(VLOOKUP($A27,'32eme'!$F:$M,8,FALSE)=AF$2,\"X\",\"\")),IF(VLOOKUP($A27,'32eme'!$B:$M,12,FALSE)=AF$2,\"X\",\"\"))","v":""},{"$f":"IF(ISERROR(VLOOKUP($A27,'32eme'!$B:$M,12,FALSE)),IF(ISERROR(VLOOKUP($A27,'32eme'!$F:$M,8,FALSE)),\"\",IF(VLOOKUP($A27,'32eme'!$F:$M,8,FALSE)=AG$2,\"X\",\"\")),IF(VLOOKUP($A27,'32eme'!$B:$M,12,FALSE)=AG$2,\"X\",\"\"))","v":""},{"$f":"IF(ISERROR(VLOOKUP($A27,'16eme'!$B:$M,12,FALSE)),IF(ISERROR(VLOOKUP($A27,'16eme'!$F:$M,8,FALSE)),\"\",IF(VLOOKUP($A27,'16eme'!$F:$M,8,FALSE)=AH$2,\"X\",\"\")),IF(VLOOKUP($A27,'16eme'!$B:$M,12,FALSE)=AH$2,\"X\",\"\"))","v":""},{"$f":"IF(ISERROR(VLOOKUP($A27,'16eme'!$B:$M,12,FALSE)),IF(ISERROR(VLOOKUP($A27,'16eme'!$F:$M,8,FALSE)),\"\",IF(VLOOKUP($A27,'16eme'!$F:$M,8,FALSE)=AI$2,\"X\",\"\")),IF(VLOOKUP($A27,'16eme'!$B:$M,12,FALSE)=AI$2,\"X\",\"\"))","v":""},{"$f":"IF(ISERROR(VLOOKUP($A27,'16eme'!$B:$M,12,FALSE)),IF(ISERROR(VLOOKUP($A27,'16eme'!$F:$M,8,FALSE)),\"\",IF(VLOOKUP($A27,'16eme'!$F:$M,8,FALSE)=AJ$2,\"X\",\"\")),IF(VLOOKUP($A27,'16eme'!$B:$M,12,FALSE)=AJ$2,\"X\",\"\"))","v":""},{"$f":"IF(ISERROR(VLOOKUP($A27,'16eme'!$B:$M,12,FALSE)),IF(ISERROR(VLOOKUP($A27,'16eme'!$F:$M,8,FALSE)),\"\",IF(VLOOKUP($A27,'16eme'!$F:$M,8,FALSE)=AK$2,\"X\",\"\")),IF(VLOOKUP($A27,'16eme'!$B:$M,12,FALSE)=AK$2,\"X\",\"\"))","v":""},{"$f":"IF(ISERROR(VLOOKUP($A27,'16eme'!$B:$M,12,FALSE)),IF(ISERROR(VLOOKUP($A27,'16eme'!$F:$M,8,FALSE)),\"\",IF(VLOOKUP($A27,'16eme'!$F:$M,8,FALSE)=AL$2,\"X\",\"\")),IF(VLOOKUP($A27,'16eme'!$B:$M,12,FALSE)=AL$2,\"X\",\"\"))","v":""},{"$f":"IF(ISERROR(VLOOKUP($A27,'16eme'!$B:$M,12,FALSE)),IF(ISERROR(VLOOKUP($A27,'16eme'!$F:$M,8,FALSE)),\"\",IF(VLOOKUP($A27,'16eme'!$F:$M,8,FALSE)=AM$2,\"X\",\"\")),IF(VLOOKUP($A27,'16eme'!$B:$M,12,FALSE)=AM$2,\"X\",\"\"))","v":""},{"$f":"IF(ISERROR(VLOOKUP($A27,'16eme'!$B:$M,12,FALSE)),IF(ISERROR(VLOOKUP($A27,'16eme'!$F:$M,8,FALSE)),\"\",IF(VLOOKUP($A27,'16eme'!$F:$M,8,FALSE)=AN$2,\"X\",\"\")),IF(VLOOKUP($A27,'16eme'!$B:$M,12,FALSE)=AN$2,\"X\",\"\"))","v":""},{"$f":"IF(ISERROR(VLOOKUP($A27,'16eme'!$B:$M,12,FALSE)),IF(ISERROR(VLOOKUP($A27,'16eme'!$F:$M,8,FALSE)),\"\",IF(VLOOKUP($A27,'16eme'!$F:$M,8,FALSE)=AO$2,\"X\",\"\")),IF(VLOOKUP($A27,'16eme'!$B:$M,12,FALSE)=AO$2,\"X\",\"\"))","v":""},{"$f":"IF(ISERROR(VLOOKUP($A27,'16eme'!$B:$M,12,FALSE)),IF(ISERROR(VLOOKUP($A27,'16eme'!$F:$M,8,FALSE)),\"\",IF(VLOOKUP($A27,'16eme'!$F:$M,8,FALSE)=AP$2,\"X\",\"\")),IF(VLOOKUP($A27,'16eme'!$B:$M,12,FALSE)=AP$2,\"X\",\"\"))","v":""},{"$f":"IF(ISERROR(VLOOKUP($A27,'16eme'!$B:$M,12,FALSE)),IF(ISERROR(VLOOKUP($A27,'16eme'!$F:$M,8,FALSE)),\"\",IF(VLOOKUP($A27,'16eme'!$F:$M,8,FALSE)=AQ$2,\"X\",\"\")),IF(VLOOKUP($A27,'16eme'!$B:$M,12,FALSE)=AQ$2,\"X\",\"\"))","v":""},{"$f":"IF(ISERROR(VLOOKUP($A27,'16eme'!$B:$M,12,FALSE)),IF(ISERROR(VLOOKUP($A27,'16eme'!$F:$M,8,FALSE)),\"\",IF(VLOOKUP($A27,'16eme'!$F:$M,8,FALSE)=AR$2,\"X\",\"\")),IF(VLOOKUP($A27,'16eme'!$B:$M,12,FALSE)=AR$2,\"X\",\"\"))","v":""},{"$f":"IF(ISERROR(VLOOKUP($A27,'16eme'!$B:$M,12,FALSE)),IF(ISERROR(VLOOKUP($A27,'16eme'!$F:$M,8,FALSE)),\"\",IF(VLOOKUP($A27,'16eme'!$F:$M,8,FALSE)=AS$2,\"X\",\"\")),IF(VLOOKUP($A27,'16eme'!$B:$M,12,FALSE)=AS$2,\"X\",\"\"))","v":""},{"$f":"IF(ISERROR(VLOOKUP($A27,'16eme'!$B:$M,12,FALSE)),IF(ISERROR(VLOOKUP($A27,'16eme'!$F:$M,8,FALSE)),\"\",IF(VLOOKUP($A27,'16eme'!$F:$M,8,FALSE)=AT$2,\"X\",\"\")),IF(VLOOKUP($A27,'16eme'!$B:$M,12,FALSE)=AT$2,\"X\",\"\"))","v":""},{"$f":"IF(ISERROR(VLOOKUP($A27,'16eme'!$B:$M,12,FALSE)),IF(ISERROR(VLOOKUP($A27,'16eme'!$F:$M,8,FALSE)),\"\",IF(VLOOKUP($A27,'16eme'!$F:$M,8,FALSE)=AU$2,\"X\",\"\")),IF(VLOOKUP($A27,'16eme'!$B:$M,12,FALSE)=AU$2,\"X\",\"\"))","v":""},{"$f":"IF(ISERROR(VLOOKUP($A27,'16eme'!$B:$M,12,FALSE)),IF(ISERROR(VLOOKUP($A27,'16eme'!$F:$M,8,FALSE)),\"\",IF(VLOOKUP($A27,'16eme'!$F:$M,8,FALSE)=AV$2,\"X\",\"\")),IF(VLOOKUP($A27,'16eme'!$B:$M,12,FALSE)=AV$2,\"X\",\"\"))","v":""},{"$f":"IF(ISERROR(VLOOKUP($A27,'16eme'!$B:$M,12,FALSE)),IF(ISERROR(VLOOKUP($A27,'16eme'!$F:$M,8,FALSE)),\"\",IF(VLOOKUP($A27,'16eme'!$F:$M,8,FALSE)=AW$2,\"X\",\"\")),IF(VLOOKUP($A27,'16eme'!$B:$M,12,FALSE)=AW$2,\"X\",\"\"))","v":""},{"$f":"IF(ISERROR(VLOOKUP($A27,'8eme'!$B:$M,12,FALSE)),IF(ISERROR(VLOOKUP($A27,'8eme'!$F:$M,8,FALSE)),\"\",IF(VLOOKUP($A27,'8eme'!$F:$M,8,FALSE)=AX$2,\"X\",\"\")),IF(VLOOKUP($A27,'8eme'!$B:$M,12,FALSE)=AX$2,\"X\",\"\"))","v":""},{"$f":"IF(ISERROR(VLOOKUP($A27,'8eme'!$B:$M,12,FALSE)),IF(ISERROR(VLOOKUP($A27,'8eme'!$F:$M,8,FALSE)),\"\",IF(VLOOKUP($A27,'8eme'!$F:$M,8,FALSE)=AY$2,\"X\",\"\")),IF(VLOOKUP($A27,'8eme'!$B:$M,12,FALSE)=AY$2,\"X\",\"\"))","v":""},{"$f":"IF(ISERROR(VLOOKUP($A27,'8eme'!$B:$M,12,FALSE)),IF(ISERROR(VLOOKUP($A27,'8eme'!$F:$M,8,FALSE)),\"\",IF(VLOOKUP($A27,'8eme'!$F:$M,8,FALSE)=AZ$2,\"X\",\"\")),IF(VLOOKUP($A27,'8eme'!$B:$M,12,FALSE)=AZ$2,\"X\",\"\"))","v":""},{"$f":"IF(ISERROR(VLOOKUP($A27,'8eme'!$B:$M,12,FALSE)),IF(ISERROR(VLOOKUP($A27,'8eme'!$F:$M,8,FALSE)),\"\",IF(VLOOKUP($A27,'8eme'!$F:$M,8,FALSE)=BA$2,\"X\",\"\")),IF(VLOOKUP($A27,'8eme'!$B:$M,12,FALSE)=BA$2,\"X\",\"\"))","v":""},{"$f":"IF(ISERROR(VLOOKUP($A27,'8eme'!$B:$M,12,FALSE)),IF(ISERROR(VLOOKUP($A27,'8eme'!$F:$M,8,FALSE)),\"\",IF(VLOOKUP($A27,'8eme'!$F:$M,8,FALSE)=BB$2,\"X\",\"\")),IF(VLOOKUP($A27,'8eme'!$B:$M,12,FALSE)=BB$2,\"X\",\"\"))","v":""},{"$f":"IF(ISERROR(VLOOKUP($A27,'8eme'!$B:$M,12,FALSE)),IF(ISERROR(VLOOKUP($A27,'8eme'!$F:$M,8,FALSE)),\"\",IF(VLOOKUP($A27,'8eme'!$F:$M,8,FALSE)=BC$2,\"X\",\"\")),IF(VLOOKUP($A27,'8eme'!$B:$M,12,FALSE)=BC$2,\"X\",\"\"))","v":""},{"$f":"IF(ISERROR(VLOOKUP($A27,'8eme'!$B:$M,12,FALSE)),IF(ISERROR(VLOOKUP($A27,'8eme'!$F:$M,8,FALSE)),\"\",IF(VLOOKUP($A27,'8eme'!$F:$M,8,FALSE)=BD$2,\"X\",\"\")),IF(VLOOKUP($A27,'8eme'!$B:$M,12,FALSE)=BD$2,\"X\",\"\"))","v":""},{"$f":"IF(ISERROR(VLOOKUP($A27,'8eme'!$B:$M,12,FALSE)),IF(ISERROR(VLOOKUP($A27,'8eme'!$F:$M,8,FALSE)),\"\",IF(VLOOKUP($A27,'8eme'!$F:$M,8,FALSE)=BE$2,\"X\",\"\")),IF(VLOOKUP($A27,'8eme'!$B:$M,12,FALSE)=BE$2,\"X\",\"\"))","v":""},{"$f":"IF(ISERROR(VLOOKUP($A27,'8eme'!$B:$M,12,FALSE)),IF(ISERROR(VLOOKUP($A27,'8eme'!$F:$M,8,FALSE)),\"\",IF(VLOOKUP($A27,'8eme'!$F:$M,8,FALSE)=BF$2,\"X\",\"\")),IF(VLOOKUP($A27,'8eme'!$B:$M,12,FALSE)=BF$2,\"X\",\"\"))","v":""},{"$f":"IF(ISERROR(VLOOKUP($A27,'8eme'!$B:$M,12,FALSE)),IF(ISERROR(VLOOKUP($A27,'8eme'!$F:$M,8,FALSE)),\"\",IF(VLOOKUP($A27,'8eme'!$F:$M,8,FALSE)=BG$2,\"X\",\"\")),IF(VLOOKUP($A27,'8eme'!$B:$M,12,FALSE)=BG$2,\"X\",\"\"))","v":""},{"$f":"IF(ISERROR(VLOOKUP($A27,'8eme'!$B:$M,12,FALSE)),IF(ISERROR(VLOOKUP($A27,'8eme'!$F:$M,8,FALSE)),\"\",IF(VLOOKUP($A27,'8eme'!$F:$M,8,FALSE)=BH$2,\"X\",\"\")),IF(VLOOKUP($A27,'8eme'!$B:$M,12,FALSE)=BH$2,\"X\",\"\"))","v":""},{"$f":"IF(ISERROR(VLOOKUP($A27,'8eme'!$B:$M,12,FALSE)),IF(ISERROR(VLOOKUP($A27,'8eme'!$F:$M,8,FALSE)),\"\",IF(VLOOKUP($A27,'8eme'!$F:$M,8,FALSE)=BI$2,\"X\",\"\")),IF(VLOOKUP($A27,'8eme'!$B:$M,12,FALSE)=BI$2,\"X\",\"\"))","v":""},{"$f":"IF(ISERROR(VLOOKUP($A27,'8eme'!$B:$M,12,FALSE)),IF(ISERROR(VLOOKUP($A27,'8eme'!$F:$M,8,FALSE)),\"\",IF(VLOOKUP($A27,'8eme'!$F:$M,8,FALSE)=BJ$2,\"X\",\"\")),IF(VLOOKUP($A27,'8eme'!$B:$M,12,FALSE)=BJ$2,\"X\",\"\"))","v":""},{"$f":"IF(ISERROR(VLOOKUP($A27,'8eme'!$B:$M,12,FALSE)),IF(ISERROR(VLOOKUP($A27,'8eme'!$F:$M,8,FALSE)),\"\",IF(VLOOKUP($A27,'8eme'!$F:$M,8,FALSE)=BK$2,\"X\",\"\")),IF(VLOOKUP($A27,'8eme'!$B:$M,12,FALSE)=BK$2,\"X\",\"\"))","v":""},{"$f":"IF(ISERROR(VLOOKUP($A27,'8eme'!$B:$M,12,FALSE)),IF(ISERROR(VLOOKUP($A27,'8eme'!$F:$M,8,FALSE)),\"\",IF(VLOOKUP($A27,'8eme'!$F:$M,8,FALSE)=BL$2,\"X\",\"\")),IF(VLOOKUP($A27,'8eme'!$B:$M,12,FALSE)=BL$2,\"X\",\"\"))","v":""},{"$f":"IF(ISERROR(VLOOKUP($A27,'8eme'!$B:$M,12,FALSE)),IF(ISERROR(VLOOKUP($A27,'8eme'!$F:$M,8,FALSE)),\"\",IF(VLOOKUP($A27,'8eme'!$F:$M,8,FALSE)=BM$2,\"X\",\"\")),IF(VLOOKUP($A27,'8eme'!$B:$M,12,FALSE)=BM$2,\"X\",\"\"))","v":""},{"$f":"IF(ISERROR(VLOOKUP($A27,quart!$B:$M,12,FALSE)),IF(ISERROR(VLOOKUP($A27,quart!$F:$M,8,FALSE)),\"\",IF(VLOOKUP($A27,quart!$F:$M,8,FALSE)=BN$2,\"X\",\"\")),IF(VLOOKUP($A27,quart!$B:$M,12,FALSE)=BN$2,\"X\",\"\"))","v":""},{"$f":"IF(ISERROR(VLOOKUP($A27,quart!$B:$M,12,FALSE)),IF(ISERROR(VLOOKUP($A27,quart!$F:$M,8,FALSE)),\"\",IF(VLOOKUP($A27,quart!$F:$M,8,FALSE)=BO$2,\"X\",\"\")),IF(VLOOKUP($A27,quart!$B:$M,12,FALSE)=BO$2,\"X\",\"\"))","v":""},{"$f":"IF(ISERROR(VLOOKUP($A27,quart!$B:$M,12,FALSE)),IF(ISERROR(VLOOKUP($A27,quart!$F:$M,8,FALSE)),\"\",IF(VLOOKUP($A27,quart!$F:$M,8,FALSE)=BP$2,\"X\",\"\")),IF(VLOOKUP($A27,quart!$B:$M,12,FALSE)=BP$2,\"X\",\"\"))","v":""},{"$f":"IF(ISERROR(VLOOKUP($A27,quart!$B:$M,12,FALSE)),IF(ISERROR(VLOOKUP($A27,quart!$F:$M,8,FALSE)),\"\",IF(VLOOKUP($A27,quart!$F:$M,8,FALSE)=BQ$2,\"X\",\"\")),IF(VLOOKUP($A27,quart!$B:$M,12,FALSE)=BQ$2,\"X\",\"\"))","v":""},{"$f":"IF(ISERROR(VLOOKUP($A27,quart!$B:$M,12,FALSE)),IF(ISERROR(VLOOKUP($A27,quart!$F:$M,8,FALSE)),\"\",IF(VLOOKUP($A27,quart!$F:$M,8,FALSE)=BR$2,\"X\",\"\")),IF(VLOOKUP($A27,quart!$B:$M,12,FALSE)=BR$2,\"X\",\"\"))","v":""},{"$f":"IF(ISERROR(VLOOKUP($A27,quart!$B:$M,12,FALSE)),IF(ISERROR(VLOOKUP($A27,quart!$F:$M,8,FALSE)),\"\",IF(VLOOKUP($A27,quart!$F:$M,8,FALSE)=BS$2,\"X\",\"\")),IF(VLOOKUP($A27,quart!$B:$M,12,FALSE)=BS$2,\"X\",\"\"))","v":""},{"$f":"IF(ISERROR(VLOOKUP($A27,quart!$B:$M,12,FALSE)),IF(ISERROR(VLOOKUP($A27,quart!$F:$M,8,FALSE)),\"\",IF(VLOOKUP($A27,quart!$F:$M,8,FALSE)=BT$2,\"X\",\"\")),IF(VLOOKUP($A27,quart!$B:$M,12,FALSE)=BT$2,\"X\",\"\"))","v":""},{"$f":"IF(ISERROR(VLOOKUP($A27,quart!$B:$M,12,FALSE)),IF(ISERROR(VLOOKUP($A27,quart!$F:$M,8,FALSE)),\"\",IF(VLOOKUP($A27,quart!$F:$M,8,FALSE)=BU$2,\"X\",\"\")),IF(VLOOKUP($A27,quart!$B:$M,12,FALSE)=BU$2,\"X\",\"\"))","v":""},{"$f":"IF(ISERROR(VLOOKUP($A27,quart!$B:$M,12,FALSE)),IF(ISERROR(VLOOKUP($A27,quart!$F:$M,8,FALSE)),\"\",IF(VLOOKUP($A27,quart!$F:$M,8,FALSE)=BV$2,\"X\",\"\")),IF(VLOOKUP($A27,quart!$B:$M,12,FALSE)=BV$2,\"X\",\"\"))","v":""},{"$f":"IF(ISERROR(VLOOKUP($A27,quart!$B:$M,12,FALSE)),IF(ISERROR(VLOOKUP($A27,quart!$F:$M,8,FALSE)),\"\",IF(VLOOKUP($A27,quart!$F:$M,8,FALSE)=BW$2,\"X\",\"\")),IF(VLOOKUP($A27,quart!$B:$M,12,FALSE)=BW$2,\"X\",\"\"))","v":""},{"$f":"IF(ISERROR(VLOOKUP($A27,quart!$B:$M,12,FALSE)),IF(ISERROR(VLOOKUP($A27,quart!$F:$M,8,FALSE)),\"\",IF(VLOOKUP($A27,quart!$F:$M,8,FALSE)=BX$2,\"X\",\"\")),IF(VLOOKUP($A27,quart!$B:$M,12,FALSE)=BX$2,\"X\",\"\"))","v":""},{"$f":"IF(ISERROR(VLOOKUP($A27,quart!$B:$M,12,FALSE)),IF(ISERROR(VLOOKUP($A27,quart!$F:$M,8,FALSE)),\"\",IF(VLOOKUP($A27,quart!$F:$M,8,FALSE)=BY$2,\"X\",\"\")),IF(VLOOKUP($A27,quart!$B:$M,12,FALSE)=BY$2,\"X\",\"\"))","v":""},{"$f":"IF(ISERROR(VLOOKUP($A27,quart!$B:$M,12,FALSE)),IF(ISERROR(VLOOKUP($A27,quart!$F:$M,8,FALSE)),\"\",IF(VLOOKUP($A27,quart!$F:$M,8,FALSE)=BZ$2,\"X\",\"\")),IF(VLOOKUP($A27,quart!$B:$M,12,FALSE)=BZ$2,\"X\",\"\"))","v":""},{"$f":"IF(ISERROR(VLOOKUP($A27,quart!$B:$M,12,FALSE)),IF(ISERROR(VLOOKUP($A27,quart!$F:$M,8,FALSE)),\"\",IF(VLOOKUP($A27,quart!$F:$M,8,FALSE)=CA$2,\"X\",\"\")),IF(VLOOKUP($A27,quart!$B:$M,12,FALSE)=CA$2,\"X\",\"\"))","v":""},{"$f":"IF(ISERROR(VLOOKUP($A27,quart!$B:$M,12,FALSE)),IF(ISERROR(VLOOKUP($A27,quart!$F:$M,8,FALSE)),\"\",IF(VLOOKUP($A27,quart!$F:$M,8,FALSE)=CB$2,\"X\",\"\")),IF(VLOOKUP($A27,quart!$B:$M,12,FALSE)=CB$2,\"X\",\"\"))","v":""},{"$f":"IF(ISERROR(VLOOKUP($A27,quart!$B:$M,12,FALSE)),IF(ISERROR(VLOOKUP($A27,quart!$F:$M,8,FALSE)),\"\",IF(VLOOKUP($A27,quart!$F:$M,8,FALSE)=CC$2,\"X\",\"\")),IF(VLOOKUP($A27,quart!$B:$M,12,FALSE)=CC$2,\"X\",\"\"))","v":""},{"$f":"IF(ISERROR(VLOOKUP($A27,demi!$B:$M,12,FALSE)),IF(ISERROR(VLOOKUP($A27,demi!$F:$M,8,FALSE)),\"\",IF(VLOOKUP($A27,demi!$F:$M,8,FALSE)=CD$2,\"X\",\"\")),IF(VLOOKUP($A27,demi!$B:$M,12,FALSE)=CD$2,\"X\",\"\"))","v":""},{"$f":"IF(ISERROR(VLOOKUP($A27,demi!$B:$M,12,FALSE)),IF(ISERROR(VLOOKUP($A27,demi!$F:$M,8,FALSE)),\"\",IF(VLOOKUP($A27,demi!$F:$M,8,FALSE)=CE$2,\"X\",\"\")),IF(VLOOKUP($A27,demi!$B:$M,12,FALSE)=CE$2,\"X\",\"\"))","v":""},{"$f":"IF(ISERROR(VLOOKUP($A27,demi!$B:$M,12,FALSE)),IF(ISERROR(VLOOKUP($A27,demi!$F:$M,8,FALSE)),\"\",IF(VLOOKUP($A27,demi!$F:$M,8,FALSE)=CF$2,\"X\",\"\")),IF(VLOOKUP($A27,demi!$B:$M,12,FALSE)=CF$2,\"X\",\"\"))","v":""},{"$f":"IF(ISERROR(VLOOKUP($A27,demi!$B:$M,12,FALSE)),IF(ISERROR(VLOOKUP($A27,demi!$F:$M,8,FALSE)),\"\",IF(VLOOKUP($A27,demi!$F:$M,8,FALSE)=CG$2,\"X\",\"\")),IF(VLOOKUP($A27,demi!$B:$M,12,FALSE)=CG$2,\"X\",\"\"))","v":""},{"$f":"IF(ISERROR(VLOOKUP($A27,demi!$B:$M,12,FALSE)),IF(ISERROR(VLOOKUP($A27,demi!$F:$M,8,FALSE)),\"\",IF(VLOOKUP($A27,demi!$F:$M,8,FALSE)=CH$2,\"X\",\"\")),IF(VLOOKUP($A27,demi!$B:$M,12,FALSE)=CH$2,\"X\",\"\"))","v":""},{"$f":"IF(ISERROR(VLOOKUP($A27,demi!$B:$M,12,FALSE)),IF(ISERROR(VLOOKUP($A27,demi!$F:$M,8,FALSE)),\"\",IF(VLOOKUP($A27,demi!$F:$M,8,FALSE)=CI$2,\"X\",\"\")),IF(VLOOKUP($A27,demi!$B:$M,12,FALSE)=CI$2,\"X\",\"\"))","v":""},{"$f":"IF(ISERROR(VLOOKUP($A27,demi!$B:$M,12,FALSE)),IF(ISERROR(VLOOKUP($A27,demi!$F:$M,8,FALSE)),\"\",IF(VLOOKUP($A27,demi!$F:$M,8,FALSE)=CJ$2,\"X\",\"\")),IF(VLOOKUP($A27,demi!$B:$M,12,FALSE)=CJ$2,\"X\",\"\"))","v":""},{"$f":"IF(ISERROR(VLOOKUP($A27,demi!$B:$M,12,FALSE)),IF(ISERROR(VLOOKUP($A27,demi!$F:$M,8,FALSE)),\"\",IF(VLOOKUP($A27,demi!$F:$M,8,FALSE)=CK$2,\"X\",\"\")),IF(VLOOKUP($A27,demi!$B:$M,12,FALSE)=CK$2,\"X\",\"\"))","v":""},{"$f":"IF(ISERROR(VLOOKUP($A27,demi!$B:$M,12,FALSE)),IF(ISERROR(VLOOKUP($A27,demi!$F:$M,8,FALSE)),\"\",IF(VLOOKUP($A27,demi!$F:$M,8,FALSE)=CL$2,\"X\",\"\")),IF(VLOOKUP($A27,demi!$B:$M,12,FALSE)=CL$2,\"X\",\"\"))","v":""},{"$f":"IF(ISERROR(VLOOKUP($A27,demi!$B:$M,12,FALSE)),IF(ISERROR(VLOOKUP($A27,demi!$F:$M,8,FALSE)),\"\",IF(VLOOKUP($A27,demi!$F:$M,8,FALSE)=CM$2,\"X\",\"\")),IF(VLOOKUP($A27,demi!$B:$M,12,FALSE)=CM$2,\"X\",\"\"))","v":""},{"$f":"IF(ISERROR(VLOOKUP($A27,demi!$B:$M,12,FALSE)),IF(ISERROR(VLOOKUP($A27,demi!$F:$M,8,FALSE)),\"\",IF(VLOOKUP($A27,demi!$F:$M,8,FALSE)=CN$2,\"X\",\"\")),IF(VLOOKUP($A27,demi!$B:$M,12,FALSE)=CN$2,\"X\",\"\"))","v":""},{"$f":"IF(ISERROR(VLOOKUP($A27,demi!$B:$M,12,FALSE)),IF(ISERROR(VLOOKUP($A27,demi!$F:$M,8,FALSE)),\"\",IF(VLOOKUP($A27,demi!$F:$M,8,FALSE)=CO$2,\"X\",\"\")),IF(VLOOKUP($A27,demi!$B:$M,12,FALSE)=CO$2,\"X\",\"\"))","v":""},{"$f":"IF(ISERROR(VLOOKUP($A27,demi!$B:$M,12,FALSE)),IF(ISERROR(VLOOKUP($A27,demi!$F:$M,8,FALSE)),\"\",IF(VLOOKUP($A27,demi!$F:$M,8,FALSE)=CP$2,\"X\",\"\")),IF(VLOOKUP($A27,demi!$B:$M,12,FALSE)=CP$2,\"X\",\"\"))","v":""},{"$f":"IF(ISERROR(VLOOKUP($A27,demi!$B:$M,12,FALSE)),IF(ISERROR(VLOOKUP($A27,demi!$F:$M,8,FALSE)),\"\",IF(VLOOKUP($A27,demi!$F:$M,8,FALSE)=CQ$2,\"X\",\"\")),IF(VLOOKUP($A27,demi!$B:$M,12,FALSE)=CQ$2,\"X\",\"\"))","v":""},{"$f":"IF(ISERROR(VLOOKUP($A27,demi!$B:$M,12,FALSE)),IF(ISERROR(VLOOKUP($A27,demi!$F:$M,8,FALSE)),\"\",IF(VLOOKUP($A27,demi!$F:$M,8,FALSE)=CR$2,\"X\",\"\")),IF(VLOOKUP($A27,demi!$B:$M,12,FALSE)=CR$2,\"X\",\"\"))","v":""},{"$f":"IF(ISERROR(VLOOKUP($A27,demi!$B:$M,12,FALSE)),IF(ISERROR(VLOOKUP($A27,demi!$F:$M,8,FALSE)),\"\",IF(VLOOKUP($A27,demi!$F:$M,8,FALSE)=CS$2,\"X\",\"\")),IF(VLOOKUP($A27,demi!$B:$M,12,FALSE)=CS$2,\"X\",\"\"))","v":""}]
[26,"X","X","X","X","X","X","X","X","X","X","X","X","X","X","X","X",{"$f":"IF(ISERROR(VLOOKUP($A28,'32eme'!$B:$M,12,FALSE)),IF(ISERROR(VLOOKUP($A28,'32eme'!$F:$M,8,FALSE)),\"\",IF(VLOOKUP($A28,'32eme'!$F:$M,8,FALSE)=R$2,\"X\",\"\")),IF(VLOOKUP($A28,'32eme'!$B:$M,12,FALSE)=R$2,\"X\",\"\"))","v":""},{"$f":"IF(ISERROR(VLOOKUP($A28,'32eme'!$B:$M,12,FALSE)),IF(ISERROR(VLOOKUP($A28,'32eme'!$F:$M,8,FALSE)),\"\",IF(VLOOKUP($A28,'32eme'!$F:$M,8,FALSE)=S$2,\"X\",\"\")),IF(VLOOKUP($A28,'32eme'!$B:$M,12,FALSE)=S$2,\"X\",\"\"))","v":""},{"$f":"IF(ISERROR(VLOOKUP($A28,'32eme'!$B:$M,12,FALSE)),IF(ISERROR(VLOOKUP($A28,'32eme'!$F:$M,8,FALSE)),\"\",IF(VLOOKUP($A28,'32eme'!$F:$M,8,FALSE)=T$2,\"X\",\"\")),IF(VLOOKUP($A28,'32eme'!$B:$M,12,FALSE)=T$2,\"X\",\"\"))","v":""},{"$f":"IF(ISERROR(VLOOKUP($A28,'32eme'!$B:$M,12,FALSE)),IF(ISERROR(VLOOKUP($A28,'32eme'!$F:$M,8,FALSE)),\"\",IF(VLOOKUP($A28,'32eme'!$F:$M,8,FALSE)=U$2,\"X\",\"\")),IF(VLOOKUP($A28,'32eme'!$B:$M,12,FALSE)=U$2,\"X\",\"\"))","v":""},{"$f":"IF(ISERROR(VLOOKUP($A28,'32eme'!$B:$M,12,FALSE)),IF(ISERROR(VLOOKUP($A28,'32eme'!$F:$M,8,FALSE)),\"\",IF(VLOOKUP($A28,'32eme'!$F:$M,8,FALSE)=V$2,\"X\",\"\")),IF(VLOOKUP($A28,'32eme'!$B:$M,12,FALSE)=V$2,\"X\",\"\"))","v":""},{"$f":"IF(ISERROR(VLOOKUP($A28,'32eme'!$B:$M,12,FALSE)),IF(ISERROR(VLOOKUP($A28,'32eme'!$F:$M,8,FALSE)),\"\",IF(VLOOKUP($A28,'32eme'!$F:$M,8,FALSE)=W$2,\"X\",\"\")),IF(VLOOKUP($A28,'32eme'!$B:$M,12,FALSE)=W$2,\"X\",\"\"))","v":""},{"$f":"IF(ISERROR(VLOOKUP($A28,'32eme'!$B:$M,12,FALSE)),IF(ISERROR(VLOOKUP($A28,'32eme'!$F:$M,8,FALSE)),\"\",IF(VLOOKUP($A28,'32eme'!$F:$M,8,FALSE)=X$2,\"X\",\"\")),IF(VLOOKUP($A28,'32eme'!$B:$M,12,FALSE)=X$2,\"X\",\"\"))","v":""},{"$f":"IF(ISERROR(VLOOKUP($A28,'32eme'!$B:$M,12,FALSE)),IF(ISERROR(VLOOKUP($A28,'32eme'!$F:$M,8,FALSE)),\"\",IF(VLOOKUP($A28,'32eme'!$F:$M,8,FALSE)=Y$2,\"X\",\"\")),IF(VLOOKUP($A28,'32eme'!$B:$M,12,FALSE)=Y$2,\"X\",\"\"))","v":""},{"$f":"IF(ISERROR(VLOOKUP($A28,'32eme'!$B:$M,12,FALSE)),IF(ISERROR(VLOOKUP($A28,'32eme'!$F:$M,8,FALSE)),\"\",IF(VLOOKUP($A28,'32eme'!$F:$M,8,FALSE)=Z$2,\"X\",\"\")),IF(VLOOKUP($A28,'32eme'!$B:$M,12,FALSE)=Z$2,\"X\",\"\"))","v":""},{"$f":"IF(ISERROR(VLOOKUP($A28,'32eme'!$B:$M,12,FALSE)),IF(ISERROR(VLOOKUP($A28,'32eme'!$F:$M,8,FALSE)),\"\",IF(VLOOKUP($A28,'32eme'!$F:$M,8,FALSE)=AA$2,\"X\",\"\")),IF(VLOOKUP($A28,'32eme'!$B:$M,12,FALSE)=AA$2,\"X\",\"\"))","v":""},{"$f":"IF(ISERROR(VLOOKUP($A28,'32eme'!$B:$M,12,FALSE)),IF(ISERROR(VLOOKUP($A28,'32eme'!$F:$M,8,FALSE)),\"\",IF(VLOOKUP($A28,'32eme'!$F:$M,8,FALSE)=AB$2,\"X\",\"\")),IF(VLOOKUP($A28,'32eme'!$B:$M,12,FALSE)=AB$2,\"X\",\"\"))","v":""},{"$f":"IF(ISERROR(VLOOKUP($A28,'32eme'!$B:$M,12,FALSE)),IF(ISERROR(VLOOKUP($A28,'32eme'!$F:$M,8,FALSE)),\"\",IF(VLOOKUP($A28,'32eme'!$F:$M,8,FALSE)=AC$2,\"X\",\"\")),IF(VLOOKUP($A28,'32eme'!$B:$M,12,FALSE)=AC$2,\"X\",\"\"))","v":""},{"$f":"IF(ISERROR(VLOOKUP($A28,'32eme'!$B:$M,12,FALSE)),IF(ISERROR(VLOOKUP($A28,'32eme'!$F:$M,8,FALSE)),\"\",IF(VLOOKUP($A28,'32eme'!$F:$M,8,FALSE)=AD$2,\"X\",\"\")),IF(VLOOKUP($A28,'32eme'!$B:$M,12,FALSE)=AD$2,\"X\",\"\"))","v":""},{"$f":"IF(ISERROR(VLOOKUP($A28,'32eme'!$B:$M,12,FALSE)),IF(ISERROR(VLOOKUP($A28,'32eme'!$F:$M,8,FALSE)),\"\",IF(VLOOKUP($A28,'32eme'!$F:$M,8,FALSE)=AE$2,\"X\",\"\")),IF(VLOOKUP($A28,'32eme'!$B:$M,12,FALSE)=AE$2,\"X\",\"\"))","v":""},{"$f":"IF(ISERROR(VLOOKUP($A28,'32eme'!$B:$M,12,FALSE)),IF(ISERROR(VLOOKUP($A28,'32eme'!$F:$M,8,FALSE)),\"\",IF(VLOOKUP($A28,'32eme'!$F:$M,8,FALSE)=AF$2,\"X\",\"\")),IF(VLOOKUP($A28,'32eme'!$B:$M,12,FALSE)=AF$2,\"X\",\"\"))","v":""},{"$f":"IF(ISERROR(VLOOKUP($A28,'32eme'!$B:$M,12,FALSE)),IF(ISERROR(VLOOKUP($A28,'32eme'!$F:$M,8,FALSE)),\"\",IF(VLOOKUP($A28,'32eme'!$F:$M,8,FALSE)=AG$2,\"X\",\"\")),IF(VLOOKUP($A28,'32eme'!$B:$M,12,FALSE)=AG$2,\"X\",\"\"))","v":""},{"$f":"IF(ISERROR(VLOOKUP($A28,'16eme'!$B:$M,12,FALSE)),IF(ISERROR(VLOOKUP($A28,'16eme'!$F:$M,8,FALSE)),\"\",IF(VLOOKUP($A28,'16eme'!$F:$M,8,FALSE)=AH$2,\"X\",\"\")),IF(VLOOKUP($A28,'16eme'!$B:$M,12,FALSE)=AH$2,\"X\",\"\"))","v":""},{"$f":"IF(ISERROR(VLOOKUP($A28,'16eme'!$B:$M,12,FALSE)),IF(ISERROR(VLOOKUP($A28,'16eme'!$F:$M,8,FALSE)),\"\",IF(VLOOKUP($A28,'16eme'!$F:$M,8,FALSE)=AI$2,\"X\",\"\")),IF(VLOOKUP($A28,'16eme'!$B:$M,12,FALSE)=AI$2,\"X\",\"\"))","v":""},{"$f":"IF(ISERROR(VLOOKUP($A28,'16eme'!$B:$M,12,FALSE)),IF(ISERROR(VLOOKUP($A28,'16eme'!$F:$M,8,FALSE)),\"\",IF(VLOOKUP($A28,'16eme'!$F:$M,8,FALSE)=AJ$2,\"X\",\"\")),IF(VLOOKUP($A28,'16eme'!$B:$M,12,FALSE)=AJ$2,\"X\",\"\"))","v":""},{"$f":"IF(ISERROR(VLOOKUP($A28,'16eme'!$B:$M,12,FALSE)),IF(ISERROR(VLOOKUP($A28,'16eme'!$F:$M,8,FALSE)),\"\",IF(VLOOKUP($A28,'16eme'!$F:$M,8,FALSE)=AK$2,\"X\",\"\")),IF(VLOOKUP($A28,'16eme'!$B:$M,12,FALSE)=AK$2,\"X\",\"\"))","v":""},{"$f":"IF(ISERROR(VLOOKUP($A28,'16eme'!$B:$M,12,FALSE)),IF(ISERROR(VLOOKUP($A28,'16eme'!$F:$M,8,FALSE)),\"\",IF(VLOOKUP($A28,'16eme'!$F:$M,8,FALSE)=AL$2,\"X\",\"\")),IF(VLOOKUP($A28,'16eme'!$B:$M,12,FALSE)=AL$2,\"X\",\"\"))","v":""},{"$f":"IF(ISERROR(VLOOKUP($A28,'16eme'!$B:$M,12,FALSE)),IF(ISERROR(VLOOKUP($A28,'16eme'!$F:$M,8,FALSE)),\"\",IF(VLOOKUP($A28,'16eme'!$F:$M,8,FALSE)=AM$2,\"X\",\"\")),IF(VLOOKUP($A28,'16eme'!$B:$M,12,FALSE)=AM$2,\"X\",\"\"))","v":""},{"$f":"IF(ISERROR(VLOOKUP($A28,'16eme'!$B:$M,12,FALSE)),IF(ISERROR(VLOOKUP($A28,'16eme'!$F:$M,8,FALSE)),\"\",IF(VLOOKUP($A28,'16eme'!$F:$M,8,FALSE)=AN$2,\"X\",\"\")),IF(VLOOKUP($A28,'16eme'!$B:$M,12,FALSE)=AN$2,\"X\",\"\"))","v":""},{"$f":"IF(ISERROR(VLOOKUP($A28,'16eme'!$B:$M,12,FALSE)),IF(ISERROR(VLOOKUP($A28,'16eme'!$F:$M,8,FALSE)),\"\",IF(VLOOKUP($A28,'16eme'!$F:$M,8,FALSE)=AO$2,\"X\",\"\")),IF(VLOOKUP($A28,'16eme'!$B:$M,12,FALSE)=AO$2,\"X\",\"\"))","v":""},{"$f":"IF(ISERROR(VLOOKUP($A28,'16eme'!$B:$M,12,FALSE)),IF(ISERROR(VLOOKUP($A28,'16eme'!$F:$M,8,FALSE)),\"\",IF(VLOOKUP($A28,'16eme'!$F:$M,8,FALSE)=AP$2,\"X\",\"\")),IF(VLOOKUP($A28,'16eme'!$B:$M,12,FALSE)=AP$2,\"X\",\"\"))","v":""},{"$f":"IF(ISERROR(VLOOKUP($A28,'16eme'!$B:$M,12,FALSE)),IF(ISERROR(VLOOKUP($A28,'16eme'!$F:$M,8,FALSE)),\"\",IF(VLOOKUP($A28,'16eme'!$F:$M,8,FALSE)=AQ$2,\"X\",\"\")),IF(VLOOKUP($A28,'16eme'!$B:$M,12,FALSE)=AQ$2,\"X\",\"\"))","v":""},{"$f":"IF(ISERROR(VLOOKUP($A28,'16eme'!$B:$M,12,FALSE)),IF(ISERROR(VLOOKUP($A28,'16eme'!$F:$M,8,FALSE)),\"\",IF(VLOOKUP($A28,'16eme'!$F:$M,8,FALSE)=AR$2,\"X\",\"\")),IF(VLOOKUP($A28,'16eme'!$B:$M,12,FALSE)=AR$2,\"X\",\"\"))","v":""},{"$f":"IF(ISERROR(VLOOKUP($A28,'16eme'!$B:$M,12,FALSE)),IF(ISERROR(VLOOKUP($A28,'16eme'!$F:$M,8,FALSE)),\"\",IF(VLOOKUP($A28,'16eme'!$F:$M,8,FALSE)=AS$2,\"X\",\"\")),IF(VLOOKUP($A28,'16eme'!$B:$M,12,FALSE)=AS$2,\"X\",\"\"))","v":""},{"$f":"IF(ISERROR(VLOOKUP($A28,'16eme'!$B:$M,12,FALSE)),IF(ISERROR(VLOOKUP($A28,'16eme'!$F:$M,8,FALSE)),\"\",IF(VLOOKUP($A28,'16eme'!$F:$M,8,FALSE)=AT$2,\"X\",\"\")),IF(VLOOKUP($A28,'16eme'!$B:$M,12,FALSE)=AT$2,\"X\",\"\"))","v":""},{"$f":"IF(ISERROR(VLOOKUP($A28,'16eme'!$B:$M,12,FALSE)),IF(ISERROR(VLOOKUP($A28,'16eme'!$F:$M,8,FALSE)),\"\",IF(VLOOKUP($A28,'16eme'!$F:$M,8,FALSE)=AU$2,\"X\",\"\")),IF(VLOOKUP($A28,'16eme'!$B:$M,12,FALSE)=AU$2,\"X\",\"\"))","v":""},{"$f":"IF(ISERROR(VLOOKUP($A28,'16eme'!$B:$M,12,FALSE)),IF(ISERROR(VLOOKUP($A28,'16eme'!$F:$M,8,FALSE)),\"\",IF(VLOOKUP($A28,'16eme'!$F:$M,8,FALSE)=AV$2,\"X\",\"\")),IF(VLOOKUP($A28,'16eme'!$B:$M,12,FALSE)=AV$2,\"X\",\"\"))","v":""},{"$f":"IF(ISERROR(VLOOKUP($A28,'16eme'!$B:$M,12,FALSE)),IF(ISERROR(VLOOKUP($A28,'16eme'!$F:$M,8,FALSE)),\"\",IF(VLOOKUP($A28,'16eme'!$F:$M,8,FALSE)=AW$2,\"X\",\"\")),IF(VLOOKUP($A28,'16eme'!$B:$M,12,FALSE)=AW$2,\"X\",\"\"))","v":""},{"$f":"IF(ISERROR(VLOOKUP($A28,'8eme'!$B:$M,12,FALSE)),IF(ISERROR(VLOOKUP($A28,'8eme'!$F:$M,8,FALSE)),\"\",IF(VLOOKUP($A28,'8eme'!$F:$M,8,FALSE)=AX$2,\"X\",\"\")),IF(VLOOKUP($A28,'8eme'!$B:$M,12,FALSE)=AX$2,\"X\",\"\"))","v":""},{"$f":"IF(ISERROR(VLOOKUP($A28,'8eme'!$B:$M,12,FALSE)),IF(ISERROR(VLOOKUP($A28,'8eme'!$F:$M,8,FALSE)),\"\",IF(VLOOKUP($A28,'8eme'!$F:$M,8,FALSE)=AY$2,\"X\",\"\")),IF(VLOOKUP($A28,'8eme'!$B:$M,12,FALSE)=AY$2,\"X\",\"\"))","v":""},{"$f":"IF(ISERROR(VLOOKUP($A28,'8eme'!$B:$M,12,FALSE)),IF(ISERROR(VLOOKUP($A28,'8eme'!$F:$M,8,FALSE)),\"\",IF(VLOOKUP($A28,'8eme'!$F:$M,8,FALSE)=AZ$2,\"X\",\"\")),IF(VLOOKUP($A28,'8eme'!$B:$M,12,FALSE)=AZ$2,\"X\",\"\"))","v":""},{"$f":"IF(ISERROR(VLOOKUP($A28,'8eme'!$B:$M,12,FALSE)),IF(ISERROR(VLOOKUP($A28,'8eme'!$F:$M,8,FALSE)),\"\",IF(VLOOKUP($A28,'8eme'!$F:$M,8,FALSE)=BA$2,\"X\",\"\")),IF(VLOOKUP($A28,'8eme'!$B:$M,12,FALSE)=BA$2,\"X\",\"\"))","v":""},{"$f":"IF(ISERROR(VLOOKUP($A28,'8eme'!$B:$M,12,FALSE)),IF(ISERROR(VLOOKUP($A28,'8eme'!$F:$M,8,FALSE)),\"\",IF(VLOOKUP($A28,'8eme'!$F:$M,8,FALSE)=BB$2,\"X\",\"\")),IF(VLOOKUP($A28,'8eme'!$B:$M,12,FALSE)=BB$2,\"X\",\"\"))","v":""},{"$f":"IF(ISERROR(VLOOKUP($A28,'8eme'!$B:$M,12,FALSE)),IF(ISERROR(VLOOKUP($A28,'8eme'!$F:$M,8,FALSE)),\"\",IF(VLOOKUP($A28,'8eme'!$F:$M,8,FALSE)=BC$2,\"X\",\"\")),IF(VLOOKUP($A28,'8eme'!$B:$M,12,FALSE)=BC$2,\"X\",\"\"))","v":""},{"$f":"IF(ISERROR(VLOOKUP($A28,'8eme'!$B:$M,12,FALSE)),IF(ISERROR(VLOOKUP($A28,'8eme'!$F:$M,8,FALSE)),\"\",IF(VLOOKUP($A28,'8eme'!$F:$M,8,FALSE)=BD$2,\"X\",\"\")),IF(VLOOKUP($A28,'8eme'!$B:$M,12,FALSE)=BD$2,\"X\",\"\"))","v":""},{"$f":"IF(ISERROR(VLOOKUP($A28,'8eme'!$B:$M,12,FALSE)),IF(ISERROR(VLOOKUP($A28,'8eme'!$F:$M,8,FALSE)),\"\",IF(VLOOKUP($A28,'8eme'!$F:$M,8,FALSE)=BE$2,\"X\",\"\")),IF(VLOOKUP($A28,'8eme'!$B:$M,12,FALSE)=BE$2,\"X\",\"\"))","v":""},{"$f":"IF(ISERROR(VLOOKUP($A28,'8eme'!$B:$M,12,FALSE)),IF(ISERROR(VLOOKUP($A28,'8eme'!$F:$M,8,FALSE)),\"\",IF(VLOOKUP($A28,'8eme'!$F:$M,8,FALSE)=BF$2,\"X\",\"\")),IF(VLOOKUP($A28,'8eme'!$B:$M,12,FALSE)=BF$2,\"X\",\"\"))","v":""},{"$f":"IF(ISERROR(VLOOKUP($A28,'8eme'!$B:$M,12,FALSE)),IF(ISERROR(VLOOKUP($A28,'8eme'!$F:$M,8,FALSE)),\"\",IF(VLOOKUP($A28,'8eme'!$F:$M,8,FALSE)=BG$2,\"X\",\"\")),IF(VLOOKUP($A28,'8eme'!$B:$M,12,FALSE)=BG$2,\"X\",\"\"))","v":""},{"$f":"IF(ISERROR(VLOOKUP($A28,'8eme'!$B:$M,12,FALSE)),IF(ISERROR(VLOOKUP($A28,'8eme'!$F:$M,8,FALSE)),\"\",IF(VLOOKUP($A28,'8eme'!$F:$M,8,FALSE)=BH$2,\"X\",\"\")),IF(VLOOKUP($A28,'8eme'!$B:$M,12,FALSE)=BH$2,\"X\",\"\"))","v":""},{"$f":"IF(ISERROR(VLOOKUP($A28,'8eme'!$B:$M,12,FALSE)),IF(ISERROR(VLOOKUP($A28,'8eme'!$F:$M,8,FALSE)),\"\",IF(VLOOKUP($A28,'8eme'!$F:$M,8,FALSE)=BI$2,\"X\",\"\")),IF(VLOOKUP($A28,'8eme'!$B:$M,12,FALSE)=BI$2,\"X\",\"\"))","v":""},{"$f":"IF(ISERROR(VLOOKUP($A28,'8eme'!$B:$M,12,FALSE)),IF(ISERROR(VLOOKUP($A28,'8eme'!$F:$M,8,FALSE)),\"\",IF(VLOOKUP($A28,'8eme'!$F:$M,8,FALSE)=BJ$2,\"X\",\"\")),IF(VLOOKUP($A28,'8eme'!$B:$M,12,FALSE)=BJ$2,\"X\",\"\"))","v":""},{"$f":"IF(ISERROR(VLOOKUP($A28,'8eme'!$B:$M,12,FALSE)),IF(ISERROR(VLOOKUP($A28,'8eme'!$F:$M,8,FALSE)),\"\",IF(VLOOKUP($A28,'8eme'!$F:$M,8,FALSE)=BK$2,\"X\",\"\")),IF(VLOOKUP($A28,'8eme'!$B:$M,12,FALSE)=BK$2,\"X\",\"\"))","v":""},{"$f":"IF(ISERROR(VLOOKUP($A28,'8eme'!$B:$M,12,FALSE)),IF(ISERROR(VLOOKUP($A28,'8eme'!$F:$M,8,FALSE)),\"\",IF(VLOOKUP($A28,'8eme'!$F:$M,8,FALSE)=BL$2,\"X\",\"\")),IF(VLOOKUP($A28,'8eme'!$B:$M,12,FALSE)=BL$2,\"X\",\"\"))","v":""},{"$f":"IF(ISERROR(VLOOKUP($A28,'8eme'!$B:$M,12,FALSE)),IF(ISERROR(VLOOKUP($A28,'8eme'!$F:$M,8,FALSE)),\"\",IF(VLOOKUP($A28,'8eme'!$F:$M,8,FALSE)=BM$2,\"X\",\"\")),IF(VLOOKUP($A28,'8eme'!$B:$M,12,FALSE)=BM$2,\"X\",\"\"))","v":""},{"$f":"IF(ISERROR(VLOOKUP($A28,quart!$B:$M,12,FALSE)),IF(ISERROR(VLOOKUP($A28,quart!$F:$M,8,FALSE)),\"\",IF(VLOOKUP($A28,quart!$F:$M,8,FALSE)=BN$2,\"X\",\"\")),IF(VLOOKUP($A28,quart!$B:$M,12,FALSE)=BN$2,\"X\",\"\"))","v":""},{"$f":"IF(ISERROR(VLOOKUP($A28,quart!$B:$M,12,FALSE)),IF(ISERROR(VLOOKUP($A28,quart!$F:$M,8,FALSE)),\"\",IF(VLOOKUP($A28,quart!$F:$M,8,FALSE)=BO$2,\"X\",\"\")),IF(VLOOKUP($A28,quart!$B:$M,12,FALSE)=BO$2,\"X\",\"\"))","v":""},{"$f":"IF(ISERROR(VLOOKUP($A28,quart!$B:$M,12,FALSE)),IF(ISERROR(VLOOKUP($A28,quart!$F:$M,8,FALSE)),\"\",IF(VLOOKUP($A28,quart!$F:$M,8,FALSE)=BP$2,\"X\",\"\")),IF(VLOOKUP($A28,quart!$B:$M,12,FALSE)=BP$2,\"X\",\"\"))","v":""},{"$f":"IF(ISERROR(VLOOKUP($A28,quart!$B:$M,12,FALSE)),IF(ISERROR(VLOOKUP($A28,quart!$F:$M,8,FALSE)),\"\",IF(VLOOKUP($A28,quart!$F:$M,8,FALSE)=BQ$2,\"X\",\"\")),IF(VLOOKUP($A28,quart!$B:$M,12,FALSE)=BQ$2,\"X\",\"\"))","v":""},{"$f":"IF(ISERROR(VLOOKUP($A28,quart!$B:$M,12,FALSE)),IF(ISERROR(VLOOKUP($A28,quart!$F:$M,8,FALSE)),\"\",IF(VLOOKUP($A28,quart!$F:$M,8,FALSE)=BR$2,\"X\",\"\")),IF(VLOOKUP($A28,quart!$B:$M,12,FALSE)=BR$2,\"X\",\"\"))","v":""},{"$f":"IF(ISERROR(VLOOKUP($A28,quart!$B:$M,12,FALSE)),IF(ISERROR(VLOOKUP($A28,quart!$F:$M,8,FALSE)),\"\",IF(VLOOKUP($A28,quart!$F:$M,8,FALSE)=BS$2,\"X\",\"\")),IF(VLOOKUP($A28,quart!$B:$M,12,FALSE)=BS$2,\"X\",\"\"))","v":""},{"$f":"IF(ISERROR(VLOOKUP($A28,quart!$B:$M,12,FALSE)),IF(ISERROR(VLOOKUP($A28,quart!$F:$M,8,FALSE)),\"\",IF(VLOOKUP($A28,quart!$F:$M,8,FALSE)=BT$2,\"X\",\"\")),IF(VLOOKUP($A28,quart!$B:$M,12,FALSE)=BT$2,\"X\",\"\"))","v":""},{"$f":"IF(ISERROR(VLOOKUP($A28,quart!$B:$M,12,FALSE)),IF(ISERROR(VLOOKUP($A28,quart!$F:$M,8,FALSE)),\"\",IF(VLOOKUP($A28,quart!$F:$M,8,FALSE)=BU$2,\"X\",\"\")),IF(VLOOKUP($A28,quart!$B:$M,12,FALSE)=BU$2,\"X\",\"\"))","v":""},{"$f":"IF(ISERROR(VLOOKUP($A28,quart!$B:$M,12,FALSE)),IF(ISERROR(VLOOKUP($A28,quart!$F:$M,8,FALSE)),\"\",IF(VLOOKUP($A28,quart!$F:$M,8,FALSE)=BV$2,\"X\",\"\")),IF(VLOOKUP($A28,quart!$B:$M,12,FALSE)=BV$2,\"X\",\"\"))","v":""},{"$f":"IF(ISERROR(VLOOKUP($A28,quart!$B:$M,12,FALSE)),IF(ISERROR(VLOOKUP($A28,quart!$F:$M,8,FALSE)),\"\",IF(VLOOKUP($A28,quart!$F:$M,8,FALSE)=BW$2,\"X\",\"\")),IF(VLOOKUP($A28,quart!$B:$M,12,FALSE)=BW$2,\"X\",\"\"))","v":""},{"$f":"IF(ISERROR(VLOOKUP($A28,quart!$B:$M,12,FALSE)),IF(ISERROR(VLOOKUP($A28,quart!$F:$M,8,FALSE)),\"\",IF(VLOOKUP($A28,quart!$F:$M,8,FALSE)=BX$2,\"X\",\"\")),IF(VLOOKUP($A28,quart!$B:$M,12,FALSE)=BX$2,\"X\",\"\"))","v":""},{"$f":"IF(ISERROR(VLOOKUP($A28,quart!$B:$M,12,FALSE)),IF(ISERROR(VLOOKUP($A28,quart!$F:$M,8,FALSE)),\"\",IF(VLOOKUP($A28,quart!$F:$M,8,FALSE)=BY$2,\"X\",\"\")),IF(VLOOKUP($A28,quart!$B:$M,12,FALSE)=BY$2,\"X\",\"\"))","v":""},{"$f":"IF(ISERROR(VLOOKUP($A28,quart!$B:$M,12,FALSE)),IF(ISERROR(VLOOKUP($A28,quart!$F:$M,8,FALSE)),\"\",IF(VLOOKUP($A28,quart!$F:$M,8,FALSE)=BZ$2,\"X\",\"\")),IF(VLOOKUP($A28,quart!$B:$M,12,FALSE)=BZ$2,\"X\",\"\"))","v":""},{"$f":"IF(ISERROR(VLOOKUP($A28,quart!$B:$M,12,FALSE)),IF(ISERROR(VLOOKUP($A28,quart!$F:$M,8,FALSE)),\"\",IF(VLOOKUP($A28,quart!$F:$M,8,FALSE)=CA$2,\"X\",\"\")),IF(VLOOKUP($A28,quart!$B:$M,12,FALSE)=CA$2,\"X\",\"\"))","v":""},{"$f":"IF(ISERROR(VLOOKUP($A28,quart!$B:$M,12,FALSE)),IF(ISERROR(VLOOKUP($A28,quart!$F:$M,8,FALSE)),\"\",IF(VLOOKUP($A28,quart!$F:$M,8,FALSE)=CB$2,\"X\",\"\")),IF(VLOOKUP($A28,quart!$B:$M,12,FALSE)=CB$2,\"X\",\"\"))","v":""},{"$f":"IF(ISERROR(VLOOKUP($A28,quart!$B:$M,12,FALSE)),IF(ISERROR(VLOOKUP($A28,quart!$F:$M,8,FALSE)),\"\",IF(VLOOKUP($A28,quart!$F:$M,8,FALSE)=CC$2,\"X\",\"\")),IF(VLOOKUP($A28,quart!$B:$M,12,FALSE)=CC$2,\"X\",\"\"))","v":""},{"$f":"IF(ISERROR(VLOOKUP($A28,demi!$B:$M,12,FALSE)),IF(ISERROR(VLOOKUP($A28,demi!$F:$M,8,FALSE)),\"\",IF(VLOOKUP($A28,demi!$F:$M,8,FALSE)=CD$2,\"X\",\"\")),IF(VLOOKUP($A28,demi!$B:$M,12,FALSE)=CD$2,\"X\",\"\"))","v":""},{"$f":"IF(ISERROR(VLOOKUP($A28,demi!$B:$M,12,FALSE)),IF(ISERROR(VLOOKUP($A28,demi!$F:$M,8,FALSE)),\"\",IF(VLOOKUP($A28,demi!$F:$M,8,FALSE)=CE$2,\"X\",\"\")),IF(VLOOKUP($A28,demi!$B:$M,12,FALSE)=CE$2,\"X\",\"\"))","v":""},{"$f":"IF(ISERROR(VLOOKUP($A28,demi!$B:$M,12,FALSE)),IF(ISERROR(VLOOKUP($A28,demi!$F:$M,8,FALSE)),\"\",IF(VLOOKUP($A28,demi!$F:$M,8,FALSE)=CF$2,\"X\",\"\")),IF(VLOOKUP($A28,demi!$B:$M,12,FALSE)=CF$2,\"X\",\"\"))","v":""},{"$f":"IF(ISERROR(VLOOKUP($A28,demi!$B:$M,12,FALSE)),IF(ISERROR(VLOOKUP($A28,demi!$F:$M,8,FALSE)),\"\",IF(VLOOKUP($A28,demi!$F:$M,8,FALSE)=CG$2,\"X\",\"\")),IF(VLOOKUP($A28,demi!$B:$M,12,FALSE)=CG$2,\"X\",\"\"))","v":""},{"$f":"IF(ISERROR(VLOOKUP($A28,demi!$B:$M,12,FALSE)),IF(ISERROR(VLOOKUP($A28,demi!$F:$M,8,FALSE)),\"\",IF(VLOOKUP($A28,demi!$F:$M,8,FALSE)=CH$2,\"X\",\"\")),IF(VLOOKUP($A28,demi!$B:$M,12,FALSE)=CH$2,\"X\",\"\"))","v":""},{"$f":"IF(ISERROR(VLOOKUP($A28,demi!$B:$M,12,FALSE)),IF(ISERROR(VLOOKUP($A28,demi!$F:$M,8,FALSE)),\"\",IF(VLOOKUP($A28,demi!$F:$M,8,FALSE)=CI$2,\"X\",\"\")),IF(VLOOKUP($A28,demi!$B:$M,12,FALSE)=CI$2,\"X\",\"\"))","v":""},{"$f":"IF(ISERROR(VLOOKUP($A28,demi!$B:$M,12,FALSE)),IF(ISERROR(VLOOKUP($A28,demi!$F:$M,8,FALSE)),\"\",IF(VLOOKUP($A28,demi!$F:$M,8,FALSE)=CJ$2,\"X\",\"\")),IF(VLOOKUP($A28,demi!$B:$M,12,FALSE)=CJ$2,\"X\",\"\"))","v":""},{"$f":"IF(ISERROR(VLOOKUP($A28,demi!$B:$M,12,FALSE)),IF(ISERROR(VLOOKUP($A28,demi!$F:$M,8,FALSE)),\"\",IF(VLOOKUP($A28,demi!$F:$M,8,FALSE)=CK$2,\"X\",\"\")),IF(VLOOKUP($A28,demi!$B:$M,12,FALSE)=CK$2,\"X\",\"\"))","v":""},{"$f":"IF(ISERROR(VLOOKUP($A28,demi!$B:$M,12,FALSE)),IF(ISERROR(VLOOKUP($A28,demi!$F:$M,8,FALSE)),\"\",IF(VLOOKUP($A28,demi!$F:$M,8,FALSE)=CL$2,\"X\",\"\")),IF(VLOOKUP($A28,demi!$B:$M,12,FALSE)=CL$2,\"X\",\"\"))","v":""},{"$f":"IF(ISERROR(VLOOKUP($A28,demi!$B:$M,12,FALSE)),IF(ISERROR(VLOOKUP($A28,demi!$F:$M,8,FALSE)),\"\",IF(VLOOKUP($A28,demi!$F:$M,8,FALSE)=CM$2,\"X\",\"\")),IF(VLOOKUP($A28,demi!$B:$M,12,FALSE)=CM$2,\"X\",\"\"))","v":""},{"$f":"IF(ISERROR(VLOOKUP($A28,demi!$B:$M,12,FALSE)),IF(ISERROR(VLOOKUP($A28,demi!$F:$M,8,FALSE)),\"\",IF(VLOOKUP($A28,demi!$F:$M,8,FALSE)=CN$2,\"X\",\"\")),IF(VLOOKUP($A28,demi!$B:$M,12,FALSE)=CN$2,\"X\",\"\"))","v":""},{"$f":"IF(ISERROR(VLOOKUP($A28,demi!$B:$M,12,FALSE)),IF(ISERROR(VLOOKUP($A28,demi!$F:$M,8,FALSE)),\"\",IF(VLOOKUP($A28,demi!$F:$M,8,FALSE)=CO$2,\"X\",\"\")),IF(VLOOKUP($A28,demi!$B:$M,12,FALSE)=CO$2,\"X\",\"\"))","v":""},{"$f":"IF(ISERROR(VLOOKUP($A28,demi!$B:$M,12,FALSE)),IF(ISERROR(VLOOKUP($A28,demi!$F:$M,8,FALSE)),\"\",IF(VLOOKUP($A28,demi!$F:$M,8,FALSE)=CP$2,\"X\",\"\")),IF(VLOOKUP($A28,demi!$B:$M,12,FALSE)=CP$2,\"X\",\"\"))","v":""},{"$f":"IF(ISERROR(VLOOKUP($A28,demi!$B:$M,12,FALSE)),IF(ISERROR(VLOOKUP($A28,demi!$F:$M,8,FALSE)),\"\",IF(VLOOKUP($A28,demi!$F:$M,8,FALSE)=CQ$2,\"X\",\"\")),IF(VLOOKUP($A28,demi!$B:$M,12,FALSE)=CQ$2,\"X\",\"\"))","v":""},{"$f":"IF(ISERROR(VLOOKUP($A28,demi!$B:$M,12,FALSE)),IF(ISERROR(VLOOKUP($A28,demi!$F:$M,8,FALSE)),\"\",IF(VLOOKUP($A28,demi!$F:$M,8,FALSE)=CR$2,\"X\",\"\")),IF(VLOOKUP($A28,demi!$B:$M,12,FALSE)=CR$2,\"X\",\"\"))","v":""},{"$f":"IF(ISERROR(VLOOKUP($A28,demi!$B:$M,12,FALSE)),IF(ISERROR(VLOOKUP($A28,demi!$F:$M,8,FALSE)),\"\",IF(VLOOKUP($A28,demi!$F:$M,8,FALSE)=CS$2,\"X\",\"\")),IF(VLOOKUP($A28,demi!$B:$M,12,FALSE)=CS$2,\"X\",\"\"))","v":""}]
[27,"X","X","X","X","X","X","X","X","X","X","X","X","X","X","X","X",{"$f":"IF(ISERROR(VLOOKUP($A29,'32eme'!$B:$M,12,FALSE)),IF(ISERROR(VLOOKUP($A29,'32eme'!$F:$M,8,FALSE)),\"\",IF(VLOOKUP($A29,'32eme'!$F:$M,8,FALSE)=R$2,\"X\",\"\")),IF(VLOOKUP($A29,'32eme'!$B:$M,12,FALSE)=R$2,\"X\",\"\"))","v":""},{"$f":"IF(ISERROR(VLOOKUP($A29,'32eme'!$B:$M,12,FALSE)),IF(ISERROR(VLOOKUP($A29,'32eme'!$F:$M,8,FALSE)),\"\",IF(VLOOKUP($A29,'32eme'!$F:$M,8,FALSE)=S$2,\"X\",\"\")),IF(VLOOKUP($A29,'32eme'!$B:$M,12,FALSE)=S$2,\"X\",\"\"))","v":""},{"$f":"IF(ISERROR(VLOOKUP($A29,'32eme'!$B:$M,12,FALSE)),IF(ISERROR(VLOOKUP($A29,'32eme'!$F:$M,8,FALSE)),\"\",IF(VLOOKUP($A29,'32eme'!$F:$M,8,FALSE)=T$2,\"X\",\"\")),IF(VLOOKUP($A29,'32eme'!$B:$M,12,FALSE)=T$2,\"X\",\"\"))","v":""},{"$f":"IF(ISERROR(VLOOKUP($A29,'32eme'!$B:$M,12,FALSE)),IF(ISERROR(VLOOKUP($A29,'32eme'!$F:$M,8,FALSE)),\"\",IF(VLOOKUP($A29,'32eme'!$F:$M,8,FALSE)=U$2,\"X\",\"\")),IF(VLOOKUP($A29,'32eme'!$B:$M,12,FALSE)=U$2,\"X\",\"\"))","v":""},{"$f":"IF(ISERROR(VLOOKUP($A29,'32eme'!$B:$M,12,FALSE)),IF(ISERROR(VLOOKUP($A29,'32eme'!$F:$M,8,FALSE)),\"\",IF(VLOOKUP($A29,'32eme'!$F:$M,8,FALSE)=V$2,\"X\",\"\")),IF(VLOOKUP($A29,'32eme'!$B:$M,12,FALSE)=V$2,\"X\",\"\"))","v":""},{"$f":"IF(ISERROR(VLOOKUP($A29,'32eme'!$B:$M,12,FALSE)),IF(ISERROR(VLOOKUP($A29,'32eme'!$F:$M,8,FALSE)),\"\",IF(VLOOKUP($A29,'32eme'!$F:$M,8,FALSE)=W$2,\"X\",\"\")),IF(VLOOKUP($A29,'32eme'!$B:$M,12,FALSE)=W$2,\"X\",\"\"))","v":""},{"$f":"IF(ISERROR(VLOOKUP($A29,'32eme'!$B:$M,12,FALSE)),IF(ISERROR(VLOOKUP($A29,'32eme'!$F:$M,8,FALSE)),\"\",IF(VLOOKUP($A29,'32eme'!$F:$M,8,FALSE)=X$2,\"X\",\"\")),IF(VLOOKUP($A29,'32eme'!$B:$M,12,FALSE)=X$2,\"X\",\"\"))","v":""},{"$f":"IF(ISERROR(VLOOKUP($A29,'32eme'!$B:$M,12,FALSE)),IF(ISERROR(VLOOKUP($A29,'32eme'!$F:$M,8,FALSE)),\"\",IF(VLOOKUP($A29,'32eme'!$F:$M,8,FALSE)=Y$2,\"X\",\"\")),IF(VLOOKUP($A29,'32eme'!$B:$M,12,FALSE)=Y$2,\"X\",\"\"))","v":""},{"$f":"IF(ISERROR(VLOOKUP($A29,'32eme'!$B:$M,12,FALSE)),IF(ISERROR(VLOOKUP($A29,'32eme'!$F:$M,8,FALSE)),\"\",IF(VLOOKUP($A29,'32eme'!$F:$M,8,FALSE)=Z$2,\"X\",\"\")),IF(VLOOKUP($A29,'32eme'!$B:$M,12,FALSE)=Z$2,\"X\",\"\"))","v":""},{"$f":"IF(ISERROR(VLOOKUP($A29,'32eme'!$B:$M,12,FALSE)),IF(ISERROR(VLOOKUP($A29,'32eme'!$F:$M,8,FALSE)),\"\",IF(VLOOKUP($A29,'32eme'!$F:$M,8,FALSE)=AA$2,\"X\",\"\")),IF(VLOOKUP($A29,'32eme'!$B:$M,12,FALSE)=AA$2,\"X\",\"\"))","v":""},{"$f":"IF(ISERROR(VLOOKUP($A29,'32eme'!$B:$M,12,FALSE)),IF(ISERROR(VLOOKUP($A29,'32eme'!$F:$M,8,FALSE)),\"\",IF(VLOOKUP($A29,'32eme'!$F:$M,8,FALSE)=AB$2,\"X\",\"\")),IF(VLOOKUP($A29,'32eme'!$B:$M,12,FALSE)=AB$2,\"X\",\"\"))","v":""},{"$f":"IF(ISERROR(VLOOKUP($A29,'32eme'!$B:$M,12,FALSE)),IF(ISERROR(VLOOKUP($A29,'32eme'!$F:$M,8,FALSE)),\"\",IF(VLOOKUP($A29,'32eme'!$F:$M,8,FALSE)=AC$2,\"X\",\"\")),IF(VLOOKUP($A29,'32eme'!$B:$M,12,FALSE)=AC$2,\"X\",\"\"))","v":""},{"$f":"IF(ISERROR(VLOOKUP($A29,'32eme'!$B:$M,12,FALSE)),IF(ISERROR(VLOOKUP($A29,'32eme'!$F:$M,8,FALSE)),\"\",IF(VLOOKUP($A29,'32eme'!$F:$M,8,FALSE)=AD$2,\"X\",\"\")),IF(VLOOKUP($A29,'32eme'!$B:$M,12,FALSE)=AD$2,\"X\",\"\"))","v":""},{"$f":"IF(ISERROR(VLOOKUP($A29,'32eme'!$B:$M,12,FALSE)),IF(ISERROR(VLOOKUP($A29,'32eme'!$F:$M,8,FALSE)),\"\",IF(VLOOKUP($A29,'32eme'!$F:$M,8,FALSE)=AE$2,\"X\",\"\")),IF(VLOOKUP($A29,'32eme'!$B:$M,12,FALSE)=AE$2,\"X\",\"\"))","v":""},{"$f":"IF(ISERROR(VLOOKUP($A29,'32eme'!$B:$M,12,FALSE)),IF(ISERROR(VLOOKUP($A29,'32eme'!$F:$M,8,FALSE)),\"\",IF(VLOOKUP($A29,'32eme'!$F:$M,8,FALSE)=AF$2,\"X\",\"\")),IF(VLOOKUP($A29,'32eme'!$B:$M,12,FALSE)=AF$2,\"X\",\"\"))","v":""},{"$f":"IF(ISERROR(VLOOKUP($A29,'32eme'!$B:$M,12,FALSE)),IF(ISERROR(VLOOKUP($A29,'32eme'!$F:$M,8,FALSE)),\"\",IF(VLOOKUP($A29,'32eme'!$F:$M,8,FALSE)=AG$2,\"X\",\"\")),IF(VLOOKUP($A29,'32eme'!$B:$M,12,FALSE)=AG$2,\"X\",\"\"))","v":""},{"$f":"IF(ISERROR(VLOOKUP($A29,'16eme'!$B:$M,12,FALSE)),IF(ISERROR(VLOOKUP($A29,'16eme'!$F:$M,8,FALSE)),\"\",IF(VLOOKUP($A29,'16eme'!$F:$M,8,FALSE)=AH$2,\"X\",\"\")),IF(VLOOKUP($A29,'16eme'!$B:$M,12,FALSE)=AH$2,\"X\",\"\"))","v":""},{"$f":"IF(ISERROR(VLOOKUP($A29,'16eme'!$B:$M,12,FALSE)),IF(ISERROR(VLOOKUP($A29,'16eme'!$F:$M,8,FALSE)),\"\",IF(VLOOKUP($A29,'16eme'!$F:$M,8,FALSE)=AI$2,\"X\",\"\")),IF(VLOOKUP($A29,'16eme'!$B:$M,12,FALSE)=AI$2,\"X\",\"\"))","v":""},{"$f":"IF(ISERROR(VLOOKUP($A29,'16eme'!$B:$M,12,FALSE)),IF(ISERROR(VLOOKUP($A29,'16eme'!$F:$M,8,FALSE)),\"\",IF(VLOOKUP($A29,'16eme'!$F:$M,8,FALSE)=AJ$2,\"X\",\"\")),IF(VLOOKUP($A29,'16eme'!$B:$M,12,FALSE)=AJ$2,\"X\",\"\"))","v":""},{"$f":"IF(ISERROR(VLOOKUP($A29,'16eme'!$B:$M,12,FALSE)),IF(ISERROR(VLOOKUP($A29,'16eme'!$F:$M,8,FALSE)),\"\",IF(VLOOKUP($A29,'16eme'!$F:$M,8,FALSE)=AK$2,\"X\",\"\")),IF(VLOOKUP($A29,'16eme'!$B:$M,12,FALSE)=AK$2,\"X\",\"\"))","v":""},{"$f":"IF(ISERROR(VLOOKUP($A29,'16eme'!$B:$M,12,FALSE)),IF(ISERROR(VLOOKUP($A29,'16eme'!$F:$M,8,FALSE)),\"\",IF(VLOOKUP($A29,'16eme'!$F:$M,8,FALSE)=AL$2,\"X\",\"\")),IF(VLOOKUP($A29,'16eme'!$B:$M,12,FALSE)=AL$2,\"X\",\"\"))","v":""},{"$f":"IF(ISERROR(VLOOKUP($A29,'16eme'!$B:$M,12,FALSE)),IF(ISERROR(VLOOKUP($A29,'16eme'!$F:$M,8,FALSE)),\"\",IF(VLOOKUP($A29,'16eme'!$F:$M,8,FALSE)=AM$2,\"X\",\"\")),IF(VLOOKUP($A29,'16eme'!$B:$M,12,FALSE)=AM$2,\"X\",\"\"))","v":""},{"$f":"IF(ISERROR(VLOOKUP($A29,'16eme'!$B:$M,12,FALSE)),IF(ISERROR(VLOOKUP($A29,'16eme'!$F:$M,8,FALSE)),\"\",IF(VLOOKUP($A29,'16eme'!$F:$M,8,FALSE)=AN$2,\"X\",\"\")),IF(VLOOKUP($A29,'16eme'!$B:$M,12,FALSE)=AN$2,\"X\",\"\"))","v":""},{"$f":"IF(ISERROR(VLOOKUP($A29,'16eme'!$B:$M,12,FALSE)),IF(ISERROR(VLOOKUP($A29,'16eme'!$F:$M,8,FALSE)),\"\",IF(VLOOKUP($A29,'16eme'!$F:$M,8,FALSE)=AO$2,\"X\",\"\")),IF(VLOOKUP($A29,'16eme'!$B:$M,12,FALSE)=AO$2,\"X\",\"\"))","v":""},{"$f":"IF(ISERROR(VLOOKUP($A29,'16eme'!$B:$M,12,FALSE)),IF(ISERROR(VLOOKUP($A29,'16eme'!$F:$M,8,FALSE)),\"\",IF(VLOOKUP($A29,'16eme'!$F:$M,8,FALSE)=AP$2,\"X\",\"\")),IF(VLOOKUP($A29,'16eme'!$B:$M,12,FALSE)=AP$2,\"X\",\"\"))","v":""},{"$f":"IF(ISERROR(VLOOKUP($A29,'16eme'!$B:$M,12,FALSE)),IF(ISERROR(VLOOKUP($A29,'16eme'!$F:$M,8,FALSE)),\"\",IF(VLOOKUP($A29,'16eme'!$F:$M,8,FALSE)=AQ$2,\"X\",\"\")),IF(VLOOKUP($A29,'16eme'!$B:$M,12,FALSE)=AQ$2,\"X\",\"\"))","v":""},{"$f":"IF(ISERROR(VLOOKUP($A29,'16eme'!$B:$M,12,FALSE)),IF(ISERROR(VLOOKUP($A29,'16eme'!$F:$M,8,FALSE)),\"\",IF(VLOOKUP($A29,'16eme'!$F:$M,8,FALSE)=AR$2,\"X\",\"\")),IF(VLOOKUP($A29,'16eme'!$B:$M,12,FALSE)=AR$2,\"X\",\"\"))","v":""},{"$f":"IF(ISERROR(VLOOKUP($A29,'16eme'!$B:$M,12,FALSE)),IF(ISERROR(VLOOKUP($A29,'16eme'!$F:$M,8,FALSE)),\"\",IF(VLOOKUP($A29,'16eme'!$F:$M,8,FALSE)=AS$2,\"X\",\"\")),IF(VLOOKUP($A29,'16eme'!$B:$M,12,FALSE)=AS$2,\"X\",\"\"))","v":""},{"$f":"IF(ISERROR(VLOOKUP($A29,'16eme'!$B:$M,12,FALSE)),IF(ISERROR(VLOOKUP($A29,'16eme'!$F:$M,8,FALSE)),\"\",IF(VLOOKUP($A29,'16eme'!$F:$M,8,FALSE)=AT$2,\"X\",\"\")),IF(VLOOKUP($A29,'16eme'!$B:$M,12,FALSE)=AT$2,\"X\",\"\"))","v":""},{"$f":"IF(ISERROR(VLOOKUP($A29,'16eme'!$B:$M,12,FALSE)),IF(ISERROR(VLOOKUP($A29,'16eme'!$F:$M,8,FALSE)),\"\",IF(VLOOKUP($A29,'16eme'!$F:$M,8,FALSE)=AU$2,\"X\",\"\")),IF(VLOOKUP($A29,'16eme'!$B:$M,12,FALSE)=AU$2,\"X\",\"\"))","v":""},{"$f":"IF(ISERROR(VLOOKUP($A29,'16eme'!$B:$M,12,FALSE)),IF(ISERROR(VLOOKUP($A29,'16eme'!$F:$M,8,FALSE)),\"\",IF(VLOOKUP($A29,'16eme'!$F:$M,8,FALSE)=AV$2,\"X\",\"\")),IF(VLOOKUP($A29,'16eme'!$B:$M,12,FALSE)=AV$2,\"X\",\"\"))","v":""},{"$f":"IF(ISERROR(VLOOKUP($A29,'16eme'!$B:$M,12,FALSE)),IF(ISERROR(VLOOKUP($A29,'16eme'!$F:$M,8,FALSE)),\"\",IF(VLOOKUP($A29,'16eme'!$F:$M,8,FALSE)=AW$2,\"X\",\"\")),IF(VLOOKUP($A29,'16eme'!$B:$M,12,FALSE)=AW$2,\"X\",\"\"))","v":""},{"$f":"IF(ISERROR(VLOOKUP($A29,'8eme'!$B:$M,12,FALSE)),IF(ISERROR(VLOOKUP($A29,'8eme'!$F:$M,8,FALSE)),\"\",IF(VLOOKUP($A29,'8eme'!$F:$M,8,FALSE)=AX$2,\"X\",\"\")),IF(VLOOKUP($A29,'8eme'!$B:$M,12,FALSE)=AX$2,\"X\",\"\"))","v":""},{"$f":"IF(ISERROR(VLOOKUP($A29,'8eme'!$B:$M,12,FALSE)),IF(ISERROR(VLOOKUP($A29,'8eme'!$F:$M,8,FALSE)),\"\",IF(VLOOKUP($A29,'8eme'!$F:$M,8,FALSE)=AY$2,\"X\",\"\")),IF(VLOOKUP($A29,'8eme'!$B:$M,12,FALSE)=AY$2,\"X\",\"\"))","v":""},{"$f":"IF(ISERROR(VLOOKUP($A29,'8eme'!$B:$M,12,FALSE)),IF(ISERROR(VLOOKUP($A29,'8eme'!$F:$M,8,FALSE)),\"\",IF(VLOOKUP($A29,'8eme'!$F:$M,8,FALSE)=AZ$2,\"X\",\"\")),IF(VLOOKUP($A29,'8eme'!$B:$M,12,FALSE)=AZ$2,\"X\",\"\"))","v":""},{"$f":"IF(ISERROR(VLOOKUP($A29,'8eme'!$B:$M,12,FALSE)),IF(ISERROR(VLOOKUP($A29,'8eme'!$F:$M,8,FALSE)),\"\",IF(VLOOKUP($A29,'8eme'!$F:$M,8,FALSE)=BA$2,\"X\",\"\")),IF(VLOOKUP($A29,'8eme'!$B:$M,12,FALSE)=BA$2,\"X\",\"\"))","v":""},{"$f":"IF(ISERROR(VLOOKUP($A29,'8eme'!$B:$M,12,FALSE)),IF(ISERROR(VLOOKUP($A29,'8eme'!$F:$M,8,FALSE)),\"\",IF(VLOOKUP($A29,'8eme'!$F:$M,8,FALSE)=BB$2,\"X\",\"\")),IF(VLOOKUP($A29,'8eme'!$B:$M,12,FALSE)=BB$2,\"X\",\"\"))","v":""},{"$f":"IF(ISERROR(VLOOKUP($A29,'8eme'!$B:$M,12,FALSE)),IF(ISERROR(VLOOKUP($A29,'8eme'!$F:$M,8,FALSE)),\"\",IF(VLOOKUP($A29,'8eme'!$F:$M,8,FALSE)=BC$2,\"X\",\"\")),IF(VLOOKUP($A29,'8eme'!$B:$M,12,FALSE)=BC$2,\"X\",\"\"))","v":""},{"$f":"IF(ISERROR(VLOOKUP($A29,'8eme'!$B:$M,12,FALSE)),IF(ISERROR(VLOOKUP($A29,'8eme'!$F:$M,8,FALSE)),\"\",IF(VLOOKUP($A29,'8eme'!$F:$M,8,FALSE)=BD$2,\"X\",\"\")),IF(VLOOKUP($A29,'8eme'!$B:$M,12,FALSE)=BD$2,\"X\",\"\"))","v":""},{"$f":"IF(ISERROR(VLOOKUP($A29,'8eme'!$B:$M,12,FALSE)),IF(ISERROR(VLOOKUP($A29,'8eme'!$F:$M,8,FALSE)),\"\",IF(VLOOKUP($A29,'8eme'!$F:$M,8,FALSE)=BE$2,\"X\",\"\")),IF(VLOOKUP($A29,'8eme'!$B:$M,12,FALSE)=BE$2,\"X\",\"\"))","v":""},{"$f":"IF(ISERROR(VLOOKUP($A29,'8eme'!$B:$M,12,FALSE)),IF(ISERROR(VLOOKUP($A29,'8eme'!$F:$M,8,FALSE)),\"\",IF(VLOOKUP($A29,'8eme'!$F:$M,8,FALSE)=BF$2,\"X\",\"\")),IF(VLOOKUP($A29,'8eme'!$B:$M,12,FALSE)=BF$2,\"X\",\"\"))","v":""},{"$f":"IF(ISERROR(VLOOKUP($A29,'8eme'!$B:$M,12,FALSE)),IF(ISERROR(VLOOKUP($A29,'8eme'!$F:$M,8,FALSE)),\"\",IF(VLOOKUP($A29,'8eme'!$F:$M,8,FALSE)=BG$2,\"X\",\"\")),IF(VLOOKUP($A29,'8eme'!$B:$M,12,FALSE)=BG$2,\"X\",\"\"))","v":""},{"$f":"IF(ISERROR(VLOOKUP($A29,'8eme'!$B:$M,12,FALSE)),IF(ISERROR(VLOOKUP($A29,'8eme'!$F:$M,8,FALSE)),\"\",IF(VLOOKUP($A29,'8eme'!$F:$M,8,FALSE)=BH$2,\"X\",\"\")),IF(VLOOKUP($A29,'8eme'!$B:$M,12,FALSE)=BH$2,\"X\",\"\"))","v":""},{"$f":"IF(ISERROR(VLOOKUP($A29,'8eme'!$B:$M,12,FALSE)),IF(ISERROR(VLOOKUP($A29,'8eme'!$F:$M,8,FALSE)),\"\",IF(VLOOKUP($A29,'8eme'!$F:$M,8,FALSE)=BI$2,\"X\",\"\")),IF(VLOOKUP($A29,'8eme'!$B:$M,12,FALSE)=BI$2,\"X\",\"\"))","v":""},{"$f":"IF(ISERROR(VLOOKUP($A29,'8eme'!$B:$M,12,FALSE)),IF(ISERROR(VLOOKUP($A29,'8eme'!$F:$M,8,FALSE)),\"\",IF(VLOOKUP($A29,'8eme'!$F:$M,8,FALSE)=BJ$2,\"X\",\"\")),IF(VLOOKUP($A29,'8eme'!$B:$M,12,FALSE)=BJ$2,\"X\",\"\"))","v":""},{"$f":"IF(ISERROR(VLOOKUP($A29,'8eme'!$B:$M,12,FALSE)),IF(ISERROR(VLOOKUP($A29,'8eme'!$F:$M,8,FALSE)),\"\",IF(VLOOKUP($A29,'8eme'!$F:$M,8,FALSE)=BK$2,\"X\",\"\")),IF(VLOOKUP($A29,'8eme'!$B:$M,12,FALSE)=BK$2,\"X\",\"\"))","v":""},{"$f":"IF(ISERROR(VLOOKUP($A29,'8eme'!$B:$M,12,FALSE)),IF(ISERROR(VLOOKUP($A29,'8eme'!$F:$M,8,FALSE)),\"\",IF(VLOOKUP($A29,'8eme'!$F:$M,8,FALSE)=BL$2,\"X\",\"\")),IF(VLOOKUP($A29,'8eme'!$B:$M,12,FALSE)=BL$2,\"X\",\"\"))","v":""},{"$f":"IF(ISERROR(VLOOKUP($A29,'8eme'!$B:$M,12,FALSE)),IF(ISERROR(VLOOKUP($A29,'8eme'!$F:$M,8,FALSE)),\"\",IF(VLOOKUP($A29,'8eme'!$F:$M,8,FALSE)=BM$2,\"X\",\"\")),IF(VLOOKUP($A29,'8eme'!$B:$M,12,FALSE)=BM$2,\"X\",\"\"))","v":""},{"$f":"IF(ISERROR(VLOOKUP($A29,quart!$B:$M,12,FALSE)),IF(ISERROR(VLOOKUP($A29,quart!$F:$M,8,FALSE)),\"\",IF(VLOOKUP($A29,quart!$F:$M,8,FALSE)=BN$2,\"X\",\"\")),IF(VLOOKUP($A29,quart!$B:$M,12,FALSE)=BN$2,\"X\",\"\"))","v":""},{"$f":"IF(ISERROR(VLOOKUP($A29,quart!$B:$M,12,FALSE)),IF(ISERROR(VLOOKUP($A29,quart!$F:$M,8,FALSE)),\"\",IF(VLOOKUP($A29,quart!$F:$M,8,FALSE)=BO$2,\"X\",\"\")),IF(VLOOKUP($A29,quart!$B:$M,12,FALSE)=BO$2,\"X\",\"\"))","v":""},{"$f":"IF(ISERROR(VLOOKUP($A29,quart!$B:$M,12,FALSE)),IF(ISERROR(VLOOKUP($A29,quart!$F:$M,8,FALSE)),\"\",IF(VLOOKUP($A29,quart!$F:$M,8,FALSE)=BP$2,\"X\",\"\")),IF(VLOOKUP($A29,quart!$B:$M,12,FALSE)=BP$2,\"X\",\"\"))","v":""},{"$f":"IF(ISERROR(VLOOKUP($A29,quart!$B:$M,12,FALSE)),IF(ISERROR(VLOOKUP($A29,quart!$F:$M,8,FALSE)),\"\",IF(VLOOKUP($A29,quart!$F:$M,8,FALSE)=BQ$2,\"X\",\"\")),IF(VLOOKUP($A29,quart!$B:$M,12,FALSE)=BQ$2,\"X\",\"\"))","v":""},{"$f":"IF(ISERROR(VLOOKUP($A29,quart!$B:$M,12,FALSE)),IF(ISERROR(VLOOKUP($A29,quart!$F:$M,8,FALSE)),\"\",IF(VLOOKUP($A29,quart!$F:$M,8,FALSE)=BR$2,\"X\",\"\")),IF(VLOOKUP($A29,quart!$B:$M,12,FALSE)=BR$2,\"X\",\"\"))","v":""},{"$f":"IF(ISERROR(VLOOKUP($A29,quart!$B:$M,12,FALSE)),IF(ISERROR(VLOOKUP($A29,quart!$F:$M,8,FALSE)),\"\",IF(VLOOKUP($A29,quart!$F:$M,8,FALSE)=BS$2,\"X\",\"\")),IF(VLOOKUP($A29,quart!$B:$M,12,FALSE)=BS$2,\"X\",\"\"))","v":""},{"$f":"IF(ISERROR(VLOOKUP($A29,quart!$B:$M,12,FALSE)),IF(ISERROR(VLOOKUP($A29,quart!$F:$M,8,FALSE)),\"\",IF(VLOOKUP($A29,quart!$F:$M,8,FALSE)=BT$2,\"X\",\"\")),IF(VLOOKUP($A29,quart!$B:$M,12,FALSE)=BT$2,\"X\",\"\"))","v":""},{"$f":"IF(ISERROR(VLOOKUP($A29,quart!$B:$M,12,FALSE)),IF(ISERROR(VLOOKUP($A29,quart!$F:$M,8,FALSE)),\"\",IF(VLOOKUP($A29,quart!$F:$M,8,FALSE)=BU$2,\"X\",\"\")),IF(VLOOKUP($A29,quart!$B:$M,12,FALSE)=BU$2,\"X\",\"\"))","v":""},{"$f":"IF(ISERROR(VLOOKUP($A29,quart!$B:$M,12,FALSE)),IF(ISERROR(VLOOKUP($A29,quart!$F:$M,8,FALSE)),\"\",IF(VLOOKUP($A29,quart!$F:$M,8,FALSE)=BV$2,\"X\",\"\")),IF(VLOOKUP($A29,quart!$B:$M,12,FALSE)=BV$2,\"X\",\"\"))","v":""},{"$f":"IF(ISERROR(VLOOKUP($A29,quart!$B:$M,12,FALSE)),IF(ISERROR(VLOOKUP($A29,quart!$F:$M,8,FALSE)),\"\",IF(VLOOKUP($A29,quart!$F:$M,8,FALSE)=BW$2,\"X\",\"\")),IF(VLOOKUP($A29,quart!$B:$M,12,FALSE)=BW$2,\"X\",\"\"))","v":""},{"$f":"IF(ISERROR(VLOOKUP($A29,quart!$B:$M,12,FALSE)),IF(ISERROR(VLOOKUP($A29,quart!$F:$M,8,FALSE)),\"\",IF(VLOOKUP($A29,quart!$F:$M,8,FALSE)=BX$2,\"X\",\"\")),IF(VLOOKUP($A29,quart!$B:$M,12,FALSE)=BX$2,\"X\",\"\"))","v":""},{"$f":"IF(ISERROR(VLOOKUP($A29,quart!$B:$M,12,FALSE)),IF(ISERROR(VLOOKUP($A29,quart!$F:$M,8,FALSE)),\"\",IF(VLOOKUP($A29,quart!$F:$M,8,FALSE)=BY$2,\"X\",\"\")),IF(VLOOKUP($A29,quart!$B:$M,12,FALSE)=BY$2,\"X\",\"\"))","v":""},{"$f":"IF(ISERROR(VLOOKUP($A29,quart!$B:$M,12,FALSE)),IF(ISERROR(VLOOKUP($A29,quart!$F:$M,8,FALSE)),\"\",IF(VLOOKUP($A29,quart!$F:$M,8,FALSE)=BZ$2,\"X\",\"\")),IF(VLOOKUP($A29,quart!$B:$M,12,FALSE)=BZ$2,\"X\",\"\"))","v":""},{"$f":"IF(ISERROR(VLOOKUP($A29,quart!$B:$M,12,FALSE)),IF(ISERROR(VLOOKUP($A29,quart!$F:$M,8,FALSE)),\"\",IF(VLOOKUP($A29,quart!$F:$M,8,FALSE)=CA$2,\"X\",\"\")),IF(VLOOKUP($A29,quart!$B:$M,12,FALSE)=CA$2,\"X\",\"\"))","v":""},{"$f":"IF(ISERROR(VLOOKUP($A29,quart!$B:$M,12,FALSE)),IF(ISERROR(VLOOKUP($A29,quart!$F:$M,8,FALSE)),\"\",IF(VLOOKUP($A29,quart!$F:$M,8,FALSE)=CB$2,\"X\",\"\")),IF(VLOOKUP($A29,quart!$B:$M,12,FALSE)=CB$2,\"X\",\"\"))","v":""},{"$f":"IF(ISERROR(VLOOKUP($A29,quart!$B:$M,12,FALSE)),IF(ISERROR(VLOOKUP($A29,quart!$F:$M,8,FALSE)),\"\",IF(VLOOKUP($A29,quart!$F:$M,8,FALSE)=CC$2,\"X\",\"\")),IF(VLOOKUP($A29,quart!$B:$M,12,FALSE)=CC$2,\"X\",\"\"))","v":""},{"$f":"IF(ISERROR(VLOOKUP($A29,demi!$B:$M,12,FALSE)),IF(ISERROR(VLOOKUP($A29,demi!$F:$M,8,FALSE)),\"\",IF(VLOOKUP($A29,demi!$F:$M,8,FALSE)=CD$2,\"X\",\"\")),IF(VLOOKUP($A29,demi!$B:$M,12,FALSE)=CD$2,\"X\",\"\"))","v":""},{"$f":"IF(ISERROR(VLOOKUP($A29,demi!$B:$M,12,FALSE)),IF(ISERROR(VLOOKUP($A29,demi!$F:$M,8,FALSE)),\"\",IF(VLOOKUP($A29,demi!$F:$M,8,FALSE)=CE$2,\"X\",\"\")),IF(VLOOKUP($A29,demi!$B:$M,12,FALSE)=CE$2,\"X\",\"\"))","v":""},{"$f":"IF(ISERROR(VLOOKUP($A29,demi!$B:$M,12,FALSE)),IF(ISERROR(VLOOKUP($A29,demi!$F:$M,8,FALSE)),\"\",IF(VLOOKUP($A29,demi!$F:$M,8,FALSE)=CF$2,\"X\",\"\")),IF(VLOOKUP($A29,demi!$B:$M,12,FALSE)=CF$2,\"X\",\"\"))","v":""},{"$f":"IF(ISERROR(VLOOKUP($A29,demi!$B:$M,12,FALSE)),IF(ISERROR(VLOOKUP($A29,demi!$F:$M,8,FALSE)),\"\",IF(VLOOKUP($A29,demi!$F:$M,8,FALSE)=CG$2,\"X\",\"\")),IF(VLOOKUP($A29,demi!$B:$M,12,FALSE)=CG$2,\"X\",\"\"))","v":""},{"$f":"IF(ISERROR(VLOOKUP($A29,demi!$B:$M,12,FALSE)),IF(ISERROR(VLOOKUP($A29,demi!$F:$M,8,FALSE)),\"\",IF(VLOOKUP($A29,demi!$F:$M,8,FALSE)=CH$2,\"X\",\"\")),IF(VLOOKUP($A29,demi!$B:$M,12,FALSE)=CH$2,\"X\",\"\"))","v":""},{"$f":"IF(ISERROR(VLOOKUP($A29,demi!$B:$M,12,FALSE)),IF(ISERROR(VLOOKUP($A29,demi!$F:$M,8,FALSE)),\"\",IF(VLOOKUP($A29,demi!$F:$M,8,FALSE)=CI$2,\"X\",\"\")),IF(VLOOKUP($A29,demi!$B:$M,12,FALSE)=CI$2,\"X\",\"\"))","v":""},{"$f":"IF(ISERROR(VLOOKUP($A29,demi!$B:$M,12,FALSE)),IF(ISERROR(VLOOKUP($A29,demi!$F:$M,8,FALSE)),\"\",IF(VLOOKUP($A29,demi!$F:$M,8,FALSE)=CJ$2,\"X\",\"\")),IF(VLOOKUP($A29,demi!$B:$M,12,FALSE)=CJ$2,\"X\",\"\"))","v":""},{"$f":"IF(ISERROR(VLOOKUP($A29,demi!$B:$M,12,FALSE)),IF(ISERROR(VLOOKUP($A29,demi!$F:$M,8,FALSE)),\"\",IF(VLOOKUP($A29,demi!$F:$M,8,FALSE)=CK$2,\"X\",\"\")),IF(VLOOKUP($A29,demi!$B:$M,12,FALSE)=CK$2,\"X\",\"\"))","v":""},{"$f":"IF(ISERROR(VLOOKUP($A29,demi!$B:$M,12,FALSE)),IF(ISERROR(VLOOKUP($A29,demi!$F:$M,8,FALSE)),\"\",IF(VLOOKUP($A29,demi!$F:$M,8,FALSE)=CL$2,\"X\",\"\")),IF(VLOOKUP($A29,demi!$B:$M,12,FALSE)=CL$2,\"X\",\"\"))","v":""},{"$f":"IF(ISERROR(VLOOKUP($A29,demi!$B:$M,12,FALSE)),IF(ISERROR(VLOOKUP($A29,demi!$F:$M,8,FALSE)),\"\",IF(VLOOKUP($A29,demi!$F:$M,8,FALSE)=CM$2,\"X\",\"\")),IF(VLOOKUP($A29,demi!$B:$M,12,FALSE)=CM$2,\"X\",\"\"))","v":""},{"$f":"IF(ISERROR(VLOOKUP($A29,demi!$B:$M,12,FALSE)),IF(ISERROR(VLOOKUP($A29,demi!$F:$M,8,FALSE)),\"\",IF(VLOOKUP($A29,demi!$F:$M,8,FALSE)=CN$2,\"X\",\"\")),IF(VLOOKUP($A29,demi!$B:$M,12,FALSE)=CN$2,\"X\",\"\"))","v":""},{"$f":"IF(ISERROR(VLOOKUP($A29,demi!$B:$M,12,FALSE)),IF(ISERROR(VLOOKUP($A29,demi!$F:$M,8,FALSE)),\"\",IF(VLOOKUP($A29,demi!$F:$M,8,FALSE)=CO$2,\"X\",\"\")),IF(VLOOKUP($A29,demi!$B:$M,12,FALSE)=CO$2,\"X\",\"\"))","v":""},{"$f":"IF(ISERROR(VLOOKUP($A29,demi!$B:$M,12,FALSE)),IF(ISERROR(VLOOKUP($A29,demi!$F:$M,8,FALSE)),\"\",IF(VLOOKUP($A29,demi!$F:$M,8,FALSE)=CP$2,\"X\",\"\")),IF(VLOOKUP($A29,demi!$B:$M,12,FALSE)=CP$2,\"X\",\"\"))","v":""},{"$f":"IF(ISERROR(VLOOKUP($A29,demi!$B:$M,12,FALSE)),IF(ISERROR(VLOOKUP($A29,demi!$F:$M,8,FALSE)),\"\",IF(VLOOKUP($A29,demi!$F:$M,8,FALSE)=CQ$2,\"X\",\"\")),IF(VLOOKUP($A29,demi!$B:$M,12,FALSE)=CQ$2,\"X\",\"\"))","v":""},{"$f":"IF(ISERROR(VLOOKUP($A29,demi!$B:$M,12,FALSE)),IF(ISERROR(VLOOKUP($A29,demi!$F:$M,8,FALSE)),\"\",IF(VLOOKUP($A29,demi!$F:$M,8,FALSE)=CR$2,\"X\",\"\")),IF(VLOOKUP($A29,demi!$B:$M,12,FALSE)=CR$2,\"X\",\"\"))","v":""},{"$f":"IF(ISERROR(VLOOKUP($A29,demi!$B:$M,12,FALSE)),IF(ISERROR(VLOOKUP($A29,demi!$F:$M,8,FALSE)),\"\",IF(VLOOKUP($A29,demi!$F:$M,8,FALSE)=CS$2,\"X\",\"\")),IF(VLOOKUP($A29,demi!$B:$M,12,FALSE)=CS$2,\"X\",\"\"))","v":""}]
[28,"X","X","X","X","X","X","X","X","X","X","X","X","X","X","X","X",{"$f":"IF(ISERROR(VLOOKUP($A30,'32eme'!$B:$M,12,FALSE)),IF(ISERROR(VLOOKUP($A30,'32eme'!$F:$M,8,FALSE)),\"\",IF(VLOOKUP($A30,'32eme'!$F:$M,8,FALSE)=R$2,\"X\",\"\")),IF(VLOOKUP($A30,'32eme'!$B:$M,12,FALSE)=R$2,\"X\",\"\"))","v":""},{"$f":"IF(ISERROR(VLOOKUP($A30,'32eme'!$B:$M,12,FALSE)),IF(ISERROR(VLOOKUP($A30,'32eme'!$F:$M,8,FALSE)),\"\",IF(VLOOKUP($A30,'32eme'!$F:$M,8,FALSE)=S$2,\"X\",\"\")),IF(VLOOKUP($A30,'32eme'!$B:$M,12,FALSE)=S$2,\"X\",\"\"))","v":""},{"$f":"IF(ISERROR(VLOOKUP($A30,'32eme'!$B:$M,12,FALSE)),IF(ISERROR(VLOOKUP($A30,'32eme'!$F:$M,8,FALSE)),\"\",IF(VLOOKUP($A30,'32eme'!$F:$M,8,FALSE)=T$2,\"X\",\"\")),IF(VLOOKUP($A30,'32eme'!$B:$M,12,FALSE)=T$2,\"X\",\"\"))","v":""},{"$f":"IF(ISERROR(VLOOKUP($A30,'32eme'!$B:$M,12,FALSE)),IF(ISERROR(VLOOKUP($A30,'32eme'!$F:$M,8,FALSE)),\"\",IF(VLOOKUP($A30,'32eme'!$F:$M,8,FALSE)=U$2,\"X\",\"\")),IF(VLOOKUP($A30,'32eme'!$B:$M,12,FALSE)=U$2,\"X\",\"\"))","v":""},{"$f":"IF(ISERROR(VLOOKUP($A30,'32eme'!$B:$M,12,FALSE)),IF(ISERROR(VLOOKUP($A30,'32eme'!$F:$M,8,FALSE)),\"\",IF(VLOOKUP($A30,'32eme'!$F:$M,8,FALSE)=V$2,\"X\",\"\")),IF(VLOOKUP($A30,'32eme'!$B:$M,12,FALSE)=V$2,\"X\",\"\"))","v":""},{"$f":"IF(ISERROR(VLOOKUP($A30,'32eme'!$B:$M,12,FALSE)),IF(ISERROR(VLOOKUP($A30,'32eme'!$F:$M,8,FALSE)),\"\",IF(VLOOKUP($A30,'32eme'!$F:$M,8,FALSE)=W$2,\"X\",\"\")),IF(VLOOKUP($A30,'32eme'!$B:$M,12,FALSE)=W$2,\"X\",\"\"))","v":""},{"$f":"IF(ISERROR(VLOOKUP($A30,'32eme'!$B:$M,12,FALSE)),IF(ISERROR(VLOOKUP($A30,'32eme'!$F:$M,8,FALSE)),\"\",IF(VLOOKUP($A30,'32eme'!$F:$M,8,FALSE)=X$2,\"X\",\"\")),IF(VLOOKUP($A30,'32eme'!$B:$M,12,FALSE)=X$2,\"X\",\"\"))","v":""},{"$f":"IF(ISERROR(VLOOKUP($A30,'32eme'!$B:$M,12,FALSE)),IF(ISERROR(VLOOKUP($A30,'32eme'!$F:$M,8,FALSE)),\"\",IF(VLOOKUP($A30,'32eme'!$F:$M,8,FALSE)=Y$2,\"X\",\"\")),IF(VLOOKUP($A30,'32eme'!$B:$M,12,FALSE)=Y$2,\"X\",\"\"))","v":""},{"$f":"IF(ISERROR(VLOOKUP($A30,'32eme'!$B:$M,12,FALSE)),IF(ISERROR(VLOOKUP($A30,'32eme'!$F:$M,8,FALSE)),\"\",IF(VLOOKUP($A30,'32eme'!$F:$M,8,FALSE)=Z$2,\"X\",\"\")),IF(VLOOKUP($A30,'32eme'!$B:$M,12,FALSE)=Z$2,\"X\",\"\"))","v":""},{"$f":"IF(ISERROR(VLOOKUP($A30,'32eme'!$B:$M,12,FALSE)),IF(ISERROR(VLOOKUP($A30,'32eme'!$F:$M,8,FALSE)),\"\",IF(VLOOKUP($A30,'32eme'!$F:$M,8,FALSE)=AA$2,\"X\",\"\")),IF(VLOOKUP($A30,'32eme'!$B:$M,12,FALSE)=AA$2,\"X\",\"\"))","v":""},{"$f":"IF(ISERROR(VLOOKUP($A30,'32eme'!$B:$M,12,FALSE)),IF(ISERROR(VLOOKUP($A30,'32eme'!$F:$M,8,FALSE)),\"\",IF(VLOOKUP($A30,'32eme'!$F:$M,8,FALSE)=AB$2,\"X\",\"\")),IF(VLOOKUP($A30,'32eme'!$B:$M,12,FALSE)=AB$2,\"X\",\"\"))","v":""},{"$f":"IF(ISERROR(VLOOKUP($A30,'32eme'!$B:$M,12,FALSE)),IF(ISERROR(VLOOKUP($A30,'32eme'!$F:$M,8,FALSE)),\"\",IF(VLOOKUP($A30,'32eme'!$F:$M,8,FALSE)=AC$2,\"X\",\"\")),IF(VLOOKUP($A30,'32eme'!$B:$M,12,FALSE)=AC$2,\"X\",\"\"))","v":""},{"$f":"IF(ISERROR(VLOOKUP($A30,'32eme'!$B:$M,12,FALSE)),IF(ISERROR(VLOOKUP($A30,'32eme'!$F:$M,8,FALSE)),\"\",IF(VLOOKUP($A30,'32eme'!$F:$M,8,FALSE)=AD$2,\"X\",\"\")),IF(VLOOKUP($A30,'32eme'!$B:$M,12,FALSE)=AD$2,\"X\",\"\"))","v":""},{"$f":"IF(ISERROR(VLOOKUP($A30,'32eme'!$B:$M,12,FALSE)),IF(ISERROR(VLOOKUP($A30,'32eme'!$F:$M,8,FALSE)),\"\",IF(VLOOKUP($A30,'32eme'!$F:$M,8,FALSE)=AE$2,\"X\",\"\")),IF(VLOOKUP($A30,'32eme'!$B:$M,12,FALSE)=AE$2,\"X\",\"\"))","v":""},{"$f":"IF(ISERROR(VLOOKUP($A30,'32eme'!$B:$M,12,FALSE)),IF(ISERROR(VLOOKUP($A30,'32eme'!$F:$M,8,FALSE)),\"\",IF(VLOOKUP($A30,'32eme'!$F:$M,8,FALSE)=AF$2,\"X\",\"\")),IF(VLOOKUP($A30,'32eme'!$B:$M,12,FALSE)=AF$2,\"X\",\"\"))","v":""},{"$f":"IF(ISERROR(VLOOKUP($A30,'32eme'!$B:$M,12,FALSE)),IF(ISERROR(VLOOKUP($A30,'32eme'!$F:$M,8,FALSE)),\"\",IF(VLOOKUP($A30,'32eme'!$F:$M,8,FALSE)=AG$2,\"X\",\"\")),IF(VLOOKUP($A30,'32eme'!$B:$M,12,FALSE)=AG$2,\"X\",\"\"))","v":""},{"$f":"IF(ISERROR(VLOOKUP($A30,'16eme'!$B:$M,12,FALSE)),IF(ISERROR(VLOOKUP($A30,'16eme'!$F:$M,8,FALSE)),\"\",IF(VLOOKUP($A30,'16eme'!$F:$M,8,FALSE)=AH$2,\"X\",\"\")),IF(VLOOKUP($A30,'16eme'!$B:$M,12,FALSE)=AH$2,\"X\",\"\"))","v":""},{"$f":"IF(ISERROR(VLOOKUP($A30,'16eme'!$B:$M,12,FALSE)),IF(ISERROR(VLOOKUP($A30,'16eme'!$F:$M,8,FALSE)),\"\",IF(VLOOKUP($A30,'16eme'!$F:$M,8,FALSE)=AI$2,\"X\",\"\")),IF(VLOOKUP($A30,'16eme'!$B:$M,12,FALSE)=AI$2,\"X\",\"\"))","v":""},{"$f":"IF(ISERROR(VLOOKUP($A30,'16eme'!$B:$M,12,FALSE)),IF(ISERROR(VLOOKUP($A30,'16eme'!$F:$M,8,FALSE)),\"\",IF(VLOOKUP($A30,'16eme'!$F:$M,8,FALSE)=AJ$2,\"X\",\"\")),IF(VLOOKUP($A30,'16eme'!$B:$M,12,FALSE)=AJ$2,\"X\",\"\"))","v":""},{"$f":"IF(ISERROR(VLOOKUP($A30,'16eme'!$B:$M,12,FALSE)),IF(ISERROR(VLOOKUP($A30,'16eme'!$F:$M,8,FALSE)),\"\",IF(VLOOKUP($A30,'16eme'!$F:$M,8,FALSE)=AK$2,\"X\",\"\")),IF(VLOOKUP($A30,'16eme'!$B:$M,12,FALSE)=AK$2,\"X\",\"\"))","v":""},{"$f":"IF(ISERROR(VLOOKUP($A30,'16eme'!$B:$M,12,FALSE)),IF(ISERROR(VLOOKUP($A30,'16eme'!$F:$M,8,FALSE)),\"\",IF(VLOOKUP($A30,'16eme'!$F:$M,8,FALSE)=AL$2,\"X\",\"\")),IF(VLOOKUP($A30,'16eme'!$B:$M,12,FALSE)=AL$2,\"X\",\"\"))","v":""},{"$f":"IF(ISERROR(VLOOKUP($A30,'16eme'!$B:$M,12,FALSE)),IF(ISERROR(VLOOKUP($A30,'16eme'!$F:$M,8,FALSE)),\"\",IF(VLOOKUP($A30,'16eme'!$F:$M,8,FALSE)=AM$2,\"X\",\"\")),IF(VLOOKUP($A30,'16eme'!$B:$M,12,FALSE)=AM$2,\"X\",\"\"))","v":""},{"$f":"IF(ISERROR(VLOOKUP($A30,'16eme'!$B:$M,12,FALSE)),IF(ISERROR(VLOOKUP($A30,'16eme'!$F:$M,8,FALSE)),\"\",IF(VLOOKUP($A30,'16eme'!$F:$M,8,FALSE)=AN$2,\"X\",\"\")),IF(VLOOKUP($A30,'16eme'!$B:$M,12,FALSE)=AN$2,\"X\",\"\"))","v":""},{"$f":"IF(ISERROR(VLOOKUP($A30,'16eme'!$B:$M,12,FALSE)),IF(ISERROR(VLOOKUP($A30,'16eme'!$F:$M,8,FALSE)),\"\",IF(VLOOKUP($A30,'16eme'!$F:$M,8,FALSE)=AO$2,\"X\",\"\")),IF(VLOOKUP($A30,'16eme'!$B:$M,12,FALSE)=AO$2,\"X\",\"\"))","v":""},{"$f":"IF(ISERROR(VLOOKUP($A30,'16eme'!$B:$M,12,FALSE)),IF(ISERROR(VLOOKUP($A30,'16eme'!$F:$M,8,FALSE)),\"\",IF(VLOOKUP($A30,'16eme'!$F:$M,8,FALSE)=AP$2,\"X\",\"\")),IF(VLOOKUP($A30,'16eme'!$B:$M,12,FALSE)=AP$2,\"X\",\"\"))","v":""},{"$f":"IF(ISERROR(VLOOKUP($A30,'16eme'!$B:$M,12,FALSE)),IF(ISERROR(VLOOKUP($A30,'16eme'!$F:$M,8,FALSE)),\"\",IF(VLOOKUP($A30,'16eme'!$F:$M,8,FALSE)=AQ$2,\"X\",\"\")),IF(VLOOKUP($A30,'16eme'!$B:$M,12,FALSE)=AQ$2,\"X\",\"\"))","v":""},{"$f":"IF(ISERROR(VLOOKUP($A30,'16eme'!$B:$M,12,FALSE)),IF(ISERROR(VLOOKUP($A30,'16eme'!$F:$M,8,FALSE)),\"\",IF(VLOOKUP($A30,'16eme'!$F:$M,8,FALSE)=AR$2,\"X\",\"\")),IF(VLOOKUP($A30,'16eme'!$B:$M,12,FALSE)=AR$2,\"X\",\"\"))","v":""},{"$f":"IF(ISERROR(VLOOKUP($A30,'16eme'!$B:$M,12,FALSE)),IF(ISERROR(VLOOKUP($A30,'16eme'!$F:$M,8,FALSE)),\"\",IF(VLOOKUP($A30,'16eme'!$F:$M,8,FALSE)=AS$2,\"X\",\"\")),IF(VLOOKUP($A30,'16eme'!$B:$M,12,FALSE)=AS$2,\"X\",\"\"))","v":""},{"$f":"IF(ISERROR(VLOOKUP($A30,'16eme'!$B:$M,12,FALSE)),IF(ISERROR(VLOOKUP($A30,'16eme'!$F:$M,8,FALSE)),\"\",IF(VLOOKUP($A30,'16eme'!$F:$M,8,FALSE)=AT$2,\"X\",\"\")),IF(VLOOKUP($A30,'16eme'!$B:$M,12,FALSE)=AT$2,\"X\",\"\"))","v":""},{"$f":"IF(ISERROR(VLOOKUP($A30,'16eme'!$B:$M,12,FALSE)),IF(ISERROR(VLOOKUP($A30,'16eme'!$F:$M,8,FALSE)),\"\",IF(VLOOKUP($A30,'16eme'!$F:$M,8,FALSE)=AU$2,\"X\",\"\")),IF(VLOOKUP($A30,'16eme'!$B:$M,12,FALSE)=AU$2,\"X\",\"\"))","v":""},{"$f":"IF(ISERROR(VLOOKUP($A30,'16eme'!$B:$M,12,FALSE)),IF(ISERROR(VLOOKUP($A30,'16eme'!$F:$M,8,FALSE)),\"\",IF(VLOOKUP($A30,'16eme'!$F:$M,8,FALSE)=AV$2,\"X\",\"\")),IF(VLOOKUP($A30,'16eme'!$B:$M,12,FALSE)=AV$2,\"X\",\"\"))","v":""},{"$f":"IF(ISERROR(VLOOKUP($A30,'16eme'!$B:$M,12,FALSE)),IF(ISERROR(VLOOKUP($A30,'16eme'!$F:$M,8,FALSE)),\"\",IF(VLOOKUP($A30,'16eme'!$F:$M,8,FALSE)=AW$2,\"X\",\"\")),IF(VLOOKUP($A30,'16eme'!$B:$M,12,FALSE)=AW$2,\"X\",\"\"))","v":""},{"$f":"IF(ISERROR(VLOOKUP($A30,'8eme'!$B:$M,12,FALSE)),IF(ISERROR(VLOOKUP($A30,'8eme'!$F:$M,8,FALSE)),\"\",IF(VLOOKUP($A30,'8eme'!$F:$M,8,FALSE)=AX$2,\"X\",\"\")),IF(VLOOKUP($A30,'8eme'!$B:$M,12,FALSE)=AX$2,\"X\",\"\"))","v":""},{"$f":"IF(ISERROR(VLOOKUP($A30,'8eme'!$B:$M,12,FALSE)),IF(ISERROR(VLOOKUP($A30,'8eme'!$F:$M,8,FALSE)),\"\",IF(VLOOKUP($A30,'8eme'!$F:$M,8,FALSE)=AY$2,\"X\",\"\")),IF(VLOOKUP($A30,'8eme'!$B:$M,12,FALSE)=AY$2,\"X\",\"\"))","v":""},{"$f":"IF(ISERROR(VLOOKUP($A30,'8eme'!$B:$M,12,FALSE)),IF(ISERROR(VLOOKUP($A30,'8eme'!$F:$M,8,FALSE)),\"\",IF(VLOOKUP($A30,'8eme'!$F:$M,8,FALSE)=AZ$2,\"X\",\"\")),IF(VLOOKUP($A30,'8eme'!$B:$M,12,FALSE)=AZ$2,\"X\",\"\"))","v":""},{"$f":"IF(ISERROR(VLOOKUP($A30,'8eme'!$B:$M,12,FALSE)),IF(ISERROR(VLOOKUP($A30,'8eme'!$F:$M,8,FALSE)),\"\",IF(VLOOKUP($A30,'8eme'!$F:$M,8,FALSE)=BA$2,\"X\",\"\")),IF(VLOOKUP($A30,'8eme'!$B:$M,12,FALSE)=BA$2,\"X\",\"\"))","v":""},{"$f":"IF(ISERROR(VLOOKUP($A30,'8eme'!$B:$M,12,FALSE)),IF(ISERROR(VLOOKUP($A30,'8eme'!$F:$M,8,FALSE)),\"\",IF(VLOOKUP($A30,'8eme'!$F:$M,8,FALSE)=BB$2,\"X\",\"\")),IF(VLOOKUP($A30,'8eme'!$B:$M,12,FALSE)=BB$2,\"X\",\"\"))","v":""},{"$f":"IF(ISERROR(VLOOKUP($A30,'8eme'!$B:$M,12,FALSE)),IF(ISERROR(VLOOKUP($A30,'8eme'!$F:$M,8,FALSE)),\"\",IF(VLOOKUP($A30,'8eme'!$F:$M,8,FALSE)=BC$2,\"X\",\"\")),IF(VLOOKUP($A30,'8eme'!$B:$M,12,FALSE)=BC$2,\"X\",\"\"))","v":""},{"$f":"IF(ISERROR(VLOOKUP($A30,'8eme'!$B:$M,12,FALSE)),IF(ISERROR(VLOOKUP($A30,'8eme'!$F:$M,8,FALSE)),\"\",IF(VLOOKUP($A30,'8eme'!$F:$M,8,FALSE)=BD$2,\"X\",\"\")),IF(VLOOKUP($A30,'8eme'!$B:$M,12,FALSE)=BD$2,\"X\",\"\"))","v":""},{"$f":"IF(ISERROR(VLOOKUP($A30,'8eme'!$B:$M,12,FALSE)),IF(ISERROR(VLOOKUP($A30,'8eme'!$F:$M,8,FALSE)),\"\",IF(VLOOKUP($A30,'8eme'!$F:$M,8,FALSE)=BE$2,\"X\",\"\")),IF(VLOOKUP($A30,'8eme'!$B:$M,12,FALSE)=BE$2,\"X\",\"\"))","v":""},{"$f":"IF(ISERROR(VLOOKUP($A30,'8eme'!$B:$M,12,FALSE)),IF(ISERROR(VLOOKUP($A30,'8eme'!$F:$M,8,FALSE)),\"\",IF(VLOOKUP($A30,'8eme'!$F:$M,8,FALSE)=BF$2,\"X\",\"\")),IF(VLOOKUP($A30,'8eme'!$B:$M,12,FALSE)=BF$2,\"X\",\"\"))","v":""},{"$f":"IF(ISERROR(VLOOKUP($A30,'8eme'!$B:$M,12,FALSE)),IF(ISERROR(VLOOKUP($A30,'8eme'!$F:$M,8,FALSE)),\"\",IF(VLOOKUP($A30,'8eme'!$F:$M,8,FALSE)=BG$2,\"X\",\"\")),IF(VLOOKUP($A30,'8eme'!$B:$M,12,FALSE)=BG$2,\"X\",\"\"))","v":""},{"$f":"IF(ISERROR(VLOOKUP($A30,'8eme'!$B:$M,12,FALSE)),IF(ISERROR(VLOOKUP($A30,'8eme'!$F:$M,8,FALSE)),\"\",IF(VLOOKUP($A30,'8eme'!$F:$M,8,FALSE)=BH$2,\"X\",\"\")),IF(VLOOKUP($A30,'8eme'!$B:$M,12,FALSE)=BH$2,\"X\",\"\"))","v":""},{"$f":"IF(ISERROR(VLOOKUP($A30,'8eme'!$B:$M,12,FALSE)),IF(ISERROR(VLOOKUP($A30,'8eme'!$F:$M,8,FALSE)),\"\",IF(VLOOKUP($A30,'8eme'!$F:$M,8,FALSE)=BI$2,\"X\",\"\")),IF(VLOOKUP($A30,'8eme'!$B:$M,12,FALSE)=BI$2,\"X\",\"\"))","v":""},{"$f":"IF(ISERROR(VLOOKUP($A30,'8eme'!$B:$M,12,FALSE)),IF(ISERROR(VLOOKUP($A30,'8eme'!$F:$M,8,FALSE)),\"\",IF(VLOOKUP($A30,'8eme'!$F:$M,8,FALSE)=BJ$2,\"X\",\"\")),IF(VLOOKUP($A30,'8eme'!$B:$M,12,FALSE)=BJ$2,\"X\",\"\"))","v":""},{"$f":"IF(ISERROR(VLOOKUP($A30,'8eme'!$B:$M,12,FALSE)),IF(ISERROR(VLOOKUP($A30,'8eme'!$F:$M,8,FALSE)),\"\",IF(VLOOKUP($A30,'8eme'!$F:$M,8,FALSE)=BK$2,\"X\",\"\")),IF(VLOOKUP($A30,'8eme'!$B:$M,12,FALSE)=BK$2,\"X\",\"\"))","v":""},{"$f":"IF(ISERROR(VLOOKUP($A30,'8eme'!$B:$M,12,FALSE)),IF(ISERROR(VLOOKUP($A30,'8eme'!$F:$M,8,FALSE)),\"\",IF(VLOOKUP($A30,'8eme'!$F:$M,8,FALSE)=BL$2,\"X\",\"\")),IF(VLOOKUP($A30,'8eme'!$B:$M,12,FALSE)=BL$2,\"X\",\"\"))","v":""},{"$f":"IF(ISERROR(VLOOKUP($A30,'8eme'!$B:$M,12,FALSE)),IF(ISERROR(VLOOKUP($A30,'8eme'!$F:$M,8,FALSE)),\"\",IF(VLOOKUP($A30,'8eme'!$F:$M,8,FALSE)=BM$2,\"X\",\"\")),IF(VLOOKUP($A30,'8eme'!$B:$M,12,FALSE)=BM$2,\"X\",\"\"))","v":""},{"$f":"IF(ISERROR(VLOOKUP($A30,quart!$B:$M,12,FALSE)),IF(ISERROR(VLOOKUP($A30,quart!$F:$M,8,FALSE)),\"\",IF(VLOOKUP($A30,quart!$F:$M,8,FALSE)=BN$2,\"X\",\"\")),IF(VLOOKUP($A30,quart!$B:$M,12,FALSE)=BN$2,\"X\",\"\"))","v":""},{"$f":"IF(ISERROR(VLOOKUP($A30,quart!$B:$M,12,FALSE)),IF(ISERROR(VLOOKUP($A30,quart!$F:$M,8,FALSE)),\"\",IF(VLOOKUP($A30,quart!$F:$M,8,FALSE)=BO$2,\"X\",\"\")),IF(VLOOKUP($A30,quart!$B:$M,12,FALSE)=BO$2,\"X\",\"\"))","v":""},{"$f":"IF(ISERROR(VLOOKUP($A30,quart!$B:$M,12,FALSE)),IF(ISERROR(VLOOKUP($A30,quart!$F:$M,8,FALSE)),\"\",IF(VLOOKUP($A30,quart!$F:$M,8,FALSE)=BP$2,\"X\",\"\")),IF(VLOOKUP($A30,quart!$B:$M,12,FALSE)=BP$2,\"X\",\"\"))","v":""},{"$f":"IF(ISERROR(VLOOKUP($A30,quart!$B:$M,12,FALSE)),IF(ISERROR(VLOOKUP($A30,quart!$F:$M,8,FALSE)),\"\",IF(VLOOKUP($A30,quart!$F:$M,8,FALSE)=BQ$2,\"X\",\"\")),IF(VLOOKUP($A30,quart!$B:$M,12,FALSE)=BQ$2,\"X\",\"\"))","v":""},{"$f":"IF(ISERROR(VLOOKUP($A30,quart!$B:$M,12,FALSE)),IF(ISERROR(VLOOKUP($A30,quart!$F:$M,8,FALSE)),\"\",IF(VLOOKUP($A30,quart!$F:$M,8,FALSE)=BR$2,\"X\",\"\")),IF(VLOOKUP($A30,quart!$B:$M,12,FALSE)=BR$2,\"X\",\"\"))","v":""},{"$f":"IF(ISERROR(VLOOKUP($A30,quart!$B:$M,12,FALSE)),IF(ISERROR(VLOOKUP($A30,quart!$F:$M,8,FALSE)),\"\",IF(VLOOKUP($A30,quart!$F:$M,8,FALSE)=BS$2,\"X\",\"\")),IF(VLOOKUP($A30,quart!$B:$M,12,FALSE)=BS$2,\"X\",\"\"))","v":""},{"$f":"IF(ISERROR(VLOOKUP($A30,quart!$B:$M,12,FALSE)),IF(ISERROR(VLOOKUP($A30,quart!$F:$M,8,FALSE)),\"\",IF(VLOOKUP($A30,quart!$F:$M,8,FALSE)=BT$2,\"X\",\"\")),IF(VLOOKUP($A30,quart!$B:$M,12,FALSE)=BT$2,\"X\",\"\"))","v":""},{"$f":"IF(ISERROR(VLOOKUP($A30,quart!$B:$M,12,FALSE)),IF(ISERROR(VLOOKUP($A30,quart!$F:$M,8,FALSE)),\"\",IF(VLOOKUP($A30,quart!$F:$M,8,FALSE)=BU$2,\"X\",\"\")),IF(VLOOKUP($A30,quart!$B:$M,12,FALSE)=BU$2,\"X\",\"\"))","v":""},{"$f":"IF(ISERROR(VLOOKUP($A30,quart!$B:$M,12,FALSE)),IF(ISERROR(VLOOKUP($A30,quart!$F:$M,8,FALSE)),\"\",IF(VLOOKUP($A30,quart!$F:$M,8,FALSE)=BV$2,\"X\",\"\")),IF(VLOOKUP($A30,quart!$B:$M,12,FALSE)=BV$2,\"X\",\"\"))","v":""},{"$f":"IF(ISERROR(VLOOKUP($A30,quart!$B:$M,12,FALSE)),IF(ISERROR(VLOOKUP($A30,quart!$F:$M,8,FALSE)),\"\",IF(VLOOKUP($A30,quart!$F:$M,8,FALSE)=BW$2,\"X\",\"\")),IF(VLOOKUP($A30,quart!$B:$M,12,FALSE)=BW$2,\"X\",\"\"))","v":""},{"$f":"IF(ISERROR(VLOOKUP($A30,quart!$B:$M,12,FALSE)),IF(ISERROR(VLOOKUP($A30,quart!$F:$M,8,FALSE)),\"\",IF(VLOOKUP($A30,quart!$F:$M,8,FALSE)=BX$2,\"X\",\"\")),IF(VLOOKUP($A30,quart!$B:$M,12,FALSE)=BX$2,\"X\",\"\"))","v":""},{"$f":"IF(ISERROR(VLOOKUP($A30,quart!$B:$M,12,FALSE)),IF(ISERROR(VLOOKUP($A30,quart!$F:$M,8,FALSE)),\"\",IF(VLOOKUP($A30,quart!$F:$M,8,FALSE)=BY$2,\"X\",\"\")),IF(VLOOKUP($A30,quart!$B:$M,12,FALSE)=BY$2,\"X\",\"\"))","v":""},{"$f":"IF(ISERROR(VLOOKUP($A30,quart!$B:$M,12,FALSE)),IF(ISERROR(VLOOKUP($A30,quart!$F:$M,8,FALSE)),\"\",IF(VLOOKUP($A30,quart!$F:$M,8,FALSE)=BZ$2,\"X\",\"\")),IF(VLOOKUP($A30,quart!$B:$M,12,FALSE)=BZ$2,\"X\",\"\"))","v":""},{"$f":"IF(ISERROR(VLOOKUP($A30,quart!$B:$M,12,FALSE)),IF(ISERROR(VLOOKUP($A30,quart!$F:$M,8,FALSE)),\"\",IF(VLOOKUP($A30,quart!$F:$M,8,FALSE)=CA$2,\"X\",\"\")),IF(VLOOKUP($A30,quart!$B:$M,12,FALSE)=CA$2,\"X\",\"\"))","v":""},{"$f":"IF(ISERROR(VLOOKUP($A30,quart!$B:$M,12,FALSE)),IF(ISERROR(VLOOKUP($A30,quart!$F:$M,8,FALSE)),\"\",IF(VLOOKUP($A30,quart!$F:$M,8,FALSE)=CB$2,\"X\",\"\")),IF(VLOOKUP($A30,quart!$B:$M,12,FALSE)=CB$2,\"X\",\"\"))","v":""},{"$f":"IF(ISERROR(VLOOKUP($A30,quart!$B:$M,12,FALSE)),IF(ISERROR(VLOOKUP($A30,quart!$F:$M,8,FALSE)),\"\",IF(VLOOKUP($A30,quart!$F:$M,8,FALSE)=CC$2,\"X\",\"\")),IF(VLOOKUP($A30,quart!$B:$M,12,FALSE)=CC$2,\"X\",\"\"))","v":""},{"$f":"IF(ISERROR(VLOOKUP($A30,demi!$B:$M,12,FALSE)),IF(ISERROR(VLOOKUP($A30,demi!$F:$M,8,FALSE)),\"\",IF(VLOOKUP($A30,demi!$F:$M,8,FALSE)=CD$2,\"X\",\"\")),IF(VLOOKUP($A30,demi!$B:$M,12,FALSE)=CD$2,\"X\",\"\"))","v":""},{"$f":"IF(ISERROR(VLOOKUP($A30,demi!$B:$M,12,FALSE)),IF(ISERROR(VLOOKUP($A30,demi!$F:$M,8,FALSE)),\"\",IF(VLOOKUP($A30,demi!$F:$M,8,FALSE)=CE$2,\"X\",\"\")),IF(VLOOKUP($A30,demi!$B:$M,12,FALSE)=CE$2,\"X\",\"\"))","v":""},{"$f":"IF(ISERROR(VLOOKUP($A30,demi!$B:$M,12,FALSE)),IF(ISERROR(VLOOKUP($A30,demi!$F:$M,8,FALSE)),\"\",IF(VLOOKUP($A30,demi!$F:$M,8,FALSE)=CF$2,\"X\",\"\")),IF(VLOOKUP($A30,demi!$B:$M,12,FALSE)=CF$2,\"X\",\"\"))","v":""},{"$f":"IF(ISERROR(VLOOKUP($A30,demi!$B:$M,12,FALSE)),IF(ISERROR(VLOOKUP($A30,demi!$F:$M,8,FALSE)),\"\",IF(VLOOKUP($A30,demi!$F:$M,8,FALSE)=CG$2,\"X\",\"\")),IF(VLOOKUP($A30,demi!$B:$M,12,FALSE)=CG$2,\"X\",\"\"))","v":""},{"$f":"IF(ISERROR(VLOOKUP($A30,demi!$B:$M,12,FALSE)),IF(ISERROR(VLOOKUP($A30,demi!$F:$M,8,FALSE)),\"\",IF(VLOOKUP($A30,demi!$F:$M,8,FALSE)=CH$2,\"X\",\"\")),IF(VLOOKUP($A30,demi!$B:$M,12,FALSE)=CH$2,\"X\",\"\"))","v":""},{"$f":"IF(ISERROR(VLOOKUP($A30,demi!$B:$M,12,FALSE)),IF(ISERROR(VLOOKUP($A30,demi!$F:$M,8,FALSE)),\"\",IF(VLOOKUP($A30,demi!$F:$M,8,FALSE)=CI$2,\"X\",\"\")),IF(VLOOKUP($A30,demi!$B:$M,12,FALSE)=CI$2,\"X\",\"\"))","v":""},{"$f":"IF(ISERROR(VLOOKUP($A30,demi!$B:$M,12,FALSE)),IF(ISERROR(VLOOKUP($A30,demi!$F:$M,8,FALSE)),\"\",IF(VLOOKUP($A30,demi!$F:$M,8,FALSE)=CJ$2,\"X\",\"\")),IF(VLOOKUP($A30,demi!$B:$M,12,FALSE)=CJ$2,\"X\",\"\"))","v":""},{"$f":"IF(ISERROR(VLOOKUP($A30,demi!$B:$M,12,FALSE)),IF(ISERROR(VLOOKUP($A30,demi!$F:$M,8,FALSE)),\"\",IF(VLOOKUP($A30,demi!$F:$M,8,FALSE)=CK$2,\"X\",\"\")),IF(VLOOKUP($A30,demi!$B:$M,12,FALSE)=CK$2,\"X\",\"\"))","v":""},{"$f":"IF(ISERROR(VLOOKUP($A30,demi!$B:$M,12,FALSE)),IF(ISERROR(VLOOKUP($A30,demi!$F:$M,8,FALSE)),\"\",IF(VLOOKUP($A30,demi!$F:$M,8,FALSE)=CL$2,\"X\",\"\")),IF(VLOOKUP($A30,demi!$B:$M,12,FALSE)=CL$2,\"X\",\"\"))","v":""},{"$f":"IF(ISERROR(VLOOKUP($A30,demi!$B:$M,12,FALSE)),IF(ISERROR(VLOOKUP($A30,demi!$F:$M,8,FALSE)),\"\",IF(VLOOKUP($A30,demi!$F:$M,8,FALSE)=CM$2,\"X\",\"\")),IF(VLOOKUP($A30,demi!$B:$M,12,FALSE)=CM$2,\"X\",\"\"))","v":""},{"$f":"IF(ISERROR(VLOOKUP($A30,demi!$B:$M,12,FALSE)),IF(ISERROR(VLOOKUP($A30,demi!$F:$M,8,FALSE)),\"\",IF(VLOOKUP($A30,demi!$F:$M,8,FALSE)=CN$2,\"X\",\"\")),IF(VLOOKUP($A30,demi!$B:$M,12,FALSE)=CN$2,\"X\",\"\"))","v":""},{"$f":"IF(ISERROR(VLOOKUP($A30,demi!$B:$M,12,FALSE)),IF(ISERROR(VLOOKUP($A30,demi!$F:$M,8,FALSE)),\"\",IF(VLOOKUP($A30,demi!$F:$M,8,FALSE)=CO$2,\"X\",\"\")),IF(VLOOKUP($A30,demi!$B:$M,12,FALSE)=CO$2,\"X\",\"\"))","v":""},{"$f":"IF(ISERROR(VLOOKUP($A30,demi!$B:$M,12,FALSE)),IF(ISERROR(VLOOKUP($A30,demi!$F:$M,8,FALSE)),\"\",IF(VLOOKUP($A30,demi!$F:$M,8,FALSE)=CP$2,\"X\",\"\")),IF(VLOOKUP($A30,demi!$B:$M,12,FALSE)=CP$2,\"X\",\"\"))","v":""},{"$f":"IF(ISERROR(VLOOKUP($A30,demi!$B:$M,12,FALSE)),IF(ISERROR(VLOOKUP($A30,demi!$F:$M,8,FALSE)),\"\",IF(VLOOKUP($A30,demi!$F:$M,8,FALSE)=CQ$2,\"X\",\"\")),IF(VLOOKUP($A30,demi!$B:$M,12,FALSE)=CQ$2,\"X\",\"\"))","v":""},{"$f":"IF(ISERROR(VLOOKUP($A30,demi!$B:$M,12,FALSE)),IF(ISERROR(VLOOKUP($A30,demi!$F:$M,8,FALSE)),\"\",IF(VLOOKUP($A30,demi!$F:$M,8,FALSE)=CR$2,\"X\",\"\")),IF(VLOOKUP($A30,demi!$B:$M,12,FALSE)=CR$2,\"X\",\"\"))","v":""},{"$f":"IF(ISERROR(VLOOKUP($A30,demi!$B:$M,12,FALSE)),IF(ISERROR(VLOOKUP($A30,demi!$F:$M,8,FALSE)),\"\",IF(VLOOKUP($A30,demi!$F:$M,8,FALSE)=CS$2,\"X\",\"\")),IF(VLOOKUP($A30,demi!$B:$M,12,FALSE)=CS$2,\"X\",\"\"))","v":""}]
[29,"X","X","X","X","X","X","X","X","X","X","X","X","X","X","X","X",{"$f":"IF(ISERROR(VLOOKUP($A31,'32eme'!$B:$M,12,FALSE)),IF(ISERROR(VLOOKUP($A31,'32eme'!$F:$M,8,FALSE)),\"\",IF(VLOOKUP($A31,'32eme'!$F:$M,8,FALSE)=R$2,\"X\",\"\")),IF(VLOOKUP($A31,'32eme'!$B:$M,12,FALSE)=R$2,\"X\",\"\"))","v":""},{"$f":"IF(ISERROR(VLOOKUP($A31,'32eme'!$B:$M,12,FALSE)),IF(ISERROR(VLOOKUP($A31,'32eme'!$F:$M,8,FALSE)),\"\",IF(VLOOKUP($A31,'32eme'!$F:$M,8,FALSE)=S$2,\"X\",\"\")),IF(VLOOKUP($A31,'32eme'!$B:$M,12,FALSE)=S$2,\"X\",\"\"))","v":""},{"$f":"IF(ISERROR(VLOOKUP($A31,'32eme'!$B:$M,12,FALSE)),IF(ISERROR(VLOOKUP($A31,'32eme'!$F:$M,8,FALSE)),\"\",IF(VLOOKUP($A31,'32eme'!$F:$M,8,FALSE)=T$2,\"X\",\"\")),IF(VLOOKUP($A31,'32eme'!$B:$M,12,FALSE)=T$2,\"X\",\"\"))","v":""},{"$f":"IF(ISERROR(VLOOKUP($A31,'32eme'!$B:$M,12,FALSE)),IF(ISERROR(VLOOKUP($A31,'32eme'!$F:$M,8,FALSE)),\"\",IF(VLOOKUP($A31,'32eme'!$F:$M,8,FALSE)=U$2,\"X\",\"\")),IF(VLOOKUP($A31,'32eme'!$B:$M,12,FALSE)=U$2,\"X\",\"\"))","v":""},{"$f":"IF(ISERROR(VLOOKUP($A31,'32eme'!$B:$M,12,FALSE)),IF(ISERROR(VLOOKUP($A31,'32eme'!$F:$M,8,FALSE)),\"\",IF(VLOOKUP($A31,'32eme'!$F:$M,8,FALSE)=V$2,\"X\",\"\")),IF(VLOOKUP($A31,'32eme'!$B:$M,12,FALSE)=V$2,\"X\",\"\"))","v":""},{"$f":"IF(ISERROR(VLOOKUP($A31,'32eme'!$B:$M,12,FALSE)),IF(ISERROR(VLOOKUP($A31,'32eme'!$F:$M,8,FALSE)),\"\",IF(VLOOKUP($A31,'32eme'!$F:$M,8,FALSE)=W$2,\"X\",\"\")),IF(VLOOKUP($A31,'32eme'!$B:$M,12,FALSE)=W$2,\"X\",\"\"))","v":""},{"$f":"IF(ISERROR(VLOOKUP($A31,'32eme'!$B:$M,12,FALSE)),IF(ISERROR(VLOOKUP($A31,'32eme'!$F:$M,8,FALSE)),\"\",IF(VLOOKUP($A31,'32eme'!$F:$M,8,FALSE)=X$2,\"X\",\"\")),IF(VLOOKUP($A31,'32eme'!$B:$M,12,FALSE)=X$2,\"X\",\"\"))","v":""},{"$f":"IF(ISERROR(VLOOKUP($A31,'32eme'!$B:$M,12,FALSE)),IF(ISERROR(VLOOKUP($A31,'32eme'!$F:$M,8,FALSE)),\"\",IF(VLOOKUP($A31,'32eme'!$F:$M,8,FALSE)=Y$2,\"X\",\"\")),IF(VLOOKUP($A31,'32eme'!$B:$M,12,FALSE)=Y$2,\"X\",\"\"))","v":""},{"$f":"IF(ISERROR(VLOOKUP($A31,'32eme'!$B:$M,12,FALSE)),IF(ISERROR(VLOOKUP($A31,'32eme'!$F:$M,8,FALSE)),\"\",IF(VLOOKUP($A31,'32eme'!$F:$M,8,FALSE)=Z$2,\"X\",\"\")),IF(VLOOKUP($A31,'32eme'!$B:$M,12,FALSE)=Z$2,\"X\",\"\"))","v":""},{"$f":"IF(ISERROR(VLOOKUP($A31,'32eme'!$B:$M,12,FALSE)),IF(ISERROR(VLOOKUP($A31,'32eme'!$F:$M,8,FALSE)),\"\",IF(VLOOKUP($A31,'32eme'!$F:$M,8,FALSE)=AA$2,\"X\",\"\")),IF(VLOOKUP($A31,'32eme'!$B:$M,12,FALSE)=AA$2,\"X\",\"\"))","v":""},{"$f":"IF(ISERROR(VLOOKUP($A31,'32eme'!$B:$M,12,FALSE)),IF(ISERROR(VLOOKUP($A31,'32eme'!$F:$M,8,FALSE)),\"\",IF(VLOOKUP($A31,'32eme'!$F:$M,8,FALSE)=AB$2,\"X\",\"\")),IF(VLOOKUP($A31,'32eme'!$B:$M,12,FALSE)=AB$2,\"X\",\"\"))","v":""},{"$f":"IF(ISERROR(VLOOKUP($A31,'32eme'!$B:$M,12,FALSE)),IF(ISERROR(VLOOKUP($A31,'32eme'!$F:$M,8,FALSE)),\"\",IF(VLOOKUP($A31,'32eme'!$F:$M,8,FALSE)=AC$2,\"X\",\"\")),IF(VLOOKUP($A31,'32eme'!$B:$M,12,FALSE)=AC$2,\"X\",\"\"))","v":""},{"$f":"IF(ISERROR(VLOOKUP($A31,'32eme'!$B:$M,12,FALSE)),IF(ISERROR(VLOOKUP($A31,'32eme'!$F:$M,8,FALSE)),\"\",IF(VLOOKUP($A31,'32eme'!$F:$M,8,FALSE)=AD$2,\"X\",\"\")),IF(VLOOKUP($A31,'32eme'!$B:$M,12,FALSE)=AD$2,\"X\",\"\"))","v":""},{"$f":"IF(ISERROR(VLOOKUP($A31,'32eme'!$B:$M,12,FALSE)),IF(ISERROR(VLOOKUP($A31,'32eme'!$F:$M,8,FALSE)),\"\",IF(VLOOKUP($A31,'32eme'!$F:$M,8,FALSE)=AE$2,\"X\",\"\")),IF(VLOOKUP($A31,'32eme'!$B:$M,12,FALSE)=AE$2,\"X\",\"\"))","v":""},{"$f":"IF(ISERROR(VLOOKUP($A31,'32eme'!$B:$M,12,FALSE)),IF(ISERROR(VLOOKUP($A31,'32eme'!$F:$M,8,FALSE)),\"\",IF(VLOOKUP($A31,'32eme'!$F:$M,8,FALSE)=AF$2,\"X\",\"\")),IF(VLOOKUP($A31,'32eme'!$B:$M,12,FALSE)=AF$2,\"X\",\"\"))","v":""},{"$f":"IF(ISERROR(VLOOKUP($A31,'32eme'!$B:$M,12,FALSE)),IF(ISERROR(VLOOKUP($A31,'32eme'!$F:$M,8,FALSE)),\"\",IF(VLOOKUP($A31,'32eme'!$F:$M,8,FALSE)=AG$2,\"X\",\"\")),IF(VLOOKUP($A31,'32eme'!$B:$M,12,FALSE)=AG$2,\"X\",\"\"))","v":""},{"$f":"IF(ISERROR(VLOOKUP($A31,'16eme'!$B:$M,12,FALSE)),IF(ISERROR(VLOOKUP($A31,'16eme'!$F:$M,8,FALSE)),\"\",IF(VLOOKUP($A31,'16eme'!$F:$M,8,FALSE)=AH$2,\"X\",\"\")),IF(VLOOKUP($A31,'16eme'!$B:$M,12,FALSE)=AH$2,\"X\",\"\"))","v":""},{"$f":"IF(ISERROR(VLOOKUP($A31,'16eme'!$B:$M,12,FALSE)),IF(ISERROR(VLOOKUP($A31,'16eme'!$F:$M,8,FALSE)),\"\",IF(VLOOKUP($A31,'16eme'!$F:$M,8,FALSE)=AI$2,\"X\",\"\")),IF(VLOOKUP($A31,'16eme'!$B:$M,12,FALSE)=AI$2,\"X\",\"\"))","v":""},{"$f":"IF(ISERROR(VLOOKUP($A31,'16eme'!$B:$M,12,FALSE)),IF(ISERROR(VLOOKUP($A31,'16eme'!$F:$M,8,FALSE)),\"\",IF(VLOOKUP($A31,'16eme'!$F:$M,8,FALSE)=AJ$2,\"X\",\"\")),IF(VLOOKUP($A31,'16eme'!$B:$M,12,FALSE)=AJ$2,\"X\",\"\"))","v":""},{"$f":"IF(ISERROR(VLOOKUP($A31,'16eme'!$B:$M,12,FALSE)),IF(ISERROR(VLOOKUP($A31,'16eme'!$F:$M,8,FALSE)),\"\",IF(VLOOKUP($A31,'16eme'!$F:$M,8,FALSE)=AK$2,\"X\",\"\")),IF(VLOOKUP($A31,'16eme'!$B:$M,12,FALSE)=AK$2,\"X\",\"\"))","v":""},{"$f":"IF(ISERROR(VLOOKUP($A31,'16eme'!$B:$M,12,FALSE)),IF(ISERROR(VLOOKUP($A31,'16eme'!$F:$M,8,FALSE)),\"\",IF(VLOOKUP($A31,'16eme'!$F:$M,8,FALSE)=AL$2,\"X\",\"\")),IF(VLOOKUP($A31,'16eme'!$B:$M,12,FALSE)=AL$2,\"X\",\"\"))","v":""},{"$f":"IF(ISERROR(VLOOKUP($A31,'16eme'!$B:$M,12,FALSE)),IF(ISERROR(VLOOKUP($A31,'16eme'!$F:$M,8,FALSE)),\"\",IF(VLOOKUP($A31,'16eme'!$F:$M,8,FALSE)=AM$2,\"X\",\"\")),IF(VLOOKUP($A31,'16eme'!$B:$M,12,FALSE)=AM$2,\"X\",\"\"))","v":""},{"$f":"IF(ISERROR(VLOOKUP($A31,'16eme'!$B:$M,12,FALSE)),IF(ISERROR(VLOOKUP($A31,'16eme'!$F:$M,8,FALSE)),\"\",IF(VLOOKUP($A31,'16eme'!$F:$M,8,FALSE)=AN$2,\"X\",\"\")),IF(VLOOKUP($A31,'16eme'!$B:$M,12,FALSE)=AN$2,\"X\",\"\"))","v":""},{"$f":"IF(ISERROR(VLOOKUP($A31,'16eme'!$B:$M,12,FALSE)),IF(ISERROR(VLOOKUP($A31,'16eme'!$F:$M,8,FALSE)),\"\",IF(VLOOKUP($A31,'16eme'!$F:$M,8,FALSE)=AO$2,\"X\",\"\")),IF(VLOOKUP($A31,'16eme'!$B:$M,12,FALSE)=AO$2,\"X\",\"\"))","v":""},{"$f":"IF(ISERROR(VLOOKUP($A31,'16eme'!$B:$M,12,FALSE)),IF(ISERROR(VLOOKUP($A31,'16eme'!$F:$M,8,FALSE)),\"\",IF(VLOOKUP($A31,'16eme'!$F:$M,8,FALSE)=AP$2,\"X\",\"\")),IF(VLOOKUP($A31,'16eme'!$B:$M,12,FALSE)=AP$2,\"X\",\"\"))","v":""},{"$f":"IF(ISERROR(VLOOKUP($A31,'16eme'!$B:$M,12,FALSE)),IF(ISERROR(VLOOKUP($A31,'16eme'!$F:$M,8,FALSE)),\"\",IF(VLOOKUP($A31,'16eme'!$F:$M,8,FALSE)=AQ$2,\"X\",\"\")),IF(VLOOKUP($A31,'16eme'!$B:$M,12,FALSE)=AQ$2,\"X\",\"\"))","v":""},{"$f":"IF(ISERROR(VLOOKUP($A31,'16eme'!$B:$M,12,FALSE)),IF(ISERROR(VLOOKUP($A31,'16eme'!$F:$M,8,FALSE)),\"\",IF(VLOOKUP($A31,'16eme'!$F:$M,8,FALSE)=AR$2,\"X\",\"\")),IF(VLOOKUP($A31,'16eme'!$B:$M,12,FALSE)=AR$2,\"X\",\"\"))","v":""},{"$f":"IF(ISERROR(VLOOKUP($A31,'16eme'!$B:$M,12,FALSE)),IF(ISERROR(VLOOKUP($A31,'16eme'!$F:$M,8,FALSE)),\"\",IF(VLOOKUP($A31,'16eme'!$F:$M,8,FALSE)=AS$2,\"X\",\"\")),IF(VLOOKUP($A31,'16eme'!$B:$M,12,FALSE)=AS$2,\"X\",\"\"))","v":""},{"$f":"IF(ISERROR(VLOOKUP($A31,'16eme'!$B:$M,12,FALSE)),IF(ISERROR(VLOOKUP($A31,'16eme'!$F:$M,8,FALSE)),\"\",IF(VLOOKUP($A31,'16eme'!$F:$M,8,FALSE)=AT$2,\"X\",\"\")),IF(VLOOKUP($A31,'16eme'!$B:$M,12,FALSE)=AT$2,\"X\",\"\"))","v":""},{"$f":"IF(ISERROR(VLOOKUP($A31,'16eme'!$B:$M,12,FALSE)),IF(ISERROR(VLOOKUP($A31,'16eme'!$F:$M,8,FALSE)),\"\",IF(VLOOKUP($A31,'16eme'!$F:$M,8,FALSE)=AU$2,\"X\",\"\")),IF(VLOOKUP($A31,'16eme'!$B:$M,12,FALSE)=AU$2,\"X\",\"\"))","v":""},{"$f":"IF(ISERROR(VLOOKUP($A31,'16eme'!$B:$M,12,FALSE)),IF(ISERROR(VLOOKUP($A31,'16eme'!$F:$M,8,FALSE)),\"\",IF(VLOOKUP($A31,'16eme'!$F:$M,8,FALSE)=AV$2,\"X\",\"\")),IF(VLOOKUP($A31,'16eme'!$B:$M,12,FALSE)=AV$2,\"X\",\"\"))","v":""},{"$f":"IF(ISERROR(VLOOKUP($A31,'16eme'!$B:$M,12,FALSE)),IF(ISERROR(VLOOKUP($A31,'16eme'!$F:$M,8,FALSE)),\"\",IF(VLOOKUP($A31,'16eme'!$F:$M,8,FALSE)=AW$2,\"X\",\"\")),IF(VLOOKUP($A31,'16eme'!$B:$M,12,FALSE)=AW$2,\"X\",\"\"))","v":""},{"$f":"IF(ISERROR(VLOOKUP($A31,'8eme'!$B:$M,12,FALSE)),IF(ISERROR(VLOOKUP($A31,'8eme'!$F:$M,8,FALSE)),\"\",IF(VLOOKUP($A31,'8eme'!$F:$M,8,FALSE)=AX$2,\"X\",\"\")),IF(VLOOKUP($A31,'8eme'!$B:$M,12,FALSE)=AX$2,\"X\",\"\"))","v":""},{"$f":"IF(ISERROR(VLOOKUP($A31,'8eme'!$B:$M,12,FALSE)),IF(ISERROR(VLOOKUP($A31,'8eme'!$F:$M,8,FALSE)),\"\",IF(VLOOKUP($A31,'8eme'!$F:$M,8,FALSE)=AY$2,\"X\",\"\")),IF(VLOOKUP($A31,'8eme'!$B:$M,12,FALSE)=AY$2,\"X\",\"\"))","v":""},{"$f":"IF(ISERROR(VLOOKUP($A31,'8eme'!$B:$M,12,FALSE)),IF(ISERROR(VLOOKUP($A31,'8eme'!$F:$M,8,FALSE)),\"\",IF(VLOOKUP($A31,'8eme'!$F:$M,8,FALSE)=AZ$2,\"X\",\"\")),IF(VLOOKUP($A31,'8eme'!$B:$M,12,FALSE)=AZ$2,\"X\",\"\"))","v":""},{"$f":"IF(ISERROR(VLOOKUP($A31,'8eme'!$B:$M,12,FALSE)),IF(ISERROR(VLOOKUP($A31,'8eme'!$F:$M,8,FALSE)),\"\",IF(VLOOKUP($A31,'8eme'!$F:$M,8,FALSE)=BA$2,\"X\",\"\")),IF(VLOOKUP($A31,'8eme'!$B:$M,12,FALSE)=BA$2,\"X\",\"\"))","v":""},{"$f":"IF(ISERROR(VLOOKUP($A31,'8eme'!$B:$M,12,FALSE)),IF(ISERROR(VLOOKUP($A31,'8eme'!$F:$M,8,FALSE)),\"\",IF(VLOOKUP($A31,'8eme'!$F:$M,8,FALSE)=BB$2,\"X\",\"\")),IF(VLOOKUP($A31,'8eme'!$B:$M,12,FALSE)=BB$2,\"X\",\"\"))","v":""},{"$f":"IF(ISERROR(VLOOKUP($A31,'8eme'!$B:$M,12,FALSE)),IF(ISERROR(VLOOKUP($A31,'8eme'!$F:$M,8,FALSE)),\"\",IF(VLOOKUP($A31,'8eme'!$F:$M,8,FALSE)=BC$2,\"X\",\"\")),IF(VLOOKUP($A31,'8eme'!$B:$M,12,FALSE)=BC$2,\"X\",\"\"))","v":""},{"$f":"IF(ISERROR(VLOOKUP($A31,'8eme'!$B:$M,12,FALSE)),IF(ISERROR(VLOOKUP($A31,'8eme'!$F:$M,8,FALSE)),\"\",IF(VLOOKUP($A31,'8eme'!$F:$M,8,FALSE)=BD$2,\"X\",\"\")),IF(VLOOKUP($A31,'8eme'!$B:$M,12,FALSE)=BD$2,\"X\",\"\"))","v":""},{"$f":"IF(ISERROR(VLOOKUP($A31,'8eme'!$B:$M,12,FALSE)),IF(ISERROR(VLOOKUP($A31,'8eme'!$F:$M,8,FALSE)),\"\",IF(VLOOKUP($A31,'8eme'!$F:$M,8,FALSE)=BE$2,\"X\",\"\")),IF(VLOOKUP($A31,'8eme'!$B:$M,12,FALSE)=BE$2,\"X\",\"\"))","v":""},{"$f":"IF(ISERROR(VLOOKUP($A31,'8eme'!$B:$M,12,FALSE)),IF(ISERROR(VLOOKUP($A31,'8eme'!$F:$M,8,FALSE)),\"\",IF(VLOOKUP($A31,'8eme'!$F:$M,8,FALSE)=BF$2,\"X\",\"\")),IF(VLOOKUP($A31,'8eme'!$B:$M,12,FALSE)=BF$2,\"X\",\"\"))","v":""},{"$f":"IF(ISERROR(VLOOKUP($A31,'8eme'!$B:$M,12,FALSE)),IF(ISERROR(VLOOKUP($A31,'8eme'!$F:$M,8,FALSE)),\"\",IF(VLOOKUP($A31,'8eme'!$F:$M,8,FALSE)=BG$2,\"X\",\"\")),IF(VLOOKUP($A31,'8eme'!$B:$M,12,FALSE)=BG$2,\"X\",\"\"))","v":""},{"$f":"IF(ISERROR(VLOOKUP($A31,'8eme'!$B:$M,12,FALSE)),IF(ISERROR(VLOOKUP($A31,'8eme'!$F:$M,8,FALSE)),\"\",IF(VLOOKUP($A31,'8eme'!$F:$M,8,FALSE)=BH$2,\"X\",\"\")),IF(VLOOKUP($A31,'8eme'!$B:$M,12,FALSE)=BH$2,\"X\",\"\"))","v":""},{"$f":"IF(ISERROR(VLOOKUP($A31,'8eme'!$B:$M,12,FALSE)),IF(ISERROR(VLOOKUP($A31,'8eme'!$F:$M,8,FALSE)),\"\",IF(VLOOKUP($A31,'8eme'!$F:$M,8,FALSE)=BI$2,\"X\",\"\")),IF(VLOOKUP($A31,'8eme'!$B:$M,12,FALSE)=BI$2,\"X\",\"\"))","v":""},{"$f":"IF(ISERROR(VLOOKUP($A31,'8eme'!$B:$M,12,FALSE)),IF(ISERROR(VLOOKUP($A31,'8eme'!$F:$M,8,FALSE)),\"\",IF(VLOOKUP($A31,'8eme'!$F:$M,8,FALSE)=BJ$2,\"X\",\"\")),IF(VLOOKUP($A31,'8eme'!$B:$M,12,FALSE)=BJ$2,\"X\",\"\"))","v":""},{"$f":"IF(ISERROR(VLOOKUP($A31,'8eme'!$B:$M,12,FALSE)),IF(ISERROR(VLOOKUP($A31,'8eme'!$F:$M,8,FALSE)),\"\",IF(VLOOKUP($A31,'8eme'!$F:$M,8,FALSE)=BK$2,\"X\",\"\")),IF(VLOOKUP($A31,'8eme'!$B:$M,12,FALSE)=BK$2,\"X\",\"\"))","v":""},{"$f":"IF(ISERROR(VLOOKUP($A31,'8eme'!$B:$M,12,FALSE)),IF(ISERROR(VLOOKUP($A31,'8eme'!$F:$M,8,FALSE)),\"\",IF(VLOOKUP($A31,'8eme'!$F:$M,8,FALSE)=BL$2,\"X\",\"\")),IF(VLOOKUP($A31,'8eme'!$B:$M,12,FALSE)=BL$2,\"X\",\"\"))","v":""},{"$f":"IF(ISERROR(VLOOKUP($A31,'8eme'!$B:$M,12,FALSE)),IF(ISERROR(VLOOKUP($A31,'8eme'!$F:$M,8,FALSE)),\"\",IF(VLOOKUP($A31,'8eme'!$F:$M,8,FALSE)=BM$2,\"X\",\"\")),IF(VLOOKUP($A31,'8eme'!$B:$M,12,FALSE)=BM$2,\"X\",\"\"))","v":""},{"$f":"IF(ISERROR(VLOOKUP($A31,quart!$B:$M,12,FALSE)),IF(ISERROR(VLOOKUP($A31,quart!$F:$M,8,FALSE)),\"\",IF(VLOOKUP($A31,quart!$F:$M,8,FALSE)=BN$2,\"X\",\"\")),IF(VLOOKUP($A31,quart!$B:$M,12,FALSE)=BN$2,\"X\",\"\"))","v":""},{"$f":"IF(ISERROR(VLOOKUP($A31,quart!$B:$M,12,FALSE)),IF(ISERROR(VLOOKUP($A31,quart!$F:$M,8,FALSE)),\"\",IF(VLOOKUP($A31,quart!$F:$M,8,FALSE)=BO$2,\"X\",\"\")),IF(VLOOKUP($A31,quart!$B:$M,12,FALSE)=BO$2,\"X\",\"\"))","v":""},{"$f":"IF(ISERROR(VLOOKUP($A31,quart!$B:$M,12,FALSE)),IF(ISERROR(VLOOKUP($A31,quart!$F:$M,8,FALSE)),\"\",IF(VLOOKUP($A31,quart!$F:$M,8,FALSE)=BP$2,\"X\",\"\")),IF(VLOOKUP($A31,quart!$B:$M,12,FALSE)=BP$2,\"X\",\"\"))","v":""},{"$f":"IF(ISERROR(VLOOKUP($A31,quart!$B:$M,12,FALSE)),IF(ISERROR(VLOOKUP($A31,quart!$F:$M,8,FALSE)),\"\",IF(VLOOKUP($A31,quart!$F:$M,8,FALSE)=BQ$2,\"X\",\"\")),IF(VLOOKUP($A31,quart!$B:$M,12,FALSE)=BQ$2,\"X\",\"\"))","v":""},{"$f":"IF(ISERROR(VLOOKUP($A31,quart!$B:$M,12,FALSE)),IF(ISERROR(VLOOKUP($A31,quart!$F:$M,8,FALSE)),\"\",IF(VLOOKUP($A31,quart!$F:$M,8,FALSE)=BR$2,\"X\",\"\")),IF(VLOOKUP($A31,quart!$B:$M,12,FALSE)=BR$2,\"X\",\"\"))","v":""},{"$f":"IF(ISERROR(VLOOKUP($A31,quart!$B:$M,12,FALSE)),IF(ISERROR(VLOOKUP($A31,quart!$F:$M,8,FALSE)),\"\",IF(VLOOKUP($A31,quart!$F:$M,8,FALSE)=BS$2,\"X\",\"\")),IF(VLOOKUP($A31,quart!$B:$M,12,FALSE)=BS$2,\"X\",\"\"))","v":""},{"$f":"IF(ISERROR(VLOOKUP($A31,quart!$B:$M,12,FALSE)),IF(ISERROR(VLOOKUP($A31,quart!$F:$M,8,FALSE)),\"\",IF(VLOOKUP($A31,quart!$F:$M,8,FALSE)=BT$2,\"X\",\"\")),IF(VLOOKUP($A31,quart!$B:$M,12,FALSE)=BT$2,\"X\",\"\"))","v":""},{"$f":"IF(ISERROR(VLOOKUP($A31,quart!$B:$M,12,FALSE)),IF(ISERROR(VLOOKUP($A31,quart!$F:$M,8,FALSE)),\"\",IF(VLOOKUP($A31,quart!$F:$M,8,FALSE)=BU$2,\"X\",\"\")),IF(VLOOKUP($A31,quart!$B:$M,12,FALSE)=BU$2,\"X\",\"\"))","v":""},{"$f":"IF(ISERROR(VLOOKUP($A31,quart!$B:$M,12,FALSE)),IF(ISERROR(VLOOKUP($A31,quart!$F:$M,8,FALSE)),\"\",IF(VLOOKUP($A31,quart!$F:$M,8,FALSE)=BV$2,\"X\",\"\")),IF(VLOOKUP($A31,quart!$B:$M,12,FALSE)=BV$2,\"X\",\"\"))","v":""},{"$f":"IF(ISERROR(VLOOKUP($A31,quart!$B:$M,12,FALSE)),IF(ISERROR(VLOOKUP($A31,quart!$F:$M,8,FALSE)),\"\",IF(VLOOKUP($A31,quart!$F:$M,8,FALSE)=BW$2,\"X\",\"\")),IF(VLOOKUP($A31,quart!$B:$M,12,FALSE)=BW$2,\"X\",\"\"))","v":""},{"$f":"IF(ISERROR(VLOOKUP($A31,quart!$B:$M,12,FALSE)),IF(ISERROR(VLOOKUP($A31,quart!$F:$M,8,FALSE)),\"\",IF(VLOOKUP($A31,quart!$F:$M,8,FALSE)=BX$2,\"X\",\"\")),IF(VLOOKUP($A31,quart!$B:$M,12,FALSE)=BX$2,\"X\",\"\"))","v":""},{"$f":"IF(ISERROR(VLOOKUP($A31,quart!$B:$M,12,FALSE)),IF(ISERROR(VLOOKUP($A31,quart!$F:$M,8,FALSE)),\"\",IF(VLOOKUP($A31,quart!$F:$M,8,FALSE)=BY$2,\"X\",\"\")),IF(VLOOKUP($A31,quart!$B:$M,12,FALSE)=BY$2,\"X\",\"\"))","v":""},{"$f":"IF(ISERROR(VLOOKUP($A31,quart!$B:$M,12,FALSE)),IF(ISERROR(VLOOKUP($A31,quart!$F:$M,8,FALSE)),\"\",IF(VLOOKUP($A31,quart!$F:$M,8,FALSE)=BZ$2,\"X\",\"\")),IF(VLOOKUP($A31,quart!$B:$M,12,FALSE)=BZ$2,\"X\",\"\"))","v":""},{"$f":"IF(ISERROR(VLOOKUP($A31,quart!$B:$M,12,FALSE)),IF(ISERROR(VLOOKUP($A31,quart!$F:$M,8,FALSE)),\"\",IF(VLOOKUP($A31,quart!$F:$M,8,FALSE)=CA$2,\"X\",\"\")),IF(VLOOKUP($A31,quart!$B:$M,12,FALSE)=CA$2,\"X\",\"\"))","v":""},{"$f":"IF(ISERROR(VLOOKUP($A31,quart!$B:$M,12,FALSE)),IF(ISERROR(VLOOKUP($A31,quart!$F:$M,8,FALSE)),\"\",IF(VLOOKUP($A31,quart!$F:$M,8,FALSE)=CB$2,\"X\",\"\")),IF(VLOOKUP($A31,quart!$B:$M,12,FALSE)=CB$2,\"X\",\"\"))","v":""},{"$f":"IF(ISERROR(VLOOKUP($A31,quart!$B:$M,12,FALSE)),IF(ISERROR(VLOOKUP($A31,quart!$F:$M,8,FALSE)),\"\",IF(VLOOKUP($A31,quart!$F:$M,8,FALSE)=CC$2,\"X\",\"\")),IF(VLOOKUP($A31,quart!$B:$M,12,FALSE)=CC$2,\"X\",\"\"))","v":""},{"$f":"IF(ISERROR(VLOOKUP($A31,demi!$B:$M,12,FALSE)),IF(ISERROR(VLOOKUP($A31,demi!$F:$M,8,FALSE)),\"\",IF(VLOOKUP($A31,demi!$F:$M,8,FALSE)=CD$2,\"X\",\"\")),IF(VLOOKUP($A31,demi!$B:$M,12,FALSE)=CD$2,\"X\",\"\"))","v":""},{"$f":"IF(ISERROR(VLOOKUP($A31,demi!$B:$M,12,FALSE)),IF(ISERROR(VLOOKUP($A31,demi!$F:$M,8,FALSE)),\"\",IF(VLOOKUP($A31,demi!$F:$M,8,FALSE)=CE$2,\"X\",\"\")),IF(VLOOKUP($A31,demi!$B:$M,12,FALSE)=CE$2,\"X\",\"\"))","v":""},{"$f":"IF(ISERROR(VLOOKUP($A31,demi!$B:$M,12,FALSE)),IF(ISERROR(VLOOKUP($A31,demi!$F:$M,8,FALSE)),\"\",IF(VLOOKUP($A31,demi!$F:$M,8,FALSE)=CF$2,\"X\",\"\")),IF(VLOOKUP($A31,demi!$B:$M,12,FALSE)=CF$2,\"X\",\"\"))","v":""},{"$f":"IF(ISERROR(VLOOKUP($A31,demi!$B:$M,12,FALSE)),IF(ISERROR(VLOOKUP($A31,demi!$F:$M,8,FALSE)),\"\",IF(VLOOKUP($A31,demi!$F:$M,8,FALSE)=CG$2,\"X\",\"\")),IF(VLOOKUP($A31,demi!$B:$M,12,FALSE)=CG$2,\"X\",\"\"))","v":""},{"$f":"IF(ISERROR(VLOOKUP($A31,demi!$B:$M,12,FALSE)),IF(ISERROR(VLOOKUP($A31,demi!$F:$M,8,FALSE)),\"\",IF(VLOOKUP($A31,demi!$F:$M,8,FALSE)=CH$2,\"X\",\"\")),IF(VLOOKUP($A31,demi!$B:$M,12,FALSE)=CH$2,\"X\",\"\"))","v":""},{"$f":"IF(ISERROR(VLOOKUP($A31,demi!$B:$M,12,FALSE)),IF(ISERROR(VLOOKUP($A31,demi!$F:$M,8,FALSE)),\"\",IF(VLOOKUP($A31,demi!$F:$M,8,FALSE)=CI$2,\"X\",\"\")),IF(VLOOKUP($A31,demi!$B:$M,12,FALSE)=CI$2,\"X\",\"\"))","v":""},{"$f":"IF(ISERROR(VLOOKUP($A31,demi!$B:$M,12,FALSE)),IF(ISERROR(VLOOKUP($A31,demi!$F:$M,8,FALSE)),\"\",IF(VLOOKUP($A31,demi!$F:$M,8,FALSE)=CJ$2,\"X\",\"\")),IF(VLOOKUP($A31,demi!$B:$M,12,FALSE)=CJ$2,\"X\",\"\"))","v":""},{"$f":"IF(ISERROR(VLOOKUP($A31,demi!$B:$M,12,FALSE)),IF(ISERROR(VLOOKUP($A31,demi!$F:$M,8,FALSE)),\"\",IF(VLOOKUP($A31,demi!$F:$M,8,FALSE)=CK$2,\"X\",\"\")),IF(VLOOKUP($A31,demi!$B:$M,12,FALSE)=CK$2,\"X\",\"\"))","v":""},{"$f":"IF(ISERROR(VLOOKUP($A31,demi!$B:$M,12,FALSE)),IF(ISERROR(VLOOKUP($A31,demi!$F:$M,8,FALSE)),\"\",IF(VLOOKUP($A31,demi!$F:$M,8,FALSE)=CL$2,\"X\",\"\")),IF(VLOOKUP($A31,demi!$B:$M,12,FALSE)=CL$2,\"X\",\"\"))","v":""},{"$f":"IF(ISERROR(VLOOKUP($A31,demi!$B:$M,12,FALSE)),IF(ISERROR(VLOOKUP($A31,demi!$F:$M,8,FALSE)),\"\",IF(VLOOKUP($A31,demi!$F:$M,8,FALSE)=CM$2,\"X\",\"\")),IF(VLOOKUP($A31,demi!$B:$M,12,FALSE)=CM$2,\"X\",\"\"))","v":""},{"$f":"IF(ISERROR(VLOOKUP($A31,demi!$B:$M,12,FALSE)),IF(ISERROR(VLOOKUP($A31,demi!$F:$M,8,FALSE)),\"\",IF(VLOOKUP($A31,demi!$F:$M,8,FALSE)=CN$2,\"X\",\"\")),IF(VLOOKUP($A31,demi!$B:$M,12,FALSE)=CN$2,\"X\",\"\"))","v":""},{"$f":"IF(ISERROR(VLOOKUP($A31,demi!$B:$M,12,FALSE)),IF(ISERROR(VLOOKUP($A31,demi!$F:$M,8,FALSE)),\"\",IF(VLOOKUP($A31,demi!$F:$M,8,FALSE)=CO$2,\"X\",\"\")),IF(VLOOKUP($A31,demi!$B:$M,12,FALSE)=CO$2,\"X\",\"\"))","v":""},{"$f":"IF(ISERROR(VLOOKUP($A31,demi!$B:$M,12,FALSE)),IF(ISERROR(VLOOKUP($A31,demi!$F:$M,8,FALSE)),\"\",IF(VLOOKUP($A31,demi!$F:$M,8,FALSE)=CP$2,\"X\",\"\")),IF(VLOOKUP($A31,demi!$B:$M,12,FALSE)=CP$2,\"X\",\"\"))","v":""},{"$f":"IF(ISERROR(VLOOKUP($A31,demi!$B:$M,12,FALSE)),IF(ISERROR(VLOOKUP($A31,demi!$F:$M,8,FALSE)),\"\",IF(VLOOKUP($A31,demi!$F:$M,8,FALSE)=CQ$2,\"X\",\"\")),IF(VLOOKUP($A31,demi!$B:$M,12,FALSE)=CQ$2,\"X\",\"\"))","v":""},{"$f":"IF(ISERROR(VLOOKUP($A31,demi!$B:$M,12,FALSE)),IF(ISERROR(VLOOKUP($A31,demi!$F:$M,8,FALSE)),\"\",IF(VLOOKUP($A31,demi!$F:$M,8,FALSE)=CR$2,\"X\",\"\")),IF(VLOOKUP($A31,demi!$B:$M,12,FALSE)=CR$2,\"X\",\"\"))","v":""},{"$f":"IF(ISERROR(VLOOKUP($A31,demi!$B:$M,12,FALSE)),IF(ISERROR(VLOOKUP($A31,demi!$F:$M,8,FALSE)),\"\",IF(VLOOKUP($A31,demi!$F:$M,8,FALSE)=CS$2,\"X\",\"\")),IF(VLOOKUP($A31,demi!$B:$M,12,FALSE)=CS$2,\"X\",\"\"))","v":""}]
[30,"X","X","X","X","X","X","X","X","X","X","X","X","X","X","X","X",{"$f":"IF(ISERROR(VLOOKUP($A32,'32eme'!$B:$M,12,FALSE)),IF(ISERROR(VLOOKUP($A32,'32eme'!$F:$M,8,FALSE)),\"\",IF(VLOOKUP($A32,'32eme'!$F:$M,8,FALSE)=R$2,\"X\",\"\")),IF(VLOOKUP($A32,'32eme'!$B:$M,12,FALSE)=R$2,\"X\",\"\"))","v":""},{"$f":"IF(ISERROR(VLOOKUP($A32,'32eme'!$B:$M,12,FALSE)),IF(ISERROR(VLOOKUP($A32,'32eme'!$F:$M,8,FALSE)),\"\",IF(VLOOKUP($A32,'32eme'!$F:$M,8,FALSE)=S$2,\"X\",\"\")),IF(VLOOKUP($A32,'32eme'!$B:$M,12,FALSE)=S$2,\"X\",\"\"))","v":""},{"$f":"IF(ISERROR(VLOOKUP($A32,'32eme'!$B:$M,12,FALSE)),IF(ISERROR(VLOOKUP($A32,'32eme'!$F:$M,8,FALSE)),\"\",IF(VLOOKUP($A32,'32eme'!$F:$M,8,FALSE)=T$2,\"X\",\"\")),IF(VLOOKUP($A32,'32eme'!$B:$M,12,FALSE)=T$2,\"X\",\"\"))","v":""},{"$f":"IF(ISERROR(VLOOKUP($A32,'32eme'!$B:$M,12,FALSE)),IF(ISERROR(VLOOKUP($A32,'32eme'!$F:$M,8,FALSE)),\"\",IF(VLOOKUP($A32,'32eme'!$F:$M,8,FALSE)=U$2,\"X\",\"\")),IF(VLOOKUP($A32,'32eme'!$B:$M,12,FALSE)=U$2,\"X\",\"\"))","v":""},{"$f":"IF(ISERROR(VLOOKUP($A32,'32eme'!$B:$M,12,FALSE)),IF(ISERROR(VLOOKUP($A32,'32eme'!$F:$M,8,FALSE)),\"\",IF(VLOOKUP($A32,'32eme'!$F:$M,8,FALSE)=V$2,\"X\",\"\")),IF(VLOOKUP($A32,'32eme'!$B:$M,12,FALSE)=V$2,\"X\",\"\"))","v":""},{"$f":"IF(ISERROR(VLOOKUP($A32,'32eme'!$B:$M,12,FALSE)),IF(ISERROR(VLOOKUP($A32,'32eme'!$F:$M,8,FALSE)),\"\",IF(VLOOKUP($A32,'32eme'!$F:$M,8,FALSE)=W$2,\"X\",\"\")),IF(VLOOKUP($A32,'32eme'!$B:$M,12,FALSE)=W$2,\"X\",\"\"))","v":""},{"$f":"IF(ISERROR(VLOOKUP($A32,'32eme'!$B:$M,12,FALSE)),IF(ISERROR(VLOOKUP($A32,'32eme'!$F:$M,8,FALSE)),\"\",IF(VLOOKUP($A32,'32eme'!$F:$M,8,FALSE)=X$2,\"X\",\"\")),IF(VLOOKUP($A32,'32eme'!$B:$M,12,FALSE)=X$2,\"X\",\"\"))","v":""},{"$f":"IF(ISERROR(VLOOKUP($A32,'32eme'!$B:$M,12,FALSE)),IF(ISERROR(VLOOKUP($A32,'32eme'!$F:$M,8,FALSE)),\"\",IF(VLOOKUP($A32,'32eme'!$F:$M,8,FALSE)=Y$2,\"X\",\"\")),IF(VLOOKUP($A32,'32eme'!$B:$M,12,FALSE)=Y$2,\"X\",\"\"))","v":""},{"$f":"IF(ISERROR(VLOOKUP($A32,'32eme'!$B:$M,12,FALSE)),IF(ISERROR(VLOOKUP($A32,'32eme'!$F:$M,8,FALSE)),\"\",IF(VLOOKUP($A32,'32eme'!$F:$M,8,FALSE)=Z$2,\"X\",\"\")),IF(VLOOKUP($A32,'32eme'!$B:$M,12,FALSE)=Z$2,\"X\",\"\"))","v":""},{"$f":"IF(ISERROR(VLOOKUP($A32,'32eme'!$B:$M,12,FALSE)),IF(ISERROR(VLOOKUP($A32,'32eme'!$F:$M,8,FALSE)),\"\",IF(VLOOKUP($A32,'32eme'!$F:$M,8,FALSE)=AA$2,\"X\",\"\")),IF(VLOOKUP($A32,'32eme'!$B:$M,12,FALSE)=AA$2,\"X\",\"\"))","v":""},{"$f":"IF(ISERROR(VLOOKUP($A32,'32eme'!$B:$M,12,FALSE)),IF(ISERROR(VLOOKUP($A32,'32eme'!$F:$M,8,FALSE)),\"\",IF(VLOOKUP($A32,'32eme'!$F:$M,8,FALSE)=AB$2,\"X\",\"\")),IF(VLOOKUP($A32,'32eme'!$B:$M,12,FALSE)=AB$2,\"X\",\"\"))","v":""},{"$f":"IF(ISERROR(VLOOKUP($A32,'32eme'!$B:$M,12,FALSE)),IF(ISERROR(VLOOKUP($A32,'32eme'!$F:$M,8,FALSE)),\"\",IF(VLOOKUP($A32,'32eme'!$F:$M,8,FALSE)=AC$2,\"X\",\"\")),IF(VLOOKUP($A32,'32eme'!$B:$M,12,FALSE)=AC$2,\"X\",\"\"))","v":""},{"$f":"IF(ISERROR(VLOOKUP($A32,'32eme'!$B:$M,12,FALSE)),IF(ISERROR(VLOOKUP($A32,'32eme'!$F:$M,8,FALSE)),\"\",IF(VLOOKUP($A32,'32eme'!$F:$M,8,FALSE)=AD$2,\"X\",\"\")),IF(VLOOKUP($A32,'32eme'!$B:$M,12,FALSE)=AD$2,\"X\",\"\"))","v":""},{"$f":"IF(ISERROR(VLOOKUP($A32,'32eme'!$B:$M,12,FALSE)),IF(ISERROR(VLOOKUP($A32,'32eme'!$F:$M,8,FALSE)),\"\",IF(VLOOKUP($A32,'32eme'!$F:$M,8,FALSE)=AE$2,\"X\",\"\")),IF(VLOOKUP($A32,'32eme'!$B:$M,12,FALSE)=AE$2,\"X\",\"\"))","v":""},{"$f":"IF(ISERROR(VLOOKUP($A32,'32eme'!$B:$M,12,FALSE)),IF(ISERROR(VLOOKUP($A32,'32eme'!$F:$M,8,FALSE)),\"\",IF(VLOOKUP($A32,'32eme'!$F:$M,8,FALSE)=AF$2,\"X\",\"\")),IF(VLOOKUP($A32,'32eme'!$B:$M,12,FALSE)=AF$2,\"X\",\"\"))","v":""},{"$f":"IF(ISERROR(VLOOKUP($A32,'32eme'!$B:$M,12,FALSE)),IF(ISERROR(VLOOKUP($A32,'32eme'!$F:$M,8,FALSE)),\"\",IF(VLOOKUP($A32,'32eme'!$F:$M,8,FALSE)=AG$2,\"X\",\"\")),IF(VLOOKUP($A32,'32eme'!$B:$M,12,FALSE)=AG$2,\"X\",\"\"))","v":""},{"$f":"IF(ISERROR(VLOOKUP($A32,'16eme'!$B:$M,12,FALSE)),IF(ISERROR(VLOOKUP($A32,'16eme'!$F:$M,8,FALSE)),\"\",IF(VLOOKUP($A32,'16eme'!$F:$M,8,FALSE)=AH$2,\"X\",\"\")),IF(VLOOKUP($A32,'16eme'!$B:$M,12,FALSE)=AH$2,\"X\",\"\"))","v":""},{"$f":"IF(ISERROR(VLOOKUP($A32,'16eme'!$B:$M,12,FALSE)),IF(ISERROR(VLOOKUP($A32,'16eme'!$F:$M,8,FALSE)),\"\",IF(VLOOKUP($A32,'16eme'!$F:$M,8,FALSE)=AI$2,\"X\",\"\")),IF(VLOOKUP($A32,'16eme'!$B:$M,12,FALSE)=AI$2,\"X\",\"\"))","v":""},{"$f":"IF(ISERROR(VLOOKUP($A32,'16eme'!$B:$M,12,FALSE)),IF(ISERROR(VLOOKUP($A32,'16eme'!$F:$M,8,FALSE)),\"\",IF(VLOOKUP($A32,'16eme'!$F:$M,8,FALSE)=AJ$2,\"X\",\"\")),IF(VLOOKUP($A32,'16eme'!$B:$M,12,FALSE)=AJ$2,\"X\",\"\"))","v":""},{"$f":"IF(ISERROR(VLOOKUP($A32,'16eme'!$B:$M,12,FALSE)),IF(ISERROR(VLOOKUP($A32,'16eme'!$F:$M,8,FALSE)),\"\",IF(VLOOKUP($A32,'16eme'!$F:$M,8,FALSE)=AK$2,\"X\",\"\")),IF(VLOOKUP($A32,'16eme'!$B:$M,12,FALSE)=AK$2,\"X\",\"\"))","v":""},{"$f":"IF(ISERROR(VLOOKUP($A32,'16eme'!$B:$M,12,FALSE)),IF(ISERROR(VLOOKUP($A32,'16eme'!$F:$M,8,FALSE)),\"\",IF(VLOOKUP($A32,'16eme'!$F:$M,8,FALSE)=AL$2,\"X\",\"\")),IF(VLOOKUP($A32,'16eme'!$B:$M,12,FALSE)=AL$2,\"X\",\"\"))","v":""},{"$f":"IF(ISERROR(VLOOKUP($A32,'16eme'!$B:$M,12,FALSE)),IF(ISERROR(VLOOKUP($A32,'16eme'!$F:$M,8,FALSE)),\"\",IF(VLOOKUP($A32,'16eme'!$F:$M,8,FALSE)=AM$2,\"X\",\"\")),IF(VLOOKUP($A32,'16eme'!$B:$M,12,FALSE)=AM$2,\"X\",\"\"))","v":""},{"$f":"IF(ISERROR(VLOOKUP($A32,'16eme'!$B:$M,12,FALSE)),IF(ISERROR(VLOOKUP($A32,'16eme'!$F:$M,8,FALSE)),\"\",IF(VLOOKUP($A32,'16eme'!$F:$M,8,FALSE)=AN$2,\"X\",\"\")),IF(VLOOKUP($A32,'16eme'!$B:$M,12,FALSE)=AN$2,\"X\",\"\"))","v":""},{"$f":"IF(ISERROR(VLOOKUP($A32,'16eme'!$B:$M,12,FALSE)),IF(ISERROR(VLOOKUP($A32,'16eme'!$F:$M,8,FALSE)),\"\",IF(VLOOKUP($A32,'16eme'!$F:$M,8,FALSE)=AO$2,\"X\",\"\")),IF(VLOOKUP($A32,'16eme'!$B:$M,12,FALSE)=AO$2,\"X\",\"\"))","v":""},{"$f":"IF(ISERROR(VLOOKUP($A32,'16eme'!$B:$M,12,FALSE)),IF(ISERROR(VLOOKUP($A32,'16eme'!$F:$M,8,FALSE)),\"\",IF(VLOOKUP($A32,'16eme'!$F:$M,8,FALSE)=AP$2,\"X\",\"\")),IF(VLOOKUP($A32,'16eme'!$B:$M,12,FALSE)=AP$2,\"X\",\"\"))","v":""},{"$f":"IF(ISERROR(VLOOKUP($A32,'16eme'!$B:$M,12,FALSE)),IF(ISERROR(VLOOKUP($A32,'16eme'!$F:$M,8,FALSE)),\"\",IF(VLOOKUP($A32,'16eme'!$F:$M,8,FALSE)=AQ$2,\"X\",\"\")),IF(VLOOKUP($A32,'16eme'!$B:$M,12,FALSE)=AQ$2,\"X\",\"\"))","v":""},{"$f":"IF(ISERROR(VLOOKUP($A32,'16eme'!$B:$M,12,FALSE)),IF(ISERROR(VLOOKUP($A32,'16eme'!$F:$M,8,FALSE)),\"\",IF(VLOOKUP($A32,'16eme'!$F:$M,8,FALSE)=AR$2,\"X\",\"\")),IF(VLOOKUP($A32,'16eme'!$B:$M,12,FALSE)=AR$2,\"X\",\"\"))","v":""},{"$f":"IF(ISERROR(VLOOKUP($A32,'16eme'!$B:$M,12,FALSE)),IF(ISERROR(VLOOKUP($A32,'16eme'!$F:$M,8,FALSE)),\"\",IF(VLOOKUP($A32,'16eme'!$F:$M,8,FALSE)=AS$2,\"X\",\"\")),IF(VLOOKUP($A32,'16eme'!$B:$M,12,FALSE)=AS$2,\"X\",\"\"))","v":""},{"$f":"IF(ISERROR(VLOOKUP($A32,'16eme'!$B:$M,12,FALSE)),IF(ISERROR(VLOOKUP($A32,'16eme'!$F:$M,8,FALSE)),\"\",IF(VLOOKUP($A32,'16eme'!$F:$M,8,FALSE)=AT$2,\"X\",\"\")),IF(VLOOKUP($A32,'16eme'!$B:$M,12,FALSE)=AT$2,\"X\",\"\"))","v":""},{"$f":"IF(ISERROR(VLOOKUP($A32,'16eme'!$B:$M,12,FALSE)),IF(ISERROR(VLOOKUP($A32,'16eme'!$F:$M,8,FALSE)),\"\",IF(VLOOKUP($A32,'16eme'!$F:$M,8,FALSE)=AU$2,\"X\",\"\")),IF(VLOOKUP($A32,'16eme'!$B:$M,12,FALSE)=AU$2,\"X\",\"\"))","v":""},{"$f":"IF(ISERROR(VLOOKUP($A32,'16eme'!$B:$M,12,FALSE)),IF(ISERROR(VLOOKUP($A32,'16eme'!$F:$M,8,FALSE)),\"\",IF(VLOOKUP($A32,'16eme'!$F:$M,8,FALSE)=AV$2,\"X\",\"\")),IF(VLOOKUP($A32,'16eme'!$B:$M,12,FALSE)=AV$2,\"X\",\"\"))","v":""},{"$f":"IF(ISERROR(VLOOKUP($A32,'16eme'!$B:$M,12,FALSE)),IF(ISERROR(VLOOKUP($A32,'16eme'!$F:$M,8,FALSE)),\"\",IF(VLOOKUP($A32,'16eme'!$F:$M,8,FALSE)=AW$2,\"X\",\"\")),IF(VLOOKUP($A32,'16eme'!$B:$M,12,FALSE)=AW$2,\"X\",\"\"))","v":""},{"$f":"IF(ISERROR(VLOOKUP($A32,'8eme'!$B:$M,12,FALSE)),IF(ISERROR(VLOOKUP($A32,'8eme'!$F:$M,8,FALSE)),\"\",IF(VLOOKUP($A32,'8eme'!$F:$M,8,FALSE)=AX$2,\"X\",\"\")),IF(VLOOKUP($A32,'8eme'!$B:$M,12,FALSE)=AX$2,\"X\",\"\"))","v":""},{"$f":"IF(ISERROR(VLOOKUP($A32,'8eme'!$B:$M,12,FALSE)),IF(ISERROR(VLOOKUP($A32,'8eme'!$F:$M,8,FALSE)),\"\",IF(VLOOKUP($A32,'8eme'!$F:$M,8,FALSE)=AY$2,\"X\",\"\")),IF(VLOOKUP($A32,'8eme'!$B:$M,12,FALSE)=AY$2,\"X\",\"\"))","v":""},{"$f":"IF(ISERROR(VLOOKUP($A32,'8eme'!$B:$M,12,FALSE)),IF(ISERROR(VLOOKUP($A32,'8eme'!$F:$M,8,FALSE)),\"\",IF(VLOOKUP($A32,'8eme'!$F:$M,8,FALSE)=AZ$2,\"X\",\"\")),IF(VLOOKUP($A32,'8eme'!$B:$M,12,FALSE)=AZ$2,\"X\",\"\"))","v":""},{"$f":"IF(ISERROR(VLOOKUP($A32,'8eme'!$B:$M,12,FALSE)),IF(ISERROR(VLOOKUP($A32,'8eme'!$F:$M,8,FALSE)),\"\",IF(VLOOKUP($A32,'8eme'!$F:$M,8,FALSE)=BA$2,\"X\",\"\")),IF(VLOOKUP($A32,'8eme'!$B:$M,12,FALSE)=BA$2,\"X\",\"\"))","v":""},{"$f":"IF(ISERROR(VLOOKUP($A32,'8eme'!$B:$M,12,FALSE)),IF(ISERROR(VLOOKUP($A32,'8eme'!$F:$M,8,FALSE)),\"\",IF(VLOOKUP($A32,'8eme'!$F:$M,8,FALSE)=BB$2,\"X\",\"\")),IF(VLOOKUP($A32,'8eme'!$B:$M,12,FALSE)=BB$2,\"X\",\"\"))","v":""},{"$f":"IF(ISERROR(VLOOKUP($A32,'8eme'!$B:$M,12,FALSE)),IF(ISERROR(VLOOKUP($A32,'8eme'!$F:$M,8,FALSE)),\"\",IF(VLOOKUP($A32,'8eme'!$F:$M,8,FALSE)=BC$2,\"X\",\"\")),IF(VLOOKUP($A32,'8eme'!$B:$M,12,FALSE)=BC$2,\"X\",\"\"))","v":""},{"$f":"IF(ISERROR(VLOOKUP($A32,'8eme'!$B:$M,12,FALSE)),IF(ISERROR(VLOOKUP($A32,'8eme'!$F:$M,8,FALSE)),\"\",IF(VLOOKUP($A32,'8eme'!$F:$M,8,FALSE)=BD$2,\"X\",\"\")),IF(VLOOKUP($A32,'8eme'!$B:$M,12,FALSE)=BD$2,\"X\",\"\"))","v":""},{"$f":"IF(ISERROR(VLOOKUP($A32,'8eme'!$B:$M,12,FALSE)),IF(ISERROR(VLOOKUP($A32,'8eme'!$F:$M,8,FALSE)),\"\",IF(VLOOKUP($A32,'8eme'!$F:$M,8,FALSE)=BE$2,\"X\",\"\")),IF(VLOOKUP($A32,'8eme'!$B:$M,12,FALSE)=BE$2,\"X\",\"\"))","v":""},{"$f":"IF(ISERROR(VLOOKUP($A32,'8eme'!$B:$M,12,FALSE)),IF(ISERROR(VLOOKUP($A32,'8eme'!$F:$M,8,FALSE)),\"\",IF(VLOOKUP($A32,'8eme'!$F:$M,8,FALSE)=BF$2,\"X\",\"\")),IF(VLOOKUP($A32,'8eme'!$B:$M,12,FALSE)=BF$2,\"X\",\"\"))","v":""},{"$f":"IF(ISERROR(VLOOKUP($A32,'8eme'!$B:$M,12,FALSE)),IF(ISERROR(VLOOKUP($A32,'8eme'!$F:$M,8,FALSE)),\"\",IF(VLOOKUP($A32,'8eme'!$F:$M,8,FALSE)=BG$2,\"X\",\"\")),IF(VLOOKUP($A32,'8eme'!$B:$M,12,FALSE)=BG$2,\"X\",\"\"))","v":""},{"$f":"IF(ISERROR(VLOOKUP($A32,'8eme'!$B:$M,12,FALSE)),IF(ISERROR(VLOOKUP($A32,'8eme'!$F:$M,8,FALSE)),\"\",IF(VLOOKUP($A32,'8eme'!$F:$M,8,FALSE)=BH$2,\"X\",\"\")),IF(VLOOKUP($A32,'8eme'!$B:$M,12,FALSE)=BH$2,\"X\",\"\"))","v":""},{"$f":"IF(ISERROR(VLOOKUP($A32,'8eme'!$B:$M,12,FALSE)),IF(ISERROR(VLOOKUP($A32,'8eme'!$F:$M,8,FALSE)),\"\",IF(VLOOKUP($A32,'8eme'!$F:$M,8,FALSE)=BI$2,\"X\",\"\")),IF(VLOOKUP($A32,'8eme'!$B:$M,12,FALSE)=BI$2,\"X\",\"\"))","v":""},{"$f":"IF(ISERROR(VLOOKUP($A32,'8eme'!$B:$M,12,FALSE)),IF(ISERROR(VLOOKUP($A32,'8eme'!$F:$M,8,FALSE)),\"\",IF(VLOOKUP($A32,'8eme'!$F:$M,8,FALSE)=BJ$2,\"X\",\"\")),IF(VLOOKUP($A32,'8eme'!$B:$M,12,FALSE)=BJ$2,\"X\",\"\"))","v":""},{"$f":"IF(ISERROR(VLOOKUP($A32,'8eme'!$B:$M,12,FALSE)),IF(ISERROR(VLOOKUP($A32,'8eme'!$F:$M,8,FALSE)),\"\",IF(VLOOKUP($A32,'8eme'!$F:$M,8,FALSE)=BK$2,\"X\",\"\")),IF(VLOOKUP($A32,'8eme'!$B:$M,12,FALSE)=BK$2,\"X\",\"\"))","v":""},{"$f":"IF(ISERROR(VLOOKUP($A32,'8eme'!$B:$M,12,FALSE)),IF(ISERROR(VLOOKUP($A32,'8eme'!$F:$M,8,FALSE)),\"\",IF(VLOOKUP($A32,'8eme'!$F:$M,8,FALSE)=BL$2,\"X\",\"\")),IF(VLOOKUP($A32,'8eme'!$B:$M,12,FALSE)=BL$2,\"X\",\"\"))","v":""},{"$f":"IF(ISERROR(VLOOKUP($A32,'8eme'!$B:$M,12,FALSE)),IF(ISERROR(VLOOKUP($A32,'8eme'!$F:$M,8,FALSE)),\"\",IF(VLOOKUP($A32,'8eme'!$F:$M,8,FALSE)=BM$2,\"X\",\"\")),IF(VLOOKUP($A32,'8eme'!$B:$M,12,FALSE)=BM$2,\"X\",\"\"))","v":""},{"$f":"IF(ISERROR(VLOOKUP($A32,quart!$B:$M,12,FALSE)),IF(ISERROR(VLOOKUP($A32,quart!$F:$M,8,FALSE)),\"\",IF(VLOOKUP($A32,quart!$F:$M,8,FALSE)=BN$2,\"X\",\"\")),IF(VLOOKUP($A32,quart!$B:$M,12,FALSE)=BN$2,\"X\",\"\"))","v":""},{"$f":"IF(ISERROR(VLOOKUP($A32,quart!$B:$M,12,FALSE)),IF(ISERROR(VLOOKUP($A32,quart!$F:$M,8,FALSE)),\"\",IF(VLOOKUP($A32,quart!$F:$M,8,FALSE)=BO$2,\"X\",\"\")),IF(VLOOKUP($A32,quart!$B:$M,12,FALSE)=BO$2,\"X\",\"\"))","v":""},{"$f":"IF(ISERROR(VLOOKUP($A32,quart!$B:$M,12,FALSE)),IF(ISERROR(VLOOKUP($A32,quart!$F:$M,8,FALSE)),\"\",IF(VLOOKUP($A32,quart!$F:$M,8,FALSE)=BP$2,\"X\",\"\")),IF(VLOOKUP($A32,quart!$B:$M,12,FALSE)=BP$2,\"X\",\"\"))","v":""},{"$f":"IF(ISERROR(VLOOKUP($A32,quart!$B:$M,12,FALSE)),IF(ISERROR(VLOOKUP($A32,quart!$F:$M,8,FALSE)),\"\",IF(VLOOKUP($A32,quart!$F:$M,8,FALSE)=BQ$2,\"X\",\"\")),IF(VLOOKUP($A32,quart!$B:$M,12,FALSE)=BQ$2,\"X\",\"\"))","v":""},{"$f":"IF(ISERROR(VLOOKUP($A32,quart!$B:$M,12,FALSE)),IF(ISERROR(VLOOKUP($A32,quart!$F:$M,8,FALSE)),\"\",IF(VLOOKUP($A32,quart!$F:$M,8,FALSE)=BR$2,\"X\",\"\")),IF(VLOOKUP($A32,quart!$B:$M,12,FALSE)=BR$2,\"X\",\"\"))","v":""},{"$f":"IF(ISERROR(VLOOKUP($A32,quart!$B:$M,12,FALSE)),IF(ISERROR(VLOOKUP($A32,quart!$F:$M,8,FALSE)),\"\",IF(VLOOKUP($A32,quart!$F:$M,8,FALSE)=BS$2,\"X\",\"\")),IF(VLOOKUP($A32,quart!$B:$M,12,FALSE)=BS$2,\"X\",\"\"))","v":""},{"$f":"IF(ISERROR(VLOOKUP($A32,quart!$B:$M,12,FALSE)),IF(ISERROR(VLOOKUP($A32,quart!$F:$M,8,FALSE)),\"\",IF(VLOOKUP($A32,quart!$F:$M,8,FALSE)=BT$2,\"X\",\"\")),IF(VLOOKUP($A32,quart!$B:$M,12,FALSE)=BT$2,\"X\",\"\"))","v":""},{"$f":"IF(ISERROR(VLOOKUP($A32,quart!$B:$M,12,FALSE)),IF(ISERROR(VLOOKUP($A32,quart!$F:$M,8,FALSE)),\"\",IF(VLOOKUP($A32,quart!$F:$M,8,FALSE)=BU$2,\"X\",\"\")),IF(VLOOKUP($A32,quart!$B:$M,12,FALSE)=BU$2,\"X\",\"\"))","v":""},{"$f":"IF(ISERROR(VLOOKUP($A32,quart!$B:$M,12,FALSE)),IF(ISERROR(VLOOKUP($A32,quart!$F:$M,8,FALSE)),\"\",IF(VLOOKUP($A32,quart!$F:$M,8,FALSE)=BV$2,\"X\",\"\")),IF(VLOOKUP($A32,quart!$B:$M,12,FALSE)=BV$2,\"X\",\"\"))","v":""},{"$f":"IF(ISERROR(VLOOKUP($A32,quart!$B:$M,12,FALSE)),IF(ISERROR(VLOOKUP($A32,quart!$F:$M,8,FALSE)),\"\",IF(VLOOKUP($A32,quart!$F:$M,8,FALSE)=BW$2,\"X\",\"\")),IF(VLOOKUP($A32,quart!$B:$M,12,FALSE)=BW$2,\"X\",\"\"))","v":""},{"$f":"IF(ISERROR(VLOOKUP($A32,quart!$B:$M,12,FALSE)),IF(ISERROR(VLOOKUP($A32,quart!$F:$M,8,FALSE)),\"\",IF(VLOOKUP($A32,quart!$F:$M,8,FALSE)=BX$2,\"X\",\"\")),IF(VLOOKUP($A32,quart!$B:$M,12,FALSE)=BX$2,\"X\",\"\"))","v":""},{"$f":"IF(ISERROR(VLOOKUP($A32,quart!$B:$M,12,FALSE)),IF(ISERROR(VLOOKUP($A32,quart!$F:$M,8,FALSE)),\"\",IF(VLOOKUP($A32,quart!$F:$M,8,FALSE)=BY$2,\"X\",\"\")),IF(VLOOKUP($A32,quart!$B:$M,12,FALSE)=BY$2,\"X\",\"\"))","v":""},{"$f":"IF(ISERROR(VLOOKUP($A32,quart!$B:$M,12,FALSE)),IF(ISERROR(VLOOKUP($A32,quart!$F:$M,8,FALSE)),\"\",IF(VLOOKUP($A32,quart!$F:$M,8,FALSE)=BZ$2,\"X\",\"\")),IF(VLOOKUP($A32,quart!$B:$M,12,FALSE)=BZ$2,\"X\",\"\"))","v":""},{"$f":"IF(ISERROR(VLOOKUP($A32,quart!$B:$M,12,FALSE)),IF(ISERROR(VLOOKUP($A32,quart!$F:$M,8,FALSE)),\"\",IF(VLOOKUP($A32,quart!$F:$M,8,FALSE)=CA$2,\"X\",\"\")),IF(VLOOKUP($A32,quart!$B:$M,12,FALSE)=CA$2,\"X\",\"\"))","v":""},{"$f":"IF(ISERROR(VLOOKUP($A32,quart!$B:$M,12,FALSE)),IF(ISERROR(VLOOKUP($A32,quart!$F:$M,8,FALSE)),\"\",IF(VLOOKUP($A32,quart!$F:$M,8,FALSE)=CB$2,\"X\",\"\")),IF(VLOOKUP($A32,quart!$B:$M,12,FALSE)=CB$2,\"X\",\"\"))","v":""},{"$f":"IF(ISERROR(VLOOKUP($A32,quart!$B:$M,12,FALSE)),IF(ISERROR(VLOOKUP($A32,quart!$F:$M,8,FALSE)),\"\",IF(VLOOKUP($A32,quart!$F:$M,8,FALSE)=CC$2,\"X\",\"\")),IF(VLOOKUP($A32,quart!$B:$M,12,FALSE)=CC$2,\"X\",\"\"))","v":""},{"$f":"IF(ISERROR(VLOOKUP($A32,demi!$B:$M,12,FALSE)),IF(ISERROR(VLOOKUP($A32,demi!$F:$M,8,FALSE)),\"\",IF(VLOOKUP($A32,demi!$F:$M,8,FALSE)=CD$2,\"X\",\"\")),IF(VLOOKUP($A32,demi!$B:$M,12,FALSE)=CD$2,\"X\",\"\"))","v":""},{"$f":"IF(ISERROR(VLOOKUP($A32,demi!$B:$M,12,FALSE)),IF(ISERROR(VLOOKUP($A32,demi!$F:$M,8,FALSE)),\"\",IF(VLOOKUP($A32,demi!$F:$M,8,FALSE)=CE$2,\"X\",\"\")),IF(VLOOKUP($A32,demi!$B:$M,12,FALSE)=CE$2,\"X\",\"\"))","v":""},{"$f":"IF(ISERROR(VLOOKUP($A32,demi!$B:$M,12,FALSE)),IF(ISERROR(VLOOKUP($A32,demi!$F:$M,8,FALSE)),\"\",IF(VLOOKUP($A32,demi!$F:$M,8,FALSE)=CF$2,\"X\",\"\")),IF(VLOOKUP($A32,demi!$B:$M,12,FALSE)=CF$2,\"X\",\"\"))","v":""},{"$f":"IF(ISERROR(VLOOKUP($A32,demi!$B:$M,12,FALSE)),IF(ISERROR(VLOOKUP($A32,demi!$F:$M,8,FALSE)),\"\",IF(VLOOKUP($A32,demi!$F:$M,8,FALSE)=CG$2,\"X\",\"\")),IF(VLOOKUP($A32,demi!$B:$M,12,FALSE)=CG$2,\"X\",\"\"))","v":""},{"$f":"IF(ISERROR(VLOOKUP($A32,demi!$B:$M,12,FALSE)),IF(ISERROR(VLOOKUP($A32,demi!$F:$M,8,FALSE)),\"\",IF(VLOOKUP($A32,demi!$F:$M,8,FALSE)=CH$2,\"X\",\"\")),IF(VLOOKUP($A32,demi!$B:$M,12,FALSE)=CH$2,\"X\",\"\"))","v":""},{"$f":"IF(ISERROR(VLOOKUP($A32,demi!$B:$M,12,FALSE)),IF(ISERROR(VLOOKUP($A32,demi!$F:$M,8,FALSE)),\"\",IF(VLOOKUP($A32,demi!$F:$M,8,FALSE)=CI$2,\"X\",\"\")),IF(VLOOKUP($A32,demi!$B:$M,12,FALSE)=CI$2,\"X\",\"\"))","v":""},{"$f":"IF(ISERROR(VLOOKUP($A32,demi!$B:$M,12,FALSE)),IF(ISERROR(VLOOKUP($A32,demi!$F:$M,8,FALSE)),\"\",IF(VLOOKUP($A32,demi!$F:$M,8,FALSE)=CJ$2,\"X\",\"\")),IF(VLOOKUP($A32,demi!$B:$M,12,FALSE)=CJ$2,\"X\",\"\"))","v":""},{"$f":"IF(ISERROR(VLOOKUP($A32,demi!$B:$M,12,FALSE)),IF(ISERROR(VLOOKUP($A32,demi!$F:$M,8,FALSE)),\"\",IF(VLOOKUP($A32,demi!$F:$M,8,FALSE)=CK$2,\"X\",\"\")),IF(VLOOKUP($A32,demi!$B:$M,12,FALSE)=CK$2,\"X\",\"\"))","v":""},{"$f":"IF(ISERROR(VLOOKUP($A32,demi!$B:$M,12,FALSE)),IF(ISERROR(VLOOKUP($A32,demi!$F:$M,8,FALSE)),\"\",IF(VLOOKUP($A32,demi!$F:$M,8,FALSE)=CL$2,\"X\",\"\")),IF(VLOOKUP($A32,demi!$B:$M,12,FALSE)=CL$2,\"X\",\"\"))","v":""},{"$f":"IF(ISERROR(VLOOKUP($A32,demi!$B:$M,12,FALSE)),IF(ISERROR(VLOOKUP($A32,demi!$F:$M,8,FALSE)),\"\",IF(VLOOKUP($A32,demi!$F:$M,8,FALSE)=CM$2,\"X\",\"\")),IF(VLOOKUP($A32,demi!$B:$M,12,FALSE)=CM$2,\"X\",\"\"))","v":""},{"$f":"IF(ISERROR(VLOOKUP($A32,demi!$B:$M,12,FALSE)),IF(ISERROR(VLOOKUP($A32,demi!$F:$M,8,FALSE)),\"\",IF(VLOOKUP($A32,demi!$F:$M,8,FALSE)=CN$2,\"X\",\"\")),IF(VLOOKUP($A32,demi!$B:$M,12,FALSE)=CN$2,\"X\",\"\"))","v":""},{"$f":"IF(ISERROR(VLOOKUP($A32,demi!$B:$M,12,FALSE)),IF(ISERROR(VLOOKUP($A32,demi!$F:$M,8,FALSE)),\"\",IF(VLOOKUP($A32,demi!$F:$M,8,FALSE)=CO$2,\"X\",\"\")),IF(VLOOKUP($A32,demi!$B:$M,12,FALSE)=CO$2,\"X\",\"\"))","v":""},{"$f":"IF(ISERROR(VLOOKUP($A32,demi!$B:$M,12,FALSE)),IF(ISERROR(VLOOKUP($A32,demi!$F:$M,8,FALSE)),\"\",IF(VLOOKUP($A32,demi!$F:$M,8,FALSE)=CP$2,\"X\",\"\")),IF(VLOOKUP($A32,demi!$B:$M,12,FALSE)=CP$2,\"X\",\"\"))","v":""},{"$f":"IF(ISERROR(VLOOKUP($A32,demi!$B:$M,12,FALSE)),IF(ISERROR(VLOOKUP($A32,demi!$F:$M,8,FALSE)),\"\",IF(VLOOKUP($A32,demi!$F:$M,8,FALSE)=CQ$2,\"X\",\"\")),IF(VLOOKUP($A32,demi!$B:$M,12,FALSE)=CQ$2,\"X\",\"\"))","v":""},{"$f":"IF(ISERROR(VLOOKUP($A32,demi!$B:$M,12,FALSE)),IF(ISERROR(VLOOKUP($A32,demi!$F:$M,8,FALSE)),\"\",IF(VLOOKUP($A32,demi!$F:$M,8,FALSE)=CR$2,\"X\",\"\")),IF(VLOOKUP($A32,demi!$B:$M,12,FALSE)=CR$2,\"X\",\"\"))","v":""},{"$f":"IF(ISERROR(VLOOKUP($A32,demi!$B:$M,12,FALSE)),IF(ISERROR(VLOOKUP($A32,demi!$F:$M,8,FALSE)),\"\",IF(VLOOKUP($A32,demi!$F:$M,8,FALSE)=CS$2,\"X\",\"\")),IF(VLOOKUP($A32,demi!$B:$M,12,FALSE)=CS$2,\"X\",\"\"))","v":""}]
[31,"X","X","X","X","X","X","X","X","X","X","X","X","X","X","X","X",{"$f":"IF(ISERROR(VLOOKUP($A33,'32eme'!$B:$M,12,FALSE)),IF(ISERROR(VLOOKUP($A33,'32eme'!$F:$M,8,FALSE)),\"\",IF(VLOOKUP($A33,'32eme'!$F:$M,8,FALSE)=R$2,\"X\",\"\")),IF(VLOOKUP($A33,'32eme'!$B:$M,12,FALSE)=R$2,\"X\",\"\"))","v":""},{"$f":"IF(ISERROR(VLOOKUP($A33,'32eme'!$B:$M,12,FALSE)),IF(ISERROR(VLOOKUP($A33,'32eme'!$F:$M,8,FALSE)),\"\",IF(VLOOKUP($A33,'32eme'!$F:$M,8,FALSE)=S$2,\"X\",\"\")),IF(VLOOKUP($A33,'32eme'!$B:$M,12,FALSE)=S$2,\"X\",\"\"))","v":""},{"$f":"IF(ISERROR(VLOOKUP($A33,'32eme'!$B:$M,12,FALSE)),IF(ISERROR(VLOOKUP($A33,'32eme'!$F:$M,8,FALSE)),\"\",IF(VLOOKUP($A33,'32eme'!$F:$M,8,FALSE)=T$2,\"X\",\"\")),IF(VLOOKUP($A33,'32eme'!$B:$M,12,FALSE)=T$2,\"X\",\"\"))","v":""},{"$f":"IF(ISERROR(VLOOKUP($A33,'32eme'!$B:$M,12,FALSE)),IF(ISERROR(VLOOKUP($A33,'32eme'!$F:$M,8,FALSE)),\"\",IF(VLOOKUP($A33,'32eme'!$F:$M,8,FALSE)=U$2,\"X\",\"\")),IF(VLOOKUP($A33,'32eme'!$B:$M,12,FALSE)=U$2,\"X\",\"\"))","v":""},{"$f":"IF(ISERROR(VLOOKUP($A33,'32eme'!$B:$M,12,FALSE)),IF(ISERROR(VLOOKUP($A33,'32eme'!$F:$M,8,FALSE)),\"\",IF(VLOOKUP($A33,'32eme'!$F:$M,8,FALSE)=V$2,\"X\",\"\")),IF(VLOOKUP($A33,'32eme'!$B:$M,12,FALSE)=V$2,\"X\",\"\"))","v":""},{"$f":"IF(ISERROR(VLOOKUP($A33,'32eme'!$B:$M,12,FALSE)),IF(ISERROR(VLOOKUP($A33,'32eme'!$F:$M,8,FALSE)),\"\",IF(VLOOKUP($A33,'32eme'!$F:$M,8,FALSE)=W$2,\"X\",\"\")),IF(VLOOKUP($A33,'32eme'!$B:$M,12,FALSE)=W$2,\"X\",\"\"))","v":""},{"$f":"IF(ISERROR(VLOOKUP($A33,'32eme'!$B:$M,12,FALSE)),IF(ISERROR(VLOOKUP($A33,'32eme'!$F:$M,8,FALSE)),\"\",IF(VLOOKUP($A33,'32eme'!$F:$M,8,FALSE)=X$2,\"X\",\"\")),IF(VLOOKUP($A33,'32eme'!$B:$M,12,FALSE)=X$2,\"X\",\"\"))","v":""},{"$f":"IF(ISERROR(VLOOKUP($A33,'32eme'!$B:$M,12,FALSE)),IF(ISERROR(VLOOKUP($A33,'32eme'!$F:$M,8,FALSE)),\"\",IF(VLOOKUP($A33,'32eme'!$F:$M,8,FALSE)=Y$2,\"X\",\"\")),IF(VLOOKUP($A33,'32eme'!$B:$M,12,FALSE)=Y$2,\"X\",\"\"))","v":""},{"$f":"IF(ISERROR(VLOOKUP($A33,'32eme'!$B:$M,12,FALSE)),IF(ISERROR(VLOOKUP($A33,'32eme'!$F:$M,8,FALSE)),\"\",IF(VLOOKUP($A33,'32eme'!$F:$M,8,FALSE)=Z$2,\"X\",\"\")),IF(VLOOKUP($A33,'32eme'!$B:$M,12,FALSE)=Z$2,\"X\",\"\"))","v":""},{"$f":"IF(ISERROR(VLOOKUP($A33,'32eme'!$B:$M,12,FALSE)),IF(ISERROR(VLOOKUP($A33,'32eme'!$F:$M,8,FALSE)),\"\",IF(VLOOKUP($A33,'32eme'!$F:$M,8,FALSE)=AA$2,\"X\",\"\")),IF(VLOOKUP($A33,'32eme'!$B:$M,12,FALSE)=AA$2,\"X\",\"\"))","v":""},{"$f":"IF(ISERROR(VLOOKUP($A33,'32eme'!$B:$M,12,FALSE)),IF(ISERROR(VLOOKUP($A33,'32eme'!$F:$M,8,FALSE)),\"\",IF(VLOOKUP($A33,'32eme'!$F:$M,8,FALSE)=AB$2,\"X\",\"\")),IF(VLOOKUP($A33,'32eme'!$B:$M,12,FALSE)=AB$2,\"X\",\"\"))","v":""},{"$f":"IF(ISERROR(VLOOKUP($A33,'32eme'!$B:$M,12,FALSE)),IF(ISERROR(VLOOKUP($A33,'32eme'!$F:$M,8,FALSE)),\"\",IF(VLOOKUP($A33,'32eme'!$F:$M,8,FALSE)=AC$2,\"X\",\"\")),IF(VLOOKUP($A33,'32eme'!$B:$M,12,FALSE)=AC$2,\"X\",\"\"))","v":""},{"$f":"IF(ISERROR(VLOOKUP($A33,'32eme'!$B:$M,12,FALSE)),IF(ISERROR(VLOOKUP($A33,'32eme'!$F:$M,8,FALSE)),\"\",IF(VLOOKUP($A33,'32eme'!$F:$M,8,FALSE)=AD$2,\"X\",\"\")),IF(VLOOKUP($A33,'32eme'!$B:$M,12,FALSE)=AD$2,\"X\",\"\"))","v":""},{"$f":"IF(ISERROR(VLOOKUP($A33,'32eme'!$B:$M,12,FALSE)),IF(ISERROR(VLOOKUP($A33,'32eme'!$F:$M,8,FALSE)),\"\",IF(VLOOKUP($A33,'32eme'!$F:$M,8,FALSE)=AE$2,\"X\",\"\")),IF(VLOOKUP($A33,'32eme'!$B:$M,12,FALSE)=AE$2,\"X\",\"\"))","v":""},{"$f":"IF(ISERROR(VLOOKUP($A33,'32eme'!$B:$M,12,FALSE)),IF(ISERROR(VLOOKUP($A33,'32eme'!$F:$M,8,FALSE)),\"\",IF(VLOOKUP($A33,'32eme'!$F:$M,8,FALSE)=AF$2,\"X\",\"\")),IF(VLOOKUP($A33,'32eme'!$B:$M,12,FALSE)=AF$2,\"X\",\"\"))","v":""},{"$f":"IF(ISERROR(VLOOKUP($A33,'32eme'!$B:$M,12,FALSE)),IF(ISERROR(VLOOKUP($A33,'32eme'!$F:$M,8,FALSE)),\"\",IF(VLOOKUP($A33,'32eme'!$F:$M,8,FALSE)=AG$2,\"X\",\"\")),IF(VLOOKUP($A33,'32eme'!$B:$M,12,FALSE)=AG$2,\"X\",\"\"))","v":""},{"$f":"IF(ISERROR(VLOOKUP($A33,'16eme'!$B:$M,12,FALSE)),IF(ISERROR(VLOOKUP($A33,'16eme'!$F:$M,8,FALSE)),\"\",IF(VLOOKUP($A33,'16eme'!$F:$M,8,FALSE)=AH$2,\"X\",\"\")),IF(VLOOKUP($A33,'16eme'!$B:$M,12,FALSE)=AH$2,\"X\",\"\"))","v":""},{"$f":"IF(ISERROR(VLOOKUP($A33,'16eme'!$B:$M,12,FALSE)),IF(ISERROR(VLOOKUP($A33,'16eme'!$F:$M,8,FALSE)),\"\",IF(VLOOKUP($A33,'16eme'!$F:$M,8,FALSE)=AI$2,\"X\",\"\")),IF(VLOOKUP($A33,'16eme'!$B:$M,12,FALSE)=AI$2,\"X\",\"\"))","v":""},{"$f":"IF(ISERROR(VLOOKUP($A33,'16eme'!$B:$M,12,FALSE)),IF(ISERROR(VLOOKUP($A33,'16eme'!$F:$M,8,FALSE)),\"\",IF(VLOOKUP($A33,'16eme'!$F:$M,8,FALSE)=AJ$2,\"X\",\"\")),IF(VLOOKUP($A33,'16eme'!$B:$M,12,FALSE)=AJ$2,\"X\",\"\"))","v":""},{"$f":"IF(ISERROR(VLOOKUP($A33,'16eme'!$B:$M,12,FALSE)),IF(ISERROR(VLOOKUP($A33,'16eme'!$F:$M,8,FALSE)),\"\",IF(VLOOKUP($A33,'16eme'!$F:$M,8,FALSE)=AK$2,\"X\",\"\")),IF(VLOOKUP($A33,'16eme'!$B:$M,12,FALSE)=AK$2,\"X\",\"\"))","v":""},{"$f":"IF(ISERROR(VLOOKUP($A33,'16eme'!$B:$M,12,FALSE)),IF(ISERROR(VLOOKUP($A33,'16eme'!$F:$M,8,FALSE)),\"\",IF(VLOOKUP($A33,'16eme'!$F:$M,8,FALSE)=AL$2,\"X\",\"\")),IF(VLOOKUP($A33,'16eme'!$B:$M,12,FALSE)=AL$2,\"X\",\"\"))","v":""},{"$f":"IF(ISERROR(VLOOKUP($A33,'16eme'!$B:$M,12,FALSE)),IF(ISERROR(VLOOKUP($A33,'16eme'!$F:$M,8,FALSE)),\"\",IF(VLOOKUP($A33,'16eme'!$F:$M,8,FALSE)=AM$2,\"X\",\"\")),IF(VLOOKUP($A33,'16eme'!$B:$M,12,FALSE)=AM$2,\"X\",\"\"))","v":""},{"$f":"IF(ISERROR(VLOOKUP($A33,'16eme'!$B:$M,12,FALSE)),IF(ISERROR(VLOOKUP($A33,'16eme'!$F:$M,8,FALSE)),\"\",IF(VLOOKUP($A33,'16eme'!$F:$M,8,FALSE)=AN$2,\"X\",\"\")),IF(VLOOKUP($A33,'16eme'!$B:$M,12,FALSE)=AN$2,\"X\",\"\"))","v":""},{"$f":"IF(ISERROR(VLOOKUP($A33,'16eme'!$B:$M,12,FALSE)),IF(ISERROR(VLOOKUP($A33,'16eme'!$F:$M,8,FALSE)),\"\",IF(VLOOKUP($A33,'16eme'!$F:$M,8,FALSE)=AO$2,\"X\",\"\")),IF(VLOOKUP($A33,'16eme'!$B:$M,12,FALSE)=AO$2,\"X\",\"\"))","v":""},{"$f":"IF(ISERROR(VLOOKUP($A33,'16eme'!$B:$M,12,FALSE)),IF(ISERROR(VLOOKUP($A33,'16eme'!$F:$M,8,FALSE)),\"\",IF(VLOOKUP($A33,'16eme'!$F:$M,8,FALSE)=AP$2,\"X\",\"\")),IF(VLOOKUP($A33,'16eme'!$B:$M,12,FALSE)=AP$2,\"X\",\"\"))","v":""},{"$f":"IF(ISERROR(VLOOKUP($A33,'16eme'!$B:$M,12,FALSE)),IF(ISERROR(VLOOKUP($A33,'16eme'!$F:$M,8,FALSE)),\"\",IF(VLOOKUP($A33,'16eme'!$F:$M,8,FALSE)=AQ$2,\"X\",\"\")),IF(VLOOKUP($A33,'16eme'!$B:$M,12,FALSE)=AQ$2,\"X\",\"\"))","v":""},{"$f":"IF(ISERROR(VLOOKUP($A33,'16eme'!$B:$M,12,FALSE)),IF(ISERROR(VLOOKUP($A33,'16eme'!$F:$M,8,FALSE)),\"\",IF(VLOOKUP($A33,'16eme'!$F:$M,8,FALSE)=AR$2,\"X\",\"\")),IF(VLOOKUP($A33,'16eme'!$B:$M,12,FALSE)=AR$2,\"X\",\"\"))","v":""},{"$f":"IF(ISERROR(VLOOKUP($A33,'16eme'!$B:$M,12,FALSE)),IF(ISERROR(VLOOKUP($A33,'16eme'!$F:$M,8,FALSE)),\"\",IF(VLOOKUP($A33,'16eme'!$F:$M,8,FALSE)=AS$2,\"X\",\"\")),IF(VLOOKUP($A33,'16eme'!$B:$M,12,FALSE)=AS$2,\"X\",\"\"))","v":""},{"$f":"IF(ISERROR(VLOOKUP($A33,'16eme'!$B:$M,12,FALSE)),IF(ISERROR(VLOOKUP($A33,'16eme'!$F:$M,8,FALSE)),\"\",IF(VLOOKUP($A33,'16eme'!$F:$M,8,FALSE)=AT$2,\"X\",\"\")),IF(VLOOKUP($A33,'16eme'!$B:$M,12,FALSE)=AT$2,\"X\",\"\"))","v":""},{"$f":"IF(ISERROR(VLOOKUP($A33,'16eme'!$B:$M,12,FALSE)),IF(ISERROR(VLOOKUP($A33,'16eme'!$F:$M,8,FALSE)),\"\",IF(VLOOKUP($A33,'16eme'!$F:$M,8,FALSE)=AU$2,\"X\",\"\")),IF(VLOOKUP($A33,'16eme'!$B:$M,12,FALSE)=AU$2,\"X\",\"\"))","v":""},{"$f":"IF(ISERROR(VLOOKUP($A33,'16eme'!$B:$M,12,FALSE)),IF(ISERROR(VLOOKUP($A33,'16eme'!$F:$M,8,FALSE)),\"\",IF(VLOOKUP($A33,'16eme'!$F:$M,8,FALSE)=AV$2,\"X\",\"\")),IF(VLOOKUP($A33,'16eme'!$B:$M,12,FALSE)=AV$2,\"X\",\"\"))","v":""},{"$f":"IF(ISERROR(VLOOKUP($A33,'16eme'!$B:$M,12,FALSE)),IF(ISERROR(VLOOKUP($A33,'16eme'!$F:$M,8,FALSE)),\"\",IF(VLOOKUP($A33,'16eme'!$F:$M,8,FALSE)=AW$2,\"X\",\"\")),IF(VLOOKUP($A33,'16eme'!$B:$M,12,FALSE)=AW$2,\"X\",\"\"))","v":""},{"$f":"IF(ISERROR(VLOOKUP($A33,'8eme'!$B:$M,12,FALSE)),IF(ISERROR(VLOOKUP($A33,'8eme'!$F:$M,8,FALSE)),\"\",IF(VLOOKUP($A33,'8eme'!$F:$M,8,FALSE)=AX$2,\"X\",\"\")),IF(VLOOKUP($A33,'8eme'!$B:$M,12,FALSE)=AX$2,\"X\",\"\"))","v":""},{"$f":"IF(ISERROR(VLOOKUP($A33,'8eme'!$B:$M,12,FALSE)),IF(ISERROR(VLOOKUP($A33,'8eme'!$F:$M,8,FALSE)),\"\",IF(VLOOKUP($A33,'8eme'!$F:$M,8,FALSE)=AY$2,\"X\",\"\")),IF(VLOOKUP($A33,'8eme'!$B:$M,12,FALSE)=AY$2,\"X\",\"\"))","v":""},{"$f":"IF(ISERROR(VLOOKUP($A33,'8eme'!$B:$M,12,FALSE)),IF(ISERROR(VLOOKUP($A33,'8eme'!$F:$M,8,FALSE)),\"\",IF(VLOOKUP($A33,'8eme'!$F:$M,8,FALSE)=AZ$2,\"X\",\"\")),IF(VLOOKUP($A33,'8eme'!$B:$M,12,FALSE)=AZ$2,\"X\",\"\"))","v":""},{"$f":"IF(ISERROR(VLOOKUP($A33,'8eme'!$B:$M,12,FALSE)),IF(ISERROR(VLOOKUP($A33,'8eme'!$F:$M,8,FALSE)),\"\",IF(VLOOKUP($A33,'8eme'!$F:$M,8,FALSE)=BA$2,\"X\",\"\")),IF(VLOOKUP($A33,'8eme'!$B:$M,12,FALSE)=BA$2,\"X\",\"\"))","v":""},{"$f":"IF(ISERROR(VLOOKUP($A33,'8eme'!$B:$M,12,FALSE)),IF(ISERROR(VLOOKUP($A33,'8eme'!$F:$M,8,FALSE)),\"\",IF(VLOOKUP($A33,'8eme'!$F:$M,8,FALSE)=BB$2,\"X\",\"\")),IF(VLOOKUP($A33,'8eme'!$B:$M,12,FALSE)=BB$2,\"X\",\"\"))","v":""},{"$f":"IF(ISERROR(VLOOKUP($A33,'8eme'!$B:$M,12,FALSE)),IF(ISERROR(VLOOKUP($A33,'8eme'!$F:$M,8,FALSE)),\"\",IF(VLOOKUP($A33,'8eme'!$F:$M,8,FALSE)=BC$2,\"X\",\"\")),IF(VLOOKUP($A33,'8eme'!$B:$M,12,FALSE)=BC$2,\"X\",\"\"))","v":""},{"$f":"IF(ISERROR(VLOOKUP($A33,'8eme'!$B:$M,12,FALSE)),IF(ISERROR(VLOOKUP($A33,'8eme'!$F:$M,8,FALSE)),\"\",IF(VLOOKUP($A33,'8eme'!$F:$M,8,FALSE)=BD$2,\"X\",\"\")),IF(VLOOKUP($A33,'8eme'!$B:$M,12,FALSE)=BD$2,\"X\",\"\"))","v":""},{"$f":"IF(ISERROR(VLOOKUP($A33,'8eme'!$B:$M,12,FALSE)),IF(ISERROR(VLOOKUP($A33,'8eme'!$F:$M,8,FALSE)),\"\",IF(VLOOKUP($A33,'8eme'!$F:$M,8,FALSE)=BE$2,\"X\",\"\")),IF(VLOOKUP($A33,'8eme'!$B:$M,12,FALSE)=BE$2,\"X\",\"\"))","v":""},{"$f":"IF(ISERROR(VLOOKUP($A33,'8eme'!$B:$M,12,FALSE)),IF(ISERROR(VLOOKUP($A33,'8eme'!$F:$M,8,FALSE)),\"\",IF(VLOOKUP($A33,'8eme'!$F:$M,8,FALSE)=BF$2,\"X\",\"\")),IF(VLOOKUP($A33,'8eme'!$B:$M,12,FALSE)=BF$2,\"X\",\"\"))","v":""},{"$f":"IF(ISERROR(VLOOKUP($A33,'8eme'!$B:$M,12,FALSE)),IF(ISERROR(VLOOKUP($A33,'8eme'!$F:$M,8,FALSE)),\"\",IF(VLOOKUP($A33,'8eme'!$F:$M,8,FALSE)=BG$2,\"X\",\"\")),IF(VLOOKUP($A33,'8eme'!$B:$M,12,FALSE)=BG$2,\"X\",\"\"))","v":""},{"$f":"IF(ISERROR(VLOOKUP($A33,'8eme'!$B:$M,12,FALSE)),IF(ISERROR(VLOOKUP($A33,'8eme'!$F:$M,8,FALSE)),\"\",IF(VLOOKUP($A33,'8eme'!$F:$M,8,FALSE)=BH$2,\"X\",\"\")),IF(VLOOKUP($A33,'8eme'!$B:$M,12,FALSE)=BH$2,\"X\",\"\"))","v":""},{"$f":"IF(ISERROR(VLOOKUP($A33,'8eme'!$B:$M,12,FALSE)),IF(ISERROR(VLOOKUP($A33,'8eme'!$F:$M,8,FALSE)),\"\",IF(VLOOKUP($A33,'8eme'!$F:$M,8,FALSE)=BI$2,\"X\",\"\")),IF(VLOOKUP($A33,'8eme'!$B:$M,12,FALSE)=BI$2,\"X\",\"\"))","v":""},{"$f":"IF(ISERROR(VLOOKUP($A33,'8eme'!$B:$M,12,FALSE)),IF(ISERROR(VLOOKUP($A33,'8eme'!$F:$M,8,FALSE)),\"\",IF(VLOOKUP($A33,'8eme'!$F:$M,8,FALSE)=BJ$2,\"X\",\"\")),IF(VLOOKUP($A33,'8eme'!$B:$M,12,FALSE)=BJ$2,\"X\",\"\"))","v":""},{"$f":"IF(ISERROR(VLOOKUP($A33,'8eme'!$B:$M,12,FALSE)),IF(ISERROR(VLOOKUP($A33,'8eme'!$F:$M,8,FALSE)),\"\",IF(VLOOKUP($A33,'8eme'!$F:$M,8,FALSE)=BK$2,\"X\",\"\")),IF(VLOOKUP($A33,'8eme'!$B:$M,12,FALSE)=BK$2,\"X\",\"\"))","v":""},{"$f":"IF(ISERROR(VLOOKUP($A33,'8eme'!$B:$M,12,FALSE)),IF(ISERROR(VLOOKUP($A33,'8eme'!$F:$M,8,FALSE)),\"\",IF(VLOOKUP($A33,'8eme'!$F:$M,8,FALSE)=BL$2,\"X\",\"\")),IF(VLOOKUP($A33,'8eme'!$B:$M,12,FALSE)=BL$2,\"X\",\"\"))","v":""},{"$f":"IF(ISERROR(VLOOKUP($A33,'8eme'!$B:$M,12,FALSE)),IF(ISERROR(VLOOKUP($A33,'8eme'!$F:$M,8,FALSE)),\"\",IF(VLOOKUP($A33,'8eme'!$F:$M,8,FALSE)=BM$2,\"X\",\"\")),IF(VLOOKUP($A33,'8eme'!$B:$M,12,FALSE)=BM$2,\"X\",\"\"))","v":""},{"$f":"IF(ISERROR(VLOOKUP($A33,quart!$B:$M,12,FALSE)),IF(ISERROR(VLOOKUP($A33,quart!$F:$M,8,FALSE)),\"\",IF(VLOOKUP($A33,quart!$F:$M,8,FALSE)=BN$2,\"X\",\"\")),IF(VLOOKUP($A33,quart!$B:$M,12,FALSE)=BN$2,\"X\",\"\"))","v":""},{"$f":"IF(ISERROR(VLOOKUP($A33,quart!$B:$M,12,FALSE)),IF(ISERROR(VLOOKUP($A33,quart!$F:$M,8,FALSE)),\"\",IF(VLOOKUP($A33,quart!$F:$M,8,FALSE)=BO$2,\"X\",\"\")),IF(VLOOKUP($A33,quart!$B:$M,12,FALSE)=BO$2,\"X\",\"\"))","v":""},{"$f":"IF(ISERROR(VLOOKUP($A33,quart!$B:$M,12,FALSE)),IF(ISERROR(VLOOKUP($A33,quart!$F:$M,8,FALSE)),\"\",IF(VLOOKUP($A33,quart!$F:$M,8,FALSE)=BP$2,\"X\",\"\")),IF(VLOOKUP($A33,quart!$B:$M,12,FALSE)=BP$2,\"X\",\"\"))","v":""},{"$f":"IF(ISERROR(VLOOKUP($A33,quart!$B:$M,12,FALSE)),IF(ISERROR(VLOOKUP($A33,quart!$F:$M,8,FALSE)),\"\",IF(VLOOKUP($A33,quart!$F:$M,8,FALSE)=BQ$2,\"X\",\"\")),IF(VLOOKUP($A33,quart!$B:$M,12,FALSE)=BQ$2,\"X\",\"\"))","v":""},{"$f":"IF(ISERROR(VLOOKUP($A33,quart!$B:$M,12,FALSE)),IF(ISERROR(VLOOKUP($A33,quart!$F:$M,8,FALSE)),\"\",IF(VLOOKUP($A33,quart!$F:$M,8,FALSE)=BR$2,\"X\",\"\")),IF(VLOOKUP($A33,quart!$B:$M,12,FALSE)=BR$2,\"X\",\"\"))","v":""},{"$f":"IF(ISERROR(VLOOKUP($A33,quart!$B:$M,12,FALSE)),IF(ISERROR(VLOOKUP($A33,quart!$F:$M,8,FALSE)),\"\",IF(VLOOKUP($A33,quart!$F:$M,8,FALSE)=BS$2,\"X\",\"\")),IF(VLOOKUP($A33,quart!$B:$M,12,FALSE)=BS$2,\"X\",\"\"))","v":""},{"$f":"IF(ISERROR(VLOOKUP($A33,quart!$B:$M,12,FALSE)),IF(ISERROR(VLOOKUP($A33,quart!$F:$M,8,FALSE)),\"\",IF(VLOOKUP($A33,quart!$F:$M,8,FALSE)=BT$2,\"X\",\"\")),IF(VLOOKUP($A33,quart!$B:$M,12,FALSE)=BT$2,\"X\",\"\"))","v":""},{"$f":"IF(ISERROR(VLOOKUP($A33,quart!$B:$M,12,FALSE)),IF(ISERROR(VLOOKUP($A33,quart!$F:$M,8,FALSE)),\"\",IF(VLOOKUP($A33,quart!$F:$M,8,FALSE)=BU$2,\"X\",\"\")),IF(VLOOKUP($A33,quart!$B:$M,12,FALSE)=BU$2,\"X\",\"\"))","v":""},{"$f":"IF(ISERROR(VLOOKUP($A33,quart!$B:$M,12,FALSE)),IF(ISERROR(VLOOKUP($A33,quart!$F:$M,8,FALSE)),\"\",IF(VLOOKUP($A33,quart!$F:$M,8,FALSE)=BV$2,\"X\",\"\")),IF(VLOOKUP($A33,quart!$B:$M,12,FALSE)=BV$2,\"X\",\"\"))","v":""},{"$f":"IF(ISERROR(VLOOKUP($A33,quart!$B:$M,12,FALSE)),IF(ISERROR(VLOOKUP($A33,quart!$F:$M,8,FALSE)),\"\",IF(VLOOKUP($A33,quart!$F:$M,8,FALSE)=BW$2,\"X\",\"\")),IF(VLOOKUP($A33,quart!$B:$M,12,FALSE)=BW$2,\"X\",\"\"))","v":""},{"$f":"IF(ISERROR(VLOOKUP($A33,quart!$B:$M,12,FALSE)),IF(ISERROR(VLOOKUP($A33,quart!$F:$M,8,FALSE)),\"\",IF(VLOOKUP($A33,quart!$F:$M,8,FALSE)=BX$2,\"X\",\"\")),IF(VLOOKUP($A33,quart!$B:$M,12,FALSE)=BX$2,\"X\",\"\"))","v":""},{"$f":"IF(ISERROR(VLOOKUP($A33,quart!$B:$M,12,FALSE)),IF(ISERROR(VLOOKUP($A33,quart!$F:$M,8,FALSE)),\"\",IF(VLOOKUP($A33,quart!$F:$M,8,FALSE)=BY$2,\"X\",\"\")),IF(VLOOKUP($A33,quart!$B:$M,12,FALSE)=BY$2,\"X\",\"\"))","v":""},{"$f":"IF(ISERROR(VLOOKUP($A33,quart!$B:$M,12,FALSE)),IF(ISERROR(VLOOKUP($A33,quart!$F:$M,8,FALSE)),\"\",IF(VLOOKUP($A33,quart!$F:$M,8,FALSE)=BZ$2,\"X\",\"\")),IF(VLOOKUP($A33,quart!$B:$M,12,FALSE)=BZ$2,\"X\",\"\"))","v":""},{"$f":"IF(ISERROR(VLOOKUP($A33,quart!$B:$M,12,FALSE)),IF(ISERROR(VLOOKUP($A33,quart!$F:$M,8,FALSE)),\"\",IF(VLOOKUP($A33,quart!$F:$M,8,FALSE)=CA$2,\"X\",\"\")),IF(VLOOKUP($A33,quart!$B:$M,12,FALSE)=CA$2,\"X\",\"\"))","v":""},{"$f":"IF(ISERROR(VLOOKUP($A33,quart!$B:$M,12,FALSE)),IF(ISERROR(VLOOKUP($A33,quart!$F:$M,8,FALSE)),\"\",IF(VLOOKUP($A33,quart!$F:$M,8,FALSE)=CB$2,\"X\",\"\")),IF(VLOOKUP($A33,quart!$B:$M,12,FALSE)=CB$2,\"X\",\"\"))","v":""},{"$f":"IF(ISERROR(VLOOKUP($A33,quart!$B:$M,12,FALSE)),IF(ISERROR(VLOOKUP($A33,quart!$F:$M,8,FALSE)),\"\",IF(VLOOKUP($A33,quart!$F:$M,8,FALSE)=CC$2,\"X\",\"\")),IF(VLOOKUP($A33,quart!$B:$M,12,FALSE)=CC$2,\"X\",\"\"))","v":""},{"$f":"IF(ISERROR(VLOOKUP($A33,demi!$B:$M,12,FALSE)),IF(ISERROR(VLOOKUP($A33,demi!$F:$M,8,FALSE)),\"\",IF(VLOOKUP($A33,demi!$F:$M,8,FALSE)=CD$2,\"X\",\"\")),IF(VLOOKUP($A33,demi!$B:$M,12,FALSE)=CD$2,\"X\",\"\"))","v":""},{"$f":"IF(ISERROR(VLOOKUP($A33,demi!$B:$M,12,FALSE)),IF(ISERROR(VLOOKUP($A33,demi!$F:$M,8,FALSE)),\"\",IF(VLOOKUP($A33,demi!$F:$M,8,FALSE)=CE$2,\"X\",\"\")),IF(VLOOKUP($A33,demi!$B:$M,12,FALSE)=CE$2,\"X\",\"\"))","v":""},{"$f":"IF(ISERROR(VLOOKUP($A33,demi!$B:$M,12,FALSE)),IF(ISERROR(VLOOKUP($A33,demi!$F:$M,8,FALSE)),\"\",IF(VLOOKUP($A33,demi!$F:$M,8,FALSE)=CF$2,\"X\",\"\")),IF(VLOOKUP($A33,demi!$B:$M,12,FALSE)=CF$2,\"X\",\"\"))","v":""},{"$f":"IF(ISERROR(VLOOKUP($A33,demi!$B:$M,12,FALSE)),IF(ISERROR(VLOOKUP($A33,demi!$F:$M,8,FALSE)),\"\",IF(VLOOKUP($A33,demi!$F:$M,8,FALSE)=CG$2,\"X\",\"\")),IF(VLOOKUP($A33,demi!$B:$M,12,FALSE)=CG$2,\"X\",\"\"))","v":""},{"$f":"IF(ISERROR(VLOOKUP($A33,demi!$B:$M,12,FALSE)),IF(ISERROR(VLOOKUP($A33,demi!$F:$M,8,FALSE)),\"\",IF(VLOOKUP($A33,demi!$F:$M,8,FALSE)=CH$2,\"X\",\"\")),IF(VLOOKUP($A33,demi!$B:$M,12,FALSE)=CH$2,\"X\",\"\"))","v":""},{"$f":"IF(ISERROR(VLOOKUP($A33,demi!$B:$M,12,FALSE)),IF(ISERROR(VLOOKUP($A33,demi!$F:$M,8,FALSE)),\"\",IF(VLOOKUP($A33,demi!$F:$M,8,FALSE)=CI$2,\"X\",\"\")),IF(VLOOKUP($A33,demi!$B:$M,12,FALSE)=CI$2,\"X\",\"\"))","v":""},{"$f":"IF(ISERROR(VLOOKUP($A33,demi!$B:$M,12,FALSE)),IF(ISERROR(VLOOKUP($A33,demi!$F:$M,8,FALSE)),\"\",IF(VLOOKUP($A33,demi!$F:$M,8,FALSE)=CJ$2,\"X\",\"\")),IF(VLOOKUP($A33,demi!$B:$M,12,FALSE)=CJ$2,\"X\",\"\"))","v":""},{"$f":"IF(ISERROR(VLOOKUP($A33,demi!$B:$M,12,FALSE)),IF(ISERROR(VLOOKUP($A33,demi!$F:$M,8,FALSE)),\"\",IF(VLOOKUP($A33,demi!$F:$M,8,FALSE)=CK$2,\"X\",\"\")),IF(VLOOKUP($A33,demi!$B:$M,12,FALSE)=CK$2,\"X\",\"\"))","v":""},{"$f":"IF(ISERROR(VLOOKUP($A33,demi!$B:$M,12,FALSE)),IF(ISERROR(VLOOKUP($A33,demi!$F:$M,8,FALSE)),\"\",IF(VLOOKUP($A33,demi!$F:$M,8,FALSE)=CL$2,\"X\",\"\")),IF(VLOOKUP($A33,demi!$B:$M,12,FALSE)=CL$2,\"X\",\"\"))","v":""},{"$f":"IF(ISERROR(VLOOKUP($A33,demi!$B:$M,12,FALSE)),IF(ISERROR(VLOOKUP($A33,demi!$F:$M,8,FALSE)),\"\",IF(VLOOKUP($A33,demi!$F:$M,8,FALSE)=CM$2,\"X\",\"\")),IF(VLOOKUP($A33,demi!$B:$M,12,FALSE)=CM$2,\"X\",\"\"))","v":""},{"$f":"IF(ISERROR(VLOOKUP($A33,demi!$B:$M,12,FALSE)),IF(ISERROR(VLOOKUP($A33,demi!$F:$M,8,FALSE)),\"\",IF(VLOOKUP($A33,demi!$F:$M,8,FALSE)=CN$2,\"X\",\"\")),IF(VLOOKUP($A33,demi!$B:$M,12,FALSE)=CN$2,\"X\",\"\"))","v":""},{"$f":"IF(ISERROR(VLOOKUP($A33,demi!$B:$M,12,FALSE)),IF(ISERROR(VLOOKUP($A33,demi!$F:$M,8,FALSE)),\"\",IF(VLOOKUP($A33,demi!$F:$M,8,FALSE)=CO$2,\"X\",\"\")),IF(VLOOKUP($A33,demi!$B:$M,12,FALSE)=CO$2,\"X\",\"\"))","v":""},{"$f":"IF(ISERROR(VLOOKUP($A33,demi!$B:$M,12,FALSE)),IF(ISERROR(VLOOKUP($A33,demi!$F:$M,8,FALSE)),\"\",IF(VLOOKUP($A33,demi!$F:$M,8,FALSE)=CP$2,\"X\",\"\")),IF(VLOOKUP($A33,demi!$B:$M,12,FALSE)=CP$2,\"X\",\"\"))","v":""},{"$f":"IF(ISERROR(VLOOKUP($A33,demi!$B:$M,12,FALSE)),IF(ISERROR(VLOOKUP($A33,demi!$F:$M,8,FALSE)),\"\",IF(VLOOKUP($A33,demi!$F:$M,8,FALSE)=CQ$2,\"X\",\"\")),IF(VLOOKUP($A33,demi!$B:$M,12,FALSE)=CQ$2,\"X\",\"\"))","v":""},{"$f":"IF(ISERROR(VLOOKUP($A33,demi!$B:$M,12,FALSE)),IF(ISERROR(VLOOKUP($A33,demi!$F:$M,8,FALSE)),\"\",IF(VLOOKUP($A33,demi!$F:$M,8,FALSE)=CR$2,\"X\",\"\")),IF(VLOOKUP($A33,demi!$B:$M,12,FALSE)=CR$2,\"X\",\"\"))","v":""},{"$f":"IF(ISERROR(VLOOKUP($A33,demi!$B:$M,12,FALSE)),IF(ISERROR(VLOOKUP($A33,demi!$F:$M,8,FALSE)),\"\",IF(VLOOKUP($A33,demi!$F:$M,8,FALSE)=CS$2,\"X\",\"\")),IF(VLOOKUP($A33,demi!$B:$M,12,FALSE)=CS$2,\"X\",\"\"))","v":""}]
[32,"X","X","X","X","X","X","X","X","X","X","X","X","X","X","X","X",{"$f":"IF(ISERROR(VLOOKUP($A34,'32eme'!$B:$M,12,FALSE)),IF(ISERROR(VLOOKUP($A34,'32eme'!$F:$M,8,FALSE)),\"\",IF(VLOOKUP($A34,'32eme'!$F:$M,8,FALSE)=R$2,\"X\",\"\")),IF(VLOOKUP($A34,'32eme'!$B:$M,12,FALSE)=R$2,\"X\",\"\"))","v":""},{"$f":"IF(ISERROR(VLOOKUP($A34,'32eme'!$B:$M,12,FALSE)),IF(ISERROR(VLOOKUP($A34,'32eme'!$F:$M,8,FALSE)),\"\",IF(VLOOKUP($A34,'32eme'!$F:$M,8,FALSE)=S$2,\"X\",\"\")),IF(VLOOKUP($A34,'32eme'!$B:$M,12,FALSE)=S$2,\"X\",\"\"))","v":""},{"$f":"IF(ISERROR(VLOOKUP($A34,'32eme'!$B:$M,12,FALSE)),IF(ISERROR(VLOOKUP($A34,'32eme'!$F:$M,8,FALSE)),\"\",IF(VLOOKUP($A34,'32eme'!$F:$M,8,FALSE)=T$2,\"X\",\"\")),IF(VLOOKUP($A34,'32eme'!$B:$M,12,FALSE)=T$2,\"X\",\"\"))","v":""},{"$f":"IF(ISERROR(VLOOKUP($A34,'32eme'!$B:$M,12,FALSE)),IF(ISERROR(VLOOKUP($A34,'32eme'!$F:$M,8,FALSE)),\"\",IF(VLOOKUP($A34,'32eme'!$F:$M,8,FALSE)=U$2,\"X\",\"\")),IF(VLOOKUP($A34,'32eme'!$B:$M,12,FALSE)=U$2,\"X\",\"\"))","v":""},{"$f":"IF(ISERROR(VLOOKUP($A34,'32eme'!$B:$M,12,FALSE)),IF(ISERROR(VLOOKUP($A34,'32eme'!$F:$M,8,FALSE)),\"\",IF(VLOOKUP($A34,'32eme'!$F:$M,8,FALSE)=V$2,\"X\",\"\")),IF(VLOOKUP($A34,'32eme'!$B:$M,12,FALSE)=V$2,\"X\",\"\"))","v":""},{"$f":"IF(ISERROR(VLOOKUP($A34,'32eme'!$B:$M,12,FALSE)),IF(ISERROR(VLOOKUP($A34,'32eme'!$F:$M,8,FALSE)),\"\",IF(VLOOKUP($A34,'32eme'!$F:$M,8,FALSE)=W$2,\"X\",\"\")),IF(VLOOKUP($A34,'32eme'!$B:$M,12,FALSE)=W$2,\"X\",\"\"))","v":""},{"$f":"IF(ISERROR(VLOOKUP($A34,'32eme'!$B:$M,12,FALSE)),IF(ISERROR(VLOOKUP($A34,'32eme'!$F:$M,8,FALSE)),\"\",IF(VLOOKUP($A34,'32eme'!$F:$M,8,FALSE)=X$2,\"X\",\"\")),IF(VLOOKUP($A34,'32eme'!$B:$M,12,FALSE)=X$2,\"X\",\"\"))","v":""},{"$f":"IF(ISERROR(VLOOKUP($A34,'32eme'!$B:$M,12,FALSE)),IF(ISERROR(VLOOKUP($A34,'32eme'!$F:$M,8,FALSE)),\"\",IF(VLOOKUP($A34,'32eme'!$F:$M,8,FALSE)=Y$2,\"X\",\"\")),IF(VLOOKUP($A34,'32eme'!$B:$M,12,FALSE)=Y$2,\"X\",\"\"))","v":""},{"$f":"IF(ISERROR(VLOOKUP($A34,'32eme'!$B:$M,12,FALSE)),IF(ISERROR(VLOOKUP($A34,'32eme'!$F:$M,8,FALSE)),\"\",IF(VLOOKUP($A34,'32eme'!$F:$M,8,FALSE)=Z$2,\"X\",\"\")),IF(VLOOKUP($A34,'32eme'!$B:$M,12,FALSE)=Z$2,\"X\",\"\"))","v":""},{"$f":"IF(ISERROR(VLOOKUP($A34,'32eme'!$B:$M,12,FALSE)),IF(ISERROR(VLOOKUP($A34,'32eme'!$F:$M,8,FALSE)),\"\",IF(VLOOKUP($A34,'32eme'!$F:$M,8,FALSE)=AA$2,\"X\",\"\")),IF(VLOOKUP($A34,'32eme'!$B:$M,12,FALSE)=AA$2,\"X\",\"\"))","v":""},{"$f":"IF(ISERROR(VLOOKUP($A34,'32eme'!$B:$M,12,FALSE)),IF(ISERROR(VLOOKUP($A34,'32eme'!$F:$M,8,FALSE)),\"\",IF(VLOOKUP($A34,'32eme'!$F:$M,8,FALSE)=AB$2,\"X\",\"\")),IF(VLOOKUP($A34,'32eme'!$B:$M,12,FALSE)=AB$2,\"X\",\"\"))","v":""},{"$f":"IF(ISERROR(VLOOKUP($A34,'32eme'!$B:$M,12,FALSE)),IF(ISERROR(VLOOKUP($A34,'32eme'!$F:$M,8,FALSE)),\"\",IF(VLOOKUP($A34,'32eme'!$F:$M,8,FALSE)=AC$2,\"X\",\"\")),IF(VLOOKUP($A34,'32eme'!$B:$M,12,FALSE)=AC$2,\"X\",\"\"))","v":""},{"$f":"IF(ISERROR(VLOOKUP($A34,'32eme'!$B:$M,12,FALSE)),IF(ISERROR(VLOOKUP($A34,'32eme'!$F:$M,8,FALSE)),\"\",IF(VLOOKUP($A34,'32eme'!$F:$M,8,FALSE)=AD$2,\"X\",\"\")),IF(VLOOKUP($A34,'32eme'!$B:$M,12,FALSE)=AD$2,\"X\",\"\"))","v":""},{"$f":"IF(ISERROR(VLOOKUP($A34,'32eme'!$B:$M,12,FALSE)),IF(ISERROR(VLOOKUP($A34,'32eme'!$F:$M,8,FALSE)),\"\",IF(VLOOKUP($A34,'32eme'!$F:$M,8,FALSE)=AE$2,\"X\",\"\")),IF(VLOOKUP($A34,'32eme'!$B:$M,12,FALSE)=AE$2,\"X\",\"\"))","v":""},{"$f":"IF(ISERROR(VLOOKUP($A34,'32eme'!$B:$M,12,FALSE)),IF(ISERROR(VLOOKUP($A34,'32eme'!$F:$M,8,FALSE)),\"\",IF(VLOOKUP($A34,'32eme'!$F:$M,8,FALSE)=AF$2,\"X\",\"\")),IF(VLOOKUP($A34,'32eme'!$B:$M,12,FALSE)=AF$2,\"X\",\"\"))","v":""},{"$f":"IF(ISERROR(VLOOKUP($A34,'32eme'!$B:$M,12,FALSE)),IF(ISERROR(VLOOKUP($A34,'32eme'!$F:$M,8,FALSE)),\"\",IF(VLOOKUP($A34,'32eme'!$F:$M,8,FALSE)=AG$2,\"X\",\"\")),IF(VLOOKUP($A34,'32eme'!$B:$M,12,FALSE)=AG$2,\"X\",\"\"))","v":""},{"$f":"IF(ISERROR(VLOOKUP($A34,'16eme'!$B:$M,12,FALSE)),IF(ISERROR(VLOOKUP($A34,'16eme'!$F:$M,8,FALSE)),\"\",IF(VLOOKUP($A34,'16eme'!$F:$M,8,FALSE)=AH$2,\"X\",\"\")),IF(VLOOKUP($A34,'16eme'!$B:$M,12,FALSE)=AH$2,\"X\",\"\"))","v":""},{"$f":"IF(ISERROR(VLOOKUP($A34,'16eme'!$B:$M,12,FALSE)),IF(ISERROR(VLOOKUP($A34,'16eme'!$F:$M,8,FALSE)),\"\",IF(VLOOKUP($A34,'16eme'!$F:$M,8,FALSE)=AI$2,\"X\",\"\")),IF(VLOOKUP($A34,'16eme'!$B:$M,12,FALSE)=AI$2,\"X\",\"\"))","v":""},{"$f":"IF(ISERROR(VLOOKUP($A34,'16eme'!$B:$M,12,FALSE)),IF(ISERROR(VLOOKUP($A34,'16eme'!$F:$M,8,FALSE)),\"\",IF(VLOOKUP($A34,'16eme'!$F:$M,8,FALSE)=AJ$2,\"X\",\"\")),IF(VLOOKUP($A34,'16eme'!$B:$M,12,FALSE)=AJ$2,\"X\",\"\"))","v":""},{"$f":"IF(ISERROR(VLOOKUP($A34,'16eme'!$B:$M,12,FALSE)),IF(ISERROR(VLOOKUP($A34,'16eme'!$F:$M,8,FALSE)),\"\",IF(VLOOKUP($A34,'16eme'!$F:$M,8,FALSE)=AK$2,\"X\",\"\")),IF(VLOOKUP($A34,'16eme'!$B:$M,12,FALSE)=AK$2,\"X\",\"\"))","v":""},{"$f":"IF(ISERROR(VLOOKUP($A34,'16eme'!$B:$M,12,FALSE)),IF(ISERROR(VLOOKUP($A34,'16eme'!$F:$M,8,FALSE)),\"\",IF(VLOOKUP($A34,'16eme'!$F:$M,8,FALSE)=AL$2,\"X\",\"\")),IF(VLOOKUP($A34,'16eme'!$B:$M,12,FALSE)=AL$2,\"X\",\"\"))","v":""},{"$f":"IF(ISERROR(VLOOKUP($A34,'16eme'!$B:$M,12,FALSE)),IF(ISERROR(VLOOKUP($A34,'16eme'!$F:$M,8,FALSE)),\"\",IF(VLOOKUP($A34,'16eme'!$F:$M,8,FALSE)=AM$2,\"X\",\"\")),IF(VLOOKUP($A34,'16eme'!$B:$M,12,FALSE)=AM$2,\"X\",\"\"))","v":""},{"$f":"IF(ISERROR(VLOOKUP($A34,'16eme'!$B:$M,12,FALSE)),IF(ISERROR(VLOOKUP($A34,'16eme'!$F:$M,8,FALSE)),\"\",IF(VLOOKUP($A34,'16eme'!$F:$M,8,FALSE)=AN$2,\"X\",\"\")),IF(VLOOKUP($A34,'16eme'!$B:$M,12,FALSE)=AN$2,\"X\",\"\"))","v":""},{"$f":"IF(ISERROR(VLOOKUP($A34,'16eme'!$B:$M,12,FALSE)),IF(ISERROR(VLOOKUP($A34,'16eme'!$F:$M,8,FALSE)),\"\",IF(VLOOKUP($A34,'16eme'!$F:$M,8,FALSE)=AO$2,\"X\",\"\")),IF(VLOOKUP($A34,'16eme'!$B:$M,12,FALSE)=AO$2,\"X\",\"\"))","v":""},{"$f":"IF(ISERROR(VLOOKUP($A34,'16eme'!$B:$M,12,FALSE)),IF(ISERROR(VLOOKUP($A34,'16eme'!$F:$M,8,FALSE)),\"\",IF(VLOOKUP($A34,'16eme'!$F:$M,8,FALSE)=AP$2,\"X\",\"\")),IF(VLOOKUP($A34,'16eme'!$B:$M,12,FALSE)=AP$2,\"X\",\"\"))","v":""},{"$f":"IF(ISERROR(VLOOKUP($A34,'16eme'!$B:$M,12,FALSE)),IF(ISERROR(VLOOKUP($A34,'16eme'!$F:$M,8,FALSE)),\"\",IF(VLOOKUP($A34,'16eme'!$F:$M,8,FALSE)=AQ$2,\"X\",\"\")),IF(VLOOKUP($A34,'16eme'!$B:$M,12,FALSE)=AQ$2,\"X\",\"\"))","v":""},{"$f":"IF(ISERROR(VLOOKUP($A34,'16eme'!$B:$M,12,FALSE)),IF(ISERROR(VLOOKUP($A34,'16eme'!$F:$M,8,FALSE)),\"\",IF(VLOOKUP($A34,'16eme'!$F:$M,8,FALSE)=AR$2,\"X\",\"\")),IF(VLOOKUP($A34,'16eme'!$B:$M,12,FALSE)=AR$2,\"X\",\"\"))","v":""},{"$f":"IF(ISERROR(VLOOKUP($A34,'16eme'!$B:$M,12,FALSE)),IF(ISERROR(VLOOKUP($A34,'16eme'!$F:$M,8,FALSE)),\"\",IF(VLOOKUP($A34,'16eme'!$F:$M,8,FALSE)=AS$2,\"X\",\"\")),IF(VLOOKUP($A34,'16eme'!$B:$M,12,FALSE)=AS$2,\"X\",\"\"))","v":""},{"$f":"IF(ISERROR(VLOOKUP($A34,'16eme'!$B:$M,12,FALSE)),IF(ISERROR(VLOOKUP($A34,'16eme'!$F:$M,8,FALSE)),\"\",IF(VLOOKUP($A34,'16eme'!$F:$M,8,FALSE)=AT$2,\"X\",\"\")),IF(VLOOKUP($A34,'16eme'!$B:$M,12,FALSE)=AT$2,\"X\",\"\"))","v":""},{"$f":"IF(ISERROR(VLOOKUP($A34,'16eme'!$B:$M,12,FALSE)),IF(ISERROR(VLOOKUP($A34,'16eme'!$F:$M,8,FALSE)),\"\",IF(VLOOKUP($A34,'16eme'!$F:$M,8,FALSE)=AU$2,\"X\",\"\")),IF(VLOOKUP($A34,'16eme'!$B:$M,12,FALSE)=AU$2,\"X\",\"\"))","v":""},{"$f":"IF(ISERROR(VLOOKUP($A34,'16eme'!$B:$M,12,FALSE)),IF(ISERROR(VLOOKUP($A34,'16eme'!$F:$M,8,FALSE)),\"\",IF(VLOOKUP($A34,'16eme'!$F:$M,8,FALSE)=AV$2,\"X\",\"\")),IF(VLOOKUP($A34,'16eme'!$B:$M,12,FALSE)=AV$2,\"X\",\"\"))","v":""},{"$f":"IF(ISERROR(VLOOKUP($A34,'16eme'!$B:$M,12,FALSE)),IF(ISERROR(VLOOKUP($A34,'16eme'!$F:$M,8,FALSE)),\"\",IF(VLOOKUP($A34,'16eme'!$F:$M,8,FALSE)=AW$2,\"X\",\"\")),IF(VLOOKUP($A34,'16eme'!$B:$M,12,FALSE)=AW$2,\"X\",\"\"))","v":""},{"$f":"IF(ISERROR(VLOOKUP($A34,'8eme'!$B:$M,12,FALSE)),IF(ISERROR(VLOOKUP($A34,'8eme'!$F:$M,8,FALSE)),\"\",IF(VLOOKUP($A34,'8eme'!$F:$M,8,FALSE)=AX$2,\"X\",\"\")),IF(VLOOKUP($A34,'8eme'!$B:$M,12,FALSE)=AX$2,\"X\",\"\"))","v":""},{"$f":"IF(ISERROR(VLOOKUP($A34,'8eme'!$B:$M,12,FALSE)),IF(ISERROR(VLOOKUP($A34,'8eme'!$F:$M,8,FALSE)),\"\",IF(VLOOKUP($A34,'8eme'!$F:$M,8,FALSE)=AY$2,\"X\",\"\")),IF(VLOOKUP($A34,'8eme'!$B:$M,12,FALSE)=AY$2,\"X\",\"\"))","v":""},{"$f":"IF(ISERROR(VLOOKUP($A34,'8eme'!$B:$M,12,FALSE)),IF(ISERROR(VLOOKUP($A34,'8eme'!$F:$M,8,FALSE)),\"\",IF(VLOOKUP($A34,'8eme'!$F:$M,8,FALSE)=AZ$2,\"X\",\"\")),IF(VLOOKUP($A34,'8eme'!$B:$M,12,FALSE)=AZ$2,\"X\",\"\"))","v":""},{"$f":"IF(ISERROR(VLOOKUP($A34,'8eme'!$B:$M,12,FALSE)),IF(ISERROR(VLOOKUP($A34,'8eme'!$F:$M,8,FALSE)),\"\",IF(VLOOKUP($A34,'8eme'!$F:$M,8,FALSE)=BA$2,\"X\",\"\")),IF(VLOOKUP($A34,'8eme'!$B:$M,12,FALSE)=BA$2,\"X\",\"\"))","v":""},{"$f":"IF(ISERROR(VLOOKUP($A34,'8eme'!$B:$M,12,FALSE)),IF(ISERROR(VLOOKUP($A34,'8eme'!$F:$M,8,FALSE)),\"\",IF(VLOOKUP($A34,'8eme'!$F:$M,8,FALSE)=BB$2,\"X\",\"\")),IF(VLOOKUP($A34,'8eme'!$B:$M,12,FALSE)=BB$2,\"X\",\"\"))","v":""},{"$f":"IF(ISERROR(VLOOKUP($A34,'8eme'!$B:$M,12,FALSE)),IF(ISERROR(VLOOKUP($A34,'8eme'!$F:$M,8,FALSE)),\"\",IF(VLOOKUP($A34,'8eme'!$F:$M,8,FALSE)=BC$2,\"X\",\"\")),IF(VLOOKUP($A34,'8eme'!$B:$M,12,FALSE)=BC$2,\"X\",\"\"))","v":""},{"$f":"IF(ISERROR(VLOOKUP($A34,'8eme'!$B:$M,12,FALSE)),IF(ISERROR(VLOOKUP($A34,'8eme'!$F:$M,8,FALSE)),\"\",IF(VLOOKUP($A34,'8eme'!$F:$M,8,FALSE)=BD$2,\"X\",\"\")),IF(VLOOKUP($A34,'8eme'!$B:$M,12,FALSE)=BD$2,\"X\",\"\"))","v":""},{"$f":"IF(ISERROR(VLOOKUP($A34,'8eme'!$B:$M,12,FALSE)),IF(ISERROR(VLOOKUP($A34,'8eme'!$F:$M,8,FALSE)),\"\",IF(VLOOKUP($A34,'8eme'!$F:$M,8,FALSE)=BE$2,\"X\",\"\")),IF(VLOOKUP($A34,'8eme'!$B:$M,12,FALSE)=BE$2,\"X\",\"\"))","v":""},{"$f":"IF(ISERROR(VLOOKUP($A34,'8eme'!$B:$M,12,FALSE)),IF(ISERROR(VLOOKUP($A34,'8eme'!$F:$M,8,FALSE)),\"\",IF(VLOOKUP($A34,'8eme'!$F:$M,8,FALSE)=BF$2,\"X\",\"\")),IF(VLOOKUP($A34,'8eme'!$B:$M,12,FALSE)=BF$2,\"X\",\"\"))","v":""},{"$f":"IF(ISERROR(VLOOKUP($A34,'8eme'!$B:$M,12,FALSE)),IF(ISERROR(VLOOKUP($A34,'8eme'!$F:$M,8,FALSE)),\"\",IF(VLOOKUP($A34,'8eme'!$F:$M,8,FALSE)=BG$2,\"X\",\"\")),IF(VLOOKUP($A34,'8eme'!$B:$M,12,FALSE)=BG$2,\"X\",\"\"))","v":""},{"$f":"IF(ISERROR(VLOOKUP($A34,'8eme'!$B:$M,12,FALSE)),IF(ISERROR(VLOOKUP($A34,'8eme'!$F:$M,8,FALSE)),\"\",IF(VLOOKUP($A34,'8eme'!$F:$M,8,FALSE)=BH$2,\"X\",\"\")),IF(VLOOKUP($A34,'8eme'!$B:$M,12,FALSE)=BH$2,\"X\",\"\"))","v":""},{"$f":"IF(ISERROR(VLOOKUP($A34,'8eme'!$B:$M,12,FALSE)),IF(ISERROR(VLOOKUP($A34,'8eme'!$F:$M,8,FALSE)),\"\",IF(VLOOKUP($A34,'8eme'!$F:$M,8,FALSE)=BI$2,\"X\",\"\")),IF(VLOOKUP($A34,'8eme'!$B:$M,12,FALSE)=BI$2,\"X\",\"\"))","v":""},{"$f":"IF(ISERROR(VLOOKUP($A34,'8eme'!$B:$M,12,FALSE)),IF(ISERROR(VLOOKUP($A34,'8eme'!$F:$M,8,FALSE)),\"\",IF(VLOOKUP($A34,'8eme'!$F:$M,8,FALSE)=BJ$2,\"X\",\"\")),IF(VLOOKUP($A34,'8eme'!$B:$M,12,FALSE)=BJ$2,\"X\",\"\"))","v":""},{"$f":"IF(ISERROR(VLOOKUP($A34,'8eme'!$B:$M,12,FALSE)),IF(ISERROR(VLOOKUP($A34,'8eme'!$F:$M,8,FALSE)),\"\",IF(VLOOKUP($A34,'8eme'!$F:$M,8,FALSE)=BK$2,\"X\",\"\")),IF(VLOOKUP($A34,'8eme'!$B:$M,12,FALSE)=BK$2,\"X\",\"\"))","v":""},{"$f":"IF(ISERROR(VLOOKUP($A34,'8eme'!$B:$M,12,FALSE)),IF(ISERROR(VLOOKUP($A34,'8eme'!$F:$M,8,FALSE)),\"\",IF(VLOOKUP($A34,'8eme'!$F:$M,8,FALSE)=BL$2,\"X\",\"\")),IF(VLOOKUP($A34,'8eme'!$B:$M,12,FALSE)=BL$2,\"X\",\"\"))","v":""},{"$f":"IF(ISERROR(VLOOKUP($A34,'8eme'!$B:$M,12,FALSE)),IF(ISERROR(VLOOKUP($A34,'8eme'!$F:$M,8,FALSE)),\"\",IF(VLOOKUP($A34,'8eme'!$F:$M,8,FALSE)=BM$2,\"X\",\"\")),IF(VLOOKUP($A34,'8eme'!$B:$M,12,FALSE)=BM$2,\"X\",\"\"))","v":""},{"$f":"IF(ISERROR(VLOOKUP($A34,quart!$B:$M,12,FALSE)),IF(ISERROR(VLOOKUP($A34,quart!$F:$M,8,FALSE)),\"\",IF(VLOOKUP($A34,quart!$F:$M,8,FALSE)=BN$2,\"X\",\"\")),IF(VLOOKUP($A34,quart!$B:$M,12,FALSE)=BN$2,\"X\",\"\"))","v":""},{"$f":"IF(ISERROR(VLOOKUP($A34,quart!$B:$M,12,FALSE)),IF(ISERROR(VLOOKUP($A34,quart!$F:$M,8,FALSE)),\"\",IF(VLOOKUP($A34,quart!$F:$M,8,FALSE)=BO$2,\"X\",\"\")),IF(VLOOKUP($A34,quart!$B:$M,12,FALSE)=BO$2,\"X\",\"\"))","v":""},{"$f":"IF(ISERROR(VLOOKUP($A34,quart!$B:$M,12,FALSE)),IF(ISERROR(VLOOKUP($A34,quart!$F:$M,8,FALSE)),\"\",IF(VLOOKUP($A34,quart!$F:$M,8,FALSE)=BP$2,\"X\",\"\")),IF(VLOOKUP($A34,quart!$B:$M,12,FALSE)=BP$2,\"X\",\"\"))","v":""},{"$f":"IF(ISERROR(VLOOKUP($A34,quart!$B:$M,12,FALSE)),IF(ISERROR(VLOOKUP($A34,quart!$F:$M,8,FALSE)),\"\",IF(VLOOKUP($A34,quart!$F:$M,8,FALSE)=BQ$2,\"X\",\"\")),IF(VLOOKUP($A34,quart!$B:$M,12,FALSE)=BQ$2,\"X\",\"\"))","v":""},{"$f":"IF(ISERROR(VLOOKUP($A34,quart!$B:$M,12,FALSE)),IF(ISERROR(VLOOKUP($A34,quart!$F:$M,8,FALSE)),\"\",IF(VLOOKUP($A34,quart!$F:$M,8,FALSE)=BR$2,\"X\",\"\")),IF(VLOOKUP($A34,quart!$B:$M,12,FALSE)=BR$2,\"X\",\"\"))","v":""},{"$f":"IF(ISERROR(VLOOKUP($A34,quart!$B:$M,12,FALSE)),IF(ISERROR(VLOOKUP($A34,quart!$F:$M,8,FALSE)),\"\",IF(VLOOKUP($A34,quart!$F:$M,8,FALSE)=BS$2,\"X\",\"\")),IF(VLOOKUP($A34,quart!$B:$M,12,FALSE)=BS$2,\"X\",\"\"))","v":""},{"$f":"IF(ISERROR(VLOOKUP($A34,quart!$B:$M,12,FALSE)),IF(ISERROR(VLOOKUP($A34,quart!$F:$M,8,FALSE)),\"\",IF(VLOOKUP($A34,quart!$F:$M,8,FALSE)=BT$2,\"X\",\"\")),IF(VLOOKUP($A34,quart!$B:$M,12,FALSE)=BT$2,\"X\",\"\"))","v":""},{"$f":"IF(ISERROR(VLOOKUP($A34,quart!$B:$M,12,FALSE)),IF(ISERROR(VLOOKUP($A34,quart!$F:$M,8,FALSE)),\"\",IF(VLOOKUP($A34,quart!$F:$M,8,FALSE)=BU$2,\"X\",\"\")),IF(VLOOKUP($A34,quart!$B:$M,12,FALSE)=BU$2,\"X\",\"\"))","v":""},{"$f":"IF(ISERROR(VLOOKUP($A34,quart!$B:$M,12,FALSE)),IF(ISERROR(VLOOKUP($A34,quart!$F:$M,8,FALSE)),\"\",IF(VLOOKUP($A34,quart!$F:$M,8,FALSE)=BV$2,\"X\",\"\")),IF(VLOOKUP($A34,quart!$B:$M,12,FALSE)=BV$2,\"X\",\"\"))","v":""},{"$f":"IF(ISERROR(VLOOKUP($A34,quart!$B:$M,12,FALSE)),IF(ISERROR(VLOOKUP($A34,quart!$F:$M,8,FALSE)),\"\",IF(VLOOKUP($A34,quart!$F:$M,8,FALSE)=BW$2,\"X\",\"\")),IF(VLOOKUP($A34,quart!$B:$M,12,FALSE)=BW$2,\"X\",\"\"))","v":""},{"$f":"IF(ISERROR(VLOOKUP($A34,quart!$B:$M,12,FALSE)),IF(ISERROR(VLOOKUP($A34,quart!$F:$M,8,FALSE)),\"\",IF(VLOOKUP($A34,quart!$F:$M,8,FALSE)=BX$2,\"X\",\"\")),IF(VLOOKUP($A34,quart!$B:$M,12,FALSE)=BX$2,\"X\",\"\"))","v":""},{"$f":"IF(ISERROR(VLOOKUP($A34,quart!$B:$M,12,FALSE)),IF(ISERROR(VLOOKUP($A34,quart!$F:$M,8,FALSE)),\"\",IF(VLOOKUP($A34,quart!$F:$M,8,FALSE)=BY$2,\"X\",\"\")),IF(VLOOKUP($A34,quart!$B:$M,12,FALSE)=BY$2,\"X\",\"\"))","v":""},{"$f":"IF(ISERROR(VLOOKUP($A34,quart!$B:$M,12,FALSE)),IF(ISERROR(VLOOKUP($A34,quart!$F:$M,8,FALSE)),\"\",IF(VLOOKUP($A34,quart!$F:$M,8,FALSE)=BZ$2,\"X\",\"\")),IF(VLOOKUP($A34,quart!$B:$M,12,FALSE)=BZ$2,\"X\",\"\"))","v":""},{"$f":"IF(ISERROR(VLOOKUP($A34,quart!$B:$M,12,FALSE)),IF(ISERROR(VLOOKUP($A34,quart!$F:$M,8,FALSE)),\"\",IF(VLOOKUP($A34,quart!$F:$M,8,FALSE)=CA$2,\"X\",\"\")),IF(VLOOKUP($A34,quart!$B:$M,12,FALSE)=CA$2,\"X\",\"\"))","v":""},{"$f":"IF(ISERROR(VLOOKUP($A34,quart!$B:$M,12,FALSE)),IF(ISERROR(VLOOKUP($A34,quart!$F:$M,8,FALSE)),\"\",IF(VLOOKUP($A34,quart!$F:$M,8,FALSE)=CB$2,\"X\",\"\")),IF(VLOOKUP($A34,quart!$B:$M,12,FALSE)=CB$2,\"X\",\"\"))","v":""},{"$f":"IF(ISERROR(VLOOKUP($A34,quart!$B:$M,12,FALSE)),IF(ISERROR(VLOOKUP($A34,quart!$F:$M,8,FALSE)),\"\",IF(VLOOKUP($A34,quart!$F:$M,8,FALSE)=CC$2,\"X\",\"\")),IF(VLOOKUP($A34,quart!$B:$M,12,FALSE)=CC$2,\"X\",\"\"))","v":""},{"$f":"IF(ISERROR(VLOOKUP($A34,demi!$B:$M,12,FALSE)),IF(ISERROR(VLOOKUP($A34,demi!$F:$M,8,FALSE)),\"\",IF(VLOOKUP($A34,demi!$F:$M,8,FALSE)=CD$2,\"X\",\"\")),IF(VLOOKUP($A34,demi!$B:$M,12,FALSE)=CD$2,\"X\",\"\"))","v":""},{"$f":"IF(ISERROR(VLOOKUP($A34,demi!$B:$M,12,FALSE)),IF(ISERROR(VLOOKUP($A34,demi!$F:$M,8,FALSE)),\"\",IF(VLOOKUP($A34,demi!$F:$M,8,FALSE)=CE$2,\"X\",\"\")),IF(VLOOKUP($A34,demi!$B:$M,12,FALSE)=CE$2,\"X\",\"\"))","v":""},{"$f":"IF(ISERROR(VLOOKUP($A34,demi!$B:$M,12,FALSE)),IF(ISERROR(VLOOKUP($A34,demi!$F:$M,8,FALSE)),\"\",IF(VLOOKUP($A34,demi!$F:$M,8,FALSE)=CF$2,\"X\",\"\")),IF(VLOOKUP($A34,demi!$B:$M,12,FALSE)=CF$2,\"X\",\"\"))","v":""},{"$f":"IF(ISERROR(VLOOKUP($A34,demi!$B:$M,12,FALSE)),IF(ISERROR(VLOOKUP($A34,demi!$F:$M,8,FALSE)),\"\",IF(VLOOKUP($A34,demi!$F:$M,8,FALSE)=CG$2,\"X\",\"\")),IF(VLOOKUP($A34,demi!$B:$M,12,FALSE)=CG$2,\"X\",\"\"))","v":""},{"$f":"IF(ISERROR(VLOOKUP($A34,demi!$B:$M,12,FALSE)),IF(ISERROR(VLOOKUP($A34,demi!$F:$M,8,FALSE)),\"\",IF(VLOOKUP($A34,demi!$F:$M,8,FALSE)=CH$2,\"X\",\"\")),IF(VLOOKUP($A34,demi!$B:$M,12,FALSE)=CH$2,\"X\",\"\"))","v":""},{"$f":"IF(ISERROR(VLOOKUP($A34,demi!$B:$M,12,FALSE)),IF(ISERROR(VLOOKUP($A34,demi!$F:$M,8,FALSE)),\"\",IF(VLOOKUP($A34,demi!$F:$M,8,FALSE)=CI$2,\"X\",\"\")),IF(VLOOKUP($A34,demi!$B:$M,12,FALSE)=CI$2,\"X\",\"\"))","v":""},{"$f":"IF(ISERROR(VLOOKUP($A34,demi!$B:$M,12,FALSE)),IF(ISERROR(VLOOKUP($A34,demi!$F:$M,8,FALSE)),\"\",IF(VLOOKUP($A34,demi!$F:$M,8,FALSE)=CJ$2,\"X\",\"\")),IF(VLOOKUP($A34,demi!$B:$M,12,FALSE)=CJ$2,\"X\",\"\"))","v":""},{"$f":"IF(ISERROR(VLOOKUP($A34,demi!$B:$M,12,FALSE)),IF(ISERROR(VLOOKUP($A34,demi!$F:$M,8,FALSE)),\"\",IF(VLOOKUP($A34,demi!$F:$M,8,FALSE)=CK$2,\"X\",\"\")),IF(VLOOKUP($A34,demi!$B:$M,12,FALSE)=CK$2,\"X\",\"\"))","v":""},{"$f":"IF(ISERROR(VLOOKUP($A34,demi!$B:$M,12,FALSE)),IF(ISERROR(VLOOKUP($A34,demi!$F:$M,8,FALSE)),\"\",IF(VLOOKUP($A34,demi!$F:$M,8,FALSE)=CL$2,\"X\",\"\")),IF(VLOOKUP($A34,demi!$B:$M,12,FALSE)=CL$2,\"X\",\"\"))","v":""},{"$f":"IF(ISERROR(VLOOKUP($A34,demi!$B:$M,12,FALSE)),IF(ISERROR(VLOOKUP($A34,demi!$F:$M,8,FALSE)),\"\",IF(VLOOKUP($A34,demi!$F:$M,8,FALSE)=CM$2,\"X\",\"\")),IF(VLOOKUP($A34,demi!$B:$M,12,FALSE)=CM$2,\"X\",\"\"))","v":""},{"$f":"IF(ISERROR(VLOOKUP($A34,demi!$B:$M,12,FALSE)),IF(ISERROR(VLOOKUP($A34,demi!$F:$M,8,FALSE)),\"\",IF(VLOOKUP($A34,demi!$F:$M,8,FALSE)=CN$2,\"X\",\"\")),IF(VLOOKUP($A34,demi!$B:$M,12,FALSE)=CN$2,\"X\",\"\"))","v":""},{"$f":"IF(ISERROR(VLOOKUP($A34,demi!$B:$M,12,FALSE)),IF(ISERROR(VLOOKUP($A34,demi!$F:$M,8,FALSE)),\"\",IF(VLOOKUP($A34,demi!$F:$M,8,FALSE)=CO$2,\"X\",\"\")),IF(VLOOKUP($A34,demi!$B:$M,12,FALSE)=CO$2,\"X\",\"\"))","v":""},{"$f":"IF(ISERROR(VLOOKUP($A34,demi!$B:$M,12,FALSE)),IF(ISERROR(VLOOKUP($A34,demi!$F:$M,8,FALSE)),\"\",IF(VLOOKUP($A34,demi!$F:$M,8,FALSE)=CP$2,\"X\",\"\")),IF(VLOOKUP($A34,demi!$B:$M,12,FALSE)=CP$2,\"X\",\"\"))","v":""},{"$f":"IF(ISERROR(VLOOKUP($A34,demi!$B:$M,12,FALSE)),IF(ISERROR(VLOOKUP($A34,demi!$F:$M,8,FALSE)),\"\",IF(VLOOKUP($A34,demi!$F:$M,8,FALSE)=CQ$2,\"X\",\"\")),IF(VLOOKUP($A34,demi!$B:$M,12,FALSE)=CQ$2,\"X\",\"\"))","v":""},{"$f":"IF(ISERROR(VLOOKUP($A34,demi!$B:$M,12,FALSE)),IF(ISERROR(VLOOKUP($A34,demi!$F:$M,8,FALSE)),\"\",IF(VLOOKUP($A34,demi!$F:$M,8,FALSE)=CR$2,\"X\",\"\")),IF(VLOOKUP($A34,demi!$B:$M,12,FALSE)=CR$2,\"X\",\"\"))","v":""},{"$f":"IF(ISERROR(VLOOKUP($A34,demi!$B:$M,12,FALSE)),IF(ISERROR(VLOOKUP($A34,demi!$F:$M,8,FALSE)),\"\",IF(VLOOKUP($A34,demi!$F:$M,8,FALSE)=CS$2,\"X\",\"\")),IF(VLOOKUP($A34,demi!$B:$M,12,FALSE)=CS$2,\"X\",\"\"))","v":""}]