{"text_format":"1","workbook":"xlsx","n_sheets":10,"sheets":["Equipes","1ère partie","2ème partie","3ème partie","Liste sociétés","Aide","Règlement officiel concours","Feuillettravail","Jeux","Feuil1"],"not_rendered":{"charts":0,"images":0,"macros":1,"external_links":0,"defined_names":9,"comments":0,"pivot_tables":0},"unopened":[],"bounds":{"document_bytes":16777216,"sheet_cells":100000,"rows_first":2000,"rows_last":500,"rows_between":2000,"halvings":0,"cell_chars":16384,"cell_head_chars":4096},"cells_cut":0,"cells_raw":0,"read":"whole","date_system":"1900"}

{"sheet":"Equipes","index":0,"n_rows":68,"n_cols":23,"rows_kept":68,"cut":false,"hidden":false,"merged":[[25,20,26,20],[25,21,26,22],[10,20,10,22],[15,20,15,22],[11,20,12,21],[13,20,13,21],[22,21,22,22],[23,21,23,22],[24,21,24,22],[11,22,12,22],[17,20,17,21],[18,20,18,21],[16,20,16,21]]}
[null,"Nom du concours : ",null,null,null,null,null,null,null,null,null,null,null,null,null,null,null,null,null,null,{"$f":"W12","v":0}]
[null,"AS Organisatrice :",null,"Partie 1",null,null,"Partie 2",null,null,"Partie 3",null,"Nb parties gagnées","Total ","Total ","Classe-","critères complémentaires éventuels",null,null,"Montant inscription ","Montant gains",{"$f":"IF(W12=8,COUNTIF(B4:B11,\"\"),IF(W12=12,COUNTIF(B4:B15,\"\"),IF(W12=16,COUNTIF(B4:B19,\"\"),IF(W12=24,COUNTIF(B4:B27,\"\"),IF(W12=32,COUNTIF(B4:B35,\"\"),IF(W12=48,COUNTIF(B4:B51,\"\"),IF(W12=64,COUNTIF(B4:B67,\"\"),0)))))))","v":0}]
["Equipe","Nom équipe","Société","Points faits","Points laissés","Classe-ment","Points faits","Points laissés","Classe-ment 1+2","Points faits","Points laissés","(dont gagnées à 13)","points faits","points laissés","ment final","résultat partie ex aequo","+ faible écart partie perdue","+ grand écart partie gagnée","payé par l'équipe","versés à l'équipe",{"$f":"IF(INT(U2/2)*2<>U2,\"X\",\"\")","v":""}]
[1,null,null,{"$f":"IF(VLOOKUP($A4,Feuillettravail!$A:$R,COLUMN(),FALSE)<>\"\",VLOOKUP($A4,Feuillettravail!$A:$R,COLUMN(),FALSE),\"\")","v":""},{"$f":"IF(VLOOKUP($A4,Feuillettravail!$A:$R,COLUMN(),FALSE)<>\"\",VLOOKUP($A4,Feuillettravail!$A:$R,COLUMN(),FALSE),\"\")","v":""},{"$f":"IF(VLOOKUP($A4,Feuillettravail!$A:$R,COLUMN(),FALSE)<>\"\",VLOOKUP($A4,Feuillettravail!$A:$R,COLUMN(),FALSE),\"\")","v":""},{"$f":"IF(VLOOKUP($A4,Feuillettravail!$A:$R,COLUMN(),FALSE)<>\"\",VLOOKUP($A4,Feuillettravail!$A:$R,COLUMN(),FALSE),\"\")","v":""},{"$f":"IF(VLOOKUP($A4,Feuillettravail!$A:$R,COLUMN(),FALSE)<>\"\",VLOOKUP($A4,Feuillettravail!$A:$R,COLUMN(),FALSE),\"\")","v":""},{"$f":"IF(VLOOKUP($A4,Feuillettravail!$A:$R,COLUMN(),FALSE)<>\"\",VLOOKUP($A4,Feuillettravail!$A:$R,COLUMN(),FALSE),\"\")","v":""},{"$f":"IF(VLOOKUP($A4,Feuillettravail!$A:$R,COLUMN(),FALSE)<>\"\",VLOOKUP($A4,Feuillettravail!$A:$R,COLUMN(),FALSE),\"\")","v":""},{"$f":"IF(VLOOKUP($A4,Feuillettravail!$A:$R,COLUMN(),FALSE)<>\"\",VLOOKUP($A4,Feuillettravail!$A:$R,COLUMN(),FALSE),\"\")","v":""},{"$f":"IF(VLOOKUP($A4,Feuillettravail!$A:$R,COLUMN(),FALSE)<>\"\",VLOOKUP($A4,Feuillettravail!$A:$R,COLUMN(),FALSE)&VLOOKUP($A4,Feuillettravail!$A:$AD,29,FALSE),\"\")","v":""},{"$f":"IF(VLOOKUP($A4,Feuillettravail!$A:$R,COLUMN(),FALSE)<>\"\",VLOOKUP($A4,Feuillettravail!$A:$R,COLUMN(),FALSE),\"\")","v":""},{"$f":"IF(VLOOKUP($A4,Feuillettravail!$A:$R,COLUMN(),FALSE)<>\"\",VLOOKUP($A4,Feuillettravail!$A:$R,COLUMN(),FALSE),\"\")","v":""},{"$f":"IF(VLOOKUP($A4,Feuillettravail!$A:$R,COLUMN(),FALSE)<>\"\",VLOOKUP($A4,Feuillettravail!$A:$R,COLUMN(),FALSE),\"\")","v":""},{"$f":"IF(VLOOKUP($A4,Feuillettravail!$A:$Z,26,FALSE)<>\"\",IF(VLOOKUP($A4,Feuillettravail!$A:$R,COLUMN(),FALSE)<>\"\",VLOOKUP($A4,Feuillettravail!$A:$R,COLUMN(),FALSE),\"\"),\"\")","v":""},{"$f":"IF(VLOOKUP($A4,Feuillettravail!$A:$Z,26,FALSE)<>\"\",IF(VLOOKUP($A4,Feuillettravail!$A:$R,COLUMN(),FALSE)<>\"\",VLOOKUP($A4,Feuillettravail!$A:$R,COLUMN(),FALSE),\"\"),\"\")","v":""},{"$f":"IF(VLOOKUP($A4,Feuillettravail!$A:$Z,26,FALSE)<>\"\",IF(VLOOKUP($A4,Feuillettravail!$A:$R,COLUMN(),FALSE)<>\"\",VLOOKUP($A4,Feuillettravail!$A:$R,COLUMN(),FALSE),\"\"),\"\")","v":""},null,null,{"$f":"IF(W12=8,COUNTIF('1ère partie'!E3:E6,\"\")+COUNTIF('1ère partie'!I3:I6,\"\"),IF(W12=12,COUNTIF('1ère partie'!E3:E8,\"\")+COUNTIF('1ère partie'!I3:I8,\"\"),IF(W12=16,COUNTIF('1ère partie'!E3:E10,\"\")+COUNTIF('1ère partie'!I3:I10,\"\"),IF(W12=24,COUNTIF('1ère partie'!E3:E14,\"\")+COUNTIF('1ère partie'!I3:I14,\"\"),IF(W12=32,COUNTIF('1ère partie'!E3:E18,\"\")+COUNTIF('1ère partie'!I3:I18,\"\"),IF(W12=48,COUNTIF('1ère partie'!E3:E26,\"\")+COUNTIF('1ère partie'!I3:I26,\"\"),IF(W12=64,COUNTIF('1ère partie'!E3:E34,\"\")+COUNTIF('1ère partie'!I3:I34,\"\"),\"\")))))))","v":""}]
[2,null,null,{"$f":"IF(VLOOKUP($A5,Feuillettravail!$A:$R,COLUMN(),FALSE)<>\"\",VLOOKUP($A5,Feuillettravail!$A:$R,COLUMN(),FALSE),\"\")","v":""},{"$f":"IF(VLOOKUP($A5,Feuillettravail!$A:$R,COLUMN(),FALSE)<>\"\",VLOOKUP($A5,Feuillettravail!$A:$R,COLUMN(),FALSE),\"\")","v":""},{"$f":"IF(VLOOKUP($A5,Feuillettravail!$A:$R,COLUMN(),FALSE)<>\"\",VLOOKUP($A5,Feuillettravail!$A:$R,COLUMN(),FALSE),\"\")","v":""},{"$f":"IF(VLOOKUP($A5,Feuillettravail!$A:$R,COLUMN(),FALSE)<>\"\",VLOOKUP($A5,Feuillettravail!$A:$R,COLUMN(),FALSE),\"\")","v":""},{"$f":"IF(VLOOKUP($A5,Feuillettravail!$A:$R,COLUMN(),FALSE)<>\"\",VLOOKUP($A5,Feuillettravail!$A:$R,COLUMN(),FALSE),\"\")","v":""},{"$f":"IF(VLOOKUP($A5,Feuillettravail!$A:$R,COLUMN(),FALSE)<>\"\",VLOOKUP($A5,Feuillettravail!$A:$R,COLUMN(),FALSE),\"\")","v":""},{"$f":"IF(VLOOKUP($A5,Feuillettravail!$A:$R,COLUMN(),FALSE)<>\"\",VLOOKUP($A5,Feuillettravail!$A:$R,COLUMN(),FALSE),\"\")","v":""},{"$f":"IF(VLOOKUP($A5,Feuillettravail!$A:$R,COLUMN(),FALSE)<>\"\",VLOOKUP($A5,Feuillettravail!$A:$R,COLUMN(),FALSE),\"\")","v":""},{"$f":"IF(VLOOKUP($A5,Feuillettravail!$A:$R,COLUMN(),FALSE)<>\"\",VLOOKUP($A5,Feuillettravail!$A:$R,COLUMN(),FALSE)&VLOOKUP($A5,Feuillettravail!$A:$AD,29,FALSE),\"\")","v":""},{"$f":"IF(VLOOKUP($A5,Feuillettravail!$A:$R,COLUMN(),FALSE)<>\"\",VLOOKUP($A5,Feuillettravail!$A:$R,COLUMN(),FALSE),\"\")","v":""},{"$f":"IF(VLOOKUP($A5,Feuillettravail!$A:$R,COLUMN(),FALSE)<>\"\",VLOOKUP($A5,Feuillettravail!$A:$R,COLUMN(),FALSE),\"\")","v":""},{"$f":"IF(VLOOKUP($A5,Feuillettravail!$A:$R,COLUMN(),FALSE)<>\"\",VLOOKUP($A5,Feuillettravail!$A:$R,COLUMN(),FALSE),\"\")","v":""},{"$f":"IF(VLOOKUP($A5,Feuillettravail!$A:$Z,26,FALSE)<>\"\",IF(VLOOKUP($A5,Feuillettravail!$A:$R,COLUMN(),FALSE)<>\"\",VLOOKUP($A5,Feuillettravail!$A:$R,COLUMN(),FALSE),\"\"),\"\")","v":""},{"$f":"IF(VLOOKUP($A5,Feuillettravail!$A:$Z,26,FALSE)<>\"\",IF(VLOOKUP($A5,Feuillettravail!$A:$R,COLUMN(),FALSE)<>\"\",VLOOKUP($A5,Feuillettravail!$A:$R,COLUMN(),FALSE),\"\"),\"\")","v":""},{"$f":"IF(VLOOKUP($A5,Feuillettravail!$A:$Z,26,FALSE)<>\"\",IF(VLOOKUP($A5,Feuillettravail!$A:$R,COLUMN(),FALSE)<>\"\",VLOOKUP($A5,Feuillettravail!$A:$R,COLUMN(),FALSE),\"\"),\"\")","v":""}]
[3,null,null,{"$f":"IF(VLOOKUP($A6,Feuillettravail!$A:$R,COLUMN(),FALSE)<>\"\",VLOOKUP($A6,Feuillettravail!$A:$R,COLUMN(),FALSE),\"\")","v":""},{"$f":"IF(VLOOKUP($A6,Feuillettravail!$A:$R,COLUMN(),FALSE)<>\"\",VLOOKUP($A6,Feuillettravail!$A:$R,COLUMN(),FALSE),\"\")","v":""},{"$f":"IF(VLOOKUP($A6,Feuillettravail!$A:$R,COLUMN(),FALSE)<>\"\",VLOOKUP($A6,Feuillettravail!$A:$R,COLUMN(),FALSE),\"\")","v":""},{"$f":"IF(VLOOKUP($A6,Feuillettravail!$A:$R,COLUMN(),FALSE)<>\"\",VLOOKUP($A6,Feuillettravail!$A:$R,COLUMN(),FALSE),\"\")","v":""},{"$f":"IF(VLOOKUP($A6,Feuillettravail!$A:$R,COLUMN(),FALSE)<>\"\",VLOOKUP($A6,Feuillettravail!$A:$R,COLUMN(),FALSE),\"\")","v":""},{"$f":"IF(VLOOKUP($A6,Feuillettravail!$A:$R,COLUMN(),FALSE)<>\"\",VLOOKUP($A6,Feuillettravail!$A:$R,COLUMN(),FALSE),\"\")","v":""},{"$f":"IF(VLOOKUP($A6,Feuillettravail!$A:$R,COLUMN(),FALSE)<>\"\",VLOOKUP($A6,Feuillettravail!$A:$R,COLUMN(),FALSE),\"\")","v":""},{"$f":"IF(VLOOKUP($A6,Feuillettravail!$A:$R,COLUMN(),FALSE)<>\"\",VLOOKUP($A6,Feuillettravail!$A:$R,COLUMN(),FALSE),\"\")","v":""},{"$f":"IF(VLOOKUP($A6,Feuillettravail!$A:$R,COLUMN(),FALSE)<>\"\",VLOOKUP($A6,Feuillettravail!$A:$R,COLUMN(),FALSE)&VLOOKUP($A6,Feuillettravail!$A:$AD,29,FALSE),\"\")","v":""},{"$f":"IF(VLOOKUP($A6,Feuillettravail!$A:$R,COLUMN(),FALSE)<>\"\",VLOOKUP($A6,Feuillettravail!$A:$R,COLUMN(),FALSE),\"\")","v":""},{"$f":"IF(VLOOKUP($A6,Feuillettravail!$A:$R,COLUMN(),FALSE)<>\"\",VLOOKUP($A6,Feuillettravail!$A:$R,COLUMN(),FALSE),\"\")","v":""},{"$f":"IF(VLOOKUP($A6,Feuillettravail!$A:$R,COLUMN(),FALSE)<>\"\",VLOOKUP($A6,Feuillettravail!$A:$R,COLUMN(),FALSE),\"\")","v":""},{"$f":"IF(VLOOKUP($A6,Feuillettravail!$A:$Z,26,FALSE)<>\"\",IF(VLOOKUP($A6,Feuillettravail!$A:$R,COLUMN(),FALSE)<>\"\",VLOOKUP($A6,Feuillettravail!$A:$R,COLUMN(),FALSE),\"\"),\"\")","v":""},{"$f":"IF(VLOOKUP($A6,Feuillettravail!$A:$Z,26,FALSE)<>\"\",IF(VLOOKUP($A6,Feuillettravail!$A:$R,COLUMN(),FALSE)<>\"\",VLOOKUP($A6,Feuillettravail!$A:$R,COLUMN(),FALSE),\"\"),\"\")","v":""},{"$f":"IF(VLOOKUP($A6,Feuillettravail!$A:$Z,26,FALSE)<>\"\",IF(VLOOKUP($A6,Feuillettravail!$A:$R,COLUMN(),FALSE)<>\"\",VLOOKUP($A6,Feuillettravail!$A:$R,COLUMN(),FALSE),\"\"),\"\")","v":""},null,null,{"$f":"IF(W12=8,COUNTIF('2ème partie'!E3:E6,\"\")+COUNTIF('2ème partie'!I3:I6,\"\"),IF(W12=12,COUNTIF('2ème partie'!E3:E8,\"\")+COUNTIF('2ème partie'!I3:I8,\"\"),IF(W12=16,COUNTIF('2ème partie'!E3:E10,\"\")+COUNTIF('2ème partie'!I3:I10,\"\"),IF(W12=24,COUNTIF('2ème partie'!E3:E14,\"\")+COUNTIF('2ème partie'!I3:I14,\"\"),IF(W12=32,COUNTIF('2ème partie'!E3:E18,\"\")+COUNTIF('2ème partie'!I3:I18,\"\"),IF(W12=48,COUNTIF('2ème partie'!E3:E26,\"\")+COUNTIF('2ème partie'!I3:I26,\"\"),IF(W12=64,COUNTIF('2ème partie'!E3:E34,\"\")+COUNTIF('2ème partie'!I3:I34,\"\"),\"\")))))))","v":""}]
[4,null,null,{"$f":"IF(VLOOKUP($A7,Feuillettravail!$A:$R,COLUMN(),FALSE)<>\"\",VLOOKUP($A7,Feuillettravail!$A:$R,COLUMN(),FALSE),\"\")","v":""},{"$f":"IF(VLOOKUP($A7,Feuillettravail!$A:$R,COLUMN(),FALSE)<>\"\",VLOOKUP($A7,Feuillettravail!$A:$R,COLUMN(),FALSE),\"\")","v":""},{"$f":"IF(VLOOKUP($A7,Feuillettravail!$A:$R,COLUMN(),FALSE)<>\"\",VLOOKUP($A7,Feuillettravail!$A:$R,COLUMN(),FALSE),\"\")","v":""},{"$f":"IF(VLOOKUP($A7,Feuillettravail!$A:$R,COLUMN(),FALSE)<>\"\",VLOOKUP($A7,Feuillettravail!$A:$R,COLUMN(),FALSE),\"\")","v":""},{"$f":"IF(VLOOKUP($A7,Feuillettravail!$A:$R,COLUMN(),FALSE)<>\"\",VLOOKUP($A7,Feuillettravail!$A:$R,COLUMN(),FALSE),\"\")","v":""},{"$f":"IF(VLOOKUP($A7,Feuillettravail!$A:$R,COLUMN(),FALSE)<>\"\",VLOOKUP($A7,Feuillettravail!$A:$R,COLUMN(),FALSE),\"\")","v":""},{"$f":"IF(VLOOKUP($A7,Feuillettravail!$A:$R,COLUMN(),FALSE)<>\"\",VLOOKUP($A7,Feuillettravail!$A:$R,COLUMN(),FALSE),\"\")","v":""},{"$f":"IF(VLOOKUP($A7,Feuillettravail!$A:$R,COLUMN(),FALSE)<>\"\",VLOOKUP($A7,Feuillettravail!$A:$R,COLUMN(),FALSE),\"\")","v":""},{"$f":"IF(VLOOKUP($A7,Feuillettravail!$A:$R,COLUMN(),FALSE)<>\"\",VLOOKUP($A7,Feuillettravail!$A:$R,COLUMN(),FALSE)&VLOOKUP($A7,Feuillettravail!$A:$AD,29,FALSE),\"\")","v":""},{"$f":"IF(VLOOKUP($A7,Feuillettravail!$A:$R,COLUMN(),FALSE)<>\"\",VLOOKUP($A7,Feuillettravail!$A:$R,COLUMN(),FALSE),\"\")","v":""},{"$f":"IF(VLOOKUP($A7,Feuillettravail!$A:$R,COLUMN(),FALSE)<>\"\",VLOOKUP($A7,Feuillettravail!$A:$R,COLUMN(),FALSE),\"\")","v":""},{"$f":"IF(VLOOKUP($A7,Feuillettravail!$A:$R,COLUMN(),FALSE)<>\"\",VLOOKUP($A7,Feuillettravail!$A:$R,COLUMN(),FALSE),\"\")","v":""},{"$f":"IF(VLOOKUP($A7,Feuillettravail!$A:$Z,26,FALSE)<>\"\",IF(VLOOKUP($A7,Feuillettravail!$A:$R,COLUMN(),FALSE)<>\"\",VLOOKUP($A7,Feuillettravail!$A:$R,COLUMN(),FALSE),\"\"),\"\")","v":""},{"$f":"IF(VLOOKUP($A7,Feuillettravail!$A:$Z,26,FALSE)<>\"\",IF(VLOOKUP($A7,Feuillettravail!$A:$R,COLUMN(),FALSE)<>\"\",VLOOKUP($A7,Feuillettravail!$A:$R,COLUMN(),FALSE),\"\"),\"\")","v":""},{"$f":"IF(VLOOKUP($A7,Feuillettravail!$A:$Z,26,FALSE)<>\"\",IF(VLOOKUP($A7,Feuillettravail!$A:$R,COLUMN(),FALSE)<>\"\",VLOOKUP($A7,Feuillettravail!$A:$R,COLUMN(),FALSE),\"\"),\"\")","v":""}]
[5,null,null,{"$f":"IF(VLOOKUP($A8,Feuillettravail!$A:$R,COLUMN(),FALSE)<>\"\",VLOOKUP($A8,Feuillettravail!$A:$R,COLUMN(),FALSE),\"\")","v":""},{"$f":"IF(VLOOKUP($A8,Feuillettravail!$A:$R,COLUMN(),FALSE)<>\"\",VLOOKUP($A8,Feuillettravail!$A:$R,COLUMN(),FALSE),\"\")","v":""},{"$f":"IF(VLOOKUP($A8,Feuillettravail!$A:$R,COLUMN(),FALSE)<>\"\",VLOOKUP($A8,Feuillettravail!$A:$R,COLUMN(),FALSE),\"\")","v":""},{"$f":"IF(VLOOKUP($A8,Feuillettravail!$A:$R,COLUMN(),FALSE)<>\"\",VLOOKUP($A8,Feuillettravail!$A:$R,COLUMN(),FALSE),\"\")","v":""},{"$f":"IF(VLOOKUP($A8,Feuillettravail!$A:$R,COLUMN(),FALSE)<>\"\",VLOOKUP($A8,Feuillettravail!$A:$R,COLUMN(),FALSE),\"\")","v":""},{"$f":"IF(VLOOKUP($A8,Feuillettravail!$A:$R,COLUMN(),FALSE)<>\"\",VLOOKUP($A8,Feuillettravail!$A:$R,COLUMN(),FALSE),\"\")","v":""},{"$f":"IF(VLOOKUP($A8,Feuillettravail!$A:$R,COLUMN(),FALSE)<>\"\",VLOOKUP($A8,Feuillettravail!$A:$R,COLUMN(),FALSE),\"\")","v":""},{"$f":"IF(VLOOKUP($A8,Feuillettravail!$A:$R,COLUMN(),FALSE)<>\"\",VLOOKUP($A8,Feuillettravail!$A:$R,COLUMN(),FALSE),\"\")","v":""},{"$f":"IF(VLOOKUP($A8,Feuillettravail!$A:$R,COLUMN(),FALSE)<>\"\",VLOOKUP($A8,Feuillettravail!$A:$R,COLUMN(),FALSE)&VLOOKUP($A8,Feuillettravail!$A:$AD,29,FALSE),\"\")","v":""},{"$f":"IF(VLOOKUP($A8,Feuillettravail!$A:$R,COLUMN(),FALSE)<>\"\",VLOOKUP($A8,Feuillettravail!$A:$R,COLUMN(),FALSE),\"\")","v":""},{"$f":"IF(VLOOKUP($A8,Feuillettravail!$A:$R,COLUMN(),FALSE)<>\"\",VLOOKUP($A8,Feuillettravail!$A:$R,COLUMN(),FALSE),\"\")","v":""},{"$f":"IF(VLOOKUP($A8,Feuillettravail!$A:$R,COLUMN(),FALSE)<>\"\",VLOOKUP($A8,Feuillettravail!$A:$R,COLUMN(),FALSE),\"\")","v":""},{"$f":"IF(VLOOKUP($A8,Feuillettravail!$A:$Z,26,FALSE)<>\"\",IF(VLOOKUP($A8,Feuillettravail!$A:$R,COLUMN(),FALSE)<>\"\",VLOOKUP($A8,Feuillettravail!$A:$R,COLUMN(),FALSE),\"\"),\"\")","v":""},{"$f":"IF(VLOOKUP($A8,Feuillettravail!$A:$Z,26,FALSE)<>\"\",IF(VLOOKUP($A8,Feuillettravail!$A:$R,COLUMN(),FALSE)<>\"\",VLOOKUP($A8,Feuillettravail!$A:$R,COLUMN(),FALSE),\"\"),\"\")","v":""},{"$f":"IF(VLOOKUP($A8,Feuillettravail!$A:$Z,26,FALSE)<>\"\",IF(VLOOKUP($A8,Feuillettravail!$A:$R,COLUMN(),FALSE)<>\"\",VLOOKUP($A8,Feuillettravail!$A:$R,COLUMN(),FALSE),\"\"),\"\")","v":""},null,null,{"$f":"IF(W12=8,COUNTIF('3ème partie'!E3:E6,\"\")+COUNTIF('3ème partie'!I3:I6,\"\"),IF(W12=12,COUNTIF('3ème partie'!E3:E8,\"\")+COUNTIF('3ème partie'!I3:I8,\"\"),IF(W12=16,COUNTIF('3ème partie'!E3:E10,\"\")+COUNTIF('3ème partie'!I3:I10,\"\"),IF(W12=24,COUNTIF('3ème partie'!E3:E14,\"\")+COUNTIF('3ème partie'!I3:I14,\"\"),IF(W12=32,COUNTIF('3ème partie'!E3:E18,\"\")+COUNTIF('3ème partie'!I3:I18,\"\"),IF(W12=48,COUNTIF('3ème partie'!E3:E26,\"\")+COUNTIF('3ème partie'!I3:I26,\"\"),IF(W12=64,COUNTIF('3ème partie'!E3:E34,\"\")+COUNTIF('3ème partie'!I3:I34,\"\"),\"\")))))))","v":""}]
[6,null,null,{"$f":"IF(VLOOKUP($A9,Feuillettravail!$A:$R,COLUMN(),FALSE)<>\"\",VLOOKUP($A9,Feuillettravail!$A:$R,COLUMN(),FALSE),\"\")","v":""},{"$f":"IF(VLOOKUP($A9,Feuillettravail!$A:$R,COLUMN(),FALSE)<>\"\",VLOOKUP($A9,Feuillettravail!$A:$R,COLUMN(),FALSE),\"\")","v":""},{"$f":"IF(VLOOKUP($A9,Feuillettravail!$A:$R,COLUMN(),FALSE)<>\"\",VLOOKUP($A9,Feuillettravail!$A:$R,COLUMN(),FALSE),\"\")","v":""},{"$f":"IF(VLOOKUP($A9,Feuillettravail!$A:$R,COLUMN(),FALSE)<>\"\",VLOOKUP($A9,Feuillettravail!$A:$R,COLUMN(),FALSE),\"\")","v":""},{"$f":"IF(VLOOKUP($A9,Feuillettravail!$A:$R,COLUMN(),FALSE)<>\"\",VLOOKUP($A9,Feuillettravail!$A:$R,COLUMN(),FALSE),\"\")","v":""},{"$f":"IF(VLOOKUP($A9,Feuillettravail!$A:$R,COLUMN(),FALSE)<>\"\",VLOOKUP($A9,Feuillettravail!$A:$R,COLUMN(),FALSE),\"\")","v":""},{"$f":"IF(VLOOKUP($A9,Feuillettravail!$A:$R,COLUMN(),FALSE)<>\"\",VLOOKUP($A9,Feuillettravail!$A:$R,COLUMN(),FALSE),\"\")","v":""},{"$f":"IF(VLOOKUP($A9,Feuillettravail!$A:$R,COLUMN(),FALSE)<>\"\",VLOOKUP($A9,Feuillettravail!$A:$R,COLUMN(),FALSE),\"\")","v":""},{"$f":"IF(VLOOKUP($A9,Feuillettravail!$A:$R,COLUMN(),FALSE)<>\"\",VLOOKUP($A9,Feuillettravail!$A:$R,COLUMN(),FALSE)&VLOOKUP($A9,Feuillettravail!$A:$AD,29,FALSE),\"\")","v":""},{"$f":"IF(VLOOKUP($A9,Feuillettravail!$A:$R,COLUMN(),FALSE)<>\"\",VLOOKUP($A9,Feuillettravail!$A:$R,COLUMN(),FALSE),\"\")","v":""},{"$f":"IF(VLOOKUP($A9,Feuillettravail!$A:$R,COLUMN(),FALSE)<>\"\",VLOOKUP($A9,Feuillettravail!$A:$R,COLUMN(),FALSE),\"\")","v":""},{"$f":"IF(VLOOKUP($A9,Feuillettravail!$A:$R,COLUMN(),FALSE)<>\"\",VLOOKUP($A9,Feuillettravail!$A:$R,COLUMN(),FALSE),\"\")","v":""},{"$f":"IF(VLOOKUP($A9,Feuillettravail!$A:$Z,26,FALSE)<>\"\",IF(VLOOKUP($A9,Feuillettravail!$A:$R,COLUMN(),FALSE)<>\"\",VLOOKUP($A9,Feuillettravail!$A:$R,COLUMN(),FALSE),\"\"),\"\")","v":""},{"$f":"IF(VLOOKUP($A9,Feuillettravail!$A:$Z,26,FALSE)<>\"\",IF(VLOOKUP($A9,Feuillettravail!$A:$R,COLUMN(),FALSE)<>\"\",VLOOKUP($A9,Feuillettravail!$A:$R,COLUMN(),FALSE),\"\"),\"\")","v":""},{"$f":"IF(VLOOKUP($A9,Feuillettravail!$A:$Z,26,FALSE)<>\"\",IF(VLOOKUP($A9,Feuillettravail!$A:$R,COLUMN(),FALSE)<>\"\",VLOOKUP($A9,Feuillettravail!$A:$R,COLUMN(),FALSE),\"\"),\"\")","v":""},null,null,{"$f":"sociétés","v":"Arlod Bellegarde (11)"},{"$f":"IF('Liste sociétés'!E1>(Equipes!U1-Equipes!U2)/2,'Liste sociétés'!E1,0)","v":0},{"$f":"IF(C2<>\"\",RIGHT(C2,4),\"\")","v":""}]
[7,null,null,{"$f":"IF(VLOOKUP($A10,Feuillettravail!$A:$R,COLUMN(),FALSE)<>\"\",VLOOKUP($A10,Feuillettravail!$A:$R,COLUMN(),FALSE),\"\")","v":""},{"$f":"IF(VLOOKUP($A10,Feuillettravail!$A:$R,COLUMN(),FALSE)<>\"\",VLOOKUP($A10,Feuillettravail!$A:$R,COLUMN(),FALSE),\"\")","v":""},{"$f":"IF(VLOOKUP($A10,Feuillettravail!$A:$R,COLUMN(),FALSE)<>\"\",VLOOKUP($A10,Feuillettravail!$A:$R,COLUMN(),FALSE),\"\")","v":""},{"$f":"IF(VLOOKUP($A10,Feuillettravail!$A:$R,COLUMN(),FALSE)<>\"\",VLOOKUP($A10,Feuillettravail!$A:$R,COLUMN(),FALSE),\"\")","v":""},{"$f":"IF(VLOOKUP($A10,Feuillettravail!$A:$R,COLUMN(),FALSE)<>\"\",VLOOKUP($A10,Feuillettravail!$A:$R,COLUMN(),FALSE),\"\")","v":""},{"$f":"IF(VLOOKUP($A10,Feuillettravail!$A:$R,COLUMN(),FALSE)<>\"\",VLOOKUP($A10,Feuillettravail!$A:$R,COLUMN(),FALSE),\"\")","v":""},{"$f":"IF(VLOOKUP($A10,Feuillettravail!$A:$R,COLUMN(),FALSE)<>\"\",VLOOKUP($A10,Feuillettravail!$A:$R,COLUMN(),FALSE),\"\")","v":""},{"$f":"IF(VLOOKUP($A10,Feuillettravail!$A:$R,COLUMN(),FALSE)<>\"\",VLOOKUP($A10,Feuillettravail!$A:$R,COLUMN(),FALSE),\"\")","v":""},{"$f":"IF(VLOOKUP($A10,Feuillettravail!$A:$R,COLUMN(),FALSE)<>\"\",VLOOKUP($A10,Feuillettravail!$A:$R,COLUMN(),FALSE)&VLOOKUP($A10,Feuillettravail!$A:$AD,29,FALSE),\"\")","v":""},{"$f":"IF(VLOOKUP($A10,Feuillettravail!$A:$R,COLUMN(),FALSE)<>\"\",VLOOKUP($A10,Feuillettravail!$A:$R,COLUMN(),FALSE),\"\")","v":""},{"$f":"IF(VLOOKUP($A10,Feuillettravail!$A:$R,COLUMN(),FALSE)<>\"\",VLOOKUP($A10,Feuillettravail!$A:$R,COLUMN(),FALSE),\"\")","v":""},{"$f":"IF(VLOOKUP($A10,Feuillettravail!$A:$R,COLUMN(),FALSE)<>\"\",VLOOKUP($A10,Feuillettravail!$A:$R,COLUMN(),FALSE),\"\")","v":""},{"$f":"IF(VLOOKUP($A10,Feuillettravail!$A:$Z,26,FALSE)<>\"\",IF(VLOOKUP($A10,Feuillettravail!$A:$R,COLUMN(),FALSE)<>\"\",VLOOKUP($A10,Feuillettravail!$A:$R,COLUMN(),FALSE),\"\"),\"\")","v":""},{"$f":"IF(VLOOKUP($A10,Feuillettravail!$A:$Z,26,FALSE)<>\"\",IF(VLOOKUP($A10,Feuillettravail!$A:$R,COLUMN(),FALSE)<>\"\",VLOOKUP($A10,Feuillettravail!$A:$R,COLUMN(),FALSE),\"\"),\"\")","v":""},{"$f":"IF(VLOOKUP($A10,Feuillettravail!$A:$Z,26,FALSE)<>\"\",IF(VLOOKUP($A10,Feuillettravail!$A:$R,COLUMN(),FALSE)<>\"\",VLOOKUP($A10,Feuillettravail!$A:$R,COLUMN(),FALSE),\"\"),\"\")","v":""},null,null,{"$f":"COUNTA((B4:B67))","v":0}]
[8,null,null,{"$f":"IF(VLOOKUP($A11,Feuillettravail!$A:$R,COLUMN(),FALSE)<>\"\",VLOOKUP($A11,Feuillettravail!$A:$R,COLUMN(),FALSE),\"\")","v":""},{"$f":"IF(VLOOKUP($A11,Feuillettravail!$A:$R,COLUMN(),FALSE)<>\"\",VLOOKUP($A11,Feuillettravail!$A:$R,COLUMN(),FALSE),\"\")","v":""},{"$f":"IF(VLOOKUP($A11,Feuillettravail!$A:$R,COLUMN(),FALSE)<>\"\",VLOOKUP($A11,Feuillettravail!$A:$R,COLUMN(),FALSE),\"\")","v":""},{"$f":"IF(VLOOKUP($A11,Feuillettravail!$A:$R,COLUMN(),FALSE)<>\"\",VLOOKUP($A11,Feuillettravail!$A:$R,COLUMN(),FALSE),\"\")","v":""},{"$f":"IF(VLOOKUP($A11,Feuillettravail!$A:$R,COLUMN(),FALSE)<>\"\",VLOOKUP($A11,Feuillettravail!$A:$R,COLUMN(),FALSE),\"\")","v":""},{"$f":"IF(VLOOKUP($A11,Feuillettravail!$A:$R,COLUMN(),FALSE)<>\"\",VLOOKUP($A11,Feuillettravail!$A:$R,COLUMN(),FALSE),\"\")","v":""},{"$f":"IF(VLOOKUP($A11,Feuillettravail!$A:$R,COLUMN(),FALSE)<>\"\",VLOOKUP($A11,Feuillettravail!$A:$R,COLUMN(),FALSE),\"\")","v":""},{"$f":"IF(VLOOKUP($A11,Feuillettravail!$A:$R,COLUMN(),FALSE)<>\"\",VLOOKUP($A11,Feuillettravail!$A:$R,COLUMN(),FALSE),\"\")","v":""},{"$f":"IF(VLOOKUP($A11,Feuillettravail!$A:$R,COLUMN(),FALSE)<>\"\",VLOOKUP($A11,Feuillettravail!$A:$R,COLUMN(),FALSE)&VLOOKUP($A11,Feuillettravail!$A:$AD,29,FALSE),\"\")","v":""},{"$f":"IF(VLOOKUP($A11,Feuillettravail!$A:$R,COLUMN(),FALSE)<>\"\",VLOOKUP($A11,Feuillettravail!$A:$R,COLUMN(),FALSE),\"\")","v":""},{"$f":"IF(VLOOKUP($A11,Feuillettravail!$A:$R,COLUMN(),FALSE)<>\"\",VLOOKUP($A11,Feuillettravail!$A:$R,COLUMN(),FALSE),\"\")","v":""},{"$f":"IF(VLOOKUP($A11,Feuillettravail!$A:$R,COLUMN(),FALSE)<>\"\",VLOOKUP($A11,Feuillettravail!$A:$R,COLUMN(),FALSE),\"\")","v":""},{"$f":"IF(VLOOKUP($A11,Feuillettravail!$A:$Z,26,FALSE)<>\"\",IF(VLOOKUP($A11,Feuillettravail!$A:$R,COLUMN(),FALSE)<>\"\",VLOOKUP($A11,Feuillettravail!$A:$R,COLUMN(),FALSE),\"\"),\"\")","v":""},{"$f":"IF(VLOOKUP($A11,Feuillettravail!$A:$Z,26,FALSE)<>\"\",IF(VLOOKUP($A11,Feuillettravail!$A:$R,COLUMN(),FALSE)<>\"\",VLOOKUP($A11,Feuillettravail!$A:$R,COLUMN(),FALSE),\"\"),\"\")","v":""},{"$f":"IF(VLOOKUP($A11,Feuillettravail!$A:$Z,26,FALSE)<>\"\",IF(VLOOKUP($A11,Feuillettravail!$A:$R,COLUMN(),FALSE)<>\"\",VLOOKUP($A11,Feuillettravail!$A:$R,COLUMN(),FALSE),\"\"),\"\")","v":""},null,null,"Type de concours"]
[9,null,null,{"$f":"IF(VLOOKUP($A12,Feuillettravail!$A:$R,COLUMN(),FALSE)<>\"\",VLOOKUP($A12,Feuillettravail!$A:$R,COLUMN(),FALSE),\"\")","v":""},{"$f":"IF(VLOOKUP($A12,Feuillettravail!$A:$R,COLUMN(),FALSE)<>\"\",VLOOKUP($A12,Feuillettravail!$A:$R,COLUMN(),FALSE),\"\")","v":""},{"$f":"IF(VLOOKUP($A12,Feuillettravail!$A:$R,COLUMN(),FALSE)<>\"\",VLOOKUP($A12,Feuillettravail!$A:$R,COLUMN(),FALSE),\"\")","v":""},{"$f":"IF(VLOOKUP($A12,Feuillettravail!$A:$R,COLUMN(),FALSE)<>\"\",VLOOKUP($A12,Feuillettravail!$A:$R,COLUMN(),FALSE),\"\")","v":""},{"$f":"IF(VLOOKUP($A12,Feuillettravail!$A:$R,COLUMN(),FALSE)<>\"\",VLOOKUP($A12,Feuillettravail!$A:$R,COLUMN(),FALSE),\"\")","v":""},{"$f":"IF(VLOOKUP($A12,Feuillettravail!$A:$R,COLUMN(),FALSE)<>\"\",VLOOKUP($A12,Feuillettravail!$A:$R,COLUMN(),FALSE),\"\")","v":""},{"$f":"IF(VLOOKUP($A12,Feuillettravail!$A:$R,COLUMN(),FALSE)<>\"\",VLOOKUP($A12,Feuillettravail!$A:$R,COLUMN(),FALSE),\"\")","v":""},{"$f":"IF(VLOOKUP($A12,Feuillettravail!$A:$R,COLUMN(),FALSE)<>\"\",VLOOKUP($A12,Feuillettravail!$A:$R,COLUMN(),FALSE),\"\")","v":""},{"$f":"IF(VLOOKUP($A12,Feuillettravail!$A:$R,COLUMN(),FALSE)<>\"\",VLOOKUP($A12,Feuillettravail!$A:$R,COLUMN(),FALSE)&VLOOKUP($A12,Feuillettravail!$A:$AD,29,FALSE),\"\")","v":""},{"$f":"IF(VLOOKUP($A12,Feuillettravail!$A:$R,COLUMN(),FALSE)<>\"\",VLOOKUP($A12,Feuillettravail!$A:$R,COLUMN(),FALSE),\"\")","v":""},{"$f":"IF(VLOOKUP($A12,Feuillettravail!$A:$R,COLUMN(),FALSE)<>\"\",VLOOKUP($A12,Feuillettravail!$A:$R,COLUMN(),FALSE),\"\")","v":""},{"$f":"IF(VLOOKUP($A12,Feuillettravail!$A:$R,COLUMN(),FALSE)<>\"\",VLOOKUP($A12,Feuillettravail!$A:$R,COLUMN(),FALSE),\"\")","v":""},{"$f":"IF(VLOOKUP($A12,Feuillettravail!$A:$Z,26,FALSE)<>\"\",IF(VLOOKUP($A12,Feuillettravail!$A:$R,COLUMN(),FALSE)<>\"\",VLOOKUP($A12,Feuillettravail!$A:$R,COLUMN(),FALSE),\"\"),\"\")","v":""},{"$f":"IF(VLOOKUP($A12,Feuillettravail!$A:$Z,26,FALSE)<>\"\",IF(VLOOKUP($A12,Feuillettravail!$A:$R,COLUMN(),FALSE)<>\"\",VLOOKUP($A12,Feuillettravail!$A:$R,COLUMN(),FALSE),\"\"),\"\")","v":""},{"$f":"IF(VLOOKUP($A12,Feuillettravail!$A:$Z,26,FALSE)<>\"\",IF(VLOOKUP($A12,Feuillettravail!$A:$R,COLUMN(),FALSE)<>\"\",VLOOKUP($A12,Feuillettravail!$A:$R,COLUMN(),FALSE),\"\"),\"\")","v":""},null,null,"sélectionner le nombre d'équipes"]
[10,null,null,{"$f":"IF(VLOOKUP($A13,Feuillettravail!$A:$R,COLUMN(),FALSE)<>\"\",VLOOKUP($A13,Feuillettravail!$A:$R,COLUMN(),FALSE),\"\")","v":""},{"$f":"IF(VLOOKUP($A13,Feuillettravail!$A:$R,COLUMN(),FALSE)<>\"\",VLOOKUP($A13,Feuillettravail!$A:$R,COLUMN(),FALSE),\"\")","v":""},{"$f":"IF(VLOOKUP($A13,Feuillettravail!$A:$R,COLUMN(),FALSE)<>\"\",VLOOKUP($A13,Feuillettravail!$A:$R,COLUMN(),FALSE),\"\")","v":""},{"$f":"IF(VLOOKUP($A13,Feuillettravail!$A:$R,COLUMN(),FALSE)<>\"\",VLOOKUP($A13,Feuillettravail!$A:$R,COLUMN(),FALSE),\"\")","v":""},{"$f":"IF(VLOOKUP($A13,Feuillettravail!$A:$R,COLUMN(),FALSE)<>\"\",VLOOKUP($A13,Feuillettravail!$A:$R,COLUMN(),FALSE),\"\")","v":""},{"$f":"IF(VLOOKUP($A13,Feuillettravail!$A:$R,COLUMN(),FALSE)<>\"\",VLOOKUP($A13,Feuillettravail!$A:$R,COLUMN(),FALSE),\"\")","v":""},{"$f":"IF(VLOOKUP($A13,Feuillettravail!$A:$R,COLUMN(),FALSE)<>\"\",VLOOKUP($A13,Feuillettravail!$A:$R,COLUMN(),FALSE),\"\")","v":""},{"$f":"IF(VLOOKUP($A13,Feuillettravail!$A:$R,COLUMN(),FALSE)<>\"\",VLOOKUP($A13,Feuillettravail!$A:$R,COLUMN(),FALSE),\"\")","v":""},{"$f":"IF(VLOOKUP($A13,Feuillettravail!$A:$R,COLUMN(),FALSE)<>\"\",VLOOKUP($A13,Feuillettravail!$A:$R,COLUMN(),FALSE)&VLOOKUP($A13,Feuillettravail!$A:$AD,29,FALSE),\"\")","v":""},{"$f":"IF(VLOOKUP($A13,Feuillettravail!$A:$R,COLUMN(),FALSE)<>\"\",VLOOKUP($A13,Feuillettravail!$A:$R,COLUMN(),FALSE),\"\")","v":""},{"$f":"IF(VLOOKUP($A13,Feuillettravail!$A:$R,COLUMN(),FALSE)<>\"\",VLOOKUP($A13,Feuillettravail!$A:$R,COLUMN(),FALSE),\"\")","v":""},{"$f":"IF(VLOOKUP($A13,Feuillettravail!$A:$R,COLUMN(),FALSE)<>\"\",VLOOKUP($A13,Feuillettravail!$A:$R,COLUMN(),FALSE),\"\")","v":""},{"$f":"IF(VLOOKUP($A13,Feuillettravail!$A:$Z,26,FALSE)<>\"\",IF(VLOOKUP($A13,Feuillettravail!$A:$R,COLUMN(),FALSE)<>\"\",VLOOKUP($A13,Feuillettravail!$A:$R,COLUMN(),FALSE),\"\"),\"\")","v":""},{"$f":"IF(VLOOKUP($A13,Feuillettravail!$A:$Z,26,FALSE)<>\"\",IF(VLOOKUP($A13,Feuillettravail!$A:$R,COLUMN(),FALSE)<>\"\",VLOOKUP($A13,Feuillettravail!$A:$R,COLUMN(),FALSE),\"\"),\"\")","v":""},{"$f":"IF(VLOOKUP($A13,Feuillettravail!$A:$Z,26,FALSE)<>\"\",IF(VLOOKUP($A13,Feuillettravail!$A:$R,COLUMN(),FALSE)<>\"\",VLOOKUP($A13,Feuillettravail!$A:$R,COLUMN(),FALSE),\"\"),\"\")","v":""}]
[11,null,null,{"$f":"IF(VLOOKUP($A14,Feuillettravail!$A:$R,COLUMN(),FALSE)<>\"\",VLOOKUP($A14,Feuillettravail!$A:$R,COLUMN(),FALSE),\"\")","v":""},{"$f":"IF(VLOOKUP($A14,Feuillettravail!$A:$R,COLUMN(),FALSE)<>\"\",VLOOKUP($A14,Feuillettravail!$A:$R,COLUMN(),FALSE),\"\")","v":""},{"$f":"IF(VLOOKUP($A14,Feuillettravail!$A:$R,COLUMN(),FALSE)<>\"\",VLOOKUP($A14,Feuillettravail!$A:$R,COLUMN(),FALSE),\"\")","v":""},{"$f":"IF(VLOOKUP($A14,Feuillettravail!$A:$R,COLUMN(),FALSE)<>\"\",VLOOKUP($A14,Feuillettravail!$A:$R,COLUMN(),FALSE),\"\")","v":""},{"$f":"IF(VLOOKUP($A14,Feuillettravail!$A:$R,COLUMN(),FALSE)<>\"\",VLOOKUP($A14,Feuillettravail!$A:$R,COLUMN(),FALSE),\"\")","v":""},{"$f":"IF(VLOOKUP($A14,Feuillettravail!$A:$R,COLUMN(),FALSE)<>\"\",VLOOKUP($A14,Feuillettravail!$A:$R,COLUMN(),FALSE),\"\")","v":""},{"$f":"IF(VLOOKUP($A14,Feuillettravail!$A:$R,COLUMN(),FALSE)<>\"\",VLOOKUP($A14,Feuillettravail!$A:$R,COLUMN(),FALSE),\"\")","v":""},{"$f":"IF(VLOOKUP($A14,Feuillettravail!$A:$R,COLUMN(),FALSE)<>\"\",VLOOKUP($A14,Feuillettravail!$A:$R,COLUMN(),FALSE),\"\")","v":""},{"$f":"IF(VLOOKUP($A14,Feuillettravail!$A:$R,COLUMN(),FALSE)<>\"\",VLOOKUP($A14,Feuillettravail!$A:$R,COLUMN(),FALSE)&VLOOKUP($A14,Feuillettravail!$A:$AD,29,FALSE),\"\")","v":""},{"$f":"IF(VLOOKUP($A14,Feuillettravail!$A:$R,COLUMN(),FALSE)<>\"\",VLOOKUP($A14,Feuillettravail!$A:$R,COLUMN(),FALSE),\"\")","v":""},{"$f":"IF(VLOOKUP($A14,Feuillettravail!$A:$R,COLUMN(),FALSE)<>\"\",VLOOKUP($A14,Feuillettravail!$A:$R,COLUMN(),FALSE),\"\")","v":""},{"$f":"IF(VLOOKUP($A14,Feuillettravail!$A:$R,COLUMN(),FALSE)<>\"\",VLOOKUP($A14,Feuillettravail!$A:$R,COLUMN(),FALSE),\"\")","v":""},{"$f":"IF(VLOOKUP($A14,Feuillettravail!$A:$Z,26,FALSE)<>\"\",IF(VLOOKUP($A14,Feuillettravail!$A:$R,COLUMN(),FALSE)<>\"\",VLOOKUP($A14,Feuillettravail!$A:$R,COLUMN(),FALSE),\"\"),\"\")","v":""},{"$f":"IF(VLOOKUP($A14,Feuillettravail!$A:$Z,26,FALSE)<>\"\",IF(VLOOKUP($A14,Feuillettravail!$A:$R,COLUMN(),FALSE)<>\"\",VLOOKUP($A14,Feuillettravail!$A:$R,COLUMN(),FALSE),\"\"),\"\")","v":""},{"$f":"IF(VLOOKUP($A14,Feuillettravail!$A:$Z,26,FALSE)<>\"\",IF(VLOOKUP($A14,Feuillettravail!$A:$R,COLUMN(),FALSE)<>\"\",VLOOKUP($A14,Feuillettravail!$A:$R,COLUMN(),FALSE),\"\"),\"\")","v":""},null,null,"nombre de jeux utilisés"]
[12,null,null,{"$f":"IF(VLOOKUP($A15,Feuillettravail!$A:$R,COLUMN(),FALSE)<>\"\",VLOOKUP($A15,Feuillettravail!$A:$R,COLUMN(),FALSE),\"\")","v":""},{"$f":"IF(VLOOKUP($A15,Feuillettravail!$A:$R,COLUMN(),FALSE)<>\"\",VLOOKUP($A15,Feuillettravail!$A:$R,COLUMN(),FALSE),\"\")","v":""},{"$f":"IF(VLOOKUP($A15,Feuillettravail!$A:$R,COLUMN(),FALSE)<>\"\",VLOOKUP($A15,Feuillettravail!$A:$R,COLUMN(),FALSE),\"\")","v":""},{"$f":"IF(VLOOKUP($A15,Feuillettravail!$A:$R,COLUMN(),FALSE)<>\"\",VLOOKUP($A15,Feuillettravail!$A:$R,COLUMN(),FALSE),\"\")","v":""},{"$f":"IF(VLOOKUP($A15,Feuillettravail!$A:$R,COLUMN(),FALSE)<>\"\",VLOOKUP($A15,Feuillettravail!$A:$R,COLUMN(),FALSE),\"\")","v":""},{"$f":"IF(VLOOKUP($A15,Feuillettravail!$A:$R,COLUMN(),FALSE)<>\"\",VLOOKUP($A15,Feuillettravail!$A:$R,COLUMN(),FALSE),\"\")","v":""},{"$f":"IF(VLOOKUP($A15,Feuillettravail!$A:$R,COLUMN(),FALSE)<>\"\",VLOOKUP($A15,Feuillettravail!$A:$R,COLUMN(),FALSE),\"\")","v":""},{"$f":"IF(VLOOKUP($A15,Feuillettravail!$A:$R,COLUMN(),FALSE)<>\"\",VLOOKUP($A15,Feuillettravail!$A:$R,COLUMN(),FALSE),\"\")","v":""},{"$f":"IF(VLOOKUP($A15,Feuillettravail!$A:$R,COLUMN(),FALSE)<>\"\",VLOOKUP($A15,Feuillettravail!$A:$R,COLUMN(),FALSE)&VLOOKUP($A15,Feuillettravail!$A:$AD,29,FALSE),\"\")","v":""},{"$f":"IF(VLOOKUP($A15,Feuillettravail!$A:$R,COLUMN(),FALSE)<>\"\",VLOOKUP($A15,Feuillettravail!$A:$R,COLUMN(),FALSE),\"\")","v":""},{"$f":"IF(VLOOKUP($A15,Feuillettravail!$A:$R,COLUMN(),FALSE)<>\"\",VLOOKUP($A15,Feuillettravail!$A:$R,COLUMN(),FALSE),\"\")","v":""},{"$f":"IF(VLOOKUP($A15,Feuillettravail!$A:$R,COLUMN(),FALSE)<>\"\",VLOOKUP($A15,Feuillettravail!$A:$R,COLUMN(),FALSE),\"\")","v":""},{"$f":"IF(VLOOKUP($A15,Feuillettravail!$A:$Z,26,FALSE)<>\"\",IF(VLOOKUP($A15,Feuillettravail!$A:$R,COLUMN(),FALSE)<>\"\",VLOOKUP($A15,Feuillettravail!$A:$R,COLUMN(),FALSE),\"\"),\"\")","v":""},{"$f":"IF(VLOOKUP($A15,Feuillettravail!$A:$Z,26,FALSE)<>\"\",IF(VLOOKUP($A15,Feuillettravail!$A:$R,COLUMN(),FALSE)<>\"\",VLOOKUP($A15,Feuillettravail!$A:$R,COLUMN(),FALSE),\"\"),\"\")","v":""},{"$f":"IF(VLOOKUP($A15,Feuillettravail!$A:$Z,26,FALSE)<>\"\",IF(VLOOKUP($A15,Feuillettravail!$A:$R,COLUMN(),FALSE)<>\"\",VLOOKUP($A15,Feuillettravail!$A:$R,COLUMN(),FALSE),\"\"),\"\")","v":""}]
[13,null,null,{"$f":"IF(VLOOKUP($A16,Feuillettravail!$A:$R,COLUMN(),FALSE)<>\"\",VLOOKUP($A16,Feuillettravail!$A:$R,COLUMN(),FALSE),\"\")","v":""},{"$f":"IF(VLOOKUP($A16,Feuillettravail!$A:$R,COLUMN(),FALSE)<>\"\",VLOOKUP($A16,Feuillettravail!$A:$R,COLUMN(),FALSE),\"\")","v":""},{"$f":"IF(VLOOKUP($A16,Feuillettravail!$A:$R,COLUMN(),FALSE)<>\"\",VLOOKUP($A16,Feuillettravail!$A:$R,COLUMN(),FALSE),\"\")","v":""},{"$f":"IF(VLOOKUP($A16,Feuillettravail!$A:$R,COLUMN(),FALSE)<>\"\",VLOOKUP($A16,Feuillettravail!$A:$R,COLUMN(),FALSE),\"\")","v":""},{"$f":"IF(VLOOKUP($A16,Feuillettravail!$A:$R,COLUMN(),FALSE)<>\"\",VLOOKUP($A16,Feuillettravail!$A:$R,COLUMN(),FALSE),\"\")","v":""},{"$f":"IF(VLOOKUP($A16,Feuillettravail!$A:$R,COLUMN(),FALSE)<>\"\",VLOOKUP($A16,Feuillettravail!$A:$R,COLUMN(),FALSE),\"\")","v":""},{"$f":"IF(VLOOKUP($A16,Feuillettravail!$A:$R,COLUMN(),FALSE)<>\"\",VLOOKUP($A16,Feuillettravail!$A:$R,COLUMN(),FALSE),\"\")","v":""},{"$f":"IF(VLOOKUP($A16,Feuillettravail!$A:$R,COLUMN(),FALSE)<>\"\",VLOOKUP($A16,Feuillettravail!$A:$R,COLUMN(),FALSE),\"\")","v":""},{"$f":"IF(VLOOKUP($A16,Feuillettravail!$A:$R,COLUMN(),FALSE)<>\"\",VLOOKUP($A16,Feuillettravail!$A:$R,COLUMN(),FALSE)&VLOOKUP($A16,Feuillettravail!$A:$AD,29,FALSE),\"\")","v":""},{"$f":"IF(VLOOKUP($A16,Feuillettravail!$A:$R,COLUMN(),FALSE)<>\"\",VLOOKUP($A16,Feuillettravail!$A:$R,COLUMN(),FALSE),\"\")","v":""},{"$f":"IF(VLOOKUP($A16,Feuillettravail!$A:$R,COLUMN(),FALSE)<>\"\",VLOOKUP($A16,Feuillettravail!$A:$R,COLUMN(),FALSE),\"\")","v":""},{"$f":"IF(VLOOKUP($A16,Feuillettravail!$A:$R,COLUMN(),FALSE)<>\"\",VLOOKUP($A16,Feuillettravail!$A:$R,COLUMN(),FALSE),\"\")","v":""},{"$f":"IF(VLOOKUP($A16,Feuillettravail!$A:$Z,26,FALSE)<>\"\",IF(VLOOKUP($A16,Feuillettravail!$A:$R,COLUMN(),FALSE)<>\"\",VLOOKUP($A16,Feuillettravail!$A:$R,COLUMN(),FALSE),\"\"),\"\")","v":""},{"$f":"IF(VLOOKUP($A16,Feuillettravail!$A:$Z,26,FALSE)<>\"\",IF(VLOOKUP($A16,Feuillettravail!$A:$R,COLUMN(),FALSE)<>\"\",VLOOKUP($A16,Feuillettravail!$A:$R,COLUMN(),FALSE),\"\"),\"\")","v":""},{"$f":"IF(VLOOKUP($A16,Feuillettravail!$A:$Z,26,FALSE)<>\"\",IF(VLOOKUP($A16,Feuillettravail!$A:$R,COLUMN(),FALSE)<>\"\",VLOOKUP($A16,Feuillettravail!$A:$R,COLUMN(),FALSE),\"\"),\"\")","v":""},null,null,"Type tirage"]
[14,null,null,{"$f":"IF(VLOOKUP($A17,Feuillettravail!$A:$R,COLUMN(),FALSE)<>\"\",VLOOKUP($A17,Feuillettravail!$A:$R,COLUMN(),FALSE),\"\")","v":""},{"$f":"IF(VLOOKUP($A17,Feuillettravail!$A:$R,COLUMN(),FALSE)<>\"\",VLOOKUP($A17,Feuillettravail!$A:$R,COLUMN(),FALSE),\"\")","v":""},{"$f":"IF(VLOOKUP($A17,Feuillettravail!$A:$R,COLUMN(),FALSE)<>\"\",VLOOKUP($A17,Feuillettravail!$A:$R,COLUMN(),FALSE),\"\")","v":""},{"$f":"IF(VLOOKUP($A17,Feuillettravail!$A:$R,COLUMN(),FALSE)<>\"\",VLOOKUP($A17,Feuillettravail!$A:$R,COLUMN(),FALSE),\"\")","v":""},{"$f":"IF(VLOOKUP($A17,Feuillettravail!$A:$R,COLUMN(),FALSE)<>\"\",VLOOKUP($A17,Feuillettravail!$A:$R,COLUMN(),FALSE),\"\")","v":""},{"$f":"IF(VLOOKUP($A17,Feuillettravail!$A:$R,COLUMN(),FALSE)<>\"\",VLOOKUP($A17,Feuillettravail!$A:$R,COLUMN(),FALSE),\"\")","v":""},{"$f":"IF(VLOOKUP($A17,Feuillettravail!$A:$R,COLUMN(),FALSE)<>\"\",VLOOKUP($A17,Feuillettravail!$A:$R,COLUMN(),FALSE),\"\")","v":""},{"$f":"IF(VLOOKUP($A17,Feuillettravail!$A:$R,COLUMN(),FALSE)<>\"\",VLOOKUP($A17,Feuillettravail!$A:$R,COLUMN(),FALSE),\"\")","v":""},{"$f":"IF(VLOOKUP($A17,Feuillettravail!$A:$R,COLUMN(),FALSE)<>\"\",VLOOKUP($A17,Feuillettravail!$A:$R,COLUMN(),FALSE)&VLOOKUP($A17,Feuillettravail!$A:$AD,29,FALSE),\"\")","v":""},{"$f":"IF(VLOOKUP($A17,Feuillettravail!$A:$R,COLUMN(),FALSE)<>\"\",VLOOKUP($A17,Feuillettravail!$A:$R,COLUMN(),FALSE),\"\")","v":""},{"$f":"IF(VLOOKUP($A17,Feuillettravail!$A:$R,COLUMN(),FALSE)<>\"\",VLOOKUP($A17,Feuillettravail!$A:$R,COLUMN(),FALSE),\"\")","v":""},{"$f":"IF(VLOOKUP($A17,Feuillettravail!$A:$R,COLUMN(),FALSE)<>\"\",VLOOKUP($A17,Feuillettravail!$A:$R,COLUMN(),FALSE),\"\")","v":""},{"$f":"IF(VLOOKUP($A17,Feuillettravail!$A:$Z,26,FALSE)<>\"\",IF(VLOOKUP($A17,Feuillettravail!$A:$R,COLUMN(),FALSE)<>\"\",VLOOKUP($A17,Feuillettravail!$A:$R,COLUMN(),FALSE),\"\"),\"\")","v":""},{"$f":"IF(VLOOKUP($A17,Feuillettravail!$A:$Z,26,FALSE)<>\"\",IF(VLOOKUP($A17,Feuillettravail!$A:$R,COLUMN(),FALSE)<>\"\",VLOOKUP($A17,Feuillettravail!$A:$R,COLUMN(),FALSE),\"\"),\"\")","v":""},{"$f":"IF(VLOOKUP($A17,Feuillettravail!$A:$Z,26,FALSE)<>\"\",IF(VLOOKUP($A17,Feuillettravail!$A:$R,COLUMN(),FALSE)<>\"\",VLOOKUP($A17,Feuillettravail!$A:$R,COLUMN(),FALSE),\"\"),\"\")","v":""},null,null,"tirage au sort (G/G P/P)"]
[15,null,null,{"$f":"IF(VLOOKUP($A18,Feuillettravail!$A:$R,COLUMN(),FALSE)<>\"\",VLOOKUP($A18,Feuillettravail!$A:$R,COLUMN(),FALSE),\"\")","v":""},{"$f":"IF(VLOOKUP($A18,Feuillettravail!$A:$R,COLUMN(),FALSE)<>\"\",VLOOKUP($A18,Feuillettravail!$A:$R,COLUMN(),FALSE),\"\")","v":""},{"$f":"IF(VLOOKUP($A18,Feuillettravail!$A:$R,COLUMN(),FALSE)<>\"\",VLOOKUP($A18,Feuillettravail!$A:$R,COLUMN(),FALSE),\"\")","v":""},{"$f":"IF(VLOOKUP($A18,Feuillettravail!$A:$R,COLUMN(),FALSE)<>\"\",VLOOKUP($A18,Feuillettravail!$A:$R,COLUMN(),FALSE),\"\")","v":""},{"$f":"IF(VLOOKUP($A18,Feuillettravail!$A:$R,COLUMN(),FALSE)<>\"\",VLOOKUP($A18,Feuillettravail!$A:$R,COLUMN(),FALSE),\"\")","v":""},{"$f":"IF(VLOOKUP($A18,Feuillettravail!$A:$R,COLUMN(),FALSE)<>\"\",VLOOKUP($A18,Feuillettravail!$A:$R,COLUMN(),FALSE),\"\")","v":""},{"$f":"IF(VLOOKUP($A18,Feuillettravail!$A:$R,COLUMN(),FALSE)<>\"\",VLOOKUP($A18,Feuillettravail!$A:$R,COLUMN(),FALSE),\"\")","v":""},{"$f":"IF(VLOOKUP($A18,Feuillettravail!$A:$R,COLUMN(),FALSE)<>\"\",VLOOKUP($A18,Feuillettravail!$A:$R,COLUMN(),FALSE),\"\")","v":""},{"$f":"IF(VLOOKUP($A18,Feuillettravail!$A:$R,COLUMN(),FALSE)<>\"\",VLOOKUP($A18,Feuillettravail!$A:$R,COLUMN(),FALSE)&VLOOKUP($A18,Feuillettravail!$A:$AD,29,FALSE),\"\")","v":""},{"$f":"IF(VLOOKUP($A18,Feuillettravail!$A:$R,COLUMN(),FALSE)<>\"\",VLOOKUP($A18,Feuillettravail!$A:$R,COLUMN(),FALSE),\"\")","v":""},{"$f":"IF(VLOOKUP($A18,Feuillettravail!$A:$R,COLUMN(),FALSE)<>\"\",VLOOKUP($A18,Feuillettravail!$A:$R,COLUMN(),FALSE),\"\")","v":""},{"$f":"IF(VLOOKUP($A18,Feuillettravail!$A:$R,COLUMN(),FALSE)<>\"\",VLOOKUP($A18,Feuillettravail!$A:$R,COLUMN(),FALSE),\"\")","v":""},{"$f":"IF(VLOOKUP($A18,Feuillettravail!$A:$Z,26,FALSE)<>\"\",IF(VLOOKUP($A18,Feuillettravail!$A:$R,COLUMN(),FALSE)<>\"\",VLOOKUP($A18,Feuillettravail!$A:$R,COLUMN(),FALSE),\"\"),\"\")","v":""},{"$f":"IF(VLOOKUP($A18,Feuillettravail!$A:$Z,26,FALSE)<>\"\",IF(VLOOKUP($A18,Feuillettravail!$A:$R,COLUMN(),FALSE)<>\"\",VLOOKUP($A18,Feuillettravail!$A:$R,COLUMN(),FALSE),\"\"),\"\")","v":""},{"$f":"IF(VLOOKUP($A18,Feuillettravail!$A:$Z,26,FALSE)<>\"\",IF(VLOOKUP($A18,Feuillettravail!$A:$R,COLUMN(),FALSE)<>\"\",VLOOKUP($A18,Feuillettravail!$A:$R,COLUMN(),FALSE),\"\"),\"\")","v":""},null,null,"tirage fonction score (1er/ 2e, 3e/4e, avant-dernier/dernier)"]
[16,null,null,{"$f":"IF(VLOOKUP($A19,Feuillettravail!$A:$R,COLUMN(),FALSE)<>\"\",VLOOKUP($A19,Feuillettravail!$A:$R,COLUMN(),FALSE),\"\")","v":""},{"$f":"IF(VLOOKUP($A19,Feuillettravail!$A:$R,COLUMN(),FALSE)<>\"\",VLOOKUP($A19,Feuillettravail!$A:$R,COLUMN(),FALSE),\"\")","v":""},{"$f":"IF(VLOOKUP($A19,Feuillettravail!$A:$R,COLUMN(),FALSE)<>\"\",VLOOKUP($A19,Feuillettravail!$A:$R,COLUMN(),FALSE),\"\")","v":""},{"$f":"IF(VLOOKUP($A19,Feuillettravail!$A:$R,COLUMN(),FALSE)<>\"\",VLOOKUP($A19,Feuillettravail!$A:$R,COLUMN(),FALSE),\"\")","v":""},{"$f":"IF(VLOOKUP($A19,Feuillettravail!$A:$R,COLUMN(),FALSE)<>\"\",VLOOKUP($A19,Feuillettravail!$A:$R,COLUMN(),FALSE),\"\")","v":""},{"$f":"IF(VLOOKUP($A19,Feuillettravail!$A:$R,COLUMN(),FALSE)<>\"\",VLOOKUP($A19,Feuillettravail!$A:$R,COLUMN(),FALSE),\"\")","v":""},{"$f":"IF(VLOOKUP($A19,Feuillettravail!$A:$R,COLUMN(),FALSE)<>\"\",VLOOKUP($A19,Feuillettravail!$A:$R,COLUMN(),FALSE),\"\")","v":""},{"$f":"IF(VLOOKUP($A19,Feuillettravail!$A:$R,COLUMN(),FALSE)<>\"\",VLOOKUP($A19,Feuillettravail!$A:$R,COLUMN(),FALSE),\"\")","v":""},{"$f":"IF(VLOOKUP($A19,Feuillettravail!$A:$R,COLUMN(),FALSE)<>\"\",VLOOKUP($A19,Feuillettravail!$A:$R,COLUMN(),FALSE)&VLOOKUP($A19,Feuillettravail!$A:$AD,29,FALSE),\"\")","v":""},{"$f":"IF(VLOOKUP($A19,Feuillettravail!$A:$R,COLUMN(),FALSE)<>\"\",VLOOKUP($A19,Feuillettravail!$A:$R,COLUMN(),FALSE),\"\")","v":""},{"$f":"IF(VLOOKUP($A19,Feuillettravail!$A:$R,COLUMN(),FALSE)<>\"\",VLOOKUP($A19,Feuillettravail!$A:$R,COLUMN(),FALSE),\"\")","v":""},{"$f":"IF(VLOOKUP($A19,Feuillettravail!$A:$R,COLUMN(),FALSE)<>\"\",VLOOKUP($A19,Feuillettravail!$A:$R,COLUMN(),FALSE),\"\")","v":""},{"$f":"IF(VLOOKUP($A19,Feuillettravail!$A:$Z,26,FALSE)<>\"\",IF(VLOOKUP($A19,Feuillettravail!$A:$R,COLUMN(),FALSE)<>\"\",VLOOKUP($A19,Feuillettravail!$A:$R,COLUMN(),FALSE),\"\"),\"\")","v":""},{"$f":"IF(VLOOKUP($A19,Feuillettravail!$A:$Z,26,FALSE)<>\"\",IF(VLOOKUP($A19,Feuillettravail!$A:$R,COLUMN(),FALSE)<>\"\",VLOOKUP($A19,Feuillettravail!$A:$R,COLUMN(),FALSE),\"\"),\"\")","v":""},{"$f":"IF(VLOOKUP($A19,Feuillettravail!$A:$Z,26,FALSE)<>\"\",IF(VLOOKUP($A19,Feuillettravail!$A:$R,COLUMN(),FALSE)<>\"\",VLOOKUP($A19,Feuillettravail!$A:$R,COLUMN(),FALSE),\"\"),\"\")","v":""},null,null,"tirage au sort aléatoire"]
[17,null,null,{"$f":"IF(VLOOKUP($A20,Feuillettravail!$A:$R,COLUMN(),FALSE)<>\"\",VLOOKUP($A20,Feuillettravail!$A:$R,COLUMN(),FALSE),\"\")","v":""},{"$f":"IF(VLOOKUP($A20,Feuillettravail!$A:$R,COLUMN(),FALSE)<>\"\",VLOOKUP($A20,Feuillettravail!$A:$R,COLUMN(),FALSE),\"\")","v":""},{"$f":"IF(VLOOKUP($A20,Feuillettravail!$A:$R,COLUMN(),FALSE)<>\"\",VLOOKUP($A20,Feuillettravail!$A:$R,COLUMN(),FALSE),\"\")","v":""},{"$f":"IF(VLOOKUP($A20,Feuillettravail!$A:$R,COLUMN(),FALSE)<>\"\",VLOOKUP($A20,Feuillettravail!$A:$R,COLUMN(),FALSE),\"\")","v":""},{"$f":"IF(VLOOKUP($A20,Feuillettravail!$A:$R,COLUMN(),FALSE)<>\"\",VLOOKUP($A20,Feuillettravail!$A:$R,COLUMN(),FALSE),\"\")","v":""},{"$f":"IF(VLOOKUP($A20,Feuillettravail!$A:$R,COLUMN(),FALSE)<>\"\",VLOOKUP($A20,Feuillettravail!$A:$R,COLUMN(),FALSE),\"\")","v":""},{"$f":"IF(VLOOKUP($A20,Feuillettravail!$A:$R,COLUMN(),FALSE)<>\"\",VLOOKUP($A20,Feuillettravail!$A:$R,COLUMN(),FALSE),\"\")","v":""},{"$f":"IF(VLOOKUP($A20,Feuillettravail!$A:$R,COLUMN(),FALSE)<>\"\",VLOOKUP($A20,Feuillettravail!$A:$R,COLUMN(),FALSE),\"\")","v":""},{"$f":"IF(VLOOKUP($A20,Feuillettravail!$A:$R,COLUMN(),FALSE)<>\"\",VLOOKUP($A20,Feuillettravail!$A:$R,COLUMN(),FALSE)&VLOOKUP($A20,Feuillettravail!$A:$AD,29,FALSE),\"\")","v":""},{"$f":"IF(VLOOKUP($A20,Feuillettravail!$A:$R,COLUMN(),FALSE)<>\"\",VLOOKUP($A20,Feuillettravail!$A:$R,COLUMN(),FALSE),\"\")","v":""},{"$f":"IF(VLOOKUP($A20,Feuillettravail!$A:$R,COLUMN(),FALSE)<>\"\",VLOOKUP($A20,Feuillettravail!$A:$R,COLUMN(),FALSE),\"\")","v":""},{"$f":"IF(VLOOKUP($A20,Feuillettravail!$A:$R,COLUMN(),FALSE)<>\"\",VLOOKUP($A20,Feuillettravail!$A:$R,COLUMN(),FALSE),\"\")","v":""},{"$f":"IF(VLOOKUP($A20,Feuillettravail!$A:$Z,26,FALSE)<>\"\",IF(VLOOKUP($A20,Feuillettravail!$A:$R,COLUMN(),FALSE)<>\"\",VLOOKUP($A20,Feuillettravail!$A:$R,COLUMN(),FALSE),\"\"),\"\")","v":""},{"$f":"IF(VLOOKUP($A20,Feuillettravail!$A:$Z,26,FALSE)<>\"\",IF(VLOOKUP($A20,Feuillettravail!$A:$R,COLUMN(),FALSE)<>\"\",VLOOKUP($A20,Feuillettravail!$A:$R,COLUMN(),FALSE),\"\"),\"\")","v":""},{"$f":"IF(VLOOKUP($A20,Feuillettravail!$A:$Z,26,FALSE)<>\"\",IF(VLOOKUP($A20,Feuillettravail!$A:$R,COLUMN(),FALSE)<>\"\",VLOOKUP($A20,Feuillettravail!$A:$R,COLUMN(),FALSE),\"\"),\"\")","v":""}]
[18,null,null,{"$f":"IF(VLOOKUP($A21,Feuillettravail!$A:$R,COLUMN(),FALSE)<>\"\",VLOOKUP($A21,Feuillettravail!$A:$R,COLUMN(),FALSE),\"\")","v":""},{"$f":"IF(VLOOKUP($A21,Feuillettravail!$A:$R,COLUMN(),FALSE)<>\"\",VLOOKUP($A21,Feuillettravail!$A:$R,COLUMN(),FALSE),\"\")","v":""},{"$f":"IF(VLOOKUP($A21,Feuillettravail!$A:$R,COLUMN(),FALSE)<>\"\",VLOOKUP($A21,Feuillettravail!$A:$R,COLUMN(),FALSE),\"\")","v":""},{"$f":"IF(VLOOKUP($A21,Feuillettravail!$A:$R,COLUMN(),FALSE)<>\"\",VLOOKUP($A21,Feuillettravail!$A:$R,COLUMN(),FALSE),\"\")","v":""},{"$f":"IF(VLOOKUP($A21,Feuillettravail!$A:$R,COLUMN(),FALSE)<>\"\",VLOOKUP($A21,Feuillettravail!$A:$R,COLUMN(),FALSE),\"\")","v":""},{"$f":"IF(VLOOKUP($A21,Feuillettravail!$A:$R,COLUMN(),FALSE)<>\"\",VLOOKUP($A21,Feuillettravail!$A:$R,COLUMN(),FALSE),\"\")","v":""},{"$f":"IF(VLOOKUP($A21,Feuillettravail!$A:$R,COLUMN(),FALSE)<>\"\",VLOOKUP($A21,Feuillettravail!$A:$R,COLUMN(),FALSE),\"\")","v":""},{"$f":"IF(VLOOKUP($A21,Feuillettravail!$A:$R,COLUMN(),FALSE)<>\"\",VLOOKUP($A21,Feuillettravail!$A:$R,COLUMN(),FALSE),\"\")","v":""},{"$f":"IF(VLOOKUP($A21,Feuillettravail!$A:$R,COLUMN(),FALSE)<>\"\",VLOOKUP($A21,Feuillettravail!$A:$R,COLUMN(),FALSE)&VLOOKUP($A21,Feuillettravail!$A:$AD,29,FALSE),\"\")","v":""},{"$f":"IF(VLOOKUP($A21,Feuillettravail!$A:$R,COLUMN(),FALSE)<>\"\",VLOOKUP($A21,Feuillettravail!$A:$R,COLUMN(),FALSE),\"\")","v":""},{"$f":"IF(VLOOKUP($A21,Feuillettravail!$A:$R,COLUMN(),FALSE)<>\"\",VLOOKUP($A21,Feuillettravail!$A:$R,COLUMN(),FALSE),\"\")","v":""},{"$f":"IF(VLOOKUP($A21,Feuillettravail!$A:$R,COLUMN(),FALSE)<>\"\",VLOOKUP($A21,Feuillettravail!$A:$R,COLUMN(),FALSE),\"\")","v":""},{"$f":"IF(VLOOKUP($A21,Feuillettravail!$A:$Z,26,FALSE)<>\"\",IF(VLOOKUP($A21,Feuillettravail!$A:$R,COLUMN(),FALSE)<>\"\",VLOOKUP($A21,Feuillettravail!$A:$R,COLUMN(),FALSE),\"\"),\"\")","v":""},{"$f":"IF(VLOOKUP($A21,Feuillettravail!$A:$Z,26,FALSE)<>\"\",IF(VLOOKUP($A21,Feuillettravail!$A:$R,COLUMN(),FALSE)<>\"\",VLOOKUP($A21,Feuillettravail!$A:$R,COLUMN(),FALSE),\"\"),\"\")","v":""},{"$f":"IF(VLOOKUP($A21,Feuillettravail!$A:$Z,26,FALSE)<>\"\",IF(VLOOKUP($A21,Feuillettravail!$A:$R,COLUMN(),FALSE)<>\"\",VLOOKUP($A21,Feuillettravail!$A:$R,COLUMN(),FALSE),\"\"),\"\")","v":""},null,null,"Infos  complémentaires "]
[19,null,null,{"$f":"IF(VLOOKUP($A22,Feuillettravail!$A:$R,COLUMN(),FALSE)<>\"\",VLOOKUP($A22,Feuillettravail!$A:$R,COLUMN(),FALSE),\"\")","v":""},{"$f":"IF(VLOOKUP($A22,Feuillettravail!$A:$R,COLUMN(),FALSE)<>\"\",VLOOKUP($A22,Feuillettravail!$A:$R,COLUMN(),FALSE),\"\")","v":""},{"$f":"IF(VLOOKUP($A22,Feuillettravail!$A:$R,COLUMN(),FALSE)<>\"\",VLOOKUP($A22,Feuillettravail!$A:$R,COLUMN(),FALSE),\"\")","v":""},{"$f":"IF(VLOOKUP($A22,Feuillettravail!$A:$R,COLUMN(),FALSE)<>\"\",VLOOKUP($A22,Feuillettravail!$A:$R,COLUMN(),FALSE),\"\")","v":""},{"$f":"IF(VLOOKUP($A22,Feuillettravail!$A:$R,COLUMN(),FALSE)<>\"\",VLOOKUP($A22,Feuillettravail!$A:$R,COLUMN(),FALSE),\"\")","v":""},{"$f":"IF(VLOOKUP($A22,Feuillettravail!$A:$R,COLUMN(),FALSE)<>\"\",VLOOKUP($A22,Feuillettravail!$A:$R,COLUMN(),FALSE),\"\")","v":""},{"$f":"IF(VLOOKUP($A22,Feuillettravail!$A:$R,COLUMN(),FALSE)<>\"\",VLOOKUP($A22,Feuillettravail!$A:$R,COLUMN(),FALSE),\"\")","v":""},{"$f":"IF(VLOOKUP($A22,Feuillettravail!$A:$R,COLUMN(),FALSE)<>\"\",VLOOKUP($A22,Feuillettravail!$A:$R,COLUMN(),FALSE),\"\")","v":""},{"$f":"IF(VLOOKUP($A22,Feuillettravail!$A:$R,COLUMN(),FALSE)<>\"\",VLOOKUP($A22,Feuillettravail!$A:$R,COLUMN(),FALSE)&VLOOKUP($A22,Feuillettravail!$A:$AD,29,FALSE),\"\")","v":""},{"$f":"IF(VLOOKUP($A22,Feuillettravail!$A:$R,COLUMN(),FALSE)<>\"\",VLOOKUP($A22,Feuillettravail!$A:$R,COLUMN(),FALSE),\"\")","v":""},{"$f":"IF(VLOOKUP($A22,Feuillettravail!$A:$R,COLUMN(),FALSE)<>\"\",VLOOKUP($A22,Feuillettravail!$A:$R,COLUMN(),FALSE),\"\")","v":""},{"$f":"IF(VLOOKUP($A22,Feuillettravail!$A:$R,COLUMN(),FALSE)<>\"\",VLOOKUP($A22,Feuillettravail!$A:$R,COLUMN(),FALSE),\"\")","v":""},{"$f":"IF(VLOOKUP($A22,Feuillettravail!$A:$Z,26,FALSE)<>\"\",IF(VLOOKUP($A22,Feuillettravail!$A:$R,COLUMN(),FALSE)<>\"\",VLOOKUP($A22,Feuillettravail!$A:$R,COLUMN(),FALSE),\"\"),\"\")","v":""},{"$f":"IF(VLOOKUP($A22,Feuillettravail!$A:$Z,26,FALSE)<>\"\",IF(VLOOKUP($A22,Feuillettravail!$A:$R,COLUMN(),FALSE)<>\"\",VLOOKUP($A22,Feuillettravail!$A:$R,COLUMN(),FALSE),\"\"),\"\")","v":""},{"$f":"IF(VLOOKUP($A22,Feuillettravail!$A:$Z,26,FALSE)<>\"\",IF(VLOOKUP($A22,Feuillettravail!$A:$R,COLUMN(),FALSE)<>\"\",VLOOKUP($A22,Feuillettravail!$A:$R,COLUMN(),FALSE),\"\"),\"\")","v":""},null,null,"(facultatif)"]
[20,null,null,{"$f":"IF(VLOOKUP($A23,Feuillettravail!$A:$R,COLUMN(),FALSE)<>\"\",VLOOKUP($A23,Feuillettravail!$A:$R,COLUMN(),FALSE),\"\")","v":""},{"$f":"IF(VLOOKUP($A23,Feuillettravail!$A:$R,COLUMN(),FALSE)<>\"\",VLOOKUP($A23,Feuillettravail!$A:$R,COLUMN(),FALSE),\"\")","v":""},{"$f":"IF(VLOOKUP($A23,Feuillettravail!$A:$R,COLUMN(),FALSE)<>\"\",VLOOKUP($A23,Feuillettravail!$A:$R,COLUMN(),FALSE),\"\")","v":""},{"$f":"IF(VLOOKUP($A23,Feuillettravail!$A:$R,COLUMN(),FALSE)<>\"\",VLOOKUP($A23,Feuillettravail!$A:$R,COLUMN(),FALSE),\"\")","v":""},{"$f":"IF(VLOOKUP($A23,Feuillettravail!$A:$R,COLUMN(),FALSE)<>\"\",VLOOKUP($A23,Feuillettravail!$A:$R,COLUMN(),FALSE),\"\")","v":""},{"$f":"IF(VLOOKUP($A23,Feuillettravail!$A:$R,COLUMN(),FALSE)<>\"\",VLOOKUP($A23,Feuillettravail!$A:$R,COLUMN(),FALSE),\"\")","v":""},{"$f":"IF(VLOOKUP($A23,Feuillettravail!$A:$R,COLUMN(),FALSE)<>\"\",VLOOKUP($A23,Feuillettravail!$A:$R,COLUMN(),FALSE),\"\")","v":""},{"$f":"IF(VLOOKUP($A23,Feuillettravail!$A:$R,COLUMN(),FALSE)<>\"\",VLOOKUP($A23,Feuillettravail!$A:$R,COLUMN(),FALSE),\"\")","v":""},{"$f":"IF(VLOOKUP($A23,Feuillettravail!$A:$R,COLUMN(),FALSE)<>\"\",VLOOKUP($A23,Feuillettravail!$A:$R,COLUMN(),FALSE)&VLOOKUP($A23,Feuillettravail!$A:$AD,29,FALSE),\"\")","v":""},{"$f":"IF(VLOOKUP($A23,Feuillettravail!$A:$R,COLUMN(),FALSE)<>\"\",VLOOKUP($A23,Feuillettravail!$A:$R,COLUMN(),FALSE),\"\")","v":""},{"$f":"IF(VLOOKUP($A23,Feuillettravail!$A:$R,COLUMN(),FALSE)<>\"\",VLOOKUP($A23,Feuillettravail!$A:$R,COLUMN(),FALSE),\"\")","v":""},{"$f":"IF(VLOOKUP($A23,Feuillettravail!$A:$R,COLUMN(),FALSE)<>\"\",VLOOKUP($A23,Feuillettravail!$A:$R,COLUMN(),FALSE),\"\")","v":""},{"$f":"IF(VLOOKUP($A23,Feuillettravail!$A:$Z,26,FALSE)<>\"\",IF(VLOOKUP($A23,Feuillettravail!$A:$R,COLUMN(),FALSE)<>\"\",VLOOKUP($A23,Feuillettravail!$A:$R,COLUMN(),FALSE),\"\"),\"\")","v":""},{"$f":"IF(VLOOKUP($A23,Feuillettravail!$A:$Z,26,FALSE)<>\"\",IF(VLOOKUP($A23,Feuillettravail!$A:$R,COLUMN(),FALSE)<>\"\",VLOOKUP($A23,Feuillettravail!$A:$R,COLUMN(),FALSE),\"\"),\"\")","v":""},{"$f":"IF(VLOOKUP($A23,Feuillettravail!$A:$Z,26,FALSE)<>\"\",IF(VLOOKUP($A23,Feuillettravail!$A:$R,COLUMN(),FALSE)<>\"\",VLOOKUP($A23,Feuillettravail!$A:$R,COLUMN(),FALSE),\"\"),\"\")","v":""},null,null,"Inscriptions :"]
[21,null,null,{"$f":"IF(VLOOKUP($A24,Feuillettravail!$A:$R,COLUMN(),FALSE)<>\"\",VLOOKUP($A24,Feuillettravail!$A:$R,COLUMN(),FALSE),\"\")","v":""},{"$f":"IF(VLOOKUP($A24,Feuillettravail!$A:$R,COLUMN(),FALSE)<>\"\",VLOOKUP($A24,Feuillettravail!$A:$R,COLUMN(),FALSE),\"\")","v":""},{"$f":"IF(VLOOKUP($A24,Feuillettravail!$A:$R,COLUMN(),FALSE)<>\"\",VLOOKUP($A24,Feuillettravail!$A:$R,COLUMN(),FALSE),\"\")","v":""},{"$f":"IF(VLOOKUP($A24,Feuillettravail!$A:$R,COLUMN(),FALSE)<>\"\",VLOOKUP($A24,Feuillettravail!$A:$R,COLUMN(),FALSE),\"\")","v":""},{"$f":"IF(VLOOKUP($A24,Feuillettravail!$A:$R,COLUMN(),FALSE)<>\"\",VLOOKUP($A24,Feuillettravail!$A:$R,COLUMN(),FALSE),\"\")","v":""},{"$f":"IF(VLOOKUP($A24,Feuillettravail!$A:$R,COLUMN(),FALSE)<>\"\",VLOOKUP($A24,Feuillettravail!$A:$R,COLUMN(),FALSE),\"\")","v":""},{"$f":"IF(VLOOKUP($A24,Feuillettravail!$A:$R,COLUMN(),FALSE)<>\"\",VLOOKUP($A24,Feuillettravail!$A:$R,COLUMN(),FALSE),\"\")","v":""},{"$f":"IF(VLOOKUP($A24,Feuillettravail!$A:$R,COLUMN(),FALSE)<>\"\",VLOOKUP($A24,Feuillettravail!$A:$R,COLUMN(),FALSE),\"\")","v":""},{"$f":"IF(VLOOKUP($A24,Feuillettravail!$A:$R,COLUMN(),FALSE)<>\"\",VLOOKUP($A24,Feuillettravail!$A:$R,COLUMN(),FALSE)&VLOOKUP($A24,Feuillettravail!$A:$AD,29,FALSE),\"\")","v":""},{"$f":"IF(VLOOKUP($A24,Feuillettravail!$A:$R,COLUMN(),FALSE)<>\"\",VLOOKUP($A24,Feuillettravail!$A:$R,COLUMN(),FALSE),\"\")","v":""},{"$f":"IF(VLOOKUP($A24,Feuillettravail!$A:$R,COLUMN(),FALSE)<>\"\",VLOOKUP($A24,Feuillettravail!$A:$R,COLUMN(),FALSE),\"\")","v":""},{"$f":"IF(VLOOKUP($A24,Feuillettravail!$A:$R,COLUMN(),FALSE)<>\"\",VLOOKUP($A24,Feuillettravail!$A:$R,COLUMN(),FALSE),\"\")","v":""},{"$f":"IF(VLOOKUP($A24,Feuillettravail!$A:$Z,26,FALSE)<>\"\",IF(VLOOKUP($A24,Feuillettravail!$A:$R,COLUMN(),FALSE)<>\"\",VLOOKUP($A24,Feuillettravail!$A:$R,COLUMN(),FALSE),\"\"),\"\")","v":""},{"$f":"IF(VLOOKUP($A24,Feuillettravail!$A:$Z,26,FALSE)<>\"\",IF(VLOOKUP($A24,Feuillettravail!$A:$R,COLUMN(),FALSE)<>\"\",VLOOKUP($A24,Feuillettravail!$A:$R,COLUMN(),FALSE),\"\"),\"\")","v":""},{"$f":"IF(VLOOKUP($A24,Feuillettravail!$A:$Z,26,FALSE)<>\"\",IF(VLOOKUP($A24,Feuillettravail!$A:$R,COLUMN(),FALSE)<>\"\",VLOOKUP($A24,Feuillettravail!$A:$R,COLUMN(),FALSE),\"\"),\"\")","v":""},null,null,"Indemnités :"]
[22,null,null,{"$f":"IF(VLOOKUP($A25,Feuillettravail!$A:$R,COLUMN(),FALSE)<>\"\",VLOOKUP($A25,Feuillettravail!$A:$R,COLUMN(),FALSE),\"\")","v":""},{"$f":"IF(VLOOKUP($A25,Feuillettravail!$A:$R,COLUMN(),FALSE)<>\"\",VLOOKUP($A25,Feuillettravail!$A:$R,COLUMN(),FALSE),\"\")","v":""},{"$f":"IF(VLOOKUP($A25,Feuillettravail!$A:$R,COLUMN(),FALSE)<>\"\",VLOOKUP($A25,Feuillettravail!$A:$R,COLUMN(),FALSE),\"\")","v":""},{"$f":"IF(VLOOKUP($A25,Feuillettravail!$A:$R,COLUMN(),FALSE)<>\"\",VLOOKUP($A25,Feuillettravail!$A:$R,COLUMN(),FALSE),\"\")","v":""},{"$f":"IF(VLOOKUP($A25,Feuillettravail!$A:$R,COLUMN(),FALSE)<>\"\",VLOOKUP($A25,Feuillettravail!$A:$R,COLUMN(),FALSE),\"\")","v":""},{"$f":"IF(VLOOKUP($A25,Feuillettravail!$A:$R,COLUMN(),FALSE)<>\"\",VLOOKUP($A25,Feuillettravail!$A:$R,COLUMN(),FALSE),\"\")","v":""},{"$f":"IF(VLOOKUP($A25,Feuillettravail!$A:$R,COLUMN(),FALSE)<>\"\",VLOOKUP($A25,Feuillettravail!$A:$R,COLUMN(),FALSE),\"\")","v":""},{"$f":"IF(VLOOKUP($A25,Feuillettravail!$A:$R,COLUMN(),FALSE)<>\"\",VLOOKUP($A25,Feuillettravail!$A:$R,COLUMN(),FALSE),\"\")","v":""},{"$f":"IF(VLOOKUP($A25,Feuillettravail!$A:$R,COLUMN(),FALSE)<>\"\",VLOOKUP($A25,Feuillettravail!$A:$R,COLUMN(),FALSE)&VLOOKUP($A25,Feuillettravail!$A:$AD,29,FALSE),\"\")","v":""},{"$f":"IF(VLOOKUP($A25,Feuillettravail!$A:$R,COLUMN(),FALSE)<>\"\",VLOOKUP($A25,Feuillettravail!$A:$R,COLUMN(),FALSE),\"\")","v":""},{"$f":"IF(VLOOKUP($A25,Feuillettravail!$A:$R,COLUMN(),FALSE)<>\"\",VLOOKUP($A25,Feuillettravail!$A:$R,COLUMN(),FALSE),\"\")","v":""},{"$f":"IF(VLOOKUP($A25,Feuillettravail!$A:$R,COLUMN(),FALSE)<>\"\",VLOOKUP($A25,Feuillettravail!$A:$R,COLUMN(),FALSE),\"\")","v":""},{"$f":"IF(VLOOKUP($A25,Feuillettravail!$A:$Z,26,FALSE)<>\"\",IF(VLOOKUP($A25,Feuillettravail!$A:$R,COLUMN(),FALSE)<>\"\",VLOOKUP($A25,Feuillettravail!$A:$R,COLUMN(),FALSE),\"\"),\"\")","v":""},{"$f":"IF(VLOOKUP($A25,Feuillettravail!$A:$Z,26,FALSE)<>\"\",IF(VLOOKUP($A25,Feuillettravail!$A:$R,COLUMN(),FALSE)<>\"\",VLOOKUP($A25,Feuillettravail!$A:$R,COLUMN(),FALSE),\"\"),\"\")","v":""},{"$f":"IF(VLOOKUP($A25,Feuillettravail!$A:$Z,26,FALSE)<>\"\",IF(VLOOKUP($A25,Feuillettravail!$A:$R,COLUMN(),FALSE)<>\"\",VLOOKUP($A25,Feuillettravail!$A:$R,COLUMN(),FALSE),\"\"),\"\")","v":""},null,null,"Durée parties :"]
[23,null,null,{"$f":"IF(VLOOKUP($A26,Feuillettravail!$A:$R,COLUMN(),FALSE)<>\"\",VLOOKUP($A26,Feuillettravail!$A:$R,COLUMN(),FALSE),\"\")","v":""},{"$f":"IF(VLOOKUP($A26,Feuillettravail!$A:$R,COLUMN(),FALSE)<>\"\",VLOOKUP($A26,Feuillettravail!$A:$R,COLUMN(),FALSE),\"\")","v":""},{"$f":"IF(VLOOKUP($A26,Feuillettravail!$A:$R,COLUMN(),FALSE)<>\"\",VLOOKUP($A26,Feuillettravail!$A:$R,COLUMN(),FALSE),\"\")","v":""},{"$f":"IF(VLOOKUP($A26,Feuillettravail!$A:$R,COLUMN(),FALSE)<>\"\",VLOOKUP($A26,Feuillettravail!$A:$R,COLUMN(),FALSE),\"\")","v":""},{"$f":"IF(VLOOKUP($A26,Feuillettravail!$A:$R,COLUMN(),FALSE)<>\"\",VLOOKUP($A26,Feuillettravail!$A:$R,COLUMN(),FALSE),\"\")","v":""},{"$f":"IF(VLOOKUP($A26,Feuillettravail!$A:$R,COLUMN(),FALSE)<>\"\",VLOOKUP($A26,Feuillettravail!$A:$R,COLUMN(),FALSE),\"\")","v":""},{"$f":"IF(VLOOKUP($A26,Feuillettravail!$A:$R,COLUMN(),FALSE)<>\"\",VLOOKUP($A26,Feuillettravail!$A:$R,COLUMN(),FALSE),\"\")","v":""},{"$f":"IF(VLOOKUP($A26,Feuillettravail!$A:$R,COLUMN(),FALSE)<>\"\",VLOOKUP($A26,Feuillettravail!$A:$R,COLUMN(),FALSE),\"\")","v":""},{"$f":"IF(VLOOKUP($A26,Feuillettravail!$A:$R,COLUMN(),FALSE)<>\"\",VLOOKUP($A26,Feuillettravail!$A:$R,COLUMN(),FALSE)&VLOOKUP($A26,Feuillettravail!$A:$AD,29,FALSE),\"\")","v":""},{"$f":"IF(VLOOKUP($A26,Feuillettravail!$A:$R,COLUMN(),FALSE)<>\"\",VLOOKUP($A26,Feuillettravail!$A:$R,COLUMN(),FALSE),\"\")","v":""},{"$f":"IF(VLOOKUP($A26,Feuillettravail!$A:$R,COLUMN(),FALSE)<>\"\",VLOOKUP($A26,Feuillettravail!$A:$R,COLUMN(),FALSE),\"\")","v":""},{"$f":"IF(VLOOKUP($A26,Feuillettravail!$A:$R,COLUMN(),FALSE)<>\"\",VLOOKUP($A26,Feuillettravail!$A:$R,COLUMN(),FALSE),\"\")","v":""},{"$f":"IF(VLOOKUP($A26,Feuillettravail!$A:$Z,26,FALSE)<>\"\",IF(VLOOKUP($A26,Feuillettravail!$A:$R,COLUMN(),FALSE)<>\"\",VLOOKUP($A26,Feuillettravail!$A:$R,COLUMN(),FALSE),\"\"),\"\")","v":""},{"$f":"IF(VLOOKUP($A26,Feuillettravail!$A:$Z,26,FALSE)<>\"\",IF(VLOOKUP($A26,Feuillettravail!$A:$R,COLUMN(),FALSE)<>\"\",VLOOKUP($A26,Feuillettravail!$A:$R,COLUMN(),FALSE),\"\"),\"\")","v":""},{"$f":"IF(VLOOKUP($A26,Feuillettravail!$A:$Z,26,FALSE)<>\"\",IF(VLOOKUP($A26,Feuillettravail!$A:$R,COLUMN(),FALSE)<>\"\",VLOOKUP($A26,Feuillettravail!$A:$R,COLUMN(),FALSE),\"\"),\"\")","v":""},null,null,"Infos autres"]
[24,null,null,{"$f":"IF(VLOOKUP($A27,Feuillettravail!$A:$R,COLUMN(),FALSE)<>\"\",VLOOKUP($A27,Feuillettravail!$A:$R,COLUMN(),FALSE),\"\")","v":""},{"$f":"IF(VLOOKUP($A27,Feuillettravail!$A:$R,COLUMN(),FALSE)<>\"\",VLOOKUP($A27,Feuillettravail!$A:$R,COLUMN(),FALSE),\"\")","v":""},{"$f":"IF(VLOOKUP($A27,Feuillettravail!$A:$R,COLUMN(),FALSE)<>\"\",VLOOKUP($A27,Feuillettravail!$A:$R,COLUMN(),FALSE),\"\")","v":""},{"$f":"IF(VLOOKUP($A27,Feuillettravail!$A:$R,COLUMN(),FALSE)<>\"\",VLOOKUP($A27,Feuillettravail!$A:$R,COLUMN(),FALSE),\"\")","v":""},{"$f":"IF(VLOOKUP($A27,Feuillettravail!$A:$R,COLUMN(),FALSE)<>\"\",VLOOKUP($A27,Feuillettravail!$A:$R,COLUMN(),FALSE),\"\")","v":""},{"$f":"IF(VLOOKUP($A27,Feuillettravail!$A:$R,COLUMN(),FALSE)<>\"\",VLOOKUP($A27,Feuillettravail!$A:$R,COLUMN(),FALSE),\"\")","v":""},{"$f":"IF(VLOOKUP($A27,Feuillettravail!$A:$R,COLUMN(),FALSE)<>\"\",VLOOKUP($A27,Feuillettravail!$A:$R,COLUMN(),FALSE),\"\")","v":""},{"$f":"IF(VLOOKUP($A27,Feuillettravail!$A:$R,COLUMN(),FALSE)<>\"\",VLOOKUP($A27,Feuillettravail!$A:$R,COLUMN(),FALSE),\"\")","v":""},{"$f":"IF(VLOOKUP($A27,Feuillettravail!$A:$R,COLUMN(),FALSE)<>\"\",VLOOKUP($A27,Feuillettravail!$A:$R,COLUMN(),FALSE)&VLOOKUP($A27,Feuillettravail!$A:$AD,29,FALSE),\"\")","v":""},{"$f":"IF(VLOOKUP($A27,Feuillettravail!$A:$R,COLUMN(),FALSE)<>\"\",VLOOKUP($A27,Feuillettravail!$A:$R,COLUMN(),FALSE),\"\")","v":""},{"$f":"IF(VLOOKUP($A27,Feuillettravail!$A:$R,COLUMN(),FALSE)<>\"\",VLOOKUP($A27,Feuillettravail!$A:$R,COLUMN(),FALSE),\"\")","v":""},{"$f":"IF(VLOOKUP($A27,Feuillettravail!$A:$R,COLUMN(),FALSE)<>\"\",VLOOKUP($A27,Feuillettravail!$A:$R,COLUMN(),FALSE),\"\")","v":""},{"$f":"IF(VLOOKUP($A27,Feuillettravail!$A:$Z,26,FALSE)<>\"\",IF(VLOOKUP($A27,Feuillettravail!$A:$R,COLUMN(),FALSE)<>\"\",VLOOKUP($A27,Feuillettravail!$A:$R,COLUMN(),FALSE),\"\"),\"\")","v":""},{"$f":"IF(VLOOKUP($A27,Feuillettravail!$A:$Z,26,FALSE)<>\"\",IF(VLOOKUP($A27,Feuillettravail!$A:$R,COLUMN(),FALSE)<>\"\",VLOOKUP($A27,Feuillettravail!$A:$R,COLUMN(),FALSE),\"\"),\"\")","v":""},{"$f":"IF(VLOOKUP($A27,Feuillettravail!$A:$Z,26,FALSE)<>\"\",IF(VLOOKUP($A27,Feuillettravail!$A:$R,COLUMN(),FALSE)<>\"\",VLOOKUP($A27,Feuillettravail!$A:$R,COLUMN(),FALSE),\"\"),\"\")","v":""}]
[25,null,null,{"$f":"IF(VLOOKUP($A28,Feuillettravail!$A:$R,COLUMN(),FALSE)<>\"\",VLOOKUP($A28,Feuillettravail!$A:$R,COLUMN(),FALSE),\"\")","v":""},{"$f":"IF(VLOOKUP($A28,Feuillettravail!$A:$R,COLUMN(),FALSE)<>\"\",VLOOKUP($A28,Feuillettravail!$A:$R,COLUMN(),FALSE),\"\")","v":""},{"$f":"IF(VLOOKUP($A28,Feuillettravail!$A:$R,COLUMN(),FALSE)<>\"\",VLOOKUP($A28,Feuillettravail!$A:$R,COLUMN(),FALSE),\"\")","v":""},{"$f":"IF(VLOOKUP($A28,Feuillettravail!$A:$R,COLUMN(),FALSE)<>\"\",VLOOKUP($A28,Feuillettravail!$A:$R,COLUMN(),FALSE),\"\")","v":""},{"$f":"IF(VLOOKUP($A28,Feuillettravail!$A:$R,COLUMN(),FALSE)<>\"\",VLOOKUP($A28,Feuillettravail!$A:$R,COLUMN(),FALSE),\"\")","v":""},{"$f":"IF(VLOOKUP($A28,Feuillettravail!$A:$R,COLUMN(),FALSE)<>\"\",VLOOKUP($A28,Feuillettravail!$A:$R,COLUMN(),FALSE),\"\")","v":""},{"$f":"IF(VLOOKUP($A28,Feuillettravail!$A:$R,COLUMN(),FALSE)<>\"\",VLOOKUP($A28,Feuillettravail!$A:$R,COLUMN(),FALSE),\"\")","v":""},{"$f":"IF(VLOOKUP($A28,Feuillettravail!$A:$R,COLUMN(),FALSE)<>\"\",VLOOKUP($A28,Feuillettravail!$A:$R,COLUMN(),FALSE),\"\")","v":""},{"$f":"IF(VLOOKUP($A28,Feuillettravail!$A:$R,COLUMN(),FALSE)<>\"\",VLOOKUP($A28,Feuillettravail!$A:$R,COLUMN(),FALSE)&VLOOKUP($A28,Feuillettravail!$A:$AD,29,FALSE),\"\")","v":""},{"$f":"IF(VLOOKUP($A28,Feuillettravail!$A:$R,COLUMN(),FALSE)<>\"\",VLOOKUP($A28,Feuillettravail!$A:$R,COLUMN(),FALSE),\"\")","v":""},{"$f":"IF(VLOOKUP($A28,Feuillettravail!$A:$R,COLUMN(),FALSE)<>\"\",VLOOKUP($A28,Feuillettravail!$A:$R,COLUMN(),FALSE),\"\")","v":""},{"$f":"IF(VLOOKUP($A28,Feuillettravail!$A:$R,COLUMN(),FALSE)<>\"\",VLOOKUP($A28,Feuillettravail!$A:$R,COLUMN(),FALSE),\"\")","v":""},{"$f":"IF(VLOOKUP($A28,Feuillettravail!$A:$Z,26,FALSE)<>\"\",IF(VLOOKUP($A28,Feuillettravail!$A:$R,COLUMN(),FALSE)<>\"\",VLOOKUP($A28,Feuillettravail!$A:$R,COLUMN(),FALSE),\"\"),\"\")","v":""},{"$f":"IF(VLOOKUP($A28,Feuillettravail!$A:$Z,26,FALSE)<>\"\",IF(VLOOKUP($A28,Feuillettravail!$A:$R,COLUMN(),FALSE)<>\"\",VLOOKUP($A28,Feuillettravail!$A:$R,COLUMN(),FALSE),\"\"),\"\")","v":""},{"$f":"IF(VLOOKUP($A28,Feuillettravail!$A:$Z,26,FALSE)<>\"\",IF(VLOOKUP($A28,Feuillettravail!$A:$R,COLUMN(),FALSE)<>\"\",VLOOKUP($A28,Feuillettravail!$A:$R,COLUMN(),FALSE),\"\"),\"\")","v":""}]
[26,null,null,{"$f":"IF(VLOOKUP($A29,Feuillettravail!$A:$R,COLUMN(),FALSE)<>\"\",VLOOKUP($A29,Feuillettravail!$A:$R,COLUMN(),FALSE),\"\")","v":""},{"$f":"IF(VLOOKUP($A29,Feuillettravail!$A:$R,COLUMN(),FALSE)<>\"\",VLOOKUP($A29,Feuillettravail!$A:$R,COLUMN(),FALSE),\"\")","v":""},{"$f":"IF(VLOOKUP($A29,Feuillettravail!$A:$R,COLUMN(),FALSE)<>\"\",VLOOKUP($A29,Feuillettravail!$A:$R,COLUMN(),FALSE),\"\")","v":""},{"$f":"IF(VLOOKUP($A29,Feuillettravail!$A:$R,COLUMN(),FALSE)<>\"\",VLOOKUP($A29,Feuillettravail!$A:$R,COLUMN(),FALSE),\"\")","v":""},{"$f":"IF(VLOOKUP($A29,Feuillettravail!$A:$R,COLUMN(),FALSE)<>\"\",VLOOKUP($A29,Feuillettravail!$A:$R,COLUMN(),FALSE),\"\")","v":""},{"$f":"IF(VLOOKUP($A29,Feuillettravail!$A:$R,COLUMN(),FALSE)<>\"\",VLOOKUP($A29,Feuillettravail!$A:$R,COLUMN(),FALSE),\"\")","v":""},{"$f":"IF(VLOOKUP($A29,Feuillettravail!$A:$R,COLUMN(),FALSE)<>\"\",VLOOKUP($A29,Feuillettravail!$A:$R,COLUMN(),FALSE),\"\")","v":""},{"$f":"IF(VLOOKUP($A29,Feuillettravail!$A:$R,COLUMN(),FALSE)<>\"\",VLOOKUP($A29,Feuillettravail!$A:$R,COLUMN(),FALSE),\"\")","v":""},{"$f":"IF(VLOOKUP($A29,Feuillettravail!$A:$R,COLUMN(),FALSE)<>\"\",VLOOKUP($A29,Feuillettravail!$A:$R,COLUMN(),FALSE)&VLOOKUP($A29,Feuillettravail!$A:$AD,29,FALSE),\"\")","v":""},{"$f":"IF(VLOOKUP($A29,Feuillettravail!$A:$R,COLUMN(),FALSE)<>\"\",VLOOKUP($A29,Feuillettravail!$A:$R,COLUMN(),FALSE),\"\")","v":""},{"$f":"IF(VLOOKUP($A29,Feuillettravail!$A:$R,COLUMN(),FALSE)<>\"\",VLOOKUP($A29,Feuillettravail!$A:$R,COLUMN(),FALSE),\"\")","v":""},{"$f":"IF(VLOOKUP($A29,Feuillettravail!$A:$R,COLUMN(),FALSE)<>\"\",VLOOKUP($A29,Feuillettravail!$A:$R,COLUMN(),FALSE),\"\")","v":""},{"$f":"IF(VLOOKUP($A29,Feuillettravail!$A:$Z,26,FALSE)<>\"\",IF(VLOOKUP($A29,Feuillettravail!$A:$R,COLUMN(),FALSE)<>\"\",VLOOKUP($A29,Feuillettravail!$A:$R,COLUMN(),FALSE),\"\"),\"\")","v":""},{"$f":"IF(VLOOKUP($A29,Feuillettravail!$A:$Z,26,FALSE)<>\"\",IF(VLOOKUP($A29,Feuillettravail!$A:$R,COLUMN(),FALSE)<>\"\",VLOOKUP($A29,Feuillettravail!$A:$R,COLUMN(),FALSE),\"\"),\"\")","v":""},{"$f":"IF(VLOOKUP($A29,Feuillettravail!$A:$Z,26,FALSE)<>\"\",IF(VLOOKUP($A29,Feuillettravail!$A:$R,COLUMN(),FALSE)<>\"\",VLOOKUP($A29,Feuillettravail!$A:$R,COLUMN(),FALSE),\"\"),\"\")","v":""}]
[27,null,null,{"$f":"IF(VLOOKUP($A30,Feuillettravail!$A:$R,COLUMN(),FALSE)<>\"\",VLOOKUP($A30,Feuillettravail!$A:$R,COLUMN(),FALSE),\"\")","v":""},{"$f":"IF(VLOOKUP($A30,Feuillettravail!$A:$R,COLUMN(),FALSE)<>\"\",VLOOKUP($A30,Feuillettravail!$A:$R,COLUMN(),FALSE),\"\")","v":""},{"$f":"IF(VLOOKUP($A30,Feuillettravail!$A:$R,COLUMN(),FALSE)<>\"\",VLOOKUP($A30,Feuillettravail!$A:$R,COLUMN(),FALSE),\"\")","v":""},{"$f":"IF(VLOOKUP($A30,Feuillettravail!$A:$R,COLUMN(),FALSE)<>\"\",VLOOKUP($A30,Feuillettravail!$A:$R,COLUMN(),FALSE),\"\")","v":""},{"$f":"IF(VLOOKUP($A30,Feuillettravail!$A:$R,COLUMN(),FALSE)<>\"\",VLOOKUP($A30,Feuillettravail!$A:$R,COLUMN(),FALSE),\"\")","v":""},{"$f":"IF(VLOOKUP($A30,Feuillettravail!$A:$R,COLUMN(),FALSE)<>\"\",VLOOKUP($A30,Feuillettravail!$A:$R,COLUMN(),FALSE),\"\")","v":""},{"$f":"IF(VLOOKUP($A30,Feuillettravail!$A:$R,COLUMN(),FALSE)<>\"\",VLOOKUP($A30,Feuillettravail!$A:$R,COLUMN(),FALSE),\"\")","v":""},{"$f":"IF(VLOOKUP($A30,Feuillettravail!$A:$R,COLUMN(),FALSE)<>\"\",VLOOKUP($A30,Feuillettravail!$A:$R,COLUMN(),FALSE),\"\")","v":""},{"$f":"IF(VLOOKUP($A30,Feuillettravail!$A:$R,COLUMN(),FALSE)<>\"\",VLOOKUP($A30,Feuillettravail!$A:$R,COLUMN(),FALSE)&VLOOKUP($A30,Feuillettravail!$A:$AD,29,FALSE),\"\")","v":""},{"$f":"IF(VLOOKUP($A30,Feuillettravail!$A:$R,COLUMN(),FALSE)<>\"\",VLOOKUP($A30,Feuillettravail!$A:$R,COLUMN(),FALSE),\"\")","v":""},{"$f":"IF(VLOOKUP($A30,Feuillettravail!$A:$R,COLUMN(),FALSE)<>\"\",VLOOKUP($A30,Feuillettravail!$A:$R,COLUMN(),FALSE),\"\")","v":""},{"$f":"IF(VLOOKUP($A30,Feuillettravail!$A:$R,COLUMN(),FALSE)<>\"\",VLOOKUP($A30,Feuillettravail!$A:$R,COLUMN(),FALSE),\"\")","v":""},{"$f":"IF(VLOOKUP($A30,Feuillettravail!$A:$Z,26,FALSE)<>\"\",IF(VLOOKUP($A30,Feuillettravail!$A:$R,COLUMN(),FALSE)<>\"\",VLOOKUP($A30,Feuillettravail!$A:$R,COLUMN(),FALSE),\"\"),\"\")","v":""},{"$f":"IF(VLOOKUP($A30,Feuillettravail!$A:$Z,26,FALSE)<>\"\",IF(VLOOKUP($A30,Feuillettravail!$A:$R,COLUMN(),FALSE)<>\"\",VLOOKUP($A30,Feuillettravail!$A:$R,COLUMN(),FALSE),\"\"),\"\")","v":""},{"$f":"IF(VLOOKUP($A30,Feuillettravail!$A:$Z,26,FALSE)<>\"\",IF(VLOOKUP($A30,Feuillettravail!$A:$R,COLUMN(),FALSE)<>\"\",VLOOKUP($A30,Feuillettravail!$A:$R,COLUMN(),FALSE),\"\"),\"\")","v":""}]
[28,null,null,{"$f":"IF(VLOOKUP($A31,Feuillettravail!$A:$R,COLUMN(),FALSE)<>\"\",VLOOKUP($A31,Feuillettravail!$A:$R,COLUMN(),FALSE),\"\")","v":""},{"$f":"IF(VLOOKUP($A31,Feuillettravail!$A:$R,COLUMN(),FALSE)<>\"\",VLOOKUP($A31,Feuillettravail!$A:$R,COLUMN(),FALSE),\"\")","v":""},{"$f":"IF(VLOOKUP($A31,Feuillettravail!$A:$R,COLUMN(),FALSE)<>\"\",VLOOKUP($A31,Feuillettravail!$A:$R,COLUMN(),FALSE),\"\")","v":""},{"$f":"IF(VLOOKUP($A31,Feuillettravail!$A:$R,COLUMN(),FALSE)<>\"\",VLOOKUP($A31,Feuillettravail!$A:$R,COLUMN(),FALSE),\"\")","v":""},{"$f":"IF(VLOOKUP($A31,Feuillettravail!$A:$R,COLUMN(),FALSE)<>\"\",VLOOKUP($A31,Feuillettravail!$A:$R,COLUMN(),FALSE),\"\")","v":""},{"$f":"IF(VLOOKUP($A31,Feuillettravail!$A:$R,COLUMN(),FALSE)<>\"\",VLOOKUP($A31,Feuillettravail!$A:$R,COLUMN(),FALSE),\"\")","v":""},{"$f":"IF(VLOOKUP($A31,Feuillettravail!$A:$R,COLUMN(),FALSE)<>\"\",VLOOKUP($A31,Feuillettravail!$A:$R,COLUMN(),FALSE),\"\")","v":""},{"$f":"IF(VLOOKUP($A31,Feuillettravail!$A:$R,COLUMN(),FALSE)<>\"\",VLOOKUP($A31,Feuillettravail!$A:$R,COLUMN(),FALSE),\"\")","v":""},{"$f":"IF(VLOOKUP($A31,Feuillettravail!$A:$R,COLUMN(),FALSE)<>\"\",VLOOKUP($A31,Feuillettravail!$A:$R,COLUMN(),FALSE)&VLOOKUP($A31,Feuillettravail!$A:$AD,29,FALSE),\"\")","v":""},{"$f":"IF(VLOOKUP($A31,Feuillettravail!$A:$R,COLUMN(),FALSE)<>\"\",VLOOKUP($A31,Feuillettravail!$A:$R,COLUMN(),FALSE),\"\")","v":""},{"$f":"IF(VLOOKUP($A31,Feuillettravail!$A:$R,COLUMN(),FALSE)<>\"\",VLOOKUP($A31,Feuillettravail!$A:$R,COLUMN(),FALSE),\"\")","v":""},{"$f":"IF(VLOOKUP($A31,Feuillettravail!$A:$R,COLUMN(),FALSE)<>\"\",VLOOKUP($A31,Feuillettravail!$A:$R,COLUMN(),FALSE),\"\")","v":""},{"$f":"IF(VLOOKUP($A31,Feuillettravail!$A:$Z,26,FALSE)<>\"\",IF(VLOOKUP($A31,Feuillettravail!$A:$R,COLUMN(),FALSE)<>\"\",VLOOKUP($A31,Feuillettravail!$A:$R,COLUMN(),FALSE),\"\"),\"\")","v":""},{"$f":"IF(VLOOKUP($A31,Feuillettravail!$A:$Z,26,FALSE)<>\"\",IF(VLOOKUP($A31,Feuillettravail!$A:$R,COLUMN(),FALSE)<>\"\",VLOOKUP($A31,Feuillettravail!$A:$R,COLUMN(),FALSE),\"\"),\"\")","v":""},{"$f":"IF(VLOOKUP($A31,Feuillettravail!$A:$Z,26,FALSE)<>\"\",IF(VLOOKUP($A31,Feuillettravail!$A:$R,COLUMN(),FALSE)<>\"\",VLOOKUP($A31,Feuillettravail!$A:$R,COLUMN(),FALSE),\"\"),\"\")","v":""}]
[29,null,null,{"$f":"IF(VLOOKUP($A32,Feuillettravail!$A:$R,COLUMN(),FALSE)<>\"\",VLOOKUP($A32,Feuillettravail!$A:$R,COLUMN(),FALSE),\"\")","v":""},{"$f":"IF(VLOOKUP($A32,Feuillettravail!$A:$R,COLUMN(),FALSE)<>\"\",VLOOKUP($A32,Feuillettravail!$A:$R,COLUMN(),FALSE),\"\")","v":""},{"$f":"IF(VLOOKUP($A32,Feuillettravail!$A:$R,COLUMN(),FALSE)<>\"\",VLOOKUP($A32,Feuillettravail!$A:$R,COLUMN(),FALSE),\"\")","v":""},{"$f":"IF(VLOOKUP($A32,Feuillettravail!$A:$R,COLUMN(),FALSE)<>\"\",VLOOKUP($A32,Feuillettravail!$A:$R,COLUMN(),FALSE),\"\")","v":""},{"$f":"IF(VLOOKUP($A32,Feuillettravail!$A:$R,COLUMN(),FALSE)<>\"\",VLOOKUP($A32,Feuillettravail!$A:$R,COLUMN(),FALSE),\"\")","v":""},{"$f":"IF(VLOOKUP($A32,Feuillettravail!$A:$R,COLUMN(),FALSE)<>\"\",VLOOKUP($A32,Feuillettravail!$A:$R,COLUMN(),FALSE),\"\")","v":""},{"$f":"IF(VLOOKUP($A32,Feuillettravail!$A:$R,COLUMN(),FALSE)<>\"\",VLOOKUP($A32,Feuillettravail!$A:$R,COLUMN(),FALSE),\"\")","v":""},{"$f":"IF(VLOOKUP($A32,Feuillettravail!$A:$R,COLUMN(),FALSE)<>\"\",VLOOKUP($A32,Feuillettravail!$A:$R,COLUMN(),FALSE),\"\")","v":""},{"$f":"IF(VLOOKUP($A32,Feuillettravail!$A:$R,COLUMN(),FALSE)<>\"\",VLOOKUP($A32,Feuillettravail!$A:$R,COLUMN(),FALSE)&VLOOKUP($A32,Feuillettravail!$A:$AD,29,FALSE),\"\")","v":""},{"$f":"IF(VLOOKUP($A32,Feuillettravail!$A:$R,COLUMN(),FALSE)<>\"\",VLOOKUP($A32,Feuillettravail!$A:$R,COLUMN(),FALSE),\"\")","v":""},{"$f":"IF(VLOOKUP($A32,Feuillettravail!$A:$R,COLUMN(),FALSE)<>\"\",VLOOKUP($A32,Feuillettravail!$A:$R,COLUMN(),FALSE),\"\")","v":""},{"$f":"IF(VLOOKUP($A32,Feuillettravail!$A:$R,COLUMN(),FALSE)<>\"\",VLOOKUP($A32,Feuillettravail!$A:$R,COLUMN(),FALSE),\"\")","v":""},{"$f":"IF(VLOOKUP($A32,Feuillettravail!$A:$Z,26,FALSE)<>\"\",IF(VLOOKUP($A32,Feuillettravail!$A:$R,COLUMN(),FALSE)<>\"\",VLOOKUP($A32,Feuillettravail!$A:$R,COLUMN(),FALSE),\"\"),\"\")","v":""},{"$f":"IF(VLOOKUP($A32,Feuillettravail!$A:$Z,26,FALSE)<>\"\",IF(VLOOKUP($A32,Feuillettravail!$A:$R,COLUMN(),FALSE)<>\"\",VLOOKUP($A32,Feuillettravail!$A:$R,COLUMN(),FALSE),\"\"),\"\")","v":""},{"$f":"IF(VLOOKUP($A32,Feuillettravail!$A:$Z,26,FALSE)<>\"\",IF(VLOOKUP($A32,Feuillettravail!$A:$R,COLUMN(),FALSE)<>\"\",VLOOKUP($A32,Feuillettravail!$A:$R,COLUMN(),FALSE),\"\"),\"\")","v":""}]
[30,null,null,{"$f":"IF(VLOOKUP($A33,Feuillettravail!$A:$R,COLUMN(),FALSE)<>\"\",VLOOKUP($A33,Feuillettravail!$A:$R,COLUMN(),FALSE),\"\")","v":""},{"$f":"IF(VLOOKUP($A33,Feuillettravail!$A:$R,COLUMN(),FALSE)<>\"\",VLOOKUP($A33,Feuillettravail!$A:$R,COLUMN(),FALSE),\"\")","v":""},{"$f":"IF(VLOOKUP($A33,Feuillettravail!$A:$R,COLUMN(),FALSE)<>\"\",VLOOKUP($A33,Feuillettravail!$A:$R,COLUMN(),FALSE),\"\")","v":""},{"$f":"IF(VLOOKUP($A33,Feuillettravail!$A:$R,COLUMN(),FALSE)<>\"\",VLOOKUP($A33,Feuillettravail!$A:$R,COLUMN(),FALSE),\"\")","v":""},{"$f":"IF(VLOOKUP($A33,Feuillettravail!$A:$R,COLUMN(),FALSE)<>\"\",VLOOKUP($A33,Feuillettravail!$A:$R,COLUMN(),FALSE),\"\")","v":""},{"$f":"IF(VLOOKUP($A33,Feuillettravail!$A:$R,COLUMN(),FALSE)<>\"\",VLOOKUP($A33,Feuillettravail!$A:$R,COLUMN(),FALSE),\"\")","v":""},{"$f":"IF(VLOOKUP($A33,Feuillettravail!$A:$R,COLUMN(),FALSE)<>\"\",VLOOKUP($A33,Feuillettravail!$A:$R,COLUMN(),FALSE),\"\")","v":""},{"$f":"IF(VLOOKUP($A33,Feuillettravail!$A:$R,COLUMN(),FALSE)<>\"\",VLOOKUP($A33,Feuillettravail!$A:$R,COLUMN(),FALSE),\"\")","v":""},{"$f":"IF(VLOOKUP($A33,Feuillettravail!$A:$R,COLUMN(),FALSE)<>\"\",VLOOKUP($A33,Feuillettravail!$A:$R,COLUMN(),FALSE)&VLOOKUP($A33,Feuillettravail!$A:$AD,29,FALSE),\"\")","v":""},{"$f":"IF(VLOOKUP($A33,Feuillettravail!$A:$R,COLUMN(),FALSE)<>\"\",VLOOKUP($A33,Feuillettravail!$A:$R,COLUMN(),FALSE),\"\")","v":""},{"$f":"IF(VLOOKUP($A33,Feuillettravail!$A:$R,COLUMN(),FALSE)<>\"\",VLOOKUP($A33,Feuillettravail!$A:$R,COLUMN(),FALSE),\"\")","v":""},{"$f":"IF(VLOOKUP($A33,Feuillettravail!$A:$R,COLUMN(),FALSE)<>\"\",VLOOKUP($A33,Feuillettravail!$A:$R,COLUMN(),FALSE),\"\")","v":""},{"$f":"IF(VLOOKUP($A33,Feuillettravail!$A:$Z,26,FALSE)<>\"\",IF(VLOOKUP($A33,Feuillettravail!$A:$R,COLUMN(),FALSE)<>\"\",VLOOKUP($A33,Feuillettravail!$A:$R,COLUMN(),FALSE),\"\"),\"\")","v":""},{"$f":"IF(VLOOKUP($A33,Feuillettravail!$A:$Z,26,FALSE)<>\"\",IF(VLOOKUP($A33,Feuillettravail!$A:$R,COLUMN(),FALSE)<>\"\",VLOOKUP($A33,Feuillettravail!$A:$R,COLUMN(),FALSE),\"\"),\"\")","v":""},{"$f":"IF(VLOOKUP($A33,Feuillettravail!$A:$Z,26,FALSE)<>\"\",IF(VLOOKUP($A33,Feuillettravail!$A:$R,COLUMN(),FALSE)<>\"\",VLOOKUP($A33,Feuillettravail!$A:$R,COLUMN(),FALSE),\"\"),\"\")","v":""}]
[31,null,null,{"$f":"IF(VLOOKUP($A34,Feuillettravail!$A:$R,COLUMN(),FALSE)<>\"\",VLOOKUP($A34,Feuillettravail!$A:$R,COLUMN(),FALSE),\"\")","v":""},{"$f":"IF(VLOOKUP($A34,Feuillettravail!$A:$R,COLUMN(),FALSE)<>\"\",VLOOKUP($A34,Feuillettravail!$A:$R,COLUMN(),FALSE),\"\")","v":""},{"$f":"IF(VLOOKUP($A34,Feuillettravail!$A:$R,COLUMN(),FALSE)<>\"\",VLOOKUP($A34,Feuillettravail!$A:$R,COLUMN(),FALSE),\"\")","v":""},{"$f":"IF(VLOOKUP($A34,Feuillettravail!$A:$R,COLUMN(),FALSE)<>\"\",VLOOKUP($A34,Feuillettravail!$A:$R,COLUMN(),FALSE),\"\")","v":""},{"$f":"IF(VLOOKUP($A34,Feuillettravail!$A:$R,COLUMN(),FALSE)<>\"\",VLOOKUP($A34,Feuillettravail!$A:$R,COLUMN(),FALSE),\"\")","v":""},{"$f":"IF(VLOOKUP($A34,Feuillettravail!$A:$R,COLUMN(),FALSE)<>\"\",VLOOKUP($A34,Feuillettravail!$A:$R,COLUMN(),FALSE),\"\")","v":""},{"$f":"IF(VLOOKUP($A34,Feuillettravail!$A:$R,COLUMN(),FALSE)<>\"\",VLOOKUP($A34,Feuillettravail!$A:$R,COLUMN(),FALSE),\"\")","v":""},{"$f":"IF(VLOOKUP($A34,Feuillettravail!$A:$R,COLUMN(),FALSE)<>\"\",VLOOKUP($A34,Feuillettravail!$A:$R,COLUMN(),FALSE),\"\")","v":""},{"$f":"IF(VLOOKUP($A34,Feuillettravail!$A:$R,COLUMN(),FALSE)<>\"\",VLOOKUP($A34,Feuillettravail!$A:$R,COLUMN(),FALSE)&VLOOKUP($A34,Feuillettravail!$A:$AD,29,FALSE),\"\")","v":""},{"$f":"IF(VLOOKUP($A34,Feuillettravail!$A:$R,COLUMN(),FALSE)<>\"\",VLOOKUP($A34,Feuillettravail!$A:$R,COLUMN(),FALSE),\"\")","v":""},{"$f":"IF(VLOOKUP($A34,Feuillettravail!$A:$R,COLUMN(),FALSE)<>\"\",VLOOKUP($A34,Feuillettravail!$A:$R,COLUMN(),FALSE),\"\")","v":""},{"$f":"IF(VLOOKUP($A34,Feuillettravail!$A:$R,COLUMN(),FALSE)<>\"\",VLOOKUP($A34,Feuillettravail!$A:$R,COLUMN(),FALSE),\"\")","v":""},{"$f":"IF(VLOOKUP($A34,Feuillettravail!$A:$Z,26,FALSE)<>\"\",IF(VLOOKUP($A34,Feuillettravail!$A:$R,COLUMN(),FALSE)<>\"\",VLOOKUP($A34,Feuillettravail!$A:$R,COLUMN(),FALSE),\"\"),\"\")","v":""},{"$f":"IF(VLOOKUP($A34,Feuillettravail!$A:$Z,26,FALSE)<>\"\",IF(VLOOKUP($A34,Feuillettravail!$A:$R,COLUMN(),FALSE)<>\"\",VLOOKUP($A34,Feuillettravail!$A:$R,COLUMN(),FALSE),\"\"),\"\")","v":""},{"$f":"IF(VLOOKUP($A34,Feuillettravail!$A:$Z,26,FALSE)<>\"\",IF(VLOOKUP($A34,Feuillettravail!$A:$R,COLUMN(),FALSE)<>\"\",VLOOKUP($A34,Feuillettravail!$A:$R,COLUMN(),FALSE),\"\"),\"\")","v":""}]
[32,null,null,{"$f":"IF(VLOOKUP($A35,Feuillettravail!$A:$R,COLUMN(),FALSE)<>\"\",VLOOKUP($A35,Feuillettravail!$A:$R,COLUMN(),FALSE),\"\")","v":""},{"$f":"IF(VLOOKUP($A35,Feuillettravail!$A:$R,COLUMN(),FALSE)<>\"\",VLOOKUP($A35,Feuillettravail!$A:$R,COLUMN(),FALSE),\"\")","v":""},{"$f":"IF(VLOOKUP($A35,Feuillettravail!$A:$R,COLUMN(),FALSE)<>\"\",VLOOKUP($A35,Feuillettravail!$A:$R,COLUMN(),FALSE),\"\")","v":""},{"$f":"IF(VLOOKUP($A35,Feuillettravail!$A:$R,COLUMN(),FALSE)<>\"\",VLOOKUP($A35,Feuillettravail!$A:$R,COLUMN(),FALSE),\"\")","v":""},{"$f":"IF(VLOOKUP($A35,Feuillettravail!$A:$R,COLUMN(),FALSE)<>\"\",VLOOKUP($A35,Feuillettravail!$A:$R,COLUMN(),FALSE),\"\")","v":""},{"$f":"IF(VLOOKUP($A35,Feuillettravail!$A:$R,COLUMN(),FALSE)<>\"\",VLOOKUP($A35,Feuillettravail!$A:$R,COLUMN(),FALSE),\"\")","v":""},{"$f":"IF(VLOOKUP($A35,Feuillettravail!$A:$R,COLUMN(),FALSE)<>\"\",VLOOKUP($A35,Feuillettravail!$A:$R,COLUMN(),FALSE),\"\")","v":""},{"$f":"IF(VLOOKUP($A35,Feuillettravail!$A:$R,COLUMN(),FALSE)<>\"\",VLOOKUP($A35,Feuillettravail!$A:$R,COLUMN(),FALSE),\"\")","v":""},{"$f":"IF(VLOOKUP($A35,Feuillettravail!$A:$R,COLUMN(),FALSE)<>\"\",VLOOKUP($A35,Feuillettravail!$A:$R,COLUMN(),FALSE)&VLOOKUP($A35,Feuillettravail!$A:$AD,29,FALSE),\"\")","v":""},{"$f":"IF(VLOOKUP($A35,Feuillettravail!$A:$R,COLUMN(),FALSE)<>\"\",VLOOKUP($A35,Feuillettravail!$A:$R,COLUMN(),FALSE),\"\")","v":""},{"$f":"IF(VLOOKUP($A35,Feuillettravail!$A:$R,COLUMN(),FALSE)<>\"\",VLOOKUP($A35,Feuillettravail!$A:$R,COLUMN(),FALSE),\"\")","v":""},{"$f":"IF(VLOOKUP($A35,Feuillettravail!$A:$R,COLUMN(),FALSE)<>\"\",VLOOKUP($A35,Feuillettravail!$A:$R,COLUMN(),FALSE),\"\")","v":""},{"$f":"IF(VLOOKUP($A35,Feuillettravail!$A:$Z,26,FALSE)<>\"\",IF(VLOOKUP($A35,Feuillettravail!$A:$R,COLUMN(),FALSE)<>\"\",VLOOKUP($A35,Feuillettravail!$A:$R,COLUMN(),FALSE),\"\"),\"\")","v":""},{"$f":"IF(VLOOKUP($A35,Feuillettravail!$A:$Z,26,FALSE)<>\"\",IF(VLOOKUP($A35,Feuillettravail!$A:$R,COLUMN(),FALSE)<>\"\",VLOOKUP($A35,Feuillettravail!$A:$R,COLUMN(),FALSE),\"\"),\"\")","v":""},{"$f":"IF(VLOOKUP($A35,Feuillettravail!$A:$Z,26,FALSE)<>\"\",IF(VLOOKUP($A35,Feuillettravail!$A:$R,COLUMN(),FALSE)<>\"\",VLOOKUP($A35,Feuillettravail!$A:$R,COLUMN(),FALSE),\"\"),\"\")","v":""}]
[33,null,null,{"$f":"IF(VLOOKUP($A36,Feuillettravail!$A:$R,COLUMN(),FALSE)<>\"\",VLOOKUP($A36,Feuillettravail!$A:$R,COLUMN(),FALSE),\"\")","v":""},{"$f":"IF(VLOOKUP($A36,Feuillettravail!$A:$R,COLUMN(),FALSE)<>\"\",VLOOKUP($A36,Feuillettravail!$A:$R,COLUMN(),FALSE),\"\")","v":""},{"$f":"IF(VLOOKUP($A36,Feuillettravail!$A:$R,COLUMN(),FALSE)<>\"\",VLOOKUP($A36,Feuillettravail!$A:$R,COLUMN(),FALSE),\"\")","v":""},{"$f":"IF(VLOOKUP($A36,Feuillettravail!$A:$R,COLUMN(),FALSE)<>\"\",VLOOKUP($A36,Feuillettravail!$A:$R,COLUMN(),FALSE),\"\")","v":""},{"$f":"IF(VLOOKUP($A36,Feuillettravail!$A:$R,COLUMN(),FALSE)<>\"\",VLOOKUP($A36,Feuillettravail!$A:$R,COLUMN(),FALSE),\"\")","v":""},{"$f":"IF(VLOOKUP($A36,Feuillettravail!$A:$R,COLUMN(),FALSE)<>\"\",VLOOKUP($A36,Feuillettravail!$A:$R,COLUMN(),FALSE),\"\")","v":""},{"$f":"IF(VLOOKUP($A36,Feuillettravail!$A:$R,COLUMN(),FALSE)<>\"\",VLOOKUP($A36,Feuillettravail!$A:$R,COLUMN(),FALSE),\"\")","v":""},{"$f":"IF(VLOOKUP($A36,Feuillettravail!$A:$R,COLUMN(),FALSE)<>\"\",VLOOKUP($A36,Feuillettravail!$A:$R,COLUMN(),FALSE),\"\")","v":""},{"$f":"IF(VLOOKUP($A36,Feuillettravail!$A:$R,COLUMN(),FALSE)<>\"\",VLOOKUP($A36,Feuillettravail!$A:$R,COLUMN(),FALSE)&VLOOKUP($A36,Feuillettravail!$A:$AD,29,FALSE),\"\")","v":""},{"$f":"IF(VLOOKUP($A36,Feuillettravail!$A:$R,COLUMN(),FALSE)<>\"\",VLOOKUP($A36,Feuillettravail!$A:$R,COLUMN(),FALSE),\"\")","v":""},{"$f":"IF(VLOOKUP($A36,Feuillettravail!$A:$R,COLUMN(),FALSE)<>\"\",VLOOKUP($A36,Feuillettravail!$A:$R,COLUMN(),FALSE),\"\")","v":""},{"$f":"IF(VLOOKUP($A36,Feuillettravail!$A:$R,COLUMN(),FALSE)<>\"\",VLOOKUP($A36,Feuillettravail!$A:$R,COLUMN(),FALSE),\"\")","v":""},{"$f":"IF(VLOOKUP($A36,Feuillettravail!$A:$Z,26,FALSE)<>\"\",IF(VLOOKUP($A36,Feuillettravail!$A:$R,COLUMN(),FALSE)<>\"\",VLOOKUP($A36,Feuillettravail!$A:$R,COLUMN(),FALSE),\"\"),\"\")","v":""},{"$f":"IF(VLOOKUP($A36,Feuillettravail!$A:$Z,26,FALSE)<>\"\",IF(VLOOKUP($A36,Feuillettravail!$A:$R,COLUMN(),FALSE)<>\"\",VLOOKUP($A36,Feuillettravail!$A:$R,COLUMN(),FALSE),\"\"),\"\")","v":""},{"$f":"IF(VLOOKUP($A36,Feuillettravail!$A:$Z,26,FALSE)<>\"\",IF(VLOOKUP($A36,Feuillettravail!$A:$R,COLUMN(),FALSE)<>\"\",VLOOKUP($A36,Feuillettravail!$A:$R,COLUMN(),FALSE),\"\"),\"\")","v":""}]
[34,null,null,{"$f":"IF(VLOOKUP($A37,Feuillettravail!$A:$R,COLUMN(),FALSE)<>\"\",VLOOKUP($A37,Feuillettravail!$A:$R,COLUMN(),FALSE),\"\")","v":""},{"$f":"IF(VLOOKUP($A37,Feuillettravail!$A:$R,COLUMN(),FALSE)<>\"\",VLOOKUP($A37,Feuillettravail!$A:$R,COLUMN(),FALSE),\"\")","v":""},{"$f":"IF(VLOOKUP($A37,Feuillettravail!$A:$R,COLUMN(),FALSE)<>\"\",VLOOKUP($A37,Feuillettravail!$A:$R,COLUMN(),FALSE),\"\")","v":""},{"$f":"IF(VLOOKUP($A37,Feuillettravail!$A:$R,COLUMN(),FALSE)<>\"\",VLOOKUP($A37,Feuillettravail!$A:$R,COLUMN(),FALSE),\"\")","v":""},{"$f":"IF(VLOOKUP($A37,Feuillettravail!$A:$R,COLUMN(),FALSE)<>\"\",VLOOKUP($A37,Feuillettravail!$A:$R,COLUMN(),FALSE),\"\")","v":""},{"$f":"IF(VLOOKUP($A37,Feuillettravail!$A:$R,COLUMN(),FALSE)<>\"\",VLOOKUP($A37,Feuillettravail!$A:$R,COLUMN(),FALSE),\"\")","v":""},{"$f":"IF(VLOOKUP($A37,Feuillettravail!$A:$R,COLUMN(),FALSE)<>\"\",VLOOKUP($A37,Feuillettravail!$A:$R,COLUMN(),FALSE),\"\")","v":""},{"$f":"IF(VLOOKUP($A37,Feuillettravail!$A:$R,COLUMN(),FALSE)<>\"\",VLOOKUP($A37,Feuillettravail!$A:$R,COLUMN(),FALSE),\"\")","v":""},{"$f":"IF(VLOOKUP($A37,Feuillettravail!$A:$R,COLUMN(),FALSE)<>\"\",VLOOKUP($A37,Feuillettravail!$A:$R,COLUMN(),FALSE)&VLOOKUP($A37,Feuillettravail!$A:$AD,29,FALSE),\"\")","v":""},{"$f":"IF(VLOOKUP($A37,Feuillettravail!$A:$R,COLUMN(),FALSE)<>\"\",VLOOKUP($A37,Feuillettravail!$A:$R,COLUMN(),FALSE),\"\")","v":""},{"$f":"IF(VLOOKUP($A37,Feuillettravail!$A:$R,COLUMN(),FALSE)<>\"\",VLOOKUP($A37,Feuillettravail!$A:$R,COLUMN(),FALSE),\"\")","v":""},{"$f":"IF(VLOOKUP($A37,Feuillettravail!$A:$R,COLUMN(),FALSE)<>\"\",VLOOKUP($A37,Feuillettravail!$A:$R,COLUMN(),FALSE),\"\")","v":""},{"$f":"IF(VLOOKUP($A37,Feuillettravail!$A:$Z,26,FALSE)<>\"\",IF(VLOOKUP($A37,Feuillettravail!$A:$R,COLUMN(),FALSE)<>\"\",VLOOKUP($A37,Feuillettravail!$A:$R,COLUMN(),FALSE),\"\"),\"\")","v":""},{"$f":"IF(VLOOKUP($A37,Feuillettravail!$A:$Z,26,FALSE)<>\"\",IF(VLOOKUP($A37,Feuillettravail!$A:$R,COLUMN(),FALSE)<>\"\",VLOOKUP($A37,Feuillettravail!$A:$R,COLUMN(),FALSE),\"\"),\"\")","v":""},{"$f":"IF(VLOOKUP($A37,Feuillettravail!$A:$Z,26,FALSE)<>\"\",IF(VLOOKUP($A37,Feuillettravail!$A:$R,COLUMN(),FALSE)<>\"\",VLOOKUP($A37,Feuillettravail!$A:$R,COLUMN(),FALSE),\"\"),\"\")","v":""}]
[35,null,null,{"$f":"IF(VLOOKUP($A38,Feuillettravail!$A:$R,COLUMN(),FALSE)<>\"\",VLOOKUP($A38,Feuillettravail!$A:$R,COLUMN(),FALSE),\"\")","v":""},{"$f":"IF(VLOOKUP($A38,Feuillettravail!$A:$R,COLUMN(),FALSE)<>\"\",VLOOKUP($A38,Feuillettravail!$A:$R,COLUMN(),FALSE),\"\")","v":""},{"$f":"IF(VLOOKUP($A38,Feuillettravail!$A:$R,COLUMN(),FALSE)<>\"\",VLOOKUP($A38,Feuillettravail!$A:$R,COLUMN(),FALSE),\"\")","v":""},{"$f":"IF(VLOOKUP($A38,Feuillettravail!$A:$R,COLUMN(),FALSE)<>\"\",VLOOKUP($A38,Feuillettravail!$A:$R,COLUMN(),FALSE),\"\")","v":""},{"$f":"IF(VLOOKUP($A38,Feuillettravail!$A:$R,COLUMN(),FALSE)<>\"\",VLOOKUP($A38,Feuillettravail!$A:$R,COLUMN(),FALSE),\"\")","v":""},{"$f":"IF(VLOOKUP($A38,Feuillettravail!$A:$R,COLUMN(),FALSE)<>\"\",VLOOKUP($A38,Feuillettravail!$A:$R,COLUMN(),FALSE),\"\")","v":""},{"$f":"IF(VLOOKUP($A38,Feuillettravail!$A:$R,COLUMN(),FALSE)<>\"\",VLOOKUP($A38,Feuillettravail!$A:$R,COLUMN(),FALSE),\"\")","v":""},{"$f":"IF(VLOOKUP($A38,Feuillettravail!$A:$R,COLUMN(),FALSE)<>\"\",VLOOKUP($A38,Feuillettravail!$A:$R,COLUMN(),FALSE),\"\")","v":""},{"$f":"IF(VLOOKUP($A38,Feuillettravail!$A:$R,COLUMN(),FALSE)<>\"\",VLOOKUP($A38,Feuillettravail!$A:$R,COLUMN(),FALSE)&VLOOKUP($A38,Feuillettravail!$A:$AD,29,FALSE),\"\")","v":""},{"$f":"IF(VLOOKUP($A38,Feuillettravail!$A:$R,COLUMN(),FALSE)<>\"\",VLOOKUP($A38,Feuillettravail!$A:$R,COLUMN(),FALSE),\"\")","v":""},{"$f":"IF(VLOOKUP($A38,Feuillettravail!$A:$R,COLUMN(),FALSE)<>\"\",VLOOKUP($A38,Feuillettravail!$A:$R,COLUMN(),FALSE),\"\")","v":""},{"$f":"IF(VLOOKUP($A38,Feuillettravail!$A:$R,COLUMN(),FALSE)<>\"\",VLOOKUP($A38,Feuillettravail!$A:$R,COLUMN(),FALSE),\"\")","v":""},{"$f":"IF(VLOOKUP($A38,Feuillettravail!$A:$Z,26,FALSE)<>\"\",IF(VLOOKUP($A38,Feuillettravail!$A:$R,COLUMN(),FALSE)<>\"\",VLOOKUP($A38,Feuillettravail!$A:$R,COLUMN(),FALSE),\"\"),\"\")","v":""},{"$f":"IF(VLOOKUP($A38,Feuillettravail!$A:$Z,26,FALSE)<>\"\",IF(VLOOKUP($A38,Feuillettravail!$A:$R,COLUMN(),FALSE)<>\"\",VLOOKUP($A38,Feuillettravail!$A:$R,COLUMN(),FALSE),\"\"),\"\")","v":""},{"$f":"IF(VLOOKUP($A38,Feuillettravail!$A:$Z,26,FALSE)<>\"\",IF(VLOOKUP($A38,Feuillettravail!$A:$R,COLUMN(),FALSE)<>\"\",VLOOKUP($A38,Feuillettravail!$A:$R,COLUMN(),FALSE),\"\"),\"\")","v":""}]
[36,null,null,{"$f":"IF(VLOOKUP($A39,Feuillettravail!$A:$R,COLUMN(),FALSE)<>\"\",VLOOKUP($A39,Feuillettravail!$A:$R,COLUMN(),FALSE),\"\")","v":""},{"$f":"IF(VLOOKUP($A39,Feuillettravail!$A:$R,COLUMN(),FALSE)<>\"\",VLOOKUP($A39,Feuillettravail!$A:$R,COLUMN(),FALSE),\"\")","v":""},{"$f":"IF(VLOOKUP($A39,Feuillettravail!$A:$R,COLUMN(),FALSE)<>\"\",VLOOKUP($A39,Feuillettravail!$A:$R,COLUMN(),FALSE),\"\")","v":""},{"$f":"IF(VLOOKUP($A39,Feuillettravail!$A:$R,COLUMN(),FALSE)<>\"\",VLOOKUP($A39,Feuillettravail!$A:$R,COLUMN(),FALSE),\"\")","v":""},{"$f":"IF(VLOOKUP($A39,Feuillettravail!$A:$R,COLUMN(),FALSE)<>\"\",VLOOKUP($A39,Feuillettravail!$A:$R,COLUMN(),FALSE),\"\")","v":""},{"$f":"IF(VLOOKUP($A39,Feuillettravail!$A:$R,COLUMN(),FALSE)<>\"\",VLOOKUP($A39,Feuillettravail!$A:$R,COLUMN(),FALSE),\"\")","v":""},{"$f":"IF(VLOOKUP($A39,Feuillettravail!$A:$R,COLUMN(),FALSE)<>\"\",VLOOKUP($A39,Feuillettravail!$A:$R,COLUMN(),FALSE),\"\")","v":""},{"$f":"IF(VLOOKUP($A39,Feuillettravail!$A:$R,COLUMN(),FALSE)<>\"\",VLOOKUP($A39,Feuillettravail!$A:$R,COLUMN(),FALSE),\"\")","v":""},{"$f":"IF(VLOOKUP($A39,Feuillettravail!$A:$R,COLUMN(),FALSE)<>\"\",VLOOKUP($A39,Feuillettravail!$A:$R,COLUMN(),FALSE)&VLOOKUP($A39,Feuillettravail!$A:$AD,29,FALSE),\"\")","v":""},{"$f":"IF(VLOOKUP($A39,Feuillettravail!$A:$R,COLUMN(),FALSE)<>\"\",VLOOKUP($A39,Feuillettravail!$A:$R,COLUMN(),FALSE),\"\")","v":""},{"$f":"IF(VLOOKUP($A39,Feuillettravail!$A:$R,COLUMN(),FALSE)<>\"\",VLOOKUP($A39,Feuillettravail!$A:$R,COLUMN(),FALSE),\"\")","v":""},{"$f":"IF(VLOOKUP($A39,Feuillettravail!$A:$R,COLUMN(),FALSE)<>\"\",VLOOKUP($A39,Feuillettravail!$A:$R,COLUMN(),FALSE),\"\")","v":""},{"$f":"IF(VLOOKUP($A39,Feuillettravail!$A:$Z,26,FALSE)<>\"\",IF(VLOOKUP($A39,Feuillettravail!$A:$R,COLUMN(),FALSE)<>\"\",VLOOKUP($A39,Feuillettravail!$A:$R,COLUMN(),FALSE),\"\"),\"\")","v":""},{"$f":"IF(VLOOKUP($A39,Feuillettravail!$A:$Z,26,FALSE)<>\"\",IF(VLOOKUP($A39,Feuillettravail!$A:$R,COLUMN(),FALSE)<>\"\",VLOOKUP($A39,Feuillettravail!$A:$R,COLUMN(),FALSE),\"\"),\"\")","v":""},{"$f":"IF(VLOOKUP($A39,Feuillettravail!$A:$Z,26,FALSE)<>\"\",IF(VLOOKUP($A39,Feuillettravail!$A:$R,COLUMN(),FALSE)<>\"\",VLOOKUP($A39,Feuillettravail!$A:$R,COLUMN(),FALSE),\"\"),\"\")","v":""}]
[37,null,null,{"$f":"IF(VLOOKUP($A40,Feuillettravail!$A:$R,COLUMN(),FALSE)<>\"\",VLOOKUP($A40,Feuillettravail!$A:$R,COLUMN(),FALSE),\"\")","v":""},{"$f":"IF(VLOOKUP($A40,Feuillettravail!$A:$R,COLUMN(),FALSE)<>\"\",VLOOKUP($A40,Feuillettravail!$A:$R,COLUMN(),FALSE),\"\")","v":""},{"$f":"IF(VLOOKUP($A40,Feuillettravail!$A:$R,COLUMN(),FALSE)<>\"\",VLOOKUP($A40,Feuillettravail!$A:$R,COLUMN(),FALSE),\"\")","v":""},{"$f":"IF(VLOOKUP($A40,Feuillettravail!$A:$R,COLUMN(),FALSE)<>\"\",VLOOKUP($A40,Feuillettravail!$A:$R,COLUMN(),FALSE),\"\")","v":""},{"$f":"IF(VLOOKUP($A40,Feuillettravail!$A:$R,COLUMN(),FALSE)<>\"\",VLOOKUP($A40,Feuillettravail!$A:$R,COLUMN(),FALSE),\"\")","v":""},{"$f":"IF(VLOOKUP($A40,Feuillettravail!$A:$R,COLUMN(),FALSE)<>\"\",VLOOKUP($A40,Feuillettravail!$A:$R,COLUMN(),FALSE),\"\")","v":""},{"$f":"IF(VLOOKUP($A40,Feuillettravail!$A:$R,COLUMN(),FALSE)<>\"\",VLOOKUP($A40,Feuillettravail!$A:$R,COLUMN(),FALSE),\"\")","v":""},{"$f":"IF(VLOOKUP($A40,Feuillettravail!$A:$R,COLUMN(),FALSE)<>\"\",VLOOKUP($A40,Feuillettravail!$A:$R,COLUMN(),FALSE),\"\")","v":""},{"$f":"IF(VLOOKUP($A40,Feuillettravail!$A:$R,COLUMN(),FALSE)<>\"\",VLOOKUP($A40,Feuillettravail!$A:$R,COLUMN(),FALSE)&VLOOKUP($A40,Feuillettravail!$A:$AD,29,FALSE),\"\")","v":""},{"$f":"IF(VLOOKUP($A40,Feuillettravail!$A:$R,COLUMN(),FALSE)<>\"\",VLOOKUP($A40,Feuillettravail!$A:$R,COLUMN(),FALSE),\"\")","v":""},{"$f":"IF(VLOOKUP($A40,Feuillettravail!$A:$R,COLUMN(),FALSE)<>\"\",VLOOKUP($A40,Feuillettravail!$A:$R,COLUMN(),FALSE),\"\")","v":""},{"$f":"IF(VLOOKUP($A40,Feuillettravail!$A:$R,COLUMN(),FALSE)<>\"\",VLOOKUP($A40,Feuillettravail!$A:$R,COLUMN(),FALSE),\"\")","v":""},{"$f":"IF(VLOOKUP($A40,Feuillettravail!$A:$Z,26,FALSE)<>\"\",IF(VLOOKUP($A40,Feuillettravail!$A:$R,COLUMN(),FALSE)<>\"\",VLOOKUP($A40,Feuillettravail!$A:$R,COLUMN(),FALSE),\"\"),\"\")","v":""},{"$f":"IF(VLOOKUP($A40,Feuillettravail!$A:$Z,26,FALSE)<>\"\",IF(VLOOKUP($A40,Feuillettravail!$A:$R,COLUMN(),FALSE)<>\"\",VLOOKUP($A40,Feuillettravail!$A:$R,COLUMN(),FALSE),\"\"),\"\")","v":""},{"$f":"IF(VLOOKUP($A40,Feuillettravail!$A:$Z,26,FALSE)<>\"\",IF(VLOOKUP($A40,Feuillettravail!$A:$R,COLUMN(),FALSE)<>\"\",VLOOKUP($A40,Feuillettravail!$A:$R,COLUMN(),FALSE),\"\"),\"\")","v":""}]
[38,null,null,{"$f":"IF(VLOOKUP($A41,Feuillettravail!$A:$R,COLUMN(),FALSE)<>\"\",VLOOKUP($A41,Feuillettravail!$A:$R,COLUMN(),FALSE),\"\")","v":""},{"$f":"IF(VLOOKUP($A41,Feuillettravail!$A:$R,COLUMN(),FALSE)<>\"\",VLOOKUP($A41,Feuillettravail!$A:$R,COLUMN(),FALSE),\"\")","v":""},{"$f":"IF(VLOOKUP($A41,Feuillettravail!$A:$R,COLUMN(),FALSE)<>\"\",VLOOKUP($A41,Feuillettravail!$A:$R,COLUMN(),FALSE),\"\")","v":""},{"$f":"IF(VLOOKUP($A41,Feuillettravail!$A:$R,COLUMN(),FALSE)<>\"\",VLOOKUP($A41,Feuillettravail!$A:$R,COLUMN(),FALSE),\"\")","v":""},{"$f":"IF(VLOOKUP($A41,Feuillettravail!$A:$R,COLUMN(),FALSE)<>\"\",VLOOKUP($A41,Feuillettravail!$A:$R,COLUMN(),FALSE),\"\")","v":""},{"$f":"IF(VLOOKUP($A41,Feuillettravail!$A:$R,COLUMN(),FALSE)<>\"\",VLOOKUP($A41,Feuillettravail!$A:$R,COLUMN(),FALSE),\"\")","v":""},{"$f":"IF(VLOOKUP($A41,Feuillettravail!$A:$R,COLUMN(),FALSE)<>\"\",VLOOKUP($A41,Feuillettravail!$A:$R,COLUMN(),FALSE),\"\")","v":""},{"$f":"IF(VLOOKUP($A41,Feuillettravail!$A:$R,COLUMN(),FALSE)<>\"\",VLOOKUP($A41,Feuillettravail!$A:$R,COLUMN(),FALSE),\"\")","v":""},{"$f":"IF(VLOOKUP($A41,Feuillettravail!$A:$R,COLUMN(),FALSE)<>\"\",VLOOKUP($A41,Feuillettravail!$A:$R,COLUMN(),FALSE)&VLOOKUP($A41,Feuillettravail!$A:$AD,29,FALSE),\"\")","v":""},{"$f":"IF(VLOOKUP($A41,Feuillettravail!$A:$R,COLUMN(),FALSE)<>\"\",VLOOKUP($A41,Feuillettravail!$A:$R,COLUMN(),FALSE),\"\")","v":""},{"$f":"IF(VLOOKUP($A41,Feuillettravail!$A:$R,COLUMN(),FALSE)<>\"\",VLOOKUP($A41,Feuillettravail!$A:$R,COLUMN(),FALSE),\"\")","v":""},{"$f":"IF(VLOOKUP($A41,Feuillettravail!$A:$R,COLUMN(),FALSE)<>\"\",VLOOKUP($A41,Feuillettravail!$A:$R,COLUMN(),FALSE),\"\")","v":""},{"$f":"IF(VLOOKUP($A41,Feuillettravail!$A:$Z,26,FALSE)<>\"\",IF(VLOOKUP($A41,Feuillettravail!$A:$R,COLUMN(),FALSE)<>\"\",VLOOKUP($A41,Feuillettravail!$A:$R,COLUMN(),FALSE),\"\"),\"\")","v":""},{"$f":"IF(VLOOKUP($A41,Feuillettravail!$A:$Z,26,FALSE)<>\"\",IF(VLOOKUP($A41,Feuillettravail!$A:$R,COLUMN(),FALSE)<>\"\",VLOOKUP($A41,Feuillettravail!$A:$R,COLUMN(),FALSE),\"\"),\"\")","v":""},{"$f":"IF(VLOOKUP($A41,Feuillettravail!$A:$Z,26,FALSE)<>\"\",IF(VLOOKUP($A41,Feuillettravail!$A:$R,COLUMN(),FALSE)<>\"\",VLOOKUP($A41,Feuillettravail!$A:$R,COLUMN(),FALSE),\"\"),\"\")","v":""}]
[39,null,null,{"$f":"IF(VLOOKUP($A42,Feuillettravail!$A:$R,COLUMN(),FALSE)<>\"\",VLOOKUP($A42,Feuillettravail!$A:$R,COLUMN(),FALSE),\"\")","v":""},{"$f":"IF(VLOOKUP($A42,Feuillettravail!$A:$R,COLUMN(),FALSE)<>\"\",VLOOKUP($A42,Feuillettravail!$A:$R,COLUMN(),FALSE),\"\")","v":""},{"$f":"IF(VLOOKUP($A42,Feuillettravail!$A:$R,COLUMN(),FALSE)<>\"\",VLOOKUP($A42,Feuillettravail!$A:$R,COLUMN(),FALSE),\"\")","v":""},{"$f":"IF(VLOOKUP($A42,Feuillettravail!$A:$R,COLUMN(),FALSE)<>\"\",VLOOKUP($A42,Feuillettravail!$A:$R,COLUMN(),FALSE),\"\")","v":""},{"$f":"IF(VLOOKUP($A42,Feuillettravail!$A:$R,COLUMN(),FALSE)<>\"\",VLOOKUP($A42,Feuillettravail!$A:$R,COLUMN(),FALSE),\"\")","v":""},{"$f":"IF(VLOOKUP($A42,Feuillettravail!$A:$R,COLUMN(),FALSE)<>\"\",VLOOKUP($A42,Feuillettravail!$A:$R,COLUMN(),FALSE),\"\")","v":""},{"$f":"IF(VLOOKUP($A42,Feuillettravail!$A:$R,COLUMN(),FALSE)<>\"\",VLOOKUP($A42,Feuillettravail!$A:$R,COLUMN(),FALSE),\"\")","v":""},{"$f":"IF(VLOOKUP($A42,Feuillettravail!$A:$R,COLUMN(),FALSE)<>\"\",VLOOKUP($A42,Feuillettravail!$A:$R,COLUMN(),FALSE),\"\")","v":""},{"$f":"IF(VLOOKUP($A42,Feuillettravail!$A:$R,COLUMN(),FALSE)<>\"\",VLOOKUP($A42,Feuillettravail!$A:$R,COLUMN(),FALSE)&VLOOKUP($A42,Feuillettravail!$A:$AD,29,FALSE),\"\")","v":""},{"$f":"IF(VLOOKUP($A42,Feuillettravail!$A:$R,COLUMN(),FALSE)<>\"\",VLOOKUP($A42,Feuillettravail!$A:$R,COLUMN(),FALSE),\"\")","v":""},{"$f":"IF(VLOOKUP($A42,Feuillettravail!$A:$R,COLUMN(),FALSE)<>\"\",VLOOKUP($A42,Feuillettravail!$A:$R,COLUMN(),FALSE),\"\")","v":""},{"$f":"IF(VLOOKUP($A42,Feuillettravail!$A:$R,COLUMN(),FALSE)<>\"\",VLOOKUP($A42,Feuillettravail!$A:$R,COLUMN(),FALSE),\"\")","v":""},{"$f":"IF(VLOOKUP($A42,Feuillettravail!$A:$Z,26,FALSE)<>\"\",IF(VLOOKUP($A42,Feuillettravail!$A:$R,COLUMN(),FALSE)<>\"\",VLOOKUP($A42,Feuillettravail!$A:$R,COLUMN(),FALSE),\"\"),\"\")","v":""},{"$f":"IF(VLOOKUP($A42,Feuillettravail!$A:$Z,26,FALSE)<>\"\",IF(VLOOKUP($A42,Feuillettravail!$A:$R,COLUMN(),FALSE)<>\"\",VLOOKUP($A42,Feuillettravail!$A:$R,COLUMN(),FALSE),\"\"),\"\")","v":""},{"$f":"IF(VLOOKUP($A42,Feuillettravail!$A:$Z,26,FALSE)<>\"\",IF(VLOOKUP($A42,Feuillettravail!$A:$R,COLUMN(),FALSE)<>\"\",VLOOKUP($A42,Feuillettravail!$A:$R,COLUMN(),FALSE),\"\"),\"\")","v":""}]
[40,null,null,{"$f":"IF(VLOOKUP($A43,Feuillettravail!$A:$R,COLUMN(),FALSE)<>\"\",VLOOKUP($A43,Feuillettravail!$A:$R,COLUMN(),FALSE),\"\")","v":""},{"$f":"IF(VLOOKUP($A43,Feuillettravail!$A:$R,COLUMN(),FALSE)<>\"\",VLOOKUP($A43,Feuillettravail!$A:$R,COLUMN(),FALSE),\"\")","v":""},{"$f":"IF(VLOOKUP($A43,Feuillettravail!$A:$R,COLUMN(),FALSE)<>\"\",VLOOKUP($A43,Feuillettravail!$A:$R,COLUMN(),FALSE),\"\")","v":""},{"$f":"IF(VLOOKUP($A43,Feuillettravail!$A:$R,COLUMN(),FALSE)<>\"\",VLOOKUP($A43,Feuillettravail!$A:$R,COLUMN(),FALSE),\"\")","v":""},{"$f":"IF(VLOOKUP($A43,Feuillettravail!$A:$R,COLUMN(),FALSE)<>\"\",VLOOKUP($A43,Feuillettravail!$A:$R,COLUMN(),FALSE),\"\")","v":""},{"$f":"IF(VLOOKUP($A43,Feuillettravail!$A:$R,COLUMN(),FALSE)<>\"\",VLOOKUP($A43,Feuillettravail!$A:$R,COLUMN(),FALSE),\"\")","v":""},{"$f":"IF(VLOOKUP($A43,Feuillettravail!$A:$R,COLUMN(),FALSE)<>\"\",VLOOKUP($A43,Feuillettravail!$A:$R,COLUMN(),FALSE),\"\")","v":""},{"$f":"IF(VLOOKUP($A43,Feuillettravail!$A:$R,COLUMN(),FALSE)<>\"\",VLOOKUP($A43,Feuillettravail!$A:$R,COLUMN(),FALSE),\"\")","v":""},{"$f":"IF(VLOOKUP($A43,Feuillettravail!$A:$R,COLUMN(),FALSE)<>\"\",VLOOKUP($A43,Feuillettravail!$A:$R,COLUMN(),FALSE)&VLOOKUP($A43,Feuillettravail!$A:$AD,29,FALSE),\"\")","v":""},{"$f":"IF(VLOOKUP($A43,Feuillettravail!$A:$R,COLUMN(),FALSE)<>\"\",VLOOKUP($A43,Feuillettravail!$A:$R,COLUMN(),FALSE),\"\")","v":""},{"$f":"IF(VLOOKUP($A43,Feuillettravail!$A:$R,COLUMN(),FALSE)<>\"\",VLOOKUP($A43,Feuillettravail!$A:$R,COLUMN(),FALSE),\"\")","v":""},{"$f":"IF(VLOOKUP($A43,Feuillettravail!$A:$R,COLUMN(),FALSE)<>\"\",VLOOKUP($A43,Feuillettravail!$A:$R,COLUMN(),FALSE),\"\")","v":""},{"$f":"IF(VLOOKUP($A43,Feuillettravail!$A:$Z,26,FALSE)<>\"\",IF(VLOOKUP($A43,Feuillettravail!$A:$R,COLUMN(),FALSE)<>\"\",VLOOKUP($A43,Feuillettravail!$A:$R,COLUMN(),FALSE),\"\"),\"\")","v":""},{"$f":"IF(VLOOKUP($A43,Feuillettravail!$A:$Z,26,FALSE)<>\"\",IF(VLOOKUP($A43,Feuillettravail!$A:$R,COLUMN(),FALSE)<>\"\",VLOOKUP($A43,Feuillettravail!$A:$R,COLUMN(),FALSE),\"\"),\"\")","v":""},{"$f":"IF(VLOOKUP($A43,Feuillettravail!$A:$Z,26,FALSE)<>\"\",IF(VLOOKUP($A43,Feuillettravail!$A:$R,COLUMN(),FALSE)<>\"\",VLOOKUP($A43,Feuillettravail!$A:$R,COLUMN(),FALSE),\"\"),\"\")","v":""}]
[41,null,null,{"$f":"IF(VLOOKUP($A44,Feuillettravail!$A:$R,COLUMN(),FALSE)<>\"\",VLOOKUP($A44,Feuillettravail!$A:$R,COLUMN(),FALSE),\"\")","v":""},{"$f":"IF(VLOOKUP($A44,Feuillettravail!$A:$R,COLUMN(),FALSE)<>\"\",VLOOKUP($A44,Feuillettravail!$A:$R,COLUMN(),FALSE),\"\")","v":""},{"$f":"IF(VLOOKUP($A44,Feuillettravail!$A:$R,COLUMN(),FALSE)<>\"\",VLOOKUP($A44,Feuillettravail!$A:$R,COLUMN(),FALSE),\"\")","v":""},{"$f":"IF(VLOOKUP($A44,Feuillettravail!$A:$R,COLUMN(),FALSE)<>\"\",VLOOKUP($A44,Feuillettravail!$A:$R,COLUMN(),FALSE),\"\")","v":""},{"$f":"IF(VLOOKUP($A44,Feuillettravail!$A:$R,COLUMN(),FALSE)<>\"\",VLOOKUP($A44,Feuillettravail!$A:$R,COLUMN(),FALSE),\"\")","v":""},{"$f":"IF(VLOOKUP($A44,Feuillettravail!$A:$R,COLUMN(),FALSE)<>\"\",VLOOKUP($A44,Feuillettravail!$A:$R,COLUMN(),FALSE),\"\")","v":""},{"$f":"IF(VLOOKUP($A44,Feuillettravail!$A:$R,COLUMN(),FALSE)<>\"\",VLOOKUP($A44,Feuillettravail!$A:$R,COLUMN(),FALSE),\"\")","v":""},{"$f":"IF(VLOOKUP($A44,Feuillettravail!$A:$R,COLUMN(),FALSE)<>\"\",VLOOKUP($A44,Feuillettravail!$A:$R,COLUMN(),FALSE),\"\")","v":""},{"$f":"IF(VLOOKUP($A44,Feuillettravail!$A:$R,COLUMN(),FALSE)<>\"\",VLOOKUP($A44,Feuillettravail!$A:$R,COLUMN(),FALSE)&VLOOKUP($A44,Feuillettravail!$A:$AD,29,FALSE),\"\")","v":""},{"$f":"IF(VLOOKUP($A44,Feuillettravail!$A:$R,COLUMN(),FALSE)<>\"\",VLOOKUP($A44,Feuillettravail!$A:$R,COLUMN(),FALSE),\"\")","v":""},{"$f":"IF(VLOOKUP($A44,Feuillettravail!$A:$R,COLUMN(),FALSE)<>\"\",VLOOKUP($A44,Feuillettravail!$A:$R,COLUMN(),FALSE),\"\")","v":""},{"$f":"IF(VLOOKUP($A44,Feuillettravail!$A:$R,COLUMN(),FALSE)<>\"\",VLOOKUP($A44,Feuillettravail!$A:$R,COLUMN(),FALSE),\"\")","v":""},{"$f":"IF(VLOOKUP($A44,Feuillettravail!$A:$Z,26,FALSE)<>\"\",IF(VLOOKUP($A44,Feuillettravail!$A:$R,COLUMN(),FALSE)<>\"\",VLOOKUP($A44,Feuillettravail!$A:$R,COLUMN(),FALSE),\"\"),\"\")","v":""},{"$f":"IF(VLOOKUP($A44,Feuillettravail!$A:$Z,26,FALSE)<>\"\",IF(VLOOKUP($A44,Feuillettravail!$A:$R,COLUMN(),FALSE)<>\"\",VLOOKUP($A44,Feuillettravail!$A:$R,COLUMN(),FALSE),\"\"),\"\")","v":""},{"$f":"IF(VLOOKUP($A44,Feuillettravail!$A:$Z,26,FALSE)<>\"\",IF(VLOOKUP($A44,Feuillettravail!$A:$R,COLUMN(),FALSE)<>\"\",VLOOKUP($A44,Feuillettravail!$A:$R,COLUMN(),FALSE),\"\"),\"\")","v":""}]
[42,null,null,{"$f":"IF(VLOOKUP($A45,Feuillettravail!$A:$R,COLUMN(),FALSE)<>\"\",VLOOKUP($A45,Feuillettravail!$A:$R,COLUMN(),FALSE),\"\")","v":""},{"$f":"IF(VLOOKUP($A45,Feuillettravail!$A:$R,COLUMN(),FALSE)<>\"\",VLOOKUP($A45,Feuillettravail!$A:$R,COLUMN(),FALSE),\"\")","v":""},{"$f":"IF(VLOOKUP($A45,Feuillettravail!$A:$R,COLUMN(),FALSE)<>\"\",VLOOKUP($A45,Feuillettravail!$A:$R,COLUMN(),FALSE),\"\")","v":""},{"$f":"IF(VLOOKUP($A45,Feuillettravail!$A:$R,COLUMN(),FALSE)<>\"\",VLOOKUP($A45,Feuillettravail!$A:$R,COLUMN(),FALSE),\"\")","v":""},{"$f":"IF(VLOOKUP($A45,Feuillettravail!$A:$R,COLUMN(),FALSE)<>\"\",VLOOKUP($A45,Feuillettravail!$A:$R,COLUMN(),FALSE),\"\")","v":""},{"$f":"IF(VLOOKUP($A45,Feuillettravail!$A:$R,COLUMN(),FALSE)<>\"\",VLOOKUP($A45,Feuillettravail!$A:$R,COLUMN(),FALSE),\"\")","v":""},{"$f":"IF(VLOOKUP($A45,Feuillettravail!$A:$R,COLUMN(),FALSE)<>\"\",VLOOKUP($A45,Feuillettravail!$A:$R,COLUMN(),FALSE),\"\")","v":""},{"$f":"IF(VLOOKUP($A45,Feuillettravail!$A:$R,COLUMN(),FALSE)<>\"\",VLOOKUP($A45,Feuillettravail!$A:$R,COLUMN(),FALSE),\"\")","v":""},{"$f":"IF(VLOOKUP($A45,Feuillettravail!$A:$R,COLUMN(),FALSE)<>\"\",VLOOKUP($A45,Feuillettravail!$A:$R,COLUMN(),FALSE)&VLOOKUP($A45,Feuillettravail!$A:$AD,29,FALSE),\"\")","v":""},{"$f":"IF(VLOOKUP($A45,Feuillettravail!$A:$R,COLUMN(),FALSE)<>\"\",VLOOKUP($A45,Feuillettravail!$A:$R,COLUMN(),FALSE),\"\")","v":""},{"$f":"IF(VLOOKUP($A45,Feuillettravail!$A:$R,COLUMN(),FALSE)<>\"\",VLOOKUP($A45,Feuillettravail!$A:$R,COLUMN(),FALSE),\"\")","v":""},{"$f":"IF(VLOOKUP($A45,Feuillettravail!$A:$R,COLUMN(),FALSE)<>\"\",VLOOKUP($A45,Feuillettravail!$A:$R,COLUMN(),FALSE),\"\")","v":""},{"$f":"IF(VLOOKUP($A45,Feuillettravail!$A:$Z,26,FALSE)<>\"\",IF(VLOOKUP($A45,Feuillettravail!$A:$R,COLUMN(),FALSE)<>\"\",VLOOKUP($A45,Feuillettravail!$A:$R,COLUMN(),FALSE),\"\"),\"\")","v":""},{"$f":"IF(VLOOKUP($A45,Feuillettravail!$A:$Z,26,FALSE)<>\"\",IF(VLOOKUP($A45,Feuillettravail!$A:$R,COLUMN(),FALSE)<>\"\",VLOOKUP($A45,Feuillettravail!$A:$R,COLUMN(),FALSE),\"\"),\"\")","v":""},{"$f":"IF(VLOOKUP($A45,Feuillettravail!$A:$Z,26,FALSE)<>\"\",IF(VLOOKUP($A45,Feuillettravail!$A:$R,COLUMN(),FALSE)<>\"\",VLOOKUP($A45,Feuillettravail!$A:$R,COLUMN(),FALSE),\"\"),\"\")","v":""}]
[43,null,null,{"$f":"IF(VLOOKUP($A46,Feuillettravail!$A:$R,COLUMN(),FALSE)<>\"\",VLOOKUP($A46,Feuillettravail!$A:$R,COLUMN(),FALSE),\"\")","v":""},{"$f":"IF(VLOOKUP($A46,Feuillettravail!$A:$R,COLUMN(),FALSE)<>\"\",VLOOKUP($A46,Feuillettravail!$A:$R,COLUMN(),FALSE),\"\")","v":""},{"$f":"IF(VLOOKUP($A46,Feuillettravail!$A:$R,COLUMN(),FALSE)<>\"\",VLOOKUP($A46,Feuillettravail!$A:$R,COLUMN(),FALSE),\"\")","v":""},{"$f":"IF(VLOOKUP($A46,Feuillettravail!$A:$R,COLUMN(),FALSE)<>\"\",VLOOKUP($A46,Feuillettravail!$A:$R,COLUMN(),FALSE),\"\")","v":""},{"$f":"IF(VLOOKUP($A46,Feuillettravail!$A:$R,COLUMN(),FALSE)<>\"\",VLOOKUP($A46,Feuillettravail!$A:$R,COLUMN(),FALSE),\"\")","v":""},{"$f":"IF(VLOOKUP($A46,Feuillettravail!$A:$R,COLUMN(),FALSE)<>\"\",VLOOKUP($A46,Feuillettravail!$A:$R,COLUMN(),FALSE),\"\")","v":""},{"$f":"IF(VLOOKUP($A46,Feuillettravail!$A:$R,COLUMN(),FALSE)<>\"\",VLOOKUP($A46,Feuillettravail!$A:$R,COLUMN(),FALSE),\"\")","v":""},{"$f":"IF(VLOOKUP($A46,Feuillettravail!$A:$R,COLUMN(),FALSE)<>\"\",VLOOKUP($A46,Feuillettravail!$A:$R,COLUMN(),FALSE),\"\")","v":""},{"$f":"IF(VLOOKUP($A46,Feuillettravail!$A:$R,COLUMN(),FALSE)<>\"\",VLOOKUP($A46,Feuillettravail!$A:$R,COLUMN(),FALSE)&VLOOKUP($A46,Feuillettravail!$A:$AD,29,FALSE),\"\")","v":""},{"$f":"IF(VLOOKUP($A46,Feuillettravail!$A:$R,COLUMN(),FALSE)<>\"\",VLOOKUP($A46,Feuillettravail!$A:$R,COLUMN(),FALSE),\"\")","v":""},{"$f":"IF(VLOOKUP($A46,Feuillettravail!$A:$R,COLUMN(),FALSE)<>\"\",VLOOKUP($A46,Feuillettravail!$A:$R,COLUMN(),FALSE),\"\")","v":""},{"$f":"IF(VLOOKUP($A46,Feuillettravail!$A:$R,COLUMN(),FALSE)<>\"\",VLOOKUP($A46,Feuillettravail!$A:$R,COLUMN(),FALSE),\"\")","v":""},{"$f":"IF(VLOOKUP($A46,Feuillettravail!$A:$Z,26,FALSE)<>\"\",IF(VLOOKUP($A46,Feuillettravail!$A:$R,COLUMN(),FALSE)<>\"\",VLOOKUP($A46,Feuillettravail!$A:$R,COLUMN(),FALSE),\"\"),\"\")","v":""},{"$f":"IF(VLOOKUP($A46,Feuillettravail!$A:$Z,26,FALSE)<>\"\",IF(VLOOKUP($A46,Feuillettravail!$A:$R,COLUMN(),FALSE)<>\"\",VLOOKUP($A46,Feuillettravail!$A:$R,COLUMN(),FALSE),\"\"),\"\")","v":""},{"$f":"IF(VLOOKUP($A46,Feuillettravail!$A:$Z,26,FALSE)<>\"\",IF(VLOOKUP($A46,Feuillettravail!$A:$R,COLUMN(),FALSE)<>\"\",VLOOKUP($A46,Feuillettravail!$A:$R,COLUMN(),FALSE),\"\"),\"\")","v":""}]
[44,null,null,{"$f":"IF(VLOOKUP($A47,Feuillettravail!$A:$R,COLUMN(),FALSE)<>\"\",VLOOKUP($A47,Feuillettravail!$A:$R,COLUMN(),FALSE),\"\")","v":""},{"$f":"IF(VLOOKUP($A47,Feuillettravail!$A:$R,COLUMN(),FALSE)<>\"\",VLOOKUP($A47,Feuillettravail!$A:$R,COLUMN(),FALSE),\"\")","v":""},{"$f":"IF(VLOOKUP($A47,Feuillettravail!$A:$R,COLUMN(),FALSE)<>\"\",VLOOKUP($A47,Feuillettravail!$A:$R,COLUMN(),FALSE),\"\")","v":""},{"$f":"IF(VLOOKUP($A47,Feuillettravail!$A:$R,COLUMN(),FALSE)<>\"\",VLOOKUP($A47,Feuillettravail!$A:$R,COLUMN(),FALSE),\"\")","v":""},{"$f":"IF(VLOOKUP($A47,Feuillettravail!$A:$R,COLUMN(),FALSE)<>\"\",VLOOKUP($A47,Feuillettravail!$A:$R,COLUMN(),FALSE),\"\")","v":""},{"$f":"IF(VLOOKUP($A47,Feuillettravail!$A:$R,COLUMN(),FALSE)<>\"\",VLOOKUP($A47,Feuillettravail!$A:$R,COLUMN(),FALSE),\"\")","v":""},{"$f":"IF(VLOOKUP($A47,Feuillettravail!$A:$R,COLUMN(),FALSE)<>\"\",VLOOKUP($A47,Feuillettravail!$A:$R,COLUMN(),FALSE),\"\")","v":""},{"$f":"IF(VLOOKUP($A47,Feuillettravail!$A:$R,COLUMN(),FALSE)<>\"\",VLOOKUP($A47,Feuillettravail!$A:$R,COLUMN(),FALSE),\"\")","v":""},{"$f":"IF(VLOOKUP($A47,Feuillettravail!$A:$R,COLUMN(),FALSE)<>\"\",VLOOKUP($A47,Feuillettravail!$A:$R,COLUMN(),FALSE)&VLOOKUP($A47,Feuillettravail!$A:$AD,29,FALSE),\"\")","v":""},{"$f":"IF(VLOOKUP($A47,Feuillettravail!$A:$R,COLUMN(),FALSE)<>\"\",VLOOKUP($A47,Feuillettravail!$A:$R,COLUMN(),FALSE),\"\")","v":""},{"$f":"IF(VLOOKUP($A47,Feuillettravail!$A:$R,COLUMN(),FALSE)<>\"\",VLOOKUP($A47,Feuillettravail!$A:$R,COLUMN(),FALSE),\"\")","v":""},{"$f":"IF(VLOOKUP($A47,Feuillettravail!$A:$R,COLUMN(),FALSE)<>\"\",VLOOKUP($A47,Feuillettravail!$A:$R,COLUMN(),FALSE),\"\")","v":""},{"$f":"IF(VLOOKUP($A47,Feuillettravail!$A:$Z,26,FALSE)<>\"\",IF(VLOOKUP($A47,Feuillettravail!$A:$R,COLUMN(),FALSE)<>\"\",VLOOKUP($A47,Feuillettravail!$A:$R,COLUMN(),FALSE),\"\"),\"\")","v":""},{"$f":"IF(VLOOKUP($A47,Feuillettravail!$A:$Z,26,FALSE)<>\"\",IF(VLOOKUP($A47,Feuillettravail!$A:$R,COLUMN(),FALSE)<>\"\",VLOOKUP($A47,Feuillettravail!$A:$R,COLUMN(),FALSE),\"\"),\"\")","v":""},{"$f":"IF(VLOOKUP($A47,Feuillettravail!$A:$Z,26,FALSE)<>\"\",IF(VLOOKUP($A47,Feuillettravail!$A:$R,COLUMN(),FALSE)<>\"\",VLOOKUP($A47,Feuillettravail!$A:$R,COLUMN(),FALSE),\"\"),\"\")","v":""}]
[45,null,null,{"$f":"IF(VLOOKUP($A48,Feuillettravail!$A:$R,COLUMN(),FALSE)<>\"\",VLOOKUP($A48,Feuillettravail!$A:$R,COLUMN(),FALSE),\"\")","v":""},{"$f":"IF(VLOOKUP($A48,Feuillettravail!$A:$R,COLUMN(),FALSE)<>\"\",VLOOKUP($A48,Feuillettravail!$A:$R,COLUMN(),FALSE),\"\")","v":""},{"$f":"IF(VLOOKUP($A48,Feuillettravail!$A:$R,COLUMN(),FALSE)<>\"\",VLOOKUP($A48,Feuillettravail!$A:$R,COLUMN(),FALSE),\"\")","v":""},{"$f":"IF(VLOOKUP($A48,Feuillettravail!$A:$R,COLUMN(),FALSE)<>\"\",VLOOKUP($A48,Feuillettravail!$A:$R,COLUMN(),FALSE),\"\")","v":""},{"$f":"IF(VLOOKUP($A48,Feuillettravail!$A:$R,COLUMN(),FALSE)<>\"\",VLOOKUP($A48,Feuillettravail!$A:$R,COLUMN(),FALSE),\"\")","v":""},{"$f":"IF(VLOOKUP($A48,Feuillettravail!$A:$R,COLUMN(),FALSE)<>\"\",VLOOKUP($A48,Feuillettravail!$A:$R,COLUMN(),FALSE),\"\")","v":""},{"$f":"IF(VLOOKUP($A48,Feuillettravail!$A:$R,COLUMN(),FALSE)<>\"\",VLOOKUP($A48,Feuillettravail!$A:$R,COLUMN(),FALSE),\"\")","v":""},{"$f":"IF(VLOOKUP($A48,Feuillettravail!$A:$R,COLUMN(),FALSE)<>\"\",VLOOKUP($A48,Feuillettravail!$A:$R,COLUMN(),FALSE),\"\")","v":""},{"$f":"IF(VLOOKUP($A48,Feuillettravail!$A:$R,COLUMN(),FALSE)<>\"\",VLOOKUP($A48,Feuillettravail!$A:$R,COLUMN(),FALSE)&VLOOKUP($A48,Feuillettravail!$A:$AD,29,FALSE),\"\")","v":""},{"$f":"IF(VLOOKUP($A48,Feuillettravail!$A:$R,COLUMN(),FALSE)<>\"\",VLOOKUP($A48,Feuillettravail!$A:$R,COLUMN(),FALSE),\"\")","v":""},{"$f":"IF(VLOOKUP($A48,Feuillettravail!$A:$R,COLUMN(),FALSE)<>\"\",VLOOKUP($A48,Feuillettravail!$A:$R,COLUMN(),FALSE),\"\")","v":""},{"$f":"IF(VLOOKUP($A48,Feuillettravail!$A:$R,COLUMN(),FALSE)<>\"\",VLOOKUP($A48,Feuillettravail!$A:$R,COLUMN(),FALSE),\"\")","v":""},{"$f":"IF(VLOOKUP($A48,Feuillettravail!$A:$Z,26,FALSE)<>\"\",IF(VLOOKUP($A48,Feuillettravail!$A:$R,COLUMN(),FALSE)<>\"\",VLOOKUP($A48,Feuillettravail!$A:$R,COLUMN(),FALSE),\"\"),\"\")","v":""},{"$f":"IF(VLOOKUP($A48,Feuillettravail!$A:$Z,26,FALSE)<>\"\",IF(VLOOKUP($A48,Feuillettravail!$A:$R,COLUMN(),FALSE)<>\"\",VLOOKUP($A48,Feuillettravail!$A:$R,COLUMN(),FALSE),\"\"),\"\")","v":""},{"$f":"IF(VLOOKUP($A48,Feuillettravail!$A:$Z,26,FALSE)<>\"\",IF(VLOOKUP($A48,Feuillettravail!$A:$R,COLUMN(),FALSE)<>\"\",VLOOKUP($A48,Feuillettravail!$A:$R,COLUMN(),FALSE),\"\"),\"\")","v":""}]
[46,null,null,{"$f":"IF(VLOOKUP($A49,Feuillettravail!$A:$R,COLUMN(),FALSE)<>\"\",VLOOKUP($A49,Feuillettravail!$A:$R,COLUMN(),FALSE),\"\")","v":""},{"$f":"IF(VLOOKUP($A49,Feuillettravail!$A:$R,COLUMN(),FALSE)<>\"\",VLOOKUP($A49,Feuillettravail!$A:$R,COLUMN(),FALSE),\"\")","v":""},{"$f":"IF(VLOOKUP($A49,Feuillettravail!$A:$R,COLUMN(),FALSE)<>\"\",VLOOKUP($A49,Feuillettravail!$A:$R,COLUMN(),FALSE),\"\")","v":""},{"$f":"IF(VLOOKUP($A49,Feuillettravail!$A:$R,COLUMN(),FALSE)<>\"\",VLOOKUP($A49,Feuillettravail!$A:$R,COLUMN(),FALSE),\"\")","v":""},{"$f":"IF(VLOOKUP($A49,Feuillettravail!$A:$R,COLUMN(),FALSE)<>\"\",VLOOKUP($A49,Feuillettravail!$A:$R,COLUMN(),FALSE),\"\")","v":""},{"$f":"IF(VLOOKUP($A49,Feuillettravail!$A:$R,COLUMN(),FALSE)<>\"\",VLOOKUP($A49,Feuillettravail!$A:$R,COLUMN(),FALSE),\"\")","v":""},{"$f":"IF(VLOOKUP($A49,Feuillettravail!$A:$R,COLUMN(),FALSE)<>\"\",VLOOKUP($A49,Feuillettravail!$A:$R,COLUMN(),FALSE),\"\")","v":""},{"$f":"IF(VLOOKUP($A49,Feuillettravail!$A:$R,COLUMN(),FALSE)<>\"\",VLOOKUP($A49,Feuillettravail!$A:$R,COLUMN(),FALSE),\"\")","v":""},{"$f":"IF(VLOOKUP($A49,Feuillettravail!$A:$R,COLUMN(),FALSE)<>\"\",VLOOKUP($A49,Feuillettravail!$A:$R,COLUMN(),FALSE)&VLOOKUP($A49,Feuillettravail!$A:$AD,29,FALSE),\"\")","v":""},{"$f":"IF(VLOOKUP($A49,Feuillettravail!$A:$R,COLUMN(),FALSE)<>\"\",VLOOKUP($A49,Feuillettravail!$A:$R,COLUMN(),FALSE),\"\")","v":""},{"$f":"IF(VLOOKUP($A49,Feuillettravail!$A:$R,COLUMN(),FALSE)<>\"\",VLOOKUP($A49,Feuillettravail!$A:$R,COLUMN(),FALSE),\"\")","v":""},{"$f":"IF(VLOOKUP($A49,Feuillettravail!$A:$R,COLUMN(),FALSE)<>\"\",VLOOKUP($A49,Feuillettravail!$A:$R,COLUMN(),FALSE),\"\")","v":""},{"$f":"IF(VLOOKUP($A49,Feuillettravail!$A:$Z,26,FALSE)<>\"\",IF(VLOOKUP($A49,Feuillettravail!$A:$R,COLUMN(),FALSE)<>\"\",VLOOKUP($A49,Feuillettravail!$A:$R,COLUMN(),FALSE),\"\"),\"\")","v":""},{"$f":"IF(VLOOKUP($A49,Feuillettravail!$A:$Z,26,FALSE)<>\"\",IF(VLOOKUP($A49,Feuillettravail!$A:$R,COLUMN(),FALSE)<>\"\",VLOOKUP($A49,Feuillettravail!$A:$R,COLUMN(),FALSE),\"\"),\"\")","v":""},{"$f":"IF(VLOOKUP($A49,Feuillettravail!$A:$Z,26,FALSE)<>\"\",IF(VLOOKUP($A49,Feuillettravail!$A:$R,COLUMN(),FALSE)<>\"\",VLOOKUP($A49,Feuillettravail!$A:$R,COLUMN(),FALSE),\"\"),\"\")","v":""}]
[47,null,null,{"$f":"IF(VLOOKUP($A50,Feuillettravail!$A:$R,COLUMN(),FALSE)<>\"\",VLOOKUP($A50,Feuillettravail!$A:$R,COLUMN(),FALSE),\"\")","v":""},{"$f":"IF(VLOOKUP($A50,Feuillettravail!$A:$R,COLUMN(),FALSE)<>\"\",VLOOKUP($A50,Feuillettravail!$A:$R,COLUMN(),FALSE),\"\")","v":""},{"$f":"IF(VLOOKUP($A50,Feuillettravail!$A:$R,COLUMN(),FALSE)<>\"\",VLOOKUP($A50,Feuillettravail!$A:$R,COLUMN(),FALSE),\"\")","v":""},{"$f":"IF(VLOOKUP($A50,Feuillettravail!$A:$R,COLUMN(),FALSE)<>\"\",VLOOKUP($A50,Feuillettravail!$A:$R,COLUMN(),FALSE),\"\")","v":""},{"$f":"IF(VLOOKUP($A50,Feuillettravail!$A:$R,COLUMN(),FALSE)<>\"\",VLOOKUP($A50,Feuillettravail!$A:$R,COLUMN(),FALSE),\"\")","v":""},{"$f":"IF(VLOOKUP($A50,Feuillettravail!$A:$R,COLUMN(),FALSE)<>\"\",VLOOKUP($A50,Feuillettravail!$A:$R,COLUMN(),FALSE),\"\")","v":""},{"$f":"IF(VLOOKUP($A50,Feuillettravail!$A:$R,COLUMN(),FALSE)<>\"\",VLOOKUP($A50,Feuillettravail!$A:$R,COLUMN(),FALSE),\"\")","v":""},{"$f":"IF(VLOOKUP($A50,Feuillettravail!$A:$R,COLUMN(),FALSE)<>\"\",VLOOKUP($A50,Feuillettravail!$A:$R,COLUMN(),FALSE),\"\")","v":""},{"$f":"IF(VLOOKUP($A50,Feuillettravail!$A:$R,COLUMN(),FALSE)<>\"\",VLOOKUP($A50,Feuillettravail!$A:$R,COLUMN(),FALSE)&VLOOKUP($A50,Feuillettravail!$A:$AD,29,FALSE),\"\")","v":""},{"$f":"IF(VLOOKUP($A50,Feuillettravail!$A:$R,COLUMN(),FALSE)<>\"\",VLOOKUP($A50,Feuillettravail!$A:$R,COLUMN(),FALSE),\"\")","v":""},{"$f":"IF(VLOOKUP($A50,Feuillettravail!$A:$R,COLUMN(),FALSE)<>\"\",VLOOKUP($A50,Feuillettravail!$A:$R,COLUMN(),FALSE),\"\")","v":""},{"$f":"IF(VLOOKUP($A50,Feuillettravail!$A:$R,COLUMN(),FALSE)<>\"\",VLOOKUP($A50,Feuillettravail!$A:$R,COLUMN(),FALSE),\"\")","v":""},{"$f":"IF(VLOOKUP($A50,Feuillettravail!$A:$Z,26,FALSE)<>\"\",IF(VLOOKUP($A50,Feuillettravail!$A:$R,COLUMN(),FALSE)<>\"\",VLOOKUP($A50,Feuillettravail!$A:$R,COLUMN(),FALSE),\"\"),\"\")","v":""},{"$f":"IF(VLOOKUP($A50,Feuillettravail!$A:$Z,26,FALSE)<>\"\",IF(VLOOKUP($A50,Feuillettravail!$A:$R,COLUMN(),FALSE)<>\"\",VLOOKUP($A50,Feuillettravail!$A:$R,COLUMN(),FALSE),\"\"),\"\")","v":""},{"$f":"IF(VLOOKUP($A50,Feuillettravail!$A:$Z,26,FALSE)<>\"\",IF(VLOOKUP($A50,Feuillettravail!$A:$R,COLUMN(),FALSE)<>\"\",VLOOKUP($A50,Feuillettravail!$A:$R,COLUMN(),FALSE),\"\"),\"\")","v":""}]
[48,null,null,{"$f":"IF(VLOOKUP($A51,Feuillettravail!$A:$R,COLUMN(),FALSE)<>\"\",VLOOKUP($A51,Feuillettravail!$A:$R,COLUMN(),FALSE),\"\")","v":""},{"$f":"IF(VLOOKUP($A51,Feuillettravail!$A:$R,COLUMN(),FALSE)<>\"\",VLOOKUP($A51,Feuillettravail!$A:$R,COLUMN(),FALSE),\"\")","v":""},{"$f":"IF(VLOOKUP($A51,Feuillettravail!$A:$R,COLUMN(),FALSE)<>\"\",VLOOKUP($A51,Feuillettravail!$A:$R,COLUMN(),FALSE),\"\")","v":""},{"$f":"IF(VLOOKUP($A51,Feuillettravail!$A:$R,COLUMN(),FALSE)<>\"\",VLOOKUP($A51,Feuillettravail!$A:$R,COLUMN(),FALSE),\"\")","v":""},{"$f":"IF(VLOOKUP($A51,Feuillettravail!$A:$R,COLUMN(),FALSE)<>\"\",VLOOKUP($A51,Feuillettravail!$A:$R,COLUMN(),FALSE),\"\")","v":""},{"$f":"IF(VLOOKUP($A51,Feuillettravail!$A:$R,COLUMN(),FALSE)<>\"\",VLOOKUP($A51,Feuillettravail!$A:$R,COLUMN(),FALSE),\"\")","v":""},{"$f":"IF(VLOOKUP($A51,Feuillettravail!$A:$R,COLUMN(),FALSE)<>\"\",VLOOKUP($A51,Feuillettravail!$A:$R,COLUMN(),FALSE),\"\")","v":""},{"$f":"IF(VLOOKUP($A51,Feuillettravail!$A:$R,COLUMN(),FALSE)<>\"\",VLOOKUP($A51,Feuillettravail!$A:$R,COLUMN(),FALSE),\"\")","v":""},{"$f":"IF(VLOOKUP($A51,Feuillettravail!$A:$R,COLUMN(),FALSE)<>\"\",VLOOKUP($A51,Feuillettravail!$A:$R,COLUMN(),FALSE)&VLOOKUP($A51,Feuillettravail!$A:$AD,29,FALSE),\"\")","v":""},{"$f":"IF(VLOOKUP($A51,Feuillettravail!$A:$R,COLUMN(),FALSE)<>\"\",VLOOKUP($A51,Feuillettravail!$A:$R,COLUMN(),FALSE),\"\")","v":""},{"$f":"IF(VLOOKUP($A51,Feuillettravail!$A:$R,COLUMN(),FALSE)<>\"\",VLOOKUP($A51,Feuillettravail!$A:$R,COLUMN(),FALSE),\"\")","v":""},{"$f":"IF(VLOOKUP($A51,Feuillettravail!$A:$R,COLUMN(),FALSE)<>\"\",VLOOKUP($A51,Feuillettravail!$A:$R,COLUMN(),FALSE),\"\")","v":""},{"$f":"IF(VLOOKUP($A51,Feuillettravail!$A:$Z,26,FALSE)<>\"\",IF(VLOOKUP($A51,Feuillettravail!$A:$R,COLUMN(),FALSE)<>\"\",VLOOKUP($A51,Feuillettravail!$A:$R,COLUMN(),FALSE),\"\"),\"\")","v":""},{"$f":"IF(VLOOKUP($A51,Feuillettravail!$A:$Z,26,FALSE)<>\"\",IF(VLOOKUP($A51,Feuillettravail!$A:$R,COLUMN(),FALSE)<>\"\",VLOOKUP($A51,Feuillettravail!$A:$R,COLUMN(),FALSE),\"\"),\"\")","v":""},{"$f":"IF(VLOOKUP($A51,Feuillettravail!$A:$Z,26,FALSE)<>\"\",IF(VLOOKUP($A51,Feuillettravail!$A:$R,COLUMN(),FALSE)<>\"\",VLOOKUP($A51,Feuillettravail!$A:$R,COLUMN(),FALSE),\"\"),\"\")","v":""}]
[49,null,null,{"$f":"IF(VLOOKUP($A52,Feuillettravail!$A:$R,COLUMN(),FALSE)<>\"\",VLOOKUP($A52,Feuillettravail!$A:$R,COLUMN(),FALSE),\"\")","v":""},{"$f":"IF(VLOOKUP($A52,Feuillettravail!$A:$R,COLUMN(),FALSE)<>\"\",VLOOKUP($A52,Feuillettravail!$A:$R,COLUMN(),FALSE),\"\")","v":""},{"$f":"IF(VLOOKUP($A52,Feuillettravail!$A:$R,COLUMN(),FALSE)<>\"\",VLOOKUP($A52,Feuillettravail!$A:$R,COLUMN(),FALSE),\"\")","v":""},{"$f":"IF(VLOOKUP($A52,Feuillettravail!$A:$R,COLUMN(),FALSE)<>\"\",VLOOKUP($A52,Feuillettravail!$A:$R,COLUMN(),FALSE),\"\")","v":""},{"$f":"IF(VLOOKUP($A52,Feuillettravail!$A:$R,COLUMN(),FALSE)<>\"\",VLOOKUP($A52,Feuillettravail!$A:$R,COLUMN(),FALSE),\"\")","v":""},{"$f":"IF(VLOOKUP($A52,Feuillettravail!$A:$R,COLUMN(),FALSE)<>\"\",VLOOKUP($A52,Feuillettravail!$A:$R,COLUMN(),FALSE),\"\")","v":""},{"$f":"IF(VLOOKUP($A52,Feuillettravail!$A:$R,COLUMN(),FALSE)<>\"\",VLOOKUP($A52,Feuillettravail!$A:$R,COLUMN(),FALSE),\"\")","v":""},{"$f":"IF(VLOOKUP($A52,Feuillettravail!$A:$R,COLUMN(),FALSE)<>\"\",VLOOKUP($A52,Feuillettravail!$A:$R,COLUMN(),FALSE),\"\")","v":""},{"$f":"IF(VLOOKUP($A52,Feuillettravail!$A:$R,COLUMN(),FALSE)<>\"\",VLOOKUP($A52,Feuillettravail!$A:$R,COLUMN(),FALSE)&VLOOKUP($A52,Feuillettravail!$A:$AD,29,FALSE),\"\")","v":""},{"$f":"IF(VLOOKUP($A52,Feuillettravail!$A:$R,COLUMN(),FALSE)<>\"\",VLOOKUP($A52,Feuillettravail!$A:$R,COLUMN(),FALSE),\"\")","v":""},{"$f":"IF(VLOOKUP($A52,Feuillettravail!$A:$R,COLUMN(),FALSE)<>\"\",VLOOKUP($A52,Feuillettravail!$A:$R,COLUMN(),FALSE),\"\")","v":""},{"$f":"IF(VLOOKUP($A52,Feuillettravail!$A:$R,COLUMN(),FALSE)<>\"\",VLOOKUP($A52,Feuillettravail!$A:$R,COLUMN(),FALSE),\"\")","v":""},{"$f":"IF(VLOOKUP($A52,Feuillettravail!$A:$Z,26,FALSE)<>\"\",IF(VLOOKUP($A52,Feuillettravail!$A:$R,COLUMN(),FALSE)<>\"\",VLOOKUP($A52,Feuillettravail!$A:$R,COLUMN(),FALSE),\"\"),\"\")","v":""},{"$f":"IF(VLOOKUP($A52,Feuillettravail!$A:$Z,26,FALSE)<>\"\",IF(VLOOKUP($A52,Feuillettravail!$A:$R,COLUMN(),FALSE)<>\"\",VLOOKUP($A52,Feuillettravail!$A:$R,COLUMN(),FALSE),\"\"),\"\")","v":""},{"$f":"IF(VLOOKUP($A52,Feuillettravail!$A:$Z,26,FALSE)<>\"\",IF(VLOOKUP($A52,Feuillettravail!$A:$R,COLUMN(),FALSE)<>\"\",VLOOKUP($A52,Feuillettravail!$A:$R,COLUMN(),FALSE),\"\"),\"\")","v":""}]
[50,null,null,{"$f":"IF(VLOOKUP($A53,Feuillettravail!$A:$R,COLUMN(),FALSE)<>\"\",VLOOKUP($A53,Feuillettravail!$A:$R,COLUMN(),FALSE),\"\")","v":""},{"$f":"IF(VLOOKUP($A53,Feuillettravail!$A:$R,COLUMN(),FALSE)<>\"\",VLOOKUP($A53,Feuillettravail!$A:$R,COLUMN(),FALSE),\"\")","v":""},{"$f":"IF(VLOOKUP($A53,Feuillettravail!$A:$R,COLUMN(),FALSE)<>\"\",VLOOKUP($A53,Feuillettravail!$A:$R,COLUMN(),FALSE),\"\")","v":""},{"$f":"IF(VLOOKUP($A53,Feuillettravail!$A:$R,COLUMN(),FALSE)<>\"\",VLOOKUP($A53,Feuillettravail!$A:$R,COLUMN(),FALSE),\"\")","v":""},{"$f":"IF(VLOOKUP($A53,Feuillettravail!$A:$R,COLUMN(),FALSE)<>\"\",VLOOKUP($A53,Feuillettravail!$A:$R,COLUMN(),FALSE),\"\")","v":""},{"$f":"IF(VLOOKUP($A53,Feuillettravail!$A:$R,COLUMN(),FALSE)<>\"\",VLOOKUP($A53,Feuillettravail!$A:$R,COLUMN(),FALSE),\"\")","v":""},{"$f":"IF(VLOOKUP($A53,Feuillettravail!$A:$R,COLUMN(),FALSE)<>\"\",VLOOKUP($A53,Feuillettravail!$A:$R,COLUMN(),FALSE),\"\")","v":""},{"$f":"IF(VLOOKUP($A53,Feuillettravail!$A:$R,COLUMN(),FALSE)<>\"\",VLOOKUP($A53,Feuillettravail!$A:$R,COLUMN(),FALSE),\"\")","v":""},{"$f":"IF(VLOOKUP($A53,Feuillettravail!$A:$R,COLUMN(),FALSE)<>\"\",VLOOKUP($A53,Feuillettravail!$A:$R,COLUMN(),FALSE)&VLOOKUP($A53,Feuillettravail!$A:$AD,29,FALSE),\"\")","v":""},{"$f":"IF(VLOOKUP($A53,Feuillettravail!$A:$R,COLUMN(),FALSE)<>\"\",VLOOKUP($A53,Feuillettravail!$A:$R,COLUMN(),FALSE),\"\")","v":""},{"$f":"IF(VLOOKUP($A53,Feuillettravail!$A:$R,COLUMN(),FALSE)<>\"\",VLOOKUP($A53,Feuillettravail!$A:$R,COLUMN(),FALSE),\"\")","v":""},{"$f":"IF(VLOOKUP($A53,Feuillettravail!$A:$R,COLUMN(),FALSE)<>\"\",VLOOKUP($A53,Feuillettravail!$A:$R,COLUMN(),FALSE),\"\")","v":""},{"$f":"IF(VLOOKUP($A53,Feuillettravail!$A:$Z,26,FALSE)<>\"\",IF(VLOOKUP($A53,Feuillettravail!$A:$R,COLUMN(),FALSE)<>\"\",VLOOKUP($A53,Feuillettravail!$A:$R,COLUMN(),FALSE),\"\"),\"\")","v":""},{"$f":"IF(VLOOKUP($A53,Feuillettravail!$A:$Z,26,FALSE)<>\"\",IF(VLOOKUP($A53,Feuillettravail!$A:$R,COLUMN(),FALSE)<>\"\",VLOOKUP($A53,Feuillettravail!$A:$R,COLUMN(),FALSE),\"\"),\"\")","v":""},{"$f":"IF(VLOOKUP($A53,Feuillettravail!$A:$Z,26,FALSE)<>\"\",IF(VLOOKUP($A53,Feuillettravail!$A:$R,COLUMN(),FALSE)<>\"\",VLOOKUP($A53,Feuillettravail!$A:$R,COLUMN(),FALSE),\"\"),\"\")","v":""}]
[51,null,null,{"$f":"IF(VLOOKUP($A54,Feuillettravail!$A:$R,COLUMN(),FALSE)<>\"\",VLOOKUP($A54,Feuillettravail!$A:$R,COLUMN(),FALSE),\"\")","v":""},{"$f":"IF(VLOOKUP($A54,Feuillettravail!$A:$R,COLUMN(),FALSE)<>\"\",VLOOKUP($A54,Feuillettravail!$A:$R,COLUMN(),FALSE),\"\")","v":""},{"$f":"IF(VLOOKUP($A54,Feuillettravail!$A:$R,COLUMN(),FALSE)<>\"\",VLOOKUP($A54,Feuillettravail!$A:$R,COLUMN(),FALSE),\"\")","v":""},{"$f":"IF(VLOOKUP($A54,Feuillettravail!$A:$R,COLUMN(),FALSE)<>\"\",VLOOKUP($A54,Feuillettravail!$A:$R,COLUMN(),FALSE),\"\")","v":""},{"$f":"IF(VLOOKUP($A54,Feuillettravail!$A:$R,COLUMN(),FALSE)<>\"\",VLOOKUP($A54,Feuillettravail!$A:$R,COLUMN(),FALSE),\"\")","v":""},{"$f":"IF(VLOOKUP($A54,Feuillettravail!$A:$R,COLUMN(),FALSE)<>\"\",VLOOKUP($A54,Feuillettravail!$A:$R,COLUMN(),FALSE),\"\")","v":""},{"$f":"IF(VLOOKUP($A54,Feuillettravail!$A:$R,COLUMN(),FALSE)<>\"\",VLOOKUP($A54,Feuillettravail!$A:$R,COLUMN(),FALSE),\"\")","v":""},{"$f":"IF(VLOOKUP($A54,Feuillettravail!$A:$R,COLUMN(),FALSE)<>\"\",VLOOKUP($A54,Feuillettravail!$A:$R,COLUMN(),FALSE),\"\")","v":""},{"$f":"IF(VLOOKUP($A54,Feuillettravail!$A:$R,COLUMN(),FALSE)<>\"\",VLOOKUP($A54,Feuillettravail!$A:$R,COLUMN(),FALSE)&VLOOKUP($A54,Feuillettravail!$A:$AD,29,FALSE),\"\")","v":""},{"$f":"IF(VLOOKUP($A54,Feuillettravail!$A:$R,COLUMN(),FALSE)<>\"\",VLOOKUP($A54,Feuillettravail!$A:$R,COLUMN(),FALSE),\"\")","v":""},{"$f":"IF(VLOOKUP($A54,Feuillettravail!$A:$R,COLUMN(),FALSE)<>\"\",VLOOKUP($A54,Feuillettravail!$A:$R,COLUMN(),FALSE),\"\")","v":""},{"$f":"IF(VLOOKUP($A54,Feuillettravail!$A:$R,COLUMN(),FALSE)<>\"\",VLOOKUP($A54,Feuillettravail!$A:$R,COLUMN(),FALSE),\"\")","v":""},{"$f":"IF(VLOOKUP($A54,Feuillettravail!$A:$Z,26,FALSE)<>\"\",IF(VLOOKUP($A54,Feuillettravail!$A:$R,COLUMN(),FALSE)<>\"\",VLOOKUP($A54,Feuillettravail!$A:$R,COLUMN(),FALSE),\"\"),\"\")","v":""},{"$f":"IF(VLOOKUP($A54,Feuillettravail!$A:$Z,26,FALSE)<>\"\",IF(VLOOKUP($A54,Feuillettravail!$A:$R,COLUMN(),FALSE)<>\"\",VLOOKUP($A54,Feuillettravail!$A:$R,COLUMN(),FALSE),\"\"),\"\")","v":""},{"$f":"IF(VLOOKUP($A54,Feuillettravail!$A:$Z,26,FALSE)<>\"\",IF(VLOOKUP($A54,Feuillettravail!$A:$R,COLUMN(),FALSE)<>\"\",VLOOKUP($A54,Feuillettravail!$A:$R,COLUMN(),FALSE),\"\"),\"\")","v":""}]
[52,null,null,{"$f":"IF(VLOOKUP($A55,Feuillettravail!$A:$R,COLUMN(),FALSE)<>\"\",VLOOKUP($A55,Feuillettravail!$A:$R,COLUMN(),FALSE),\"\")","v":""},{"$f":"IF(VLOOKUP($A55,Feuillettravail!$A:$R,COLUMN(),FALSE)<>\"\",VLOOKUP($A55,Feuillettravail!$A:$R,COLUMN(),FALSE),\"\")","v":""},{"$f":"IF(VLOOKUP($A55,Feuillettravail!$A:$R,COLUMN(),FALSE)<>\"\",VLOOKUP($A55,Feuillettravail!$A:$R,COLUMN(),FALSE),\"\")","v":""},{"$f":"IF(VLOOKUP($A55,Feuillettravail!$A:$R,COLUMN(),FALSE)<>\"\",VLOOKUP($A55,Feuillettravail!$A:$R,COLUMN(),FALSE),\"\")","v":""},{"$f":"IF(VLOOKUP($A55,Feuillettravail!$A:$R,COLUMN(),FALSE)<>\"\",VLOOKUP($A55,Feuillettravail!$A:$R,COLUMN(),FALSE),\"\")","v":""},{"$f":"IF(VLOOKUP($A55,Feuillettravail!$A:$R,COLUMN(),FALSE)<>\"\",VLOOKUP($A55,Feuillettravail!$A:$R,COLUMN(),FALSE),\"\")","v":""},{"$f":"IF(VLOOKUP($A55,Feuillettravail!$A:$R,COLUMN(),FALSE)<>\"\",VLOOKUP($A55,Feuillettravail!$A:$R,COLUMN(),FALSE),\"\")","v":""},{"$f":"IF(VLOOKUP($A55,Feuillettravail!$A:$R,COLUMN(),FALSE)<>\"\",VLOOKUP($A55,Feuillettravail!$A:$R,COLUMN(),FALSE),\"\")","v":""},{"$f":"IF(VLOOKUP($A55,Feuillettravail!$A:$R,COLUMN(),FALSE)<>\"\",VLOOKUP($A55,Feuillettravail!$A:$R,COLUMN(),FALSE)&VLOOKUP($A55,Feuillettravail!$A:$AD,29,FALSE),\"\")","v":""},{"$f":"IF(VLOOKUP($A55,Feuillettravail!$A:$R,COLUMN(),FALSE)<>\"\",VLOOKUP($A55,Feuillettravail!$A:$R,COLUMN(),FALSE),\"\")","v":""},{"$f":"IF(VLOOKUP($A55,Feuillettravail!$A:$R,COLUMN(),FALSE)<>\"\",VLOOKUP($A55,Feuillettravail!$A:$R,COLUMN(),FALSE),\"\")","v":""},{"$f":"IF(VLOOKUP($A55,Feuillettravail!$A:$R,COLUMN(),FALSE)<>\"\",VLOOKUP($A55,Feuillettravail!$A:$R,COLUMN(),FALSE),\"\")","v":""},{"$f":"IF(VLOOKUP($A55,Feuillettravail!$A:$Z,26,FALSE)<>\"\",IF(VLOOKUP($A55,Feuillettravail!$A:$R,COLUMN(),FALSE)<>\"\",VLOOKUP($A55,Feuillettravail!$A:$R,COLUMN(),FALSE),\"\"),\"\")","v":""},{"$f":"IF(VLOOKUP($A55,Feuillettravail!$A:$Z,26,FALSE)<>\"\",IF(VLOOKUP($A55,Feuillettravail!$A:$R,COLUMN(),FALSE)<>\"\",VLOOKUP($A55,Feuillettravail!$A:$R,COLUMN(),FALSE),\"\"),\"\")","v":""},{"$f":"IF(VLOOKUP($A55,Feuillettravail!$A:$Z,26,FALSE)<>\"\",IF(VLOOKUP($A55,Feuillettravail!$A:$R,COLUMN(),FALSE)<>\"\",VLOOKUP($A55,Feuillettravail!$A:$R,COLUMN(),FALSE),\"\"),\"\")","v":""}]
[53,null,null,{"$f":"IF(VLOOKUP($A56,Feuillettravail!$A:$R,COLUMN(),FALSE)<>\"\",VLOOKUP($A56,Feuillettravail!$A:$R,COLUMN(),FALSE),\"\")","v":""},{"$f":"IF(VLOOKUP($A56,Feuillettravail!$A:$R,COLUMN(),FALSE)<>\"\",VLOOKUP($A56,Feuillettravail!$A:$R,COLUMN(),FALSE),\"\")","v":""},{"$f":"IF(VLOOKUP($A56,Feuillettravail!$A:$R,COLUMN(),FALSE)<>\"\",VLOOKUP($A56,Feuillettravail!$A:$R,COLUMN(),FALSE),\"\")","v":""},{"$f":"IF(VLOOKUP($A56,Feuillettravail!$A:$R,COLUMN(),FALSE)<>\"\",VLOOKUP($A56,Feuillettravail!$A:$R,COLUMN(),FALSE),\"\")","v":""},{"$f":"IF(VLOOKUP($A56,Feuillettravail!$A:$R,COLUMN(),FALSE)<>\"\",VLOOKUP($A56,Feuillettravail!$A:$R,COLUMN(),FALSE),\"\")","v":""},{"$f":"IF(VLOOKUP($A56,Feuillettravail!$A:$R,COLUMN(),FALSE)<>\"\",VLOOKUP($A56,Feuillettravail!$A:$R,COLUMN(),FALSE),\"\")","v":""},{"$f":"IF(VLOOKUP($A56,Feuillettravail!$A:$R,COLUMN(),FALSE)<>\"\",VLOOKUP($A56,Feuillettravail!$A:$R,COLUMN(),FALSE),\"\")","v":""},{"$f":"IF(VLOOKUP($A56,Feuillettravail!$A:$R,COLUMN(),FALSE)<>\"\",VLOOKUP($A56,Feuillettravail!$A:$R,COLUMN(),FALSE),\"\")","v":""},{"$f":"IF(VLOOKUP($A56,Feuillettravail!$A:$R,COLUMN(),FALSE)<>\"\",VLOOKUP($A56,Feuillettravail!$A:$R,COLUMN(),FALSE)&VLOOKUP($A56,Feuillettravail!$A:$AD,29,FALSE),\"\")","v":""},{"$f":"IF(VLOOKUP($A56,Feuillettravail!$A:$R,COLUMN(),FALSE)<>\"\",VLOOKUP($A56,Feuillettravail!$A:$R,COLUMN(),FALSE),\"\")","v":""},{"$f":"IF(VLOOKUP($A56,Feuillettravail!$A:$R,COLUMN(),FALSE)<>\"\",VLOOKUP($A56,Feuillettravail!$A:$R,COLUMN(),FALSE),\"\")","v":""},{"$f":"IF(VLOOKUP($A56,Feuillettravail!$A:$R,COLUMN(),FALSE)<>\"\",VLOOKUP($A56,Feuillettravail!$A:$R,COLUMN(),FALSE),\"\")","v":""},{"$f":"IF(VLOOKUP($A56,Feuillettravail!$A:$Z,26,FALSE)<>\"\",IF(VLOOKUP($A56,Feuillettravail!$A:$R,COLUMN(),FALSE)<>\"\",VLOOKUP($A56,Feuillettravail!$A:$R,COLUMN(),FALSE),\"\"),\"\")","v":""},{"$f":"IF(VLOOKUP($A56,Feuillettravail!$A:$Z,26,FALSE)<>\"\",IF(VLOOKUP($A56,Feuillettravail!$A:$R,COLUMN(),FALSE)<>\"\",VLOOKUP($A56,Feuillettravail!$A:$R,COLUMN(),FALSE),\"\"),\"\")","v":""},{"$f":"IF(VLOOKUP($A56,Feuillettravail!$A:$Z,26,FALSE)<>\"\",IF(VLOOKUP($A56,Feuillettravail!$A:$R,COLUMN(),FALSE)<>\"\",VLOOKUP($A56,Feuillettravail!$A:$R,COLUMN(),FALSE),\"\"),\"\")","v":""}]
[54,null,null,{"$f":"IF(VLOOKUP($A57,Feuillettravail!$A:$R,COLUMN(),FALSE)<>\"\",VLOOKUP($A57,Feuillettravail!$A:$R,COLUMN(),FALSE),\"\")","v":""},{"$f":"IF(VLOOKUP($A57,Feuillettravail!$A:$R,COLUMN(),FALSE)<>\"\",VLOOKUP($A57,Feuillettravail!$A:$R,COLUMN(),FALSE),\"\")","v":""},{"$f":"IF(VLOOKUP($A57,Feuillettravail!$A:$R,COLUMN(),FALSE)<>\"\",VLOOKUP($A57,Feuillettravail!$A:$R,COLUMN(),FALSE),\"\")","v":""},{"$f":"IF(VLOOKUP($A57,Feuillettravail!$A:$R,COLUMN(),FALSE)<>\"\",VLOOKUP($A57,Feuillettravail!$A:$R,COLUMN(),FALSE),\"\")","v":""},{"$f":"IF(VLOOKUP($A57,Feuillettravail!$A:$R,COLUMN(),FALSE)<>\"\",VLOOKUP($A57,Feuillettravail!$A:$R,COLUMN(),FALSE),\"\")","v":""},{"$f":"IF(VLOOKUP($A57,Feuillettravail!$A:$R,COLUMN(),FALSE)<>\"\",VLOOKUP($A57,Feuillettravail!$A:$R,COLUMN(),FALSE),\"\")","v":""},{"$f":"IF(VLOOKUP($A57,Feuillettravail!$A:$R,COLUMN(),FALSE)<>\"\",VLOOKUP($A57,Feuillettravail!$A:$R,COLUMN(),FALSE),\"\")","v":""},{"$f":"IF(VLOOKUP($A57,Feuillettravail!$A:$R,COLUMN(),FALSE)<>\"\",VLOOKUP($A57,Feuillettravail!$A:$R,COLUMN(),FALSE),\"\")","v":""},{"$f":"IF(VLOOKUP($A57,Feuillettravail!$A:$R,COLUMN(),FALSE)<>\"\",VLOOKUP($A57,Feuillettravail!$A:$R,COLUMN(),FALSE)&VLOOKUP($A57,Feuillettravail!$A:$AD,29,FALSE),\"\")","v":""},{"$f":"IF(VLOOKUP($A57,Feuillettravail!$A:$R,COLUMN(),FALSE)<>\"\",VLOOKUP($A57,Feuillettravail!$A:$R,COLUMN(),FALSE),\"\")","v":""},{"$f":"IF(VLOOKUP($A57,Feuillettravail!$A:$R,COLUMN(),FALSE)<>\"\",VLOOKUP($A57,Feuillettravail!$A:$R,COLUMN(),FALSE),\"\")","v":""},{"$f":"IF(VLOOKUP($A57,Feuillettravail!$A:$R,COLUMN(),FALSE)<>\"\",VLOOKUP($A57,Feuillettravail!$A:$R,COLUMN(),FALSE),\"\")","v":""},{"$f":"IF(VLOOKUP($A57,Feuillettravail!$A:$Z,26,FALSE)<>\"\",IF(VLOOKUP($A57,Feuillettravail!$A:$R,COLUMN(),FALSE)<>\"\",VLOOKUP($A57,Feuillettravail!$A:$R,COLUMN(),FALSE),\"\"),\"\")","v":""},{"$f":"IF(VLOOKUP($A57,Feuillettravail!$A:$Z,26,FALSE)<>\"\",IF(VLOOKUP($A57,Feuillettravail!$A:$R,COLUMN(),FALSE)<>\"\",VLOOKUP($A57,Feuillettravail!$A:$R,COLUMN(),FALSE),\"\"),\"\")","v":""},{"$f":"IF(VLOOKUP($A57,Feuillettravail!$A:$Z,26,FALSE)<>\"\",IF(VLOOKUP($A57,Feuillettravail!$A:$R,COLUMN(),FALSE)<>\"\",VLOOKUP($A57,Feuillettravail!$A:$R,COLUMN(),FALSE),\"\"),\"\")","v":""}]
[55,null,null,{"$f":"IF(VLOOKUP($A58,Feuillettravail!$A:$R,COLUMN(),FALSE)<>\"\",VLOOKUP($A58,Feuillettravail!$A:$R,COLUMN(),FALSE),\"\")","v":""},{"$f":"IF(VLOOKUP($A58,Feuillettravail!$A:$R,COLUMN(),FALSE)<>\"\",VLOOKUP($A58,Feuillettravail!$A:$R,COLUMN(),FALSE),\"\")","v":""},{"$f":"IF(VLOOKUP($A58,Feuillettravail!$A:$R,COLUMN(),FALSE)<>\"\",VLOOKUP($A58,Feuillettravail!$A:$R,COLUMN(),FALSE),\"\")","v":""},{"$f":"IF(VLOOKUP($A58,Feuillettravail!$A:$R,COLUMN(),FALSE)<>\"\",VLOOKUP($A58,Feuillettravail!$A:$R,COLUMN(),FALSE),\"\")","v":""},{"$f":"IF(VLOOKUP($A58,Feuillettravail!$A:$R,COLUMN(),FALSE)<>\"\",VLOOKUP($A58,Feuillettravail!$A:$R,COLUMN(),FALSE),\"\")","v":""},{"$f":"IF(VLOOKUP($A58,Feuillettravail!$A:$R,COLUMN(),FALSE)<>\"\",VLOOKUP($A58,Feuillettravail!$A:$R,COLUMN(),FALSE),\"\")","v":""},{"$f":"IF(VLOOKUP($A58,Feuillettravail!$A:$R,COLUMN(),FALSE)<>\"\",VLOOKUP($A58,Feuillettravail!$A:$R,COLUMN(),FALSE),\"\")","v":""},{"$f":"IF(VLOOKUP($A58,Feuillettravail!$A:$R,COLUMN(),FALSE)<>\"\",VLOOKUP($A58,Feuillettravail!$A:$R,COLUMN(),FALSE),\"\")","v":""},{"$f":"IF(VLOOKUP($A58,Feuillettravail!$A:$R,COLUMN(),FALSE)<>\"\",VLOOKUP($A58,Feuillettravail!$A:$R,COLUMN(),FALSE)&VLOOKUP($A58,Feuillettravail!$A:$AD,29,FALSE),\"\")","v":""},{"$f":"IF(VLOOKUP($A58,Feuillettravail!$A:$R,COLUMN(),FALSE)<>\"\",VLOOKUP($A58,Feuillettravail!$A:$R,COLUMN(),FALSE),\"\")","v":""},{"$f":"IF(VLOOKUP($A58,Feuillettravail!$A:$R,COLUMN(),FALSE)<>\"\",VLOOKUP($A58,Feuillettravail!$A:$R,COLUMN(),FALSE),\"\")","v":""},{"$f":"IF(VLOOKUP($A58,Feuillettravail!$A:$R,COLUMN(),FALSE)<>\"\",VLOOKUP($A58,Feuillettravail!$A:$R,COLUMN(),FALSE),\"\")","v":""},{"$f":"IF(VLOOKUP($A58,Feuillettravail!$A:$Z,26,FALSE)<>\"\",IF(VLOOKUP($A58,Feuillettravail!$A:$R,COLUMN(),FALSE)<>\"\",VLOOKUP($A58,Feuillettravail!$A:$R,COLUMN(),FALSE),\"\"),\"\")","v":""},{"$f":"IF(VLOOKUP($A58,Feuillettravail!$A:$Z,26,FALSE)<>\"\",IF(VLOOKUP($A58,Feuillettravail!$A:$R,COLUMN(),FALSE)<>\"\",VLOOKUP($A58,Feuillettravail!$A:$R,COLUMN(),FALSE),\"\"),\"\")","v":""},{"$f":"IF(VLOOKUP($A58,Feuillettravail!$A:$Z,26,FALSE)<>\"\",IF(VLOOKUP($A58,Feuillettravail!$A:$R,COLUMN(),FALSE)<>\"\",VLOOKUP($A58,Feuillettravail!$A:$R,COLUMN(),FALSE),\"\"),\"\")","v":""}]
[56,null,null,{"$f":"IF(VLOOKUP($A59,Feuillettravail!$A:$R,COLUMN(),FALSE)<>\"\",VLOOKUP($A59,Feuillettravail!$A:$R,COLUMN(),FALSE),\"\")","v":""},{"$f":"IF(VLOOKUP($A59,Feuillettravail!$A:$R,COLUMN(),FALSE)<>\"\",VLOOKUP($A59,Feuillettravail!$A:$R,COLUMN(),FALSE),\"\")","v":""},{"$f":"IF(VLOOKUP($A59,Feuillettravail!$A:$R,COLUMN(),FALSE)<>\"\",VLOOKUP($A59,Feuillettravail!$A:$R,COLUMN(),FALSE),\"\")","v":""},{"$f":"IF(VLOOKUP($A59,Feuillettravail!$A:$R,COLUMN(),FALSE)<>\"\",VLOOKUP($A59,Feuillettravail!$A:$R,COLUMN(),FALSE),\"\")","v":""},{"$f":"IF(VLOOKUP($A59,Feuillettravail!$A:$R,COLUMN(),FALSE)<>\"\",VLOOKUP($A59,Feuillettravail!$A:$R,COLUMN(),FALSE),\"\")","v":""},{"$f":"IF(VLOOKUP($A59,Feuillettravail!$A:$R,COLUMN(),FALSE)<>\"\",VLOOKUP($A59,Feuillettravail!$A:$R,COLUMN(),FALSE),\"\")","v":""},{"$f":"IF(VLOOKUP($A59,Feuillettravail!$A:$R,COLUMN(),FALSE)<>\"\",VLOOKUP($A59,Feuillettravail!$A:$R,COLUMN(),FALSE),\"\")","v":""},{"$f":"IF(VLOOKUP($A59,Feuillettravail!$A:$R,COLUMN(),FALSE)<>\"\",VLOOKUP($A59,Feuillettravail!$A:$R,COLUMN(),FALSE),\"\")","v":""},{"$f":"IF(VLOOKUP($A59,Feuillettravail!$A:$R,COLUMN(),FALSE)<>\"\",VLOOKUP($A59,Feuillettravail!$A:$R,COLUMN(),FALSE)&VLOOKUP($A59,Feuillettravail!$A:$AD,29,FALSE),\"\")","v":""},{"$f":"IF(VLOOKUP($A59,Feuillettravail!$A:$R,COLUMN(),FALSE)<>\"\",VLOOKUP($A59,Feuillettravail!$A:$R,COLUMN(),FALSE),\"\")","v":""},{"$f":"IF(VLOOKUP($A59,Feuillettravail!$A:$R,COLUMN(),FALSE)<>\"\",VLOOKUP($A59,Feuillettravail!$A:$R,COLUMN(),FALSE),\"\")","v":""},{"$f":"IF(VLOOKUP($A59,Feuillettravail!$A:$R,COLUMN(),FALSE)<>\"\",VLOOKUP($A59,Feuillettravail!$A:$R,COLUMN(),FALSE),\"\")","v":""},{"$f":"IF(VLOOKUP($A59,Feuillettravail!$A:$Z,26,FALSE)<>\"\",IF(VLOOKUP($A59,Feuillettravail!$A:$R,COLUMN(),FALSE)<>\"\",VLOOKUP($A59,Feuillettravail!$A:$R,COLUMN(),FALSE),\"\"),\"\")","v":""},{"$f":"IF(VLOOKUP($A59,Feuillettravail!$A:$Z,26,FALSE)<>\"\",IF(VLOOKUP($A59,Feuillettravail!$A:$R,COLUMN(),FALSE)<>\"\",VLOOKUP($A59,Feuillettravail!$A:$R,COLUMN(),FALSE),\"\"),\"\")","v":""},{"$f":"IF(VLOOKUP($A59,Feuillettravail!$A:$Z,26,FALSE)<>\"\",IF(VLOOKUP($A59,Feuillettravail!$A:$R,COLUMN(),FALSE)<>\"\",VLOOKUP($A59,Feuillettravail!$A:$R,COLUMN(),FALSE),\"\"),\"\")","v":""}]
[57,null,null,{"$f":"IF(VLOOKUP($A60,Feuillettravail!$A:$R,COLUMN(),FALSE)<>\"\",VLOOKUP($A60,Feuillettravail!$A:$R,COLUMN(),FALSE),\"\")","v":""},{"$f":"IF(VLOOKUP($A60,Feuillettravail!$A:$R,COLUMN(),FALSE)<>\"\",VLOOKUP($A60,Feuillettravail!$A:$R,COLUMN(),FALSE),\"\")","v":""},{"$f":"IF(VLOOKUP($A60,Feuillettravail!$A:$R,COLUMN(),FALSE)<>\"\",VLOOKUP($A60,Feuillettravail!$A:$R,COLUMN(),FALSE),\"\")","v":""},{"$f":"IF(VLOOKUP($A60,Feuillettravail!$A:$R,COLUMN(),FALSE)<>\"\",VLOOKUP($A60,Feuillettravail!$A:$R,COLUMN(),FALSE),\"\")","v":""},{"$f":"IF(VLOOKUP($A60,Feuillettravail!$A:$R,COLUMN(),FALSE)<>\"\",VLOOKUP($A60,Feuillettravail!$A:$R,COLUMN(),FALSE),\"\")","v":""},{"$f":"IF(VLOOKUP($A60,Feuillettravail!$A:$R,COLUMN(),FALSE)<>\"\",VLOOKUP($A60,Feuillettravail!$A:$R,COLUMN(),FALSE),\"\")","v":""},{"$f":"IF(VLOOKUP($A60,Feuillettravail!$A:$R,COLUMN(),FALSE)<>\"\",VLOOKUP($A60,Feuillettravail!$A:$R,COLUMN(),FALSE),\"\")","v":""},{"$f":"IF(VLOOKUP($A60,Feuillettravail!$A:$R,COLUMN(),FALSE)<>\"\",VLOOKUP($A60,Feuillettravail!$A:$R,COLUMN(),FALSE),\"\")","v":""},{"$f":"IF(VLOOKUP($A60,Feuillettravail!$A:$R,COLUMN(),FALSE)<>\"\",VLOOKUP($A60,Feuillettravail!$A:$R,COLUMN(),FALSE)&VLOOKUP($A60,Feuillettravail!$A:$AD,29,FALSE),\"\")","v":""},{"$f":"IF(VLOOKUP($A60,Feuillettravail!$A:$R,COLUMN(),FALSE)<>\"\",VLOOKUP($A60,Feuillettravail!$A:$R,COLUMN(),FALSE),\"\")","v":""},{"$f":"IF(VLOOKUP($A60,Feuillettravail!$A:$R,COLUMN(),FALSE)<>\"\",VLOOKUP($A60,Feuillettravail!$A:$R,COLUMN(),FALSE),\"\")","v":""},{"$f":"IF(VLOOKUP($A60,Feuillettravail!$A:$R,COLUMN(),FALSE)<>\"\",VLOOKUP($A60,Feuillettravail!$A:$R,COLUMN(),FALSE),\"\")","v":""},{"$f":"IF(VLOOKUP($A60,Feuillettravail!$A:$Z,26,FALSE)<>\"\",IF(VLOOKUP($A60,Feuillettravail!$A:$R,COLUMN(),FALSE)<>\"\",VLOOKUP($A60,Feuillettravail!$A:$R,COLUMN(),FALSE),\"\"),\"\")","v":""},{"$f":"IF(VLOOKUP($A60,Feuillettravail!$A:$Z,26,FALSE)<>\"\",IF(VLOOKUP($A60,Feuillettravail!$A:$R,COLUMN(),FALSE)<>\"\",VLOOKUP($A60,Feuillettravail!$A:$R,COLUMN(),FALSE),\"\"),\"\")","v":""},{"$f":"IF(VLOOKUP($A60,Feuillettravail!$A:$Z,26,FALSE)<>\"\",IF(VLOOKUP($A60,Feuillettravail!$A:$R,COLUMN(),FALSE)<>\"\",VLOOKUP($A60,Feuillettravail!$A:$R,COLUMN(),FALSE),\"\"),\"\")","v":""}]
[58,null,null,{"$f":"IF(VLOOKUP($A61,Feuillettravail!$A:$R,COLUMN(),FALSE)<>\"\",VLOOKUP($A61,Feuillettravail!$A:$R,COLUMN(),FALSE),\"\")","v":""},{"$f":"IF(VLOOKUP($A61,Feuillettravail!$A:$R,COLUMN(),FALSE)<>\"\",VLOOKUP($A61,Feuillettravail!$A:$R,COLUMN(),FALSE),\"\")","v":""},{"$f":"IF(VLOOKUP($A61,Feuillettravail!$A:$R,COLUMN(),FALSE)<>\"\",VLOOKUP($A61,Feuillettravail!$A:$R,COLUMN(),FALSE),\"\")","v":""},{"$f":"IF(VLOOKUP($A61,Feuillettravail!$A:$R,COLUMN(),FALSE)<>\"\",VLOOKUP($A61,Feuillettravail!$A:$R,COLUMN(),FALSE),\"\")","v":""},{"$f":"IF(VLOOKUP($A61,Feuillettravail!$A:$R,COLUMN(),FALSE)<>\"\",VLOOKUP($A61,Feuillettravail!$A:$R,COLUMN(),FALSE),\"\")","v":""},{"$f":"IF(VLOOKUP($A61,Feuillettravail!$A:$R,COLUMN(),FALSE)<>\"\",VLOOKUP($A61,Feuillettravail!$A:$R,COLUMN(),FALSE),\"\")","v":""},{"$f":"IF(VLOOKUP($A61,Feuillettravail!$A:$R,COLUMN(),FALSE)<>\"\",VLOOKUP($A61,Feuillettravail!$A:$R,COLUMN(),FALSE),\"\")","v":""},{"$f":"IF(VLOOKUP($A61,Feuillettravail!$A:$R,COLUMN(),FALSE)<>\"\",VLOOKUP($A61,Feuillettravail!$A:$R,COLUMN(),FALSE),\"\")","v":""},{"$f":"IF(VLOOKUP($A61,Feuillettravail!$A:$R,COLUMN(),FALSE)<>\"\",VLOOKUP($A61,Feuillettravail!$A:$R,COLUMN(),FALSE)&VLOOKUP($A61,Feuillettravail!$A:$AD,29,FALSE),\"\")","v":""},{"$f":"IF(VLOOKUP($A61,Feuillettravail!$A:$R,COLUMN(),FALSE)<>\"\",VLOOKUP($A61,Feuillettravail!$A:$R,COLUMN(),FALSE),\"\")","v":""},{"$f":"IF(VLOOKUP($A61,Feuillettravail!$A:$R,COLUMN(),FALSE)<>\"\",VLOOKUP($A61,Feuillettravail!$A:$R,COLUMN(),FALSE),\"\")","v":""},{"$f":"IF(VLOOKUP($A61,Feuillettravail!$A:$R,COLUMN(),FALSE)<>\"\",VLOOKUP($A61,Feuillettravail!$A:$R,COLUMN(),FALSE),\"\")","v":""},{"$f":"IF(VLOOKUP($A61,Feuillettravail!$A:$Z,26,FALSE)<>\"\",IF(VLOOKUP($A61,Feuillettravail!$A:$R,COLUMN(),FALSE)<>\"\",VLOOKUP($A61,Feuillettravail!$A:$R,COLUMN(),FALSE),\"\"),\"\")","v":""},{"$f":"IF(VLOOKUP($A61,Feuillettravail!$A:$Z,26,FALSE)<>\"\",IF(VLOOKUP($A61,Feuillettravail!$A:$R,COLUMN(),FALSE)<>\"\",VLOOKUP($A61,Feuillettravail!$A:$R,COLUMN(),FALSE),\"\"),\"\")","v":""},{"$f":"IF(VLOOKUP($A61,Feuillettravail!$A:$Z,26,FALSE)<>\"\",IF(VLOOKUP($A61,Feuillettravail!$A:$R,COLUMN(),FALSE)<>\"\",VLOOKUP($A61,Feuillettravail!$A:$R,COLUMN(),FALSE),\"\"),\"\")","v":""}]
[59,null,null,{"$f":"IF(VLOOKUP($A62,Feuillettravail!$A:$R,COLUMN(),FALSE)<>\"\",VLOOKUP($A62,Feuillettravail!$A:$R,COLUMN(),FALSE),\"\")","v":""},{"$f":"IF(VLOOKUP($A62,Feuillettravail!$A:$R,COLUMN(),FALSE)<>\"\",VLOOKUP($A62,Feuillettravail!$A:$R,COLUMN(),FALSE),\"\")","v":""},{"$f":"IF(VLOOKUP($A62,Feuillettravail!$A:$R,COLUMN(),FALSE)<>\"\",VLOOKUP($A62,Feuillettravail!$A:$R,COLUMN(),FALSE),\"\")","v":""},{"$f":"IF(VLOOKUP($A62,Feuillettravail!$A:$R,COLUMN(),FALSE)<>\"\",VLOOKUP($A62,Feuillettravail!$A:$R,COLUMN(),FALSE),\"\")","v":""},{"$f":"IF(VLOOKUP($A62,Feuillettravail!$A:$R,COLUMN(),FALSE)<>\"\",VLOOKUP($A62,Feuillettravail!$A:$R,COLUMN(),FALSE),\"\")","v":""},{"$f":"IF(VLOOKUP($A62,Feuillettravail!$A:$R,COLUMN(),FALSE)<>\"\",VLOOKUP($A62,Feuillettravail!$A:$R,COLUMN(),FALSE),\"\")","v":""},{"$f":"IF(VLOOKUP($A62,Feuillettravail!$A:$R,COLUMN(),FALSE)<>\"\",VLOOKUP($A62,Feuillettravail!$A:$R,COLUMN(),FALSE),\"\")","v":""},{"$f":"IF(VLOOKUP($A62,Feuillettravail!$A:$R,COLUMN(),FALSE)<>\"\",VLOOKUP($A62,Feuillettravail!$A:$R,COLUMN(),FALSE),\"\")","v":""},{"$f":"IF(VLOOKUP($A62,Feuillettravail!$A:$R,COLUMN(),FALSE)<>\"\",VLOOKUP($A62,Feuillettravail!$A:$R,COLUMN(),FALSE)&VLOOKUP($A62,Feuillettravail!$A:$AD,29,FALSE),\"\")","v":""},{"$f":"IF(VLOOKUP($A62,Feuillettravail!$A:$R,COLUMN(),FALSE)<>\"\",VLOOKUP($A62,Feuillettravail!$A:$R,COLUMN(),FALSE),\"\")","v":""},{"$f":"IF(VLOOKUP($A62,Feuillettravail!$A:$R,COLUMN(),FALSE)<>\"\",VLOOKUP($A62,Feuillettravail!$A:$R,COLUMN(),FALSE),\"\")","v":""},{"$f":"IF(VLOOKUP($A62,Feuillettravail!$A:$R,COLUMN(),FALSE)<>\"\",VLOOKUP($A62,Feuillettravail!$A:$R,COLUMN(),FALSE),\"\")","v":""},{"$f":"IF(VLOOKUP($A62,Feuillettravail!$A:$Z,26,FALSE)<>\"\",IF(VLOOKUP($A62,Feuillettravail!$A:$R,COLUMN(),FALSE)<>\"\",VLOOKUP($A62,Feuillettravail!$A:$R,COLUMN(),FALSE),\"\"),\"\")","v":""},{"$f":"IF(VLOOKUP($A62,Feuillettravail!$A:$Z,26,FALSE)<>\"\",IF(VLOOKUP($A62,Feuillettravail!$A:$R,COLUMN(),FALSE)<>\"\",VLOOKUP($A62,Feuillettravail!$A:$R,COLUMN(),FALSE),\"\"),\"\")","v":""},{"$f":"IF(VLOOKUP($A62,Feuillettravail!$A:$Z,26,FALSE)<>\"\",IF(VLOOKUP($A62,Feuillettravail!$A:$R,COLUMN(),FALSE)<>\"\",VLOOKUP($A62,Feuillettravail!$A:$R,COLUMN(),FALSE),\"\"),\"\")","v":""}]
[60,null,null,{"$f":"IF(VLOOKUP($A63,Feuillettravail!$A:$R,COLUMN(),FALSE)<>\"\",VLOOKUP($A63,Feuillettravail!$A:$R,COLUMN(),FALSE),\"\")","v":""},{"$f":"IF(VLOOKUP($A63,Feuillettravail!$A:$R,COLUMN(),FALSE)<>\"\",VLOOKUP($A63,Feuillettravail!$A:$R,COLUMN(),FALSE),\"\")","v":""},{"$f":"IF(VLOOKUP($A63,Feuillettravail!$A:$R,COLUMN(),FALSE)<>\"\",VLOOKUP($A63,Feuillettravail!$A:$R,COLUMN(),FALSE),\"\")","v":""},{"$f":"IF(VLOOKUP($A63,Feuillettravail!$A:$R,COLUMN(),FALSE)<>\"\",VLOOKUP($A63,Feuillettravail!$A:$R,COLUMN(),FALSE),\"\")","v":""},{"$f":"IF(VLOOKUP($A63,Feuillettravail!$A:$R,COLUMN(),FALSE)<>\"\",VLOOKUP($A63,Feuillettravail!$A:$R,COLUMN(),FALSE),\"\")","v":""},{"$f":"IF(VLOOKUP($A63,Feuillettravail!$A:$R,COLUMN(),FALSE)<>\"\",VLOOKUP($A63,Feuillettravail!$A:$R,COLUMN(),FALSE),\"\")","v":""},{"$f":"IF(VLOOKUP($A63,Feuillettravail!$A:$R,COLUMN(),FALSE)<>\"\",VLOOKUP($A63,Feuillettravail!$A:$R,COLUMN(),FALSE),\"\")","v":""},{"$f":"IF(VLOOKUP($A63,Feuillettravail!$A:$R,COLUMN(),FALSE)<>\"\",VLOOKUP($A63,Feuillettravail!$A:$R,COLUMN(),FALSE),\"\")","v":""},{"$f":"IF(VLOOKUP($A63,Feuillettravail!$A:$R,COLUMN(),FALSE)<>\"\",VLOOKUP($A63,Feuillettravail!$A:$R,COLUMN(),FALSE)&VLOOKUP($A63,Feuillettravail!$A:$AD,29,FALSE),\"\")","v":""},{"$f":"IF(VLOOKUP($A63,Feuillettravail!$A:$R,COLUMN(),FALSE)<>\"\",VLOOKUP($A63,Feuillettravail!$A:$R,COLUMN(),FALSE),\"\")","v":""},{"$f":"IF(VLOOKUP($A63,Feuillettravail!$A:$R,COLUMN(),FALSE)<>\"\",VLOOKUP($A63,Feuillettravail!$A:$R,COLUMN(),FALSE),\"\")","v":""},{"$f":"IF(VLOOKUP($A63,Feuillettravail!$A:$R,COLUMN(),FALSE)<>\"\",VLOOKUP($A63,Feuillettravail!$A:$R,COLUMN(),FALSE),\"\")","v":""},{"$f":"IF(VLOOKUP($A63,Feuillettravail!$A:$Z,26,FALSE)<>\"\",IF(VLOOKUP($A63,Feuillettravail!$A:$R,COLUMN(),FALSE)<>\"\",VLOOKUP($A63,Feuillettravail!$A:$R,COLUMN(),FALSE),\"\"),\"\")","v":""},{"$f":"IF(VLOOKUP($A63,Feuillettravail!$A:$Z,26,FALSE)<>\"\",IF(VLOOKUP($A63,Feuillettravail!$A:$R,COLUMN(),FALSE)<>\"\",VLOOKUP($A63,Feuillettravail!$A:$R,COLUMN(),FALSE),\"\"),\"\")","v":""},{"$f":"IF(VLOOKUP($A63,Feuillettravail!$A:$Z,26,FALSE)<>\"\",IF(VLOOKUP($A63,Feuillettravail!$A:$R,COLUMN(),FALSE)<>\"\",VLOOKUP($A63,Feuillettravail!$A:$R,COLUMN(),FALSE),\"\"),\"\")","v":""}]
[61,null,null,{"$f":"IF(VLOOKUP($A64,Feuillettravail!$A:$R,COLUMN(),FALSE)<>\"\",VLOOKUP($A64,Feuillettravail!$A:$R,COLUMN(),FALSE),\"\")","v":""},{"$f":"IF(VLOOKUP($A64,Feuillettravail!$A:$R,COLUMN(),FALSE)<>\"\",VLOOKUP($A64,Feuillettravail!$A:$R,COLUMN(),FALSE),\"\")","v":""},{"$f":"IF(VLOOKUP($A64,Feuillettravail!$A:$R,COLUMN(),FALSE)<>\"\",VLOOKUP($A64,Feuillettravail!$A:$R,COLUMN(),FALSE),\"\")","v":""},{"$f":"IF(VLOOKUP($A64,Feuillettravail!$A:$R,COLUMN(),FALSE)<>\"\",VLOOKUP($A64,Feuillettravail!$A:$R,COLUMN(),FALSE),\"\")","v":""},{"$f":"IF(VLOOKUP($A64,Feuillettravail!$A:$R,COLUMN(),FALSE)<>\"\",VLOOKUP($A64,Feuillettravail!$A:$R,COLUMN(),FALSE),\"\")","v":""},{"$f":"IF(VLOOKUP($A64,Feuillettravail!$A:$R,COLUMN(),FALSE)<>\"\",VLOOKUP($A64,Feuillettravail!$A:$R,COLUMN(),FALSE),\"\")","v":""},{"$f":"IF(VLOOKUP($A64,Feuillettravail!$A:$R,COLUMN(),FALSE)<>\"\",VLOOKUP($A64,Feuillettravail!$A:$R,COLUMN(),FALSE),\"\")","v":""},{"$f":"IF(VLOOKUP($A64,Feuillettravail!$A:$R,COLUMN(),FALSE)<>\"\",VLOOKUP($A64,Feuillettravail!$A:$R,COLUMN(),FALSE),\"\")","v":""},{"$f":"IF(VLOOKUP($A64,Feuillettravail!$A:$R,COLUMN(),FALSE)<>\"\",VLOOKUP($A64,Feuillettravail!$A:$R,COLUMN(),FALSE)&VLOOKUP($A64,Feuillettravail!$A:$AD,29,FALSE),\"\")","v":""},{"$f":"IF(VLOOKUP($A64,Feuillettravail!$A:$R,COLUMN(),FALSE)<>\"\",VLOOKUP($A64,Feuillettravail!$A:$R,COLUMN(),FALSE),\"\")","v":""},{"$f":"IF(VLOOKUP($A64,Feuillettravail!$A:$R,COLUMN(),FALSE)<>\"\",VLOOKUP($A64,Feuillettravail!$A:$R,COLUMN(),FALSE),\"\")","v":""},{"$f":"IF(VLOOKUP($A64,Feuillettravail!$A:$R,COLUMN(),FALSE)<>\"\",VLOOKUP($A64,Feuillettravail!$A:$R,COLUMN(),FALSE),\"\")","v":""},{"$f":"IF(VLOOKUP($A64,Feuillettravail!$A:$Z,26,FALSE)<>\"\",IF(VLOOKUP($A64,Feuillettravail!$A:$R,COLUMN(),FALSE)<>\"\",VLOOKUP($A64,Feuillettravail!$A:$R,COLUMN(),FALSE),\"\"),\"\")","v":""},{"$f":"IF(VLOOKUP($A64,Feuillettravail!$A:$Z,26,FALSE)<>\"\",IF(VLOOKUP($A64,Feuillettravail!$A:$R,COLUMN(),FALSE)<>\"\",VLOOKUP($A64,Feuillettravail!$A:$R,COLUMN(),FALSE),\"\"),\"\")","v":""},{"$f":"IF(VLOOKUP($A64,Feuillettravail!$A:$Z,26,FALSE)<>\"\",IF(VLOOKUP($A64,Feuillettravail!$A:$R,COLUMN(),FALSE)<>\"\",VLOOKUP($A64,Feuillettravail!$A:$R,COLUMN(),FALSE),\"\"),\"\")","v":""}]
[62,null,null,{"$f":"IF(VLOOKUP($A65,Feuillettravail!$A:$R,COLUMN(),FALSE)<>\"\",VLOOKUP($A65,Feuillettravail!$A:$R,COLUMN(),FALSE),\"\")","v":""},{"$f":"IF(VLOOKUP($A65,Feuillettravail!$A:$R,COLUMN(),FALSE)<>\"\",VLOOKUP($A65,Feuillettravail!$A:$R,COLUMN(),FALSE),\"\")","v":""},{"$f":"IF(VLOOKUP($A65,Feuillettravail!$A:$R,COLUMN(),FALSE)<>\"\",VLOOKUP($A65,Feuillettravail!$A:$R,COLUMN(),FALSE),\"\")","v":""},{"$f":"IF(VLOOKUP($A65,Feuillettravail!$A:$R,COLUMN(),FALSE)<>\"\",VLOOKUP($A65,Feuillettravail!$A:$R,COLUMN(),FALSE),\"\")","v":""},{"$f":"IF(VLOOKUP($A65,Feuillettravail!$A:$R,COLUMN(),FALSE)<>\"\",VLOOKUP($A65,Feuillettravail!$A:$R,COLUMN(),FALSE),\"\")","v":""},{"$f":"IF(VLOOKUP($A65,Feuillettravail!$A:$R,COLUMN(),FALSE)<>\"\",VLOOKUP($A65,Feuillettravail!$A:$R,COLUMN(),FALSE),\"\")","v":""},{"$f":"IF(VLOOKUP($A65,Feuillettravail!$A:$R,COLUMN(),FALSE)<>\"\",VLOOKUP($A65,Feuillettravail!$A:$R,COLUMN(),FALSE),\"\")","v":""},{"$f":"IF(VLOOKUP($A65,Feuillettravail!$A:$R,COLUMN(),FALSE)<>\"\",VLOOKUP($A65,Feuillettravail!$A:$R,COLUMN(),FALSE),\"\")","v":""},{"$f":"IF(VLOOKUP($A65,Feuillettravail!$A:$R,COLUMN(),FALSE)<>\"\",VLOOKUP($A65,Feuillettravail!$A:$R,COLUMN(),FALSE)&VLOOKUP($A65,Feuillettravail!$A:$AD,29,FALSE),\"\")","v":""},{"$f":"IF(VLOOKUP($A65,Feuillettravail!$A:$R,COLUMN(),FALSE)<>\"\",VLOOKUP($A65,Feuillettravail!$A:$R,COLUMN(),FALSE),\"\")","v":""},{"$f":"IF(VLOOKUP($A65,Feuillettravail!$A:$R,COLUMN(),FALSE)<>\"\",VLOOKUP($A65,Feuillettravail!$A:$R,COLUMN(),FALSE),\"\")","v":""},{"$f":"IF(VLOOKUP($A65,Feuillettravail!$A:$R,COLUMN(),FALSE)<>\"\",VLOOKUP($A65,Feuillettravail!$A:$R,COLUMN(),FALSE),\"\")","v":""},{"$f":"IF(VLOOKUP($A65,Feuillettravail!$A:$Z,26,FALSE)<>\"\",IF(VLOOKUP($A65,Feuillettravail!$A:$R,COLUMN(),FALSE)<>\"\",VLOOKUP($A65,Feuillettravail!$A:$R,COLUMN(),FALSE),\"\"),\"\")","v":""},{"$f":"IF(VLOOKUP($A65,Feuillettravail!$A:$Z,26,FALSE)<>\"\",IF(VLOOKUP($A65,Feuillettravail!$A:$R,COLUMN(),FALSE)<>\"\",VLOOKUP($A65,Feuillettravail!$A:$R,COLUMN(),FALSE),\"\"),\"\")","v":""},{"$f":"IF(VLOOKUP($A65,Feuillettravail!$A:$Z,26,FALSE)<>\"\",IF(VLOOKUP($A65,Feuillettravail!$A:$R,COLUMN(),FALSE)<>\"\",VLOOKUP($A65,Feuillettravail!$A:$R,COLUMN(),FALSE),\"\"),\"\")","v":""}]
[63,null,null,{"$f":"IF(VLOOKUP($A66,Feuillettravail!$A:$R,COLUMN(),FALSE)<>\"\",VLOOKUP($A66,Feuillettravail!$A:$R,COLUMN(),FALSE),\"\")","v":""},{"$f":"IF(VLOOKUP($A66,Feuillettravail!$A:$R,COLUMN(),FALSE)<>\"\",VLOOKUP($A66,Feuillettravail!$A:$R,COLUMN(),FALSE),\"\")","v":""},{"$f":"IF(VLOOKUP($A66,Feuillettravail!$A:$R,COLUMN(),FALSE)<>\"\",VLOOKUP($A66,Feuillettravail!$A:$R,COLUMN(),FALSE),\"\")","v":""},{"$f":"IF(VLOOKUP($A66,Feuillettravail!$A:$R,COLUMN(),FALSE)<>\"\",VLOOKUP($A66,Feuillettravail!$A:$R,COLUMN(),FALSE),\"\")","v":""},{"$f":"IF(VLOOKUP($A66,Feuillettravail!$A:$R,COLUMN(),FALSE)<>\"\",VLOOKUP($A66,Feuillettravail!$A:$R,COLUMN(),FALSE),\"\")","v":""},{"$f":"IF(VLOOKUP($A66,Feuillettravail!$A:$R,COLUMN(),FALSE)<>\"\",VLOOKUP($A66,Feuillettravail!$A:$R,COLUMN(),FALSE),\"\")","v":""},{"$f":"IF(VLOOKUP($A66,Feuillettravail!$A:$R,COLUMN(),FALSE)<>\"\",VLOOKUP($A66,Feuillettravail!$A:$R,COLUMN(),FALSE),\"\")","v":""},{"$f":"IF(VLOOKUP($A66,Feuillettravail!$A:$R,COLUMN(),FALSE)<>\"\",VLOOKUP($A66,Feuillettravail!$A:$R,COLUMN(),FALSE),\"\")","v":""},{"$f":"IF(VLOOKUP($A66,Feuillettravail!$A:$R,COLUMN(),FALSE)<>\"\",VLOOKUP($A66,Feuillettravail!$A:$R,COLUMN(),FALSE)&VLOOKUP($A66,Feuillettravail!$A:$AD,29,FALSE),\"\")","v":""},{"$f":"IF(VLOOKUP($A66,Feuillettravail!$A:$R,COLUMN(),FALSE)<>\"\",VLOOKUP($A66,Feuillettravail!$A:$R,COLUMN(),FALSE),\"\")","v":""},{"$f":"IF(VLOOKUP($A66,Feuillettravail!$A:$R,COLUMN(),FALSE)<>\"\",VLOOKUP($A66,Feuillettravail!$A:$R,COLUMN(),FALSE),\"\")","v":""},{"$f":"IF(VLOOKUP($A66,Feuillettravail!$A:$R,COLUMN(),FALSE)<>\"\",VLOOKUP($A66,Feuillettravail!$A:$R,COLUMN(),FALSE),\"\")","v":""},{"$f":"IF(VLOOKUP($A66,Feuillettravail!$A:$Z,26,FALSE)<>\"\",IF(VLOOKUP($A66,Feuillettravail!$A:$R,COLUMN(),FALSE)<>\"\",VLOOKUP($A66,Feuillettravail!$A:$R,COLUMN(),FALSE),\"\"),\"\")","v":""},{"$f":"IF(VLOOKUP($A66,Feuillettravail!$A:$Z,26,FALSE)<>\"\",IF(VLOOKUP($A66,Feuillettravail!$A:$R,COLUMN(),FALSE)<>\"\",VLOOKUP($A66,Feuillettravail!$A:$R,COLUMN(),FALSE),\"\"),\"\")","v":""},{"$f":"IF(VLOOKUP($A66,Feuillettravail!$A:$Z,26,FALSE)<>\"\",IF(VLOOKUP($A66,Feuillettravail!$A:$R,COLUMN(),FALSE)<>\"\",VLOOKUP($A66,Feuillettravail!$A:$R,COLUMN(),FALSE),\"\"),\"\")","v":""}]
[64,null,null,{"$f":"IF(VLOOKUP($A67,Feuillettravail!$A:$R,COLUMN(),FALSE)<>\"\",VLOOKUP($A67,Feuillettravail!$A:$R,COLUMN(),FALSE),\"\")","v":""},{"$f":"IF(VLOOKUP($A67,Feuillettravail!$A:$R,COLUMN(),FALSE)<>\"\",VLOOKUP($A67,Feuillettravail!$A:$R,COLUMN(),FALSE),\"\")","v":""},{"$f":"IF(VLOOKUP($A67,Feuillettravail!$A:$R,COLUMN(),FALSE)<>\"\",VLOOKUP($A67,Feuillettravail!$A:$R,COLUMN(),FALSE),\"\")","v":""},{"$f":"IF(VLOOKUP($A67,Feuillettravail!$A:$R,COLUMN(),FALSE)<>\"\",VLOOKUP($A67,Feuillettravail!$A:$R,COLUMN(),FALSE),\"\")","v":""},{"$f":"IF(VLOOKUP($A67,Feuillettravail!$A:$R,COLUMN(),FALSE)<>\"\",VLOOKUP($A67,Feuillettravail!$A:$R,COLUMN(),FALSE),\"\")","v":""},{"$f":"IF(VLOOKUP($A67,Feuillettravail!$A:$R,COLUMN(),FALSE)<>\"\",VLOOKUP($A67,Feuillettravail!$A:$R,COLUMN(),FALSE),\"\")","v":""},{"$f":"IF(VLOOKUP($A67,Feuillettravail!$A:$R,COLUMN(),FALSE)<>\"\",VLOOKUP($A67,Feuillettravail!$A:$R,COLUMN(),FALSE),\"\")","v":""},{"$f":"IF(VLOOKUP($A67,Feuillettravail!$A:$R,COLUMN(),FALSE)<>\"\",VLOOKUP($A67,Feuillettravail!$A:$R,COLUMN(),FALSE),\"\")","v":""},{"$f":"IF(VLOOKUP($A67,Feuillettravail!$A:$R,COLUMN(),FALSE)<>\"\",VLOOKUP($A67,Feuillettravail!$A:$R,COLUMN(),FALSE)&VLOOKUP($A67,Feuillettravail!$A:$AD,29,FALSE),\"\")","v":""},{"$f":"IF(VLOOKUP($A67,Feuillettravail!$A:$R,COLUMN(),FALSE)<>\"\",VLOOKUP($A67,Feuillettravail!$A:$R,COLUMN(),FALSE),\"\")","v":""},{"$f":"IF(VLOOKUP($A67,Feuillettravail!$A:$R,COLUMN(),FALSE)<>\"\",VLOOKUP($A67,Feuillettravail!$A:$R,COLUMN(),FALSE),\"\")","v":""},{"$f":"IF(VLOOKUP($A67,Feuillettravail!$A:$R,COLUMN(),FALSE)<>\"\",VLOOKUP($A67,Feuillettravail!$A:$R,COLUMN(),FALSE),\"\")","v":""},{"$f":"IF(VLOOKUP($A67,Feuillettravail!$A:$Z,26,FALSE)<>\"\",IF(VLOOKUP($A67,Feuillettravail!$A:$R,COLUMN(),FALSE)<>\"\",VLOOKUP($A67,Feuillettravail!$A:$R,COLUMN(),FALSE),\"\"),\"\")","v":""},{"$f":"IF(VLOOKUP($A67,Feuillettravail!$A:$Z,26,FALSE)<>\"\",IF(VLOOKUP($A67,Feuillettravail!$A:$R,COLUMN(),FALSE)<>\"\",VLOOKUP($A67,Feuillettravail!$A:$R,COLUMN(),FALSE),\"\"),\"\")","v":""},{"$f":"IF(VLOOKUP($A67,Feuillettravail!$A:$Z,26,FALSE)<>\"\",IF(VLOOKUP($A67,Feuillettravail!$A:$R,COLUMN(),FALSE)<>\"\",VLOOKUP($A67,Feuillettravail!$A:$R,COLUMN(),FALSE),\"\"),\"\")","v":""}]
[null,null,null,null,null,null,null,null,null,null,null,null,null,null,"Total",null,null,null,{"$f":"SUM(S4:S67)","v":0},{"$f":"SUM(T4:T67)","v":0}]

{"sheet":"1ère partie","index":1,"n_rows":34,"n_cols":13,"rows_kept":34,"cut":false,"hidden":false,"merged":[]}
[null,null,"Tirage 1ère partie\nEquipe 1                                                    Equipe 2"]
["Jeu","N°","Nom","Société","Points faits (*)","N°","Nom","Société","Points faits (*)",null,null,null,"(*) ne pas renseigner de score pour les parties d'office"]
[1,null,null,null,null,null,null,null,null,{"$f":"E3","v":0},{"$f":"A3","v":1},{"$f":"B3","v":0}]
[2,null,null,null,null,null,null,null,null,{"$f":"E4","v":0},{"$f":"A4","v":2},{"$f":"B4","v":0}]
[3,null,null,null,null,null,null,null,null,0,3,0]
[4,null,null,null,null,null,null,null,null,0,4,0]
[5,null,null,null,null,null,null,null,null,0,5,0]
[6,null,null,null,null,null,null,null,null,0,6,0]
[7,null,null,null,null,null,null,null,null,0,7,0]
[8,null,null,null,null,null,null,null,null,0,8,0]
[9,null,null,null,null,null,null,null,null,0,9,0]
[10,null,null,null,null,null,null,null,null,0,10,0]
[11,null,null,null,null,null,null,null,null,0,11,0]
[12,null,null,null,null,null,null,null,null,0,12,0]
[13,null,null,null,null,null,null,null,null,0,13,0]
[14,null,null,null,null,null,null,null,null,0,14,0]
[15,null,null,null,null,null,null,null,null,0,15,0]
[16,null,null,null,null,null,null,null,null,0,16,0]
[17,null,null,null,null,null,null,null,null,0,17,0]
[18,null,null,null,null,null,null,null,null,0,18,0]
[19,null,null,null,null,null,null,null,null,0,19,0]
[20,null,null,null,null,null,null,null,null,0,20,0]
[21,null,null,null,null,null,null,null,null,0,21,0]
[23,null,null,null,null,null,null,null,null,0,23,0]
[23,null,null,null,null,null,null,null,null,0,23,0]
[24,null,null,null,null,null,null,null,null,0,24,0]
[25,null,null,null,null,null,null,null,null,0,25,0]
[26,null,null,null,null,null,null,null,null,0,26,0]
[27,null,null,null,null,null,null,null,null,0,27,0]
[28,null,null,null,null,null,null,null,null,0,28,0]
[29,null,null,null,null,null,null,null,null,0,29,0]
[30,null,null,null,null,null,null,null,null,0,30,0]
[31,null,null,null,null,null,null,null,null,0,31,0]
[32,null,null,null,null,null,null,null,null,0,32,0]

{"sheet":"2ème partie","index":2,"n_rows":34,"n_cols":13,"rows_kept":34,"cut":false,"hidden":false,"merged":[]}
[null,null,"Tirage 2ème Partie\nEquipe 1                                                       Equipe 2"]
["Jeu","N°","Nom","Société","Points faits (*)","N°","Nom","Société","Points faits (*)",null,null,null,"(*) ne pas renseigner de score pour les parties d'office"]
[1,null,null,null,null,null,null,null,null,{"$f":"E3","v":0},{"$f":"A3","v":1},0]
[2,null,null,null,null,null,null,null,null,0,2,0]
[3,null,null,null,null,null,null,null,null,0,3,0]
[4,null,null,null,null,null,null,null,null,0,4,0]
[5,null,null,null,null,null,null,null,null,0,5,0]
[6,null,null,null,null,null,null,null,null,0,6,0]
[7,null,null,null,null,null,null,null,null,0,7,0]
[8,null,null,null,null,null,null,null,null,0,8,0]
[9,null,null,null,null,null,null,null,null,{"$f":"E11","v":0},{"$f":"A11","v":9},{"$f":"B11","v":0}]
[10,null,null,null,null,null,null,null,null,0,10,0]
[11,null,null,null,null,null,null,null,null,0,11,0]
[12,null,null,null,null,null,null,null,null,0,12,0]
[13,null,null,null,null,null,null,null,null,0,13,0]
[14,null,null,null,null,null,null,null,null,0,14,0]
[15,null,null,null,null,null,null,null,null,0,15,0]
[16,null,null,null,null,null,null,null,null,0,16,0]
[17,null,null,null,null,null,null,null,null,0,17,0]
[18,null,null,null,null,null,null,null,null,0,18,0]
[19,null,null,null,null,null,null,null,null,0,19,0]
[20,null,null,null,null,null,null,null,null,0,20,0]
[21,null,null,null,null,null,null,null,null,0,21,0]
[22,null,null,null,null,null,null,null,null,0,22,0]
[23,null,null,null,null,null,null,null,null,0,23,0]
[24,null,null,null,null,null,null,null,null,0,24,0]
[25,null,null,null,null,null,null,null,null,0,25,0]
[26,null,null,null,null,null,null,null,null,0,26,0]
[27,null,null,null,null,null,null,null,null,0,27,0]
[28,null,null,null,null,null,null,null,null,0,28,0]
[29,null,null,null,null,null,null,null,null,0,29,0]
[30,null,null,null,null,null,null,null,null,0,30,0]
[31,null,null,null,null,null,null,null,null,0,31,0]
[32,null,null,null,null,null,null,null,null,0,32,0]

{"sheet":"3ème partie","index":3,"n_rows":34,"n_cols":13,"rows_kept":34,"cut":false,"hidden":false,"merged":[]}
[null,null,"Tirage 3ème Partie\nEquipe 1                                                              Equipe 2"]
["Jeu","N°","Nom","Société","Points faits (*)","N°","Nom","Société","Points faits (*)",null,null,null,"(*) ne pas renseigner de score pour les parties d'office"]
[1,null,null,null,null,null,null,null,null,{"$f":"E3","v":0},{"$f":"A3","v":1},0]
[2,null,null,null,null,null,null,null,null,0,2,0]
[3,null,null,null,null,null,null,null,null,0,3,0]
[4,null,null,null,null,null,null,null,null,0,4,0]
[5,null,null,null,null,null,null,null,null,0,5,0]
[6,null,null,null,null,null,null,null,null,0,6,0]
[7,null,null,null,null,null,null,null,null,0,7,0]
[8,null,null,null,null,null,null,null,null,0,8,0]
[9,null,null,null,null,null,null,null,null,{"$f":"E11","v":0},{"$f":"A11","v":9},{"$f":"B11","v":0}]
[10,null,null,null,null,null,null,null,null,0,10,0]
[11,null,null,null,null,null,null,null,null,0,11,0]
[12,null,null,null,null,null,null,null,null,0,12,0]
[13,null,null,null,null,null,null,null,null,0,13,0]
[14,null,null,null,null,null,null,null,null,0,14,0]
[15,null,null,null,null,null,null,null,null,0,15,0]
[16,null,null,null,null,null,null,null,null,0,16,0]
[17,null,null,null,null,null,null,null,null,0,17,0]
[18,null,null,null,null,null,null,null,null,0,18,0]
[19,null,null,null,null,null,null,null,null,0,19,0]
[20,null,null,null,null,null,null,null,null,0,20,0]
[21,null,null,null,null,null,null,null,null,0,21,0]
[22,null,null,null,null,null,null,null,null,0,22,0]
[23,null,null,null,null,null,null,null,null,{"$f":"E25","v":0},{"$f":"A25","v":23},{"$f":"B25","v":0}]
[24,null,null,null,null,null,null,null,null,0,24,0]
[25,null,null,null,null,null,null,null,null,0,25,0]
[26,null,null,null,null,null,null,null,null,0,26,0]
[27,null,null,null,null,null,null,null,null,0,27,0]
[28,null,null,null,null,null,null,null,null,0,28,0]
[29,null,null,null,null,null,null,null,null,0,29,0]
[30,null,null,null,null,null,null,null,null,0,30,0]
[31,null,null,null,null,null,null,null,null,0,31,0]
[32,null,null,null,null,null,null,null,null,0,32,0]

{"sheet":"Liste sociétés","index":4,"n_rows":188,"n_cols":6,"rows_kept":188,"cut":false,"hidden":false,"merged":[]}
[null,"Nom exact de la société à la FFSB","Commune du siège selon la FFSB","N° de société FFSB",{"$f":"MAX(E2:E169)","v":0}]
["Abergement Clemenciat (02)","A.B-ABERGEMENT CLEMENCIAT","Abergement Clemenciat (02)","RHA010201",{"$f":"COUNTIF(Equipes!C$4:C$67,A2)","v":0},{"$f":"LEN(A2)","v":26}]
["Amberieu B. De Tiret  (08)","B. DE TIRET AMBERIEU","Amberieu B. De Tiret  (08)","RHA010803",{"$f":"COUNTIF(Equipes!C$4:C$67,A3)","v":0},{"$f":"LEN(A3)","v":26}]
["Amberieu En Bugey Asc (08)","A.S.C AMBERIEU","Amberieu En Bugey Asc (08)","RHA010804",{"$f":"COUNTIF(Equipes!C$4:C$67,A4)","v":0},26]
["Amberieu En Bugey P.T.T  (08)","A.S.P.T.T AMBERIEU EN BUGEY","Amberieu En Bugey P.T.T  (08)","RHA010801",{"$f":"COUNTIF(Equipes!C$4:C$67,A5)","v":0},29]
["Amberieux En Dombes (02)","A.B.AMBERIEUX EN DOMBES","Amberieux En Dombes (02)","RHA010202",{"$f":"COUNTIF(Equipes!C$4:C$67,A6)","v":0},24]
["Ambronay (03)","A.B.AMBRONAY","Ambronay (03)","RHA010301",{"$f":"COUNTIF(Equipes!C$4:C$67,A7)","v":0},13]
["Argis (10)","A.B. D'ARGIS","Argis (10)","RHA011001",{"$f":"COUNTIF(Equipes!C$4:C$67,A8)","v":0},10]
["Arlod Bellegarde (11)","A.B. ARLOD BELLEGARDE","Arlod Bellegarde (11)","RHA011101",{"$f":"COUNTIF(Equipes!C$4:C$67,A9)","v":0},21]
["Ars S/Formans (06)","A.B.ARS S/FORMANS","Ars S/Formans (06)","RHA010601",{"$f":"COUNTIF(Equipes!C$4:C$67,A10)","v":0},18]
["Artemare (09)","A.B. ARTEMARE","Artemare (09)","RHA010901",{"$f":"COUNTIF(Equipes!C$4:C$67,A11)","v":0},13]
["Baneins (02)","A.B.DE BANEINS","Baneins (02)","RHA010203",{"$f":"COUNTIF(Equipes!C$4:C$67,A12)","v":0},12]
["Beauregard (06)","A.B.BEAUREGARD","Beauregard (06)","RHA010602",{"$f":"COUNTIF(Equipes!C$4:C$67,A13)","v":0},15]
["Beligneux-La Valbonne (01)","A.B. BELIGNEUX-LA VALBONNE","Beligneux-La Valbonne (01)","RHA010101",{"$f":"COUNTIF(Equipes!C$4:C$67,A14)","v":0},26]
["Bellegarde (11)","C.B. DE BELLEGARDE","Bellegarde (11)","RHA011102",{"$f":"COUNTIF(Equipes!C$4:C$67,A15)","v":0},15]
["Bellegarde B. Des Cites  (11)","B. DES CITES BELLEGARDE","Bellegarde B. Des Cites  (11)","RHA011103",{"$f":"COUNTIF(Equipes!C$4:C$67,A16)","v":0},29]
["Belley (09)","B. BELLEYSANNE","Belley (09)","RHA010902",{"$f":"COUNTIF(Equipes!C$4:C$67,A17)","v":0},11]
["Bellignat (05)","B.S. DE BELLIGNAT","Bellignat (05)","RHA010501",{"$f":"COUNTIF(Equipes!C$4:C$67,A18)","v":0},14]
["Bettant (08)","A.B.BETTANT","Bettant (08)","RHA010820",{"$f":"COUNTIF(Equipes!C$4:C$67,A19)","v":0},12]
["Beynost (01)","A.B.BEYNOST","Beynost (01)","RHA010102",{"$f":"COUNTIF(Equipes!C$4:C$67,A20)","v":0},12]
["Bourg 4 Vents  (04)","A.B 4 VENTS BOURG","Bourg 4 Vents  (04)","RHA010423",{"$f":"COUNTIF(Equipes!C$4:C$67,A21)","v":0},19]
["Bourg Esb Bressane (04)","ESB BRESSANE","Bourg Esb Bressane (04)","RHA010454",{"$f":"COUNTIF(Equipes!C$4:C$67,A22)","v":0},23]
["Bourg Faubourg (04)","A.B. DU FAUBOURG","Bourg Faubourg (04)","RHA010424",{"$f":"COUNTIF(Equipes!C$4:C$67,A23)","v":0},19]
["Bourg J.L. (04)","J.L.BOURG","Bourg J.L. (04)","RHA010425",{"$f":"COUNTIF(Equipes!C$4:C$67,A24)","v":0},15]
["Bourg Rccb (04)","RCCB BOURG","Bourg Rccb (04)","RHA010420",{"$f":"COUNTIF(Equipes!C$4:C$67,A25)","v":0},15]
["Brion (05)","A.B.BRION","Brion (05)","RHA010502",{"$f":"COUNTIF(Equipes!C$4:C$67,A26)","v":0},10]
["Cerdon (03)","A.B. CERDON","Cerdon (03)","RHA010302",{"$f":"COUNTIF(Equipes!C$4:C$67,A27)","v":0},11]
["Certines (04)","A.B CERTINES","Certines (04)","RHA010402",{"$f":"COUNTIF(Equipes!C$4:C$67,A28)","v":0},13]
["Ceyzeriat (04)","C.S CEYZERIAT","Ceyzeriat (04)","RHA010403",{"$f":"COUNTIF(Equipes!C$4:C$67,A29)","v":0},14]
["Ceyzerieu (09)","A.B. CEYZERIEU","Ceyzerieu (09)","RHA010904",{"$f":"COUNTIF(Equipes!C$4:C$67,A30)","v":0},14]
["Chalamont (07)","A B CHALAMONT","Chalamont (07)","RHA010702",{"$f":"COUNTIF(Equipes!C$4:C$67,A31)","v":0},14]
["Chaley (10)","A.B. CHALEY","Chaley (10)","RHA011003",{"$f":"COUNTIF(Equipes!C$4:C$67,A32)","v":0},11]
["Challes La Montagne (03)","A.B. CHALLES LA MONTAGNE","Challes La Montagne (03)","RHA010314",{"$f":"COUNTIF(Equipes!C$4:C$67,A33)","v":0},24]
["Champagne En Valromey (09)","A.B. CHAMPAGNE EN VALROMEY","Champagne En Valromey (09)","RHA010905",{"$f":"COUNTIF(Equipes!C$4:C$67,A34)","v":0},26]
["Champdor (10)","A.B. CHAMPDOR","Champdor (10)","RHA011004",{"$f":"COUNTIF(Equipes!C$4:C$67,A35)","v":0},13]
["Chaneins (02)","A.B.CHANEINS","Chaneins (02)","RHA010204",{"$f":"COUNTIF(Equipes!C$4:C$67,A36)","v":0},13]
["Chateau Gaillard (08)","B. DE CHATEAU GAILLARD","Chateau Gaillard (08)","RHA010807",{"$f":"COUNTIF(Equipes!C$4:C$67,A37)","v":0},21]
["Chatenay (07)","A B CHATENAY","Chatenay (07)","RHA010703",{"$f":"COUNTIF(Equipes!C$4:C$67,A38)","v":0},13]
["Chatillon En Michaille (11)","A.B.CHATILLON EN MICHAILLE","Chatillon En Michaille (11)","RHA011107",{"$f":"COUNTIF(Equipes!C$4:C$67,A39)","v":0},27]
["Chatillon La Palud (07)","A.B. CHATILLON LA PALUD","Chatillon La Palud (07)","RHA010704",{"$f":"COUNTIF(Equipes!C$4:C$67,A40)","v":0},23]
["Chatillon/Chalaronne (02)","A.B.CHATILLON SUR CHALARONNE","Chatillon/Chalaronne (02)","RHA010205",{"$f":"COUNTIF(Equipes!C$4:C$67,A41)","v":0},25]
["Chaveyriat (12)","UB CHAVEYRIAT","Chaveyriat (12)","RHA011211",{"$f":"COUNTIF(Equipes!C$4:C$67,A42)","v":0},15]
["Chaveyriat-Mezeriat-Vandeins (12)","UB CHAVEYRIAT-MEZERIAT-VANDEINS","Chaveyriat-Mezeriat-Vandeins (12)","RHA011250",{"$f":"COUNTIF(Equipes!C$4:C$67,A43)","v":0},33]
["Chevroux (13)","A.B. CHEVROUX","Chevroux (13)","RHA011302",{"$f":"COUNTIF(Equipes!C$4:C$67,A44)","v":0},13]
["Civrieux En Dombes (06)","A.B CIVRIEUX EN DOMBES","Civrieux En Dombes (06)","RHA010603",{"$f":"COUNTIF(Equipes!C$4:C$67,A45)","v":0},23]
["Collonges (14)","A.B. COLLONGES","Collonges (14)","RHA011401",{"$f":"COUNTIF(Equipes!C$4:C$67,A46)","v":0},14]
["Conand (10)","A. B. CONAND","Conand (10)","RHA011013",{"$f":"COUNTIF(Equipes!C$4:C$67,A47)","v":0},11]
["Corcelles (30)","J.B. CORCELLES","Corcelles (30)","RHA693010",{"$f":"COUNTIF(Equipes!C$4:C$67,A48)","v":0},14]
["Cormaranche (10)","B.J. CORMARANCHE","Cormaranche (10)","RHA011005",{"$f":"COUNTIF(Equipes!C$4:C$67,A49)","v":0},16]
["Crans (07)","A.B. CRANS","Crans (07)","RHA010705",{"$f":"COUNTIF(Equipes!C$4:C$67,A50)","v":0},10]
["Cras/Reyssouze (13)","A.B. CRAS REYSSOUZE","Cras/Reyssouze (13)","RHA011304",{"$f":"COUNTIF(Equipes!C$4:C$67,A51)","v":0},19]
["Crozet (14)","U.B. DE CROZET","Crozet (14)","RHA011402",{"$f":"COUNTIF(Equipes!C$4:C$67,A52)","v":0},11]
["Culoz (09)","A.B. DE CULOZ","Culoz (09)","RHA010908",{"$f":"COUNTIF(Equipes!C$4:C$67,A53)","v":0},10]
["Dagneux (01)","A.B DAGNEUX","Dagneux (01)","RHA010104",{"$f":"COUNTIF(Equipes!C$4:C$67,A54)","v":0},12]
["Divonnaise (14)","B. DIVONNAISE","Divonnaise (14)","RHA011403",{"$f":"COUNTIF(Equipes!C$4:C$67,A55)","v":0},15]
["Dommartin (12)","UB DOMMARTIN","Dommartin (12)","RHA011203",{"$f":"COUNTIF(Equipes!C$4:C$67,A56)","v":0},14]
["Dompierre Sur Veyle (07)","A.B. DOMPIERRE SUR VEYLE","Dompierre Sur Veyle (07)","RHA010706",{"$f":"COUNTIF(Equipes!C$4:C$67,A57)","v":0},24]
["Dortan (05)","A.B.DORTAN","Dortan (05)","RHA010503",{"$f":"COUNTIF(Equipes!C$4:C$67,A58)","v":0},11]
["Druillat Platanes (03)","B.DRUILLAT PLATANES","Druillat Platanes (03)","RHA010303",{"$f":"COUNTIF(Equipes!C$4:C$67,A59)","v":0},22]
["Druillat Rives De L'Ain (03)","ESB RIVES DE L'AIN","Druillat Rives De L'Ain (03)","RHA010353",{"$f":"COUNTIF(Equipes!C$4:C$67,A60)","v":0},28]
["Druillat Turgon (03)","B DRUILLAT TURGON","Druillat Turgon (03)","RHA010304",{"$f":"COUNTIF(Equipes!C$4:C$67,A61)","v":0},20]
["Faramans (01)","A.B.FARAMANS","Faramans (01)","RHA010122",{"$f":"COUNTIF(Equipes!C$4:C$67,A62)","v":0},13]
["Fareins (06)","A.B.FAREINS","Fareins (06)","RHA010604",{"$f":"COUNTIF(Equipes!C$4:C$67,A63)","v":0},12]
["Feillens (12)","U.B. FEILLENS","Feillens (12)","RHA011204",{"$f":"COUNTIF(Equipes!C$4:C$67,A64)","v":0},13]
["Ferney Voltaire (14)","A.B. FERNEY VOLTAIRE","Ferney Voltaire (14)","RHA011405",{"$f":"COUNTIF(Equipes!C$4:C$67,A65)","v":0},20]
["Foissiat (13)","A.B.FOISSIAT","Foissiat (13)","RHA011306",{"$f":"COUNTIF(Equipes!C$4:C$67,A66)","v":0},13]
["Frans Les Vernes (06)","A.B.FRANS LES VERNES","Frans Les Vernes (06)","RHA010605",{"$f":"COUNTIF(Equipes!C$4:C$67,A67)","v":0},{"$f":"LEN(A67)","v":21}]
["Genissiat (11)","C.B. GENISSIAT","Genissiat (11)","RHA011109",{"$f":"COUNTIF(Equipes!C$4:C$67,A68)","v":0},14]
["Grieges (12)","A.B. GRIEGES","Grieges (12)","RHA011205",{"$f":"COUNTIF(Equipes!C$4:C$67,A69)","v":0},12]
["Guereins (02)","A.B.GUEREINS","Guereins (02)","RHA010206",{"$f":"COUNTIF(Equipes!C$4:C$67,A70)","v":0},13]
["Hauteville-Lompnes (10)","A.B. HAUTEVILLE-LOMPNES","Hauteville-Lompnes (10)","RHA011006",{"$f":"COUNTIF(Equipes!C$4:C$67,A71)","v":0},23]
["Hotonnes (09)","A.B. HOTONNES","Hotonnes (09)","RHA010910",{"$f":"COUNTIF(Equipes!C$4:C$67,A72)","v":0},13]
["Izernore (05)","A.B. IZERNORE","Izernore (05)","RHA010506",{"$f":"COUNTIF(Equipes!C$4:C$67,A73)","v":0},13]
["Jassans Riottier (06)","B.F. JASSANS RIOTTIER","Jassans Riottier (06)","RHA010606",{"$f":"COUNTIF(Equipes!C$4:C$67,A74)","v":0},21]
["Jujurieux (03)","A B JUJURIEUX","Jujurieux (03)","RHA010305",{"$f":"COUNTIF(Equipes!C$4:C$67,A75)","v":0},14]
["La Boisse (01)","A.B.LA BOISSE","La Boisse (01)","RHA010105",{"$f":"COUNTIF(Equipes!C$4:C$67,A76)","v":0},14]
["Lagnieu (08)","A.B.LAGNIEU","Lagnieu (08)","RHA010809",{"$f":"COUNTIF(Equipes!C$4:C$67,A77)","v":0},12]
["Le Mas Rillier (01)","A.B LE MAS RILLIER","Le Mas Rillier (01)","RHA010106",{"$f":"COUNTIF(Equipes!C$4:C$67,A78)","v":0},19]
["Lent (04)","A.B DE LENT","Lent (04)","RHA010405",{"$f":"COUNTIF(Equipes!C$4:C$67,A79)","v":0},9]
["Leyment (08)","A.B. LEYMENT","Leyment (08)","RHA010810",{"$f":"COUNTIF(Equipes!C$4:C$67,A80)","v":0},12]
["Manziat (12)","A.B. DE MANZIAT","Manziat (12)","RHA011206",{"$f":"COUNTIF(Equipes!C$4:C$67,A81)","v":0},12]
["Marboz (13)","A.B. MARBOZ","Marboz (13)","RHA011313",{"$f":"COUNTIF(Equipes!C$4:C$67,A82)","v":0},11]
["Marchon (05)","A.B.MARCHON","Marchon (05)","RHA010507",{"$f":"COUNTIF(Equipes!C$4:C$67,A83)","v":0},12]
["Marlieux (07)","J.B. DE MARLIEUX","Marlieux (07)","RHA010708",{"$f":"COUNTIF(Equipes!C$4:C$67,A84)","v":0},13]
["Martignat (05)","A.B. MARTIGNAT","Martignat (05)","RHA010508",{"$f":"COUNTIF(Equipes!C$4:C$67,A85)","v":0},14]
["Massieux (06)","A.B.MASSIEUX","Massieux (06)","RHA010607",{"$f":"COUNTIF(Equipes!C$4:C$67,A86)","v":0},13]
["Meillonnas (04)","E.B DE MEILLONNAS","Meillonnas (04)","RHA010406",{"$f":"COUNTIF(Equipes!C$4:C$67,A87)","v":0},15]
["Meximieux (01)","A.B.MEXIMIEUX","Meximieux (01)","RHA010108",{"$f":"COUNTIF(Equipes!C$4:C$67,A88)","v":0},14]
["Mezeriat (12)","B.J. DE MEZERIAT","Mezeriat (12)","RHA011207",{"$f":"COUNTIF(Equipes!C$4:C$67,A89)","v":0},13]
["Mionnay (06)","A.B.MIONNAY","Mionnay (06)","RHA010609",{"$f":"COUNTIF(Equipes!C$4:C$67,A90)","v":0},12]
["Miribel (01)","A.B MIRIBEL","Miribel (01)","RHA010109",{"$f":"COUNTIF(Equipes!C$4:C$67,A91)","v":0},12]
["Miserieux (06)","A.B.MISERIEUX","Miserieux (06)","RHA010608",{"$f":"COUNTIF(Equipes!C$4:C$67,A92)","v":0},14]
["Mogneneins Flurieux (02)","A.B. MOGNENEINS FLURIEUX","Mogneneins Flurieux (02)","RHA010207",{"$f":"COUNTIF(Equipes!C$4:C$67,A93)","v":0},24]
["Montcet Vandeins (12)","JBI MONTCET VANDEINS","Montcet Vandeins (12)","RHA011208",{"$f":"COUNTIF(Equipes!C$4:C$67,A94)","v":0},21]
["Montluel (01)","A.B MONTLUEL","Montluel (01)","RHA010111",{"$f":"COUNTIF(Equipes!C$4:C$67,A95)","v":0},13]
["Montmerle (02)","A.B. MONTMERLE","Montmerle (02)","RHA010208",{"$f":"COUNTIF(Equipes!C$4:C$67,A96)","v":0},14]
["Montreal (05)","A.B.MONTREAL","Montreal (05)","RHA010509",{"$f":"COUNTIF(Equipes!C$4:C$67,A97)","v":0},13]
["Montrevel (13)","U.B. MONTREVEL","Montrevel (13)","RHA011308",{"$f":"COUNTIF(Equipes!C$4:C$67,A98)","v":0},14]
["Neuville Les Dames (02)","A.B. NEUVILLE LES DAMES","Neuville Les Dames (02)","RHA010209",{"$f":"COUNTIF(Equipes!C$4:C$67,A99)","v":0},23]
["Neuville Sur Ain (03)","A.B NEUVILLE SUR AIN","Neuville Sur Ain (03)","RHA010312",{"$f":"COUNTIF(Equipes!C$4:C$67,A100)","v":0},21]
["Oussiat (03)","A.B. OUSSIAT","Oussiat (03)","RHA010306",{"$f":"COUNTIF(Equipes!C$4:C$67,A101)","v":0},12]
["Oyonnax (05)","A.B. OYONNAX","Oyonnax (05)","RHA010511",{"$f":"COUNTIF(Equipes!C$4:C$67,A102)","v":0},12]
["Peron (14)","A.B. DE PERON","Peron (14)","RHA011406",{"$f":"COUNTIF(Equipes!C$4:C$67,A103)","v":0},10]
["Peronnas (04)","A.B.PERONNAS","Peronnas (04)","RHA010422",{"$f":"COUNTIF(Equipes!C$4:C$67,A104)","v":0},13]
["Peyrieu (09)","A.B.PEYRIEU","Peyrieu (09)","RHA010911",{"$f":"COUNTIF(Equipes!C$4:C$67,A105)","v":0},12]
["Pizay (01)","A.B. PIZAY","Pizay (01)","RHA010115",{"$f":"COUNTIF(Equipes!C$4:C$67,A106)","v":0},10]
["Polliat (04)","A.B. DE POLLIAT","Polliat (04)","RHA010407",{"$f":"COUNTIF(Equipes!C$4:C$67,A107)","v":0},12]
["Poncin (03)","A B PONCIN","Poncin (03)","RHA010307",{"$f":"COUNTIF(Equipes!C$4:C$67,A108)","v":0},11]
["Pont D'Ain (03)","B MARRONNIERS PONT D'AIN","Pont D'Ain (03)","RHA010308",{"$f":"COUNTIF(Equipes!C$4:C$67,A109)","v":0},15]
["Pont De Vaux (04)","A.S.BOULE DE PONT DE VAUX","Pont De Vaux (04)","BOU710490",{"$f":"COUNTIF(Equipes!C$4:C$67,A110)","v":0},17]
["Pont De Veyle (12)","A.B. PONT DE VEYLE","Pont De Veyle (12)","RHA011209",{"$f":"COUNTIF(Equipes!C$4:C$67,A111)","v":0},18]
["Port (05)","A.B. PORT","Port (05)","RHA010514",{"$f":"COUNTIF(Equipes!C$4:C$67,A112)","v":0},9]
["Priay (03)","A.B PRIAY","Priay (03)","RHA010310",{"$f":"COUNTIF(Equipes!C$4:C$67,A113)","v":0},10]
["Relevant (02)","A.B. RELEVANT","Relevant (02)","RHA010210",{"$f":"COUNTIF(Equipes!C$4:C$67,A114)","v":0},13]
["Reyrieux (06)","ENTENTE BOULISTE REYRIEUX","Reyrieux (06)","RHA010620",{"$f":"COUNTIF(Equipes!C$4:C$67,A115)","v":0},13]
["Rignieux Le Franc (01)","A B.RIGNIEUX LE FRANC","Rignieux Le Franc (01)","RHA010116",{"$f":"COUNTIF(Equipes!C$4:C$67,A116)","v":0},22]
["Roissiat (04)","A.B ROISSIAT","Roissiat (04)","RHA010408",{"$f":"COUNTIF(Equipes!C$4:C$67,A117)","v":0},13]
["Sault Brenaz (08)","A.B. SAULT BRENAZ","Sault Brenaz (08)","RHA010815",{"$f":"COUNTIF(Equipes!C$4:C$67,A118)","v":0},17]
["Savigneux (02)","A.B. SAVIGNEUX","Savigneux (02)","RHA010214",{"$f":"COUNTIF(Equipes!C$4:C$67,A119)","v":0},14]
["Serrieres De Briord (08)","A.B. SERRIERES DE BRIORD","Serrieres De Briord (08)","RHA010816",{"$f":"COUNTIF(Equipes!C$4:C$67,A120)","v":0},24]
["Servas (04)","B. DE SERVAS","Servas (04)","RHA010412",{"$f":"COUNTIF(Equipes!C$4:C$67,A121)","v":0},11]
["Simandre Sur Suran (04)","A.B SIMANDRE SUR SURAN","Simandre Sur Suran (04)","RHA010413",{"$f":"COUNTIF(Equipes!C$4:C$67,A122)","v":0},23]
["St Andre Bx-Condeissiat (07)","ST ANDRE BX-CONDEISSIAT","St Andre Bx-Condeissiat (07)","RHA010709",{"$f":"COUNTIF(Equipes!C$4:C$67,A123)","v":0},28]
["St Andre De Corcy (06)","A.B. ST ANDRE DE CORCY","St Andre De Corcy (06)","RHA010612",{"$f":"COUNTIF(Equipes!C$4:C$67,A124)","v":0},22]
["St Andre S/V/Jonc (04)","A.B ST ANDRE S/V/JONC","St Andre S/V/Jonc (04)","RHA010409",{"$f":"COUNTIF(Equipes!C$4:C$67,A125)","v":0},22]
["St Benoit (09)","A.B.ST BENOIT","St Benoit (09)","RHA010912",{"$f":"COUNTIF(Equipes!C$4:C$67,A126)","v":0},14]
["St Bernard (06)","A.B. ST BERNARD","St Bernard (06)","RHA010613",{"$f":"COUNTIF(Equipes!C$4:C$67,A127)","v":0},15]
["St Bernard Rives Saone (06)","ESB RIVES DE SAONE","St Bernard Rives Saone (06)","RHA010656",{"$f":"COUNTIF(Equipes!C$4:C$67,A128)","v":0},27]
["St Denis En Bugey (08)","A.B. ST DENIS EN BUGEY","St Denis En Bugey (08)","RHA010811",{"$f":"COUNTIF(Equipes!C$4:C$67,A129)","v":0},22]
["St Denis Les Bourg (04)","A.B.ST DENIS LES BOURG","St Denis Les Bourg (04)","RHA010410",{"$f":"COUNTIF(Equipes!C$4:C$67,A130)","v":0},23]
["St Didier Aussiat (13)","ST DIDIER AUSSIAT","St Didier Aussiat (13)","RHA011310",{"$f":"COUNTIF(Equipes!C$4:C$67,A131)","v":0},{"$f":"LEN(A131)","v":22}]
["St Didier De Formans (06)","A.B.ST DIDIER DE FORMANS","St Didier De Formans (06)","RHA010614",{"$f":"COUNTIF(Equipes!C$4:C$67,A132)","v":0},25]
["St Etienne Du Bois (04)","A.B ST ETIENNE DU BOIS","St Etienne Du Bois (04)","RHA010416",{"$f":"COUNTIF(Equipes!C$4:C$67,A133)","v":0},23]
["St Etienne/Reyssouze (13)","A.B. ST ETIENNE SUR REYSSOUZE","St Etienne/Reyssouze (13)","RHA011311",{"$f":"COUNTIF(Equipes!C$4:C$67,A134)","v":0},25]
["St Genis Pouilly (14)","U.B. ST GENIS POUILLY","St Genis Pouilly (14)","RHA011408",{"$f":"COUNTIF(Equipes!C$4:C$67,A135)","v":0},21]
["St Germain De Joux (11)","A.B. ST GERMAIN DE JOUX","St Germain De Joux (11)","RHA011111",{"$f":"COUNTIF(Equipes!C$4:C$67,A136)","v":0},23]
["St Jean De Gonville (14)","U.B.ST JEAN DE GONVILLE","St Jean De Gonville (14)","RHA011409",{"$f":"COUNTIF(Equipes!C$4:C$67,A137)","v":0},24]
["St Jean Le Vieux (03)","A.B.ST JEAN LE VIEUX","St Jean Le Vieux (03)","RHA010311",{"$f":"COUNTIF(Equipes!C$4:C$67,A138)","v":0},21]
["St Julien/Reyssouze (13)","A.B. ST JULIEN SUR REYSSOUZE","St Julien/Reyssouze (13)","RHA011312",{"$f":"COUNTIF(Equipes!C$4:C$67,A139)","v":0},24]
["St Just (04)","A.B DE ST JUST","St Just (04)","RHA010411",{"$f":"COUNTIF(Equipes!C$4:C$67,A140)","v":0},12]
["St Laurent (04)","BOULE SAINT LAURENTINE","St Laurent (04)","BOU710486",{"$f":"COUNTIF(Equipes!C$4:C$67,A141)","v":0},15]
["St Martin Du Fresne (05)","A.B. ST MARTIN DU FRESNE","St Martin Du Fresne (05)","RHA010512",{"$f":"COUNTIF(Equipes!C$4:C$67,A142)","v":0},24]
["St Maurice De Beynost (01)","A.B.ST MAURICE DE BEYNOST","St Maurice De Beynost (01)","RHA010118",{"$f":"COUNTIF(Equipes!C$4:C$67,A143)","v":0},26]
["St Maurice De Gourdans (01)","A.B.ST MAURICE DE GOURDANS","St Maurice De Gourdans (01)","RHA010119",{"$f":"COUNTIF(Equipes!C$4:C$67,A144)","v":0},27]
["St Paul De Varax (07)","A.B. ST PAUL DE VARAX","St Paul De Varax (07)","RHA010711",{"$f":"COUNTIF(Equipes!C$4:C$67,A145)","v":0},21]
["St Rambert B. Ouvriere  (10)","B. OUVRIERE ST RAMBERT","St Rambert B. Ouvriere  (10)","RHA011009",{"$f":"COUNTIF(Equipes!C$4:C$67,A146)","v":0},28]
["St Remy (04)","C.B.M.ST REMY","St Remy (04)","RHA010404",{"$f":"COUNTIF(Equipes!C$4:C$67,A147)","v":0},12]
["St Sorlin (08)","A.B.ST SORLIN","St Sorlin (08)","RHA010813",{"$f":"COUNTIF(Equipes!C$4:C$67,A148)","v":0},14]
["St Trivier De Courtes (13)","A.B. ST TRIVIER DE COURTES","St Trivier De Courtes (13)","RHA011314",{"$f":"COUNTIF(Equipes!C$4:C$67,A149)","v":0},26]
["St Trivier/Moignans (02)","A.B.ST TRIVIER SUR MOIGNANS","St Trivier/Moignans (02)","RHA010212",{"$f":"COUNTIF(Equipes!C$4:C$67,A150)","v":0},24]
["St Vulbas (08)","CFB ST VULBAS","St Vulbas (08)","RHA010881",{"$f":"COUNTIF(Equipes!C$4:C$67,A151)","v":0},14]
["St Vulbas Sport-Boules  (08)","SPORT-BOULES ST VULBAS","St Vulbas Sport-Boules  (08)","RHA010814",{"$f":"COUNTIF(Equipes!C$4:C$67,A152)","v":0},28]
["Ste Euphemie (06)","A.B. STE EUPHEMIE","Ste Euphemie (06)","RHA010615",{"$f":"COUNTIF(Equipes!C$4:C$67,A153)","v":0},17]
["Sulignat (02)","A.B.SULIGNAT","Sulignat (02)","RHA010215",{"$f":"COUNTIF(Equipes!C$4:C$67,A154)","v":0},13]
["Tenay (10)","A.B. TENAY","Tenay (10)","RHA011010",{"$f":"COUNTIF(Equipes!C$4:C$67,A155)","v":0},10]
["Thezillieu (10)","A.B. THEZILLIEU","Thezillieu (10)","RHA011011",{"$f":"COUNTIF(Equipes!C$4:C$67,A156)","v":0},15]
["Thoissey (02)","A.B.THOISSEY","Thoissey (02)","RHA010216",{"$f":"COUNTIF(Equipes!C$4:C$67,A157)","v":0},13]
["Tossiat (04)","A.S TOSSIAT","Tossiat (04)","RHA010414",{"$f":"COUNTIF(Equipes!C$4:C$67,A158)","v":0},12]
["Trevoux (06)","A.B. TREVOUX","Trevoux (06)","RHA010616",{"$f":"COUNTIF(Equipes!C$4:C$67,A159)","v":0},12]
["Vanchy (11)","S.B. DE VANCHY","Vanchy (11)","RHA011113",{"$f":"COUNTIF(Equipes!C$4:C$67,A160)","v":0},11]
["Vaux En Bugey (08)","A.B. VAUX EN BUGEY","Vaux En Bugey (08)","RHA010818",{"$f":"COUNTIF(Equipes!C$4:C$67,A161)","v":0},18]
["Villars Les Dombes (07)","A.B. VILLARS LES DOMBES","Villars Les Dombes (07)","RHA010713",{"$f":"COUNTIF(Equipes!C$4:C$67,A162)","v":0},23]
["Villebois (08)","A.B.VILLEBOIS","Villebois (08)","RHA010819",{"$f":"COUNTIF(Equipes!C$4:C$67,A163)","v":0},14]
["Villeneuve (06)","A.B. VILLENEUVE","Villeneuve (06)","RHA010617",{"$f":"COUNTIF(Equipes!C$4:C$67,A164)","v":0},15]
["Villereversure (04)","A.B DE VILLEREVERSURE","Villereversure (04)","RHA010417",{"$f":"COUNTIF(Equipes!C$4:C$67,A165)","v":0},19]
["Viriat (04)","A.B. VIRIAT","Viriat (04)","RHA010415",{"$f":"COUNTIF(Equipes!C$4:C$67,A166)","v":0},11]
["Vonnas (12)","A.B. DE VONNAS","Vonnas (12)","RHA011210",{"$f":"COUNTIF(Equipes!C$4:C$67,A167)","v":0},11]
["Secteur Cotiere (01)",null,null,null,null,20]
["Secteur Dombes-Saone (02)",null,null,null,{"$f":"COUNTIF(Equipes!C$4:C$67,A182)","v":0},25]
["Secteur Rives Ain (03)",null,null,null,null,22]
["Secteur Bressan (04) ",null,null,null,null,21]
["Secteur Haut Bugey (05)",null,null,null,null,23]
["Secteur Rives Saone (06)",null,null,null,null,24]
["Secteur Dombes (07)",null,null,null,null,19]
["Secteur Plaine Ain (08)",null,null,null,null,23]
["Secteur Bas Bugey (09)",null,null,null,null,22]
["Secteur Bords Albarine (10)",null,null,null,null,27]
["Secteur Rhone Valserine (11)",null,null,null,null,28]
["Secteur Bords Veyle (12)",null,null,null,null,24]
["Secteur Bords Reyssouze (13)",null,null,null,null,28]
["Secteur Gessien (14)",null,null,null,null,20]
["Isère (38)",null,null,null,null,10]
["Jura (39)"]
["Rhône (69)"]
["Saône-et-Loire (71)"]
["Savoie (73)"]
["Haute-Savoie (74)"]
["Société autre Département (99)"]

{"sheet":"Aide","index":5,"n_rows":51,"n_cols":1,"rows_kept":51,"cut":false,"hidden":false,"merged":[]}
["Explications:"]
["Cet outil permet de gérer les concours système Aurard (8, 12, 16, 24, 32, 48 ou 64 équipes) avec tirage au sort aléatoire de la 1ère partie (en évitant de faire se rencontrer des équipes de la même société ou d'un même secteur dans le cas de sociétés venant d'un autre secteur), puis pour les parties 2 et 3, selon le choix des organisateurs, soit par tirage au sort (gagnant contre gagnant, perdant contre perdant ....), soit en fonction des résultats de la ou des parties précédentes (par ordre décroissant de nombre de parties gagnées puis par ordre décroissant de points faits et par ordre croissant de points laissés en faisant donc se rencontrer le 1er contre le 2ème, le 3ème contre le 4ème, l'avant-dernier contre le dernier), soit par tirage au sort aléatoire (n'importe quelle équipe peut être opposée à n'importe quelle autre) et en tirant également au sort le jeu dans lequel les équipes vont jouer de manière à éviter qu'une équipe ne joue dans le même jeu pendant les 3 parties (ce tirage tient compte du nombre de jeux disponibles). Le résultat final est visible dans l'onglet \"Equipes\""]
["On peut accessoirement comptabiliser les montants des inscriptions reçues et des gains versés aux équipes en colonnes S et T de l'onglet Equipes"]
["Ce fichier est conçu pour pouvoir être réutilisé, pour cela dès qu'on lance le début du concours, un nouveau fichier est créé, fichier qui prend le nom du concours renseigné en cellule C1, et c'est dans ce fichier que vont s'enregistrer pendant tout le déroulement du concours les résultats intermédiaires et le résultat final, ainsi le fichier \"Concours Boules système Aurard\" est disponible pour une nouvelle utilisation."]
[]
["Les différents onglets du fichier :"]
["- onglet Equipes : cet onglet permet de saisir les équipes inscrites avec leur nom en colonne B et la société en colonne C (liste déroulante reprenant les équipes renseignées dans l'onglet \"Listes sociétés\"), c'est également à partir de ce feuillet que se commandent les tirages des parties et le calcul des résultats intermédiaires et du résultat final (en cliquant sur le bouton correspondant).\nOn peut également renseigner des informations qui se reporteront automatiquement dans l'onglet Règlement du concours (durée des parties, montant de l'inscription, montant des indemnités par partie gagnée, plus éventuellement d'autres informations)"]
["- onglets 1ère partie, 2ème partie et 3ème partie : onglets dans lesquels s'affichent les tirages des parties correspondantes et où doivent être saisis les scores des équipes "]
["- onglet \"Liste sociétés\", cet onglet contient la liste des sociétés de boules du département de l'Ain (seule la 1ère colonne est utilisée, les autres restituant des informations complémentaires sous lesquelles ces sociétés sont enregistrées à la FFSB), et en fin de liste d'une part la liste des secteurs (si on veut par exemple éviter que 2 équipes d'un même secteur soient opposées lors de la 1ère partie) et d'autre part une société dénommée Société autre département, sous laquelle peuvent être enregistrées les équipes hors département, il est également possible d'ajouter d'autres sociétés(les insérer de préférence dans l'ordre alphabétique pour faciliter leur recherche dans la liste déroulante en ajoutant en fin de nom le N° de secteur d'appartenance entre parenthèses)"]
["- onglet Aide (le présent onglet) fournit les explications sur le fonctionnement de cet outil"]
["- onglet \"Règlement du concours\" qui peut être imprimé pour porter à la connaissance des participants les règles appliquées pendant le concours et pour calculer le résultat final. Lors du lancement du début du concours, l'outil demande si on veut imprimer le règlement"]
["- présence de 3 feuillets masqués qui sont utilisés par le programme pour effectuer les calculs des scores permettant le tirage des parties suivantes ainsi que le tirage des jeux"]
[]
["Le fonctionnement :"]
["- se positionner dans l'onglet \"Equipes\" et saisir le nom du concours, le nom de l'AS organisatrice (ou du secteur) puis les noms des équipes et de leur société (ou de leur secteur)"]
["- sélectionner également le type de concours (choisir le type dans la liste déroulante, en cas de nombre différent, sélectionner le type supérieur) et le type de tirage (cocher la case correspondante). Possibilité également de saisir le nombre de jeux disponibles si celui-ci est supérieur au nombre minimum nécessaire."]
["- après avoir saisi les équipes engagées, on peut lancer le début du concours, qui permettra au programme d'effectuer un certain nombre de contrôles avant de procéder au tirage de la 1ere partie (renseignement correct des équipes et de leur société, type de concours, type de tirage, confirmation éventuelle du fait que le concours est incomplet. Ce lancement de début de partie génère l'enregistrement du fichier dans le même répertoire que celui où est enregistré le fichier de départ sous le nom du concours (d'où l'obligation d'avoir saisi un nom pour le concours)."]
["- après avoir actionné le début du concours (passage obligé), on peut lancer le tirage de la 1ère partie, tirage qui s'effectue au sort avec comme seule règle d'éviter de faire se rencontrer 2 équipes de la même société.\nNb : en cas de tirage aléatoire, le lancement du tirage de la 1ère partie lance également le tirage des parties 2 et 3"]
["- dans le cas où le concours n'est pas complet, le programme demande la confirmation du tirage avec un nombre d'équipes incomplet, et s'il y a un nombre impair d'équipes, définit aléatoirement l'équipe qui sera d'office"]
["- à la fin de la 1ère partie, saisir les scores dans l'onglet 1ère partie en colonnes E et I (ne pas saisir de score pour l'équipe d'office qui hérite d'un score de 13/7 conformément à l'alinéa 3 de l'article 78 de la FFSB, voir ci-dessous)."]
["- le tirage de la 2ème partie ne peut être lancé qu'après saisie des scores de la 1ere partie. (pas de lancement à faire en cas de choix de tirage aléatoire)"]
["- ce tirage s'effectue selon le choix des organisateurs soit par tirage au sort (gagnant/gagnant, perdant/perdant) soit en faisant se rencontrer les équipes par ordre décroissant de classement (ordre décroissant de nombre de parties gagnées, puis ordre décroissant de nombre de points faits et enfin nombre croissant de points laissées) ; en cas d'égalité sur ces 3 critères le programme définit aléatoirement l'ordre des équipes ; en cas de nombre d'équipes impair le programme définit aléatoirement l'équipe qui sera d'office (en évitant qu'une même équipe puisse être plusieurs fois d'office) ; ce tirage définit également aléatoirement le jeu sur lequel les équipes vont évoluer en excluant qu'une équipe puisse jouer plusieurs parties sur le même jeu"]
["- à la fin de la 2ème partie, saisir les scores dans l'onglet 2ème partie (idem partie 1)"]
["- le tirage de la 3ème partie et la saisie des scores de cette 3ème partie s'effectuent de la même manière que la partie précédente"]
["- une fois les scores de la 3ème partie saisis, on peut lancer le calcul du résultat final du concours en actionnant le bouton correspondant. Le calcul du classement final s'effectue conformément à l'alinéa 2 de l'article 78 de la FFSB (voir ci-dessous)"]
["- dans le cas où il y a nécessité de recourir aux critères complémentaires (au-delà du nombre de parties gagnées, de points faits et de points laissés, des colonnes affichant les résultats de ces critères s'affichent dans l'onglet Equipes en colonnes P Q et R"]
[]
["Extrait du Règlement de la FFSB"]
["ARTICLE 78 - COMPÉTITIONS SE DÉROULANT SUIVANT LE SYSTÈME AURARD"]
["1. Principe"]
["Ce système, peut être utilisé par les AS organisant des concours des groupes Promotion, Loisirs ou Inter-Sociétaires."]
["L’élimination brutale après la perte d’une partie, présente le grave inconvénient d’écarter du concours ceux-là mêmes pour qui il est organisé."]
["Ce système permet aux équipes engagées de jouer pendant toute la durée du concours."]
["Après chaque partie, un tirage au sort est effectué. On fait, en général, 3 parties mais ce chiffre n’est pas absolu. Dans toute la mesure du possible, 2 équipes (ou 2 joueurs en simple) ne se rencontrent pas 2 fois."]
["On peut faire jouer une finale entre les 2 équipes classées premières."]
["2. Classement des équipes"]
["Il s’obtient par le plus grand nombre de parties gagnées"]
["et, en cas d’égalité, d’après l’ordre prioritaire ci-après :"]
["- Le plus grand nombre de points faits au total,"]
["- Le plus petit nombre de points laissés faire au total,"]
["- Le résultat de la partie ayant éventuellement opposé les ex æquo,"]
["- La partie perdue avec le plus faible écart,"]
["- La partie gagnée avec le plus grand écart."]
["3. Cas particulier - Nombre impair d’équipes engagées"]
["Dans ce cas, il y a un gagnant d’office à chaque partie. Cette partie compte 7 points laissés faire pour les parties en 13 points. Une équipe ne peut jamais bénéficier deux fois de cette mesure."]
["4. Variantes"]
["Ce système présente de nombreuses variantes :"]
["- Beaucoup d’AS emploient Le tirage au sort pour la composition des équipes. On dresse Une liste des tireurs et des pointeurs et le sort les affecte à une équipe qui joue tout le concours dans la même formation."]
["- Une autre variante consiste à tirer au sort, à chaque partie, la composition des équipes. Le classement final se trouve être individuel. Cette méthode est recommandée pour éviter l’inconvénient des concours dotés de prix en nature ne pouvant être partagés entre équipiers. De plus, elle présente l’avantage de pouvoir faire jouer en triple, double ou même en simple, les joueurs en surnombre du nombre pair d’équipes. Le travail du secrétaire organisateur est augmenté, mais les joueurs apprécient toujours le classement individuel."]
["- A chaque partie après la première, on fait jouer, par tirage au sort, les gagnants entre eux et les perdants entre eux."]
["- Enfin, il est possible d’associer les formules élimination et système AURARD en établissant, à l’issue de chaque partie, un classement en fonction du nombre de parties gagnées et du goal-average et en faisant jouer les équipes dans l’ordre du classement : 1 contre 2, 3 contre 4, etc. …"]

{"sheet":"Règlement officiel concours","index":6,"n_rows":26,"n_cols":2,"rows_kept":26,"cut":false,"hidden":false,"merged":[]}
[{"$f":"\"Règlement officiel \" &Equipes!C1","v":"Règlement officiel "},{"$f":"IF(Equipes!W17=\"X\",\"X\",IF(Equipes!W18=\"X\",\"Y\",IF(Equipes!W19=\"X\",\"Z\",\"\")))","v":""}]
["\nInscription et Indemnités"]
["Toute inscription transmise aux organisateurs engage l'équipe inscrite (En cas de forfait de dernière minute les organisateurs sont fondés à réclamer le paiement du prix d'inscription)\nLes indemnités sont dues aux équipes gagnantes sous condition que la partie ait été jouée (pas de versement aux équipes d'office ou dont l'adversaire est forfait)","- par tirage au sort (en respectant la règle gagnant contre gagnant)"]
[{"$f":"IF(Equipes!V23<>\"\",\"Montant Inscription : \" &Equipes!V23,\"\")","v":""}]
[{"$f":"IF(Equipes!V24<>\"\",\"Indemnités : \" &Equipes!V24,\"\")","v":""}]
[{"$f":"Equipes!V26","v":0}]
["\nDéroulement du concours :","- en fonction du classement de la ou des parties précédentes par ordre décroissant de nombre de parties gagnées, de nombre de points faits puis par nombre croissant de points laissés (l'équipe classée en 1 rencontrera l'équipe classée en 2, et ainsi de suite jusqu'à la fin l'avant-dernière rencontrant la dernière du classement) \nnb : en cas d'égalité sur les 3 critères de classement mentionnés ci-dessus, la détermination des équipes qui seront opposées s'effectue par tirage au sort entre les équipes ex aequo"]
["Pour la 1ère partie, la détermination des équipes qui se rencontrent s'effectue par tirage au sort avec comme seule règle d'éviter de faire se rencontrer 2 équipes de la même société.","- par tirage au sort aléatoire c'est-à-dire que toutes les équipes peuvent se rencontrer quels que soient leurs résultats précédents (deux équipes ne peuvent pas se rencontrer 2 fois dans le concours)"]
["Pour les 2ème et 3ème parties, la détermination des équipes qui se rencontrent est définie de la manière suivante :"]
[{"$f":"IF($B$1=\"\",$B$3 & CHAR(10) & $B$7 & CHAR(10) & $B$8,IF($B$1=\"X\",$B$3,IF($B$1=\"Y\",$B$7,IF($B1= \"Z\",$B$8,\"\"))))","v":"- par tirage au sort (en respectant la règle gagnant contre gagnant)\n- en fonction du classement de la ou des parties précédentes par ordre décroissant de nombre de parties gagnées, de nombre de points faits puis par nombre croissant de points laissés (l'équipe classée en 1 rencontrera l'équipe classée en 2, et ainsi de suite jusqu'à la fin l'avant-dernière rencontrant la dernière du classement) \nnb : en cas d'égalité sur les 3 critères de classement mentionnés ci-dessus, la détermination des équipes qui seront opposées s'effectue par tirage au sort entre les équipes ex aequo\n- par tirage au sort aléatoire c'est-à-dire que toutes les équipes peuvent se rencontrer quels que soient leurs résultats précédents (deux équipes ne peuvent pas se rencontrer 2 fois dans le concours)"}]
["En cas de nombre impair d'équipes, l'équipe qui sera d'office sera tirée au sort (une même équipe ne pourra jamais être d'office que sur une seule partie)."]
["Conformément au règlement de la FFSB, une équipe d'office héritera d'un score de 13 points faits contre 7 points laissés"]
["Le jeu sur lequel les équipes jouent est également tiré au sort de manière à ce qu'une équipe ne joue pas 2 fois sur le même jeu"]
[{"$f":"IF(Equipes!V25<>\"\",\"Durée des parties : \" &Equipes!V25,\"\")","v":""}]
["\nClassement final"]
["Le classement final du concours s'effectuera conformément au règlement de la FFSB dans l'ordre de priorité décroissant suivant :"]
["- 1er critère : plus grand nombre de parties gagnées"]
["- 2ème critère : plus grand nombre de points faits"]
["- 3ème critère : plus petit nombre de points laissés"]
[]
["Critères complémentaires si égalité sur les critères précédents :"]
["- dans le cas où l'égalité ne concerne que des équipes qui se sont rencontrées, priorité à l'équipe ayant gagné cette rencontre"]
["- plus faible écart sur partie perdue"]
["- plus grand écart sur partie gagnée"]
[]
["nb : en cas d'égalité après application de ces règles, avantage sera donné à l'équipe ayant joué ses 3 parties sur celle ayant eu un tirage d'office et, en dernier ressort, un tirage au sort départagera les éventuels ex-aequo"]

{"sheet":"Feuillettravail","index":7,"n_rows":67,"n_cols":29,"rows_kept":67,"cut":false,"hidden":true,"merged":[]}
[null,null,null,null,null,null,null,null,null,null,null,null,null,null,null,null,null,null,{"$f":"COUNTIF(S20:S67,\"\")","v":48},{"$f":"COUNTIF(T4:T67,\">0\")","v":0},{"$f":"COUNTIF(U4:U67,\">0\")","v":0},{"$f":"COUNTIF(V4:V67,\">0\")","v":0},{"$f":"SUM(W4:W67)","v":0},{"$f":"SUM(X4:X67)","v":0},{"$f":"SUM(Y4:Y67)","v":0}]
[null,null,null,"Partie 1",null,null,"Partie 2",null,null,"Partie 3",null,null,null,null,null,"critères complémentaires éventuels"]
["N° équipe","Nom équipe","Société","Points faits","Points laissés","Classe-ment","Points faits","Points laissés","Classe-ment 1+2","Points faits","Points laissés","Nb parties gagnées","Total points faits","Total points laissés","Classe-ment final","résultat partie ex aequo","+ faible écart partie perdue","+ grand écart partie gagnée","office","jeu 1","jeu 2","jeu 3","contre 1","contre 2","contre 3","égalité","tirage au sort 1, 2 et 3","N° équipe","nb parties à 13"]
[1,{"$f":"IF(VLOOKUP(A4,Equipes!A:B,2,FALSE)<>\"\",VLOOKUP(A4,Equipes!A:B,2,FALSE),\"\")","v":""},{"$f":"IF(VLOOKUP(A4,Equipes!A:C,3,FALSE)<>\"\",VLOOKUP(A4,Equipes!A:C,3,FALSE),\"\")","v":""},{"$f":"IF(AND(B4<>\"\",W$1<>0),VALUE(IF(ISERROR(VLOOKUP(A4,'1ère partie'!B:E,1,FALSE)),0,IF(VLOOKUP(A4,'1ère partie'!B:F,5,FALSE)=\"\",13,VLOOKUP(A4,'1ère partie'!B:E,4,FALSE)))+IF(ISERROR(VLOOKUP(A4,'1ère partie'!F:I,1,FALSE)),0,IF(VLOOKUP(A4,'1ère partie'!F:J,5,FALSE)=\"\",13,VLOOKUP(A4,'1ère partie'!F:I,4,FALSE)))),\"\")","v":""},{"$f":"IF(AND(B4<>\"\",W$1<>0),VALUE(IF(ISERROR(VLOOKUP(A4,'1ère partie'!B:E,1,FALSE)),0,IF(VLOOKUP(A4,'1ère partie'!B:F,5,FALSE)=\"\",7,VLOOKUP(A4,'1ère partie'!B:I,8,FALSE)))+IF(ISERROR(VLOOKUP(A4,'1ère partie'!F:I,1,FALSE)),0,IF(VLOOKUP(A4,'1ère partie'!F:J,5,FALSE)=\"\",7,VLOOKUP(A4,'1ère partie'!F:J,5,FALSE)))),\"\")","v":""},null,{"$f":"IF(AND(B4<>\"\",X$1<>0),VALUE(IF(ISERROR(VLOOKUP(A4,'2ème partie'!B:E,1,FALSE)),0,IF(VLOOKUP(A4,'2ème partie'!B:F,5,FALSE)=\"\",13,VLOOKUP(A4,'2ème partie'!B:E,4,FALSE)))+IF(ISERROR(VLOOKUP(A4,'2ème partie'!F:I,1,FALSE)),0,IF(VLOOKUP(A4,'2ème partie'!F:J,5,FALSE)=\"\",13,VLOOKUP(A4,'2ème partie'!F:I,4,FALSE)))),\"\")","v":""},{"$f":"IF(AND(B4<>\"\",X$1<>0),VALUE(IF(ISERROR(VLOOKUP(A4,'2ème partie'!B:E,1,FALSE)),0,IF(VLOOKUP(A4,'2ème partie'!B:F,5,FALSE)=\"\",7,VLOOKUP(A4,'2ème partie'!B:I,8,FALSE)))+IF(ISERROR(VLOOKUP(A4,'2ème partie'!F:I,1,FALSE)),0,IF(VLOOKUP(A4,'2ème partie'!F:J,5,FALSE)=\"\",7,VLOOKUP(A4,'2ème partie'!F:J,5,FALSE)))),\"\")","v":""},null,{"$f":"IF(AND(B4<>\"\",Y$1<>0),VALUE(IF(ISERROR(VLOOKUP(A4,'3ème partie'!B:E,1,FALSE)),0,IF(VLOOKUP(A4,'3ème partie'!B:F,5,FALSE)=\"\",13,VLOOKUP(A4,'3ème partie'!B:E,4,FALSE)))+IF(ISERROR(VLOOKUP(A4,'3ème partie'!F:I,1,FALSE)),0,IF(VLOOKUP(A4,'3ème partie'!F:J,5,FALSE)=\"\",13,VLOOKUP(A4,'3ème partie'!F:I,4,FALSE)))),\"\")","v":""},{"$f":"IF(AND(B4<>\"\",Y$1<>0),VALUE(IF(ISERROR(VLOOKUP(A4,'3ème partie'!B:E,1,FALSE)),0,IF(VLOOKUP(A4,'3ème partie'!B:F,5,FALSE)=\"\",7,VLOOKUP(A4,'3ème partie'!B:I,8,FALSE)))+IF(ISERROR(VLOOKUP(A4,'3ème partie'!F:I,1,FALSE)),0,IF(VLOOKUP(A4,'3ème partie'!F:J,5,FALSE)=\"\",7,VLOOKUP(A4,'3ème partie'!F:J,5,FALSE)))),\"\")","v":""},{"$f":"IF(D4=\"\",\"\",IF(D4-E4>0,1,0)+IF(G4<>\"\",IF(G4-H4>0,1,0),0)+IF(J4<>\"\",IF(J4-K4>0,1,0),0))","v":""},{"$f":"IF(AND(D4<>\"\",G4<>\"\",J4<>\"\"),D4+G4+J4,IF(AND(D4<>\"\",G4<>\"\"),D4+G4,IF(D4<>\"\",D4,\"\")))","v":""},{"$f":"IF(AND(E4<>\"\",H4<>\"\",K4<>\"\"),E4+H4+K4,IF(AND(E4<>\"\",H4<>\"\"),E4+H4,IF(E4<>\"\",E4,\"\")))","v":""},null,null,{"$f":"IF(B4<>\"\",IF(L4=3,0,MIN(IF(E4-D4>0,E4-D4,14),IF(H4-G4>0,H4-G4,14),IF(K4-J4>0,K4-J4,14))),\"\")","v":""},{"$f":"IF(B4<>\"\",MAX(IF(D4-E4>0,D4-E4,0),IF(G4-H4>0,G4-H4,0),IF(J4-K4>0,J4-K4,0)),\"\")","v":""},null,null,null,null,{"$f":"IF(B4<>\"\",VALUE(IF(ISERROR(VLOOKUP(A4,'1ère partie'!B:F,1,FALSE)),0,VLOOKUP(A4,'1ère partie'!B:F,5,FALSE))+IF(ISERROR(VLOOKUP(A4,'1ère partie'!F:L,1,FALSE)),0,VLOOKUP(A4,'1ère partie'!F:L,7,FALSE))),\"\")","v":""},{"$f":"IF(B4<>\"\",VALUE(IF(ISERROR(VLOOKUP(A4,'2ème partie'!B:F,1,FALSE)),0,VLOOKUP(A4,'2ème partie'!B:F,5,FALSE))+IF(ISERROR(VLOOKUP(A4,'2ème partie'!F:L,1,FALSE)),0,VLOOKUP(A4,'2ème partie'!F:L,7,FALSE))),\"\")","v":""},{"$f":"IF(B4<>\"\",VALUE(IF(ISERROR(VLOOKUP(A4,'3ème partie'!B:F,1,FALSE)),0,VLOOKUP(A4,'3ème partie'!B:F,5,FALSE))+IF(ISERROR(VLOOKUP(A4,'3ème partie'!F:L,1,FALSE)),0,VLOOKUP(A4,'3ème partie'!F:L,7,FALSE))),\"\")","v":""},null,null,{"$f":"A4","v":1},{"$f":"IF(B4<>\"\",\"  (\" & IF(AND(D4=13,W4<>\"\"),1,0)+IF(AND(G4=13,X4<>\"\"),1,0)+IF(AND(J4=13,Y4<>\"\"),1,0) & \")\",\"\")","v":""}]
[2,{"$f":"IF(VLOOKUP(A5,Equipes!A:B,2,FALSE)<>\"\",VLOOKUP(A5,Equipes!A:B,2,FALSE),\"\")","v":""},{"$f":"IF(VLOOKUP(A5,Equipes!A:C,3,FALSE)<>\"\",VLOOKUP(A5,Equipes!A:C,3,FALSE),\"\")","v":""},{"$f":"IF(AND(B5<>\"\",W$1<>0),VALUE(IF(ISERROR(VLOOKUP(A5,'1ère partie'!B:E,1,FALSE)),0,IF(VLOOKUP(A5,'1ère partie'!B:F,5,FALSE)=\"\",13,VLOOKUP(A5,'1ère partie'!B:E,4,FALSE)))+IF(ISERROR(VLOOKUP(A5,'1ère partie'!F:I,1,FALSE)),0,IF(VLOOKUP(A5,'1ère partie'!F:J,5,FALSE)=\"\",13,VLOOKUP(A5,'1ère partie'!F:I,4,FALSE)))),\"\")","v":""},{"$f":"IF(AND(B5<>\"\",W$1<>0),VALUE(IF(ISERROR(VLOOKUP(A5,'1ère partie'!B:E,1,FALSE)),0,IF(VLOOKUP(A5,'1ère partie'!B:F,5,FALSE)=\"\",7,VLOOKUP(A5,'1ère partie'!B:I,8,FALSE)))+IF(ISERROR(VLOOKUP(A5,'1ère partie'!F:I,1,FALSE)),0,IF(VLOOKUP(A5,'1ère partie'!F:J,5,FALSE)=\"\",7,VLOOKUP(A5,'1ère partie'!F:J,5,FALSE)))),\"\")","v":""},null,{"$f":"IF(AND(B5<>\"\",X$1<>0),VALUE(IF(ISERROR(VLOOKUP(A5,'2ème partie'!B:E,1,FALSE)),0,IF(VLOOKUP(A5,'2ème partie'!B:F,5,FALSE)=\"\",13,VLOOKUP(A5,'2ème partie'!B:E,4,FALSE)))+IF(ISERROR(VLOOKUP(A5,'2ème partie'!F:I,1,FALSE)),0,IF(VLOOKUP(A5,'2ème partie'!F:J,5,FALSE)=\"\",13,VLOOKUP(A5,'2ème partie'!F:I,4,FALSE)))),\"\")","v":""},{"$f":"IF(AND(B5<>\"\",X$1<>0),VALUE(IF(ISERROR(VLOOKUP(A5,'2ème partie'!B:E,1,FALSE)),0,IF(VLOOKUP(A5,'2ème partie'!B:F,5,FALSE)=\"\",7,VLOOKUP(A5,'2ème partie'!B:I,8,FALSE)))+IF(ISERROR(VLOOKUP(A5,'2ème partie'!F:I,1,FALSE)),0,IF(VLOOKUP(A5,'2ème partie'!F:J,5,FALSE)=\"\",7,VLOOKUP(A5,'2ème partie'!F:J,5,FALSE)))),\"\")","v":""},null,{"$f":"IF(AND(B5<>\"\",Y$1<>0),VALUE(IF(ISERROR(VLOOKUP(A5,'3ème partie'!B:E,1,FALSE)),0,IF(VLOOKUP(A5,'3ème partie'!B:F,5,FALSE)=\"\",13,VLOOKUP(A5,'3ème partie'!B:E,4,FALSE)))+IF(ISERROR(VLOOKUP(A5,'3ème partie'!F:I,1,FALSE)),0,IF(VLOOKUP(A5,'3ème partie'!F:J,5,FALSE)=\"\",13,VLOOKUP(A5,'3ème partie'!F:I,4,FALSE)))),\"\")","v":""},{"$f":"IF(AND(B5<>\"\",Y$1<>0),VALUE(IF(ISERROR(VLOOKUP(A5,'3ème partie'!B:E,1,FALSE)),0,IF(VLOOKUP(A5,'3ème partie'!B:F,5,FALSE)=\"\",7,VLOOKUP(A5,'3ème partie'!B:I,8,FALSE)))+IF(ISERROR(VLOOKUP(A5,'3ème partie'!F:I,1,FALSE)),0,IF(VLOOKUP(A5,'3ème partie'!F:J,5,FALSE)=\"\",7,VLOOKUP(A5,'3ème partie'!F:J,5,FALSE)))),\"\")","v":""},{"$f":"IF(D5=\"\",\"\",IF(D5-E5>0,1,0)+IF(G5<>\"\",IF(G5-H5>0,1,0),0)+IF(J5<>\"\",IF(J5-K5>0,1,0),0))","v":""},{"$f":"IF(AND(D5<>\"\",G5<>\"\",J5<>\"\"),D5+G5+J5,IF(AND(D5<>\"\",G5<>\"\"),D5+G5,IF(D5<>\"\",D5,\"\")))","v":""},{"$f":"IF(AND(E5<>\"\",H5<>\"\",K5<>\"\"),E5+H5+K5,IF(AND(E5<>\"\",H5<>\"\"),E5+H5,IF(E5<>\"\",E5,\"\")))","v":""},null,null,{"$f":"IF(B5<>\"\",IF(L5=3,0,MIN(IF(E5-D5>0,E5-D5,14),IF(H5-G5>0,H5-G5,14),IF(K5-J5>0,K5-J5,14))),\"\")","v":""},{"$f":"IF(B5<>\"\",MAX(IF(D5-E5>0,D5-E5,0),IF(G5-H5>0,G5-H5,0),IF(J5-K5>0,J5-K5,0)),\"\")","v":""},null,null,null,null,{"$f":"IF(B5<>\"\",VALUE(IF(ISERROR(VLOOKUP(A5,'1ère partie'!B:F,1,FALSE)),0,VLOOKUP(A5,'1ère partie'!B:F,5,FALSE))+IF(ISERROR(VLOOKUP(A5,'1ère partie'!F:L,1,FALSE)),0,VLOOKUP(A5,'1ère partie'!F:L,7,FALSE))),\"\")","v":""},{"$f":"IF(B5<>\"\",VALUE(IF(ISERROR(VLOOKUP(A5,'2ème partie'!B:F,1,FALSE)),0,VLOOKUP(A5,'2ème partie'!B:F,5,FALSE))+IF(ISERROR(VLOOKUP(A5,'2ème partie'!F:L,1,FALSE)),0,VLOOKUP(A5,'2ème partie'!F:L,7,FALSE))),\"\")","v":""},{"$f":"IF(B5<>\"\",VALUE(IF(ISERROR(VLOOKUP(A5,'3ème partie'!B:F,1,FALSE)),0,VLOOKUP(A5,'3ème partie'!B:F,5,FALSE))+IF(ISERROR(VLOOKUP(A5,'3ème partie'!F:L,1,FALSE)),0,VLOOKUP(A5,'3ème partie'!F:L,7,FALSE))),\"\")","v":""},null,null,2,""]
[3,{"$f":"IF(VLOOKUP(A6,Equipes!A:B,2,FALSE)<>\"\",VLOOKUP(A6,Equipes!A:B,2,FALSE),\"\")","v":""},{"$f":"IF(VLOOKUP(A6,Equipes!A:C,3,FALSE)<>\"\",VLOOKUP(A6,Equipes!A:C,3,FALSE),\"\")","v":""},{"$f":"IF(AND(B6<>\"\",W$1<>0),VALUE(IF(ISERROR(VLOOKUP(A6,'1ère partie'!B:E,1,FALSE)),0,IF(VLOOKUP(A6,'1ère partie'!B:F,5,FALSE)=\"\",13,VLOOKUP(A6,'1ère partie'!B:E,4,FALSE)))+IF(ISERROR(VLOOKUP(A6,'1ère partie'!F:I,1,FALSE)),0,IF(VLOOKUP(A6,'1ère partie'!F:J,5,FALSE)=\"\",13,VLOOKUP(A6,'1ère partie'!F:I,4,FALSE)))),\"\")","v":""},{"$f":"IF(AND(B6<>\"\",W$1<>0),VALUE(IF(ISERROR(VLOOKUP(A6,'1ère partie'!B:E,1,FALSE)),0,IF(VLOOKUP(A6,'1ère partie'!B:F,5,FALSE)=\"\",7,VLOOKUP(A6,'1ère partie'!B:I,8,FALSE)))+IF(ISERROR(VLOOKUP(A6,'1ère partie'!F:I,1,FALSE)),0,IF(VLOOKUP(A6,'1ère partie'!F:J,5,FALSE)=\"\",7,VLOOKUP(A6,'1ère partie'!F:J,5,FALSE)))),\"\")","v":""},null,{"$f":"IF(AND(B6<>\"\",X$1<>0),VALUE(IF(ISERROR(VLOOKUP(A6,'2ème partie'!B:E,1,FALSE)),0,IF(VLOOKUP(A6,'2ème partie'!B:F,5,FALSE)=\"\",13,VLOOKUP(A6,'2ème partie'!B:E,4,FALSE)))+IF(ISERROR(VLOOKUP(A6,'2ème partie'!F:I,1,FALSE)),0,IF(VLOOKUP(A6,'2ème partie'!F:J,5,FALSE)=\"\",13,VLOOKUP(A6,'2ème partie'!F:I,4,FALSE)))),\"\")","v":""},{"$f":"IF(AND(B6<>\"\",X$1<>0),VALUE(IF(ISERROR(VLOOKUP(A6,'2ème partie'!B:E,1,FALSE)),0,IF(VLOOKUP(A6,'2ème partie'!B:F,5,FALSE)=\"\",7,VLOOKUP(A6,'2ème partie'!B:I,8,FALSE)))+IF(ISERROR(VLOOKUP(A6,'2ème partie'!F:I,1,FALSE)),0,IF(VLOOKUP(A6,'2ème partie'!F:J,5,FALSE)=\"\",7,VLOOKUP(A6,'2ème partie'!F:J,5,FALSE)))),\"\")","v":""},null,{"$f":"IF(AND(B6<>\"\",Y$1<>0),VALUE(IF(ISERROR(VLOOKUP(A6,'3ème partie'!B:E,1,FALSE)),0,IF(VLOOKUP(A6,'3ème partie'!B:F,5,FALSE)=\"\",13,VLOOKUP(A6,'3ème partie'!B:E,4,FALSE)))+IF(ISERROR(VLOOKUP(A6,'3ème partie'!F:I,1,FALSE)),0,IF(VLOOKUP(A6,'3ème partie'!F:J,5,FALSE)=\"\",13,VLOOKUP(A6,'3ème partie'!F:I,4,FALSE)))),\"\")","v":""},{"$f":"IF(AND(B6<>\"\",Y$1<>0),VALUE(IF(ISERROR(VLOOKUP(A6,'3ème partie'!B:E,1,FALSE)),0,IF(VLOOKUP(A6,'3ème partie'!B:F,5,FALSE)=\"\",7,VLOOKUP(A6,'3ème partie'!B:I,8,FALSE)))+IF(ISERROR(VLOOKUP(A6,'3ème partie'!F:I,1,FALSE)),0,IF(VLOOKUP(A6,'3ème partie'!F:J,5,FALSE)=\"\",7,VLOOKUP(A6,'3ème partie'!F:J,5,FALSE)))),\"\")","v":""},{"$f":"IF(D6=\"\",\"\",IF(D6-E6>0,1,0)+IF(G6<>\"\",IF(G6-H6>0,1,0),0)+IF(J6<>\"\",IF(J6-K6>0,1,0),0))","v":""},{"$f":"IF(AND(D6<>\"\",G6<>\"\",J6<>\"\"),D6+G6+J6,IF(AND(D6<>\"\",G6<>\"\"),D6+G6,IF(D6<>\"\",D6,\"\")))","v":""},{"$f":"IF(AND(E6<>\"\",H6<>\"\",K6<>\"\"),E6+H6+K6,IF(AND(E6<>\"\",H6<>\"\"),E6+H6,IF(E6<>\"\",E6,\"\")))","v":""},null,null,{"$f":"IF(B6<>\"\",IF(L6=3,0,MIN(IF(E6-D6>0,E6-D6,14),IF(H6-G6>0,H6-G6,14),IF(K6-J6>0,K6-J6,14))),\"\")","v":""},{"$f":"IF(B6<>\"\",MAX(IF(D6-E6>0,D6-E6,0),IF(G6-H6>0,G6-H6,0),IF(J6-K6>0,J6-K6,0)),\"\")","v":""},null,null,null,null,{"$f":"IF(B6<>\"\",VALUE(IF(ISERROR(VLOOKUP(A6,'1ère partie'!B:F,1,FALSE)),0,VLOOKUP(A6,'1ère partie'!B:F,5,FALSE))+IF(ISERROR(VLOOKUP(A6,'1ère partie'!F:L,1,FALSE)),0,VLOOKUP(A6,'1ère partie'!F:L,7,FALSE))),\"\")","v":""},{"$f":"IF(B6<>\"\",VALUE(IF(ISERROR(VLOOKUP(A6,'2ème partie'!B:F,1,FALSE)),0,VLOOKUP(A6,'2ème partie'!B:F,5,FALSE))+IF(ISERROR(VLOOKUP(A6,'2ème partie'!F:L,1,FALSE)),0,VLOOKUP(A6,'2ème partie'!F:L,7,FALSE))),\"\")","v":""},{"$f":"IF(B6<>\"\",VALUE(IF(ISERROR(VLOOKUP(A6,'3ème partie'!B:F,1,FALSE)),0,VLOOKUP(A6,'3ème partie'!B:F,5,FALSE))+IF(ISERROR(VLOOKUP(A6,'3ème partie'!F:L,1,FALSE)),0,VLOOKUP(A6,'3ème partie'!F:L,7,FALSE))),\"\")","v":""},null,null,3,""]
[4,{"$f":"IF(VLOOKUP(A7,Equipes!A:B,2,FALSE)<>\"\",VLOOKUP(A7,Equipes!A:B,2,FALSE),\"\")","v":""},{"$f":"IF(VLOOKUP(A7,Equipes!A:C,3,FALSE)<>\"\",VLOOKUP(A7,Equipes!A:C,3,FALSE),\"\")","v":""},{"$f":"IF(AND(B7<>\"\",W$1<>0),VALUE(IF(ISERROR(VLOOKUP(A7,'1ère partie'!B:E,1,FALSE)),0,IF(VLOOKUP(A7,'1ère partie'!B:F,5,FALSE)=\"\",13,VLOOKUP(A7,'1ère partie'!B:E,4,FALSE)))+IF(ISERROR(VLOOKUP(A7,'1ère partie'!F:I,1,FALSE)),0,IF(VLOOKUP(A7,'1ère partie'!F:J,5,FALSE)=\"\",13,VLOOKUP(A7,'1ère partie'!F:I,4,FALSE)))),\"\")","v":""},{"$f":"IF(AND(B7<>\"\",W$1<>0),VALUE(IF(ISERROR(VLOOKUP(A7,'1ère partie'!B:E,1,FALSE)),0,IF(VLOOKUP(A7,'1ère partie'!B:F,5,FALSE)=\"\",7,VLOOKUP(A7,'1ère partie'!B:I,8,FALSE)))+IF(ISERROR(VLOOKUP(A7,'1ère partie'!F:I,1,FALSE)),0,IF(VLOOKUP(A7,'1ère partie'!F:J,5,FALSE)=\"\",7,VLOOKUP(A7,'1ère partie'!F:J,5,FALSE)))),\"\")","v":""},null,{"$f":"IF(AND(B7<>\"\",X$1<>0),VALUE(IF(ISERROR(VLOOKUP(A7,'2ème partie'!B:E,1,FALSE)),0,IF(VLOOKUP(A7,'2ème partie'!B:F,5,FALSE)=\"\",13,VLOOKUP(A7,'2ème partie'!B:E,4,FALSE)))+IF(ISERROR(VLOOKUP(A7,'2ème partie'!F:I,1,FALSE)),0,IF(VLOOKUP(A7,'2ème partie'!F:J,5,FALSE)=\"\",13,VLOOKUP(A7,'2ème partie'!F:I,4,FALSE)))),\"\")","v":""},{"$f":"IF(AND(B7<>\"\",X$1<>0),VALUE(IF(ISERROR(VLOOKUP(A7,'2ème partie'!B:E,1,FALSE)),0,IF(VLOOKUP(A7,'2ème partie'!B:F,5,FALSE)=\"\",7,VLOOKUP(A7,'2ème partie'!B:I,8,FALSE)))+IF(ISERROR(VLOOKUP(A7,'2ème partie'!F:I,1,FALSE)),0,IF(VLOOKUP(A7,'2ème partie'!F:J,5,FALSE)=\"\",7,VLOOKUP(A7,'2ème partie'!F:J,5,FALSE)))),\"\")","v":""},null,{"$f":"IF(AND(B7<>\"\",Y$1<>0),VALUE(IF(ISERROR(VLOOKUP(A7,'3ème partie'!B:E,1,FALSE)),0,IF(VLOOKUP(A7,'3ème partie'!B:F,5,FALSE)=\"\",13,VLOOKUP(A7,'3ème partie'!B:E,4,FALSE)))+IF(ISERROR(VLOOKUP(A7,'3ème partie'!F:I,1,FALSE)),0,IF(VLOOKUP(A7,'3ème partie'!F:J,5,FALSE)=\"\",13,VLOOKUP(A7,'3ème partie'!F:I,4,FALSE)))),\"\")","v":""},{"$f":"IF(AND(B7<>\"\",Y$1<>0),VALUE(IF(ISERROR(VLOOKUP(A7,'3ème partie'!B:E,1,FALSE)),0,IF(VLOOKUP(A7,'3ème partie'!B:F,5,FALSE)=\"\",7,VLOOKUP(A7,'3ème partie'!B:I,8,FALSE)))+IF(ISERROR(VLOOKUP(A7,'3ème partie'!F:I,1,FALSE)),0,IF(VLOOKUP(A7,'3ème partie'!F:J,5,FALSE)=\"\",7,VLOOKUP(A7,'3ème partie'!F:J,5,FALSE)))),\"\")","v":""},{"$f":"IF(D7=\"\",\"\",IF(D7-E7>0,1,0)+IF(G7<>\"\",IF(G7-H7>0,1,0),0)+IF(J7<>\"\",IF(J7-K7>0,1,0),0))","v":""},{"$f":"IF(AND(D7<>\"\",G7<>\"\",J7<>\"\"),D7+G7+J7,IF(AND(D7<>\"\",G7<>\"\"),D7+G7,IF(D7<>\"\",D7,\"\")))","v":""},{"$f":"IF(AND(E7<>\"\",H7<>\"\",K7<>\"\"),E7+H7+K7,IF(AND(E7<>\"\",H7<>\"\"),E7+H7,IF(E7<>\"\",E7,\"\")))","v":""},null,null,{"$f":"IF(B7<>\"\",IF(L7=3,0,MIN(IF(E7-D7>0,E7-D7,14),IF(H7-G7>0,H7-G7,14),IF(K7-J7>0,K7-J7,14))),\"\")","v":""},{"$f":"IF(B7<>\"\",MAX(IF(D7-E7>0,D7-E7,0),IF(G7-H7>0,G7-H7,0),IF(J7-K7>0,J7-K7,0)),\"\")","v":""},null,null,null,null,{"$f":"IF(B7<>\"\",VALUE(IF(ISERROR(VLOOKUP(A7,'1ère partie'!B:F,1,FALSE)),0,VLOOKUP(A7,'1ère partie'!B:F,5,FALSE))+IF(ISERROR(VLOOKUP(A7,'1ère partie'!F:L,1,FALSE)),0,VLOOKUP(A7,'1ère partie'!F:L,7,FALSE))),\"\")","v":""},{"$f":"IF(B7<>\"\",VALUE(IF(ISERROR(VLOOKUP(A7,'2ème partie'!B:F,1,FALSE)),0,VLOOKUP(A7,'2ème partie'!B:F,5,FALSE))+IF(ISERROR(VLOOKUP(A7,'2ème partie'!F:L,1,FALSE)),0,VLOOKUP(A7,'2ème partie'!F:L,7,FALSE))),\"\")","v":""},{"$f":"IF(B7<>\"\",VALUE(IF(ISERROR(VLOOKUP(A7,'3ème partie'!B:F,1,FALSE)),0,VLOOKUP(A7,'3ème partie'!B:F,5,FALSE))+IF(ISERROR(VLOOKUP(A7,'3ème partie'!F:L,1,FALSE)),0,VLOOKUP(A7,'3ème partie'!F:L,7,FALSE))),\"\")","v":""},null,null,4,""]
[5,{"$f":"IF(VLOOKUP(A8,Equipes!A:B,2,FALSE)<>\"\",VLOOKUP(A8,Equipes!A:B,2,FALSE),\"\")","v":""},{"$f":"IF(VLOOKUP(A8,Equipes!A:C,3,FALSE)<>\"\",VLOOKUP(A8,Equipes!A:C,3,FALSE),\"\")","v":""},{"$f":"IF(AND(B8<>\"\",W$1<>0),VALUE(IF(ISERROR(VLOOKUP(A8,'1ère partie'!B:E,1,FALSE)),0,IF(VLOOKUP(A8,'1ère partie'!B:F,5,FALSE)=\"\",13,VLOOKUP(A8,'1ère partie'!B:E,4,FALSE)))+IF(ISERROR(VLOOKUP(A8,'1ère partie'!F:I,1,FALSE)),0,IF(VLOOKUP(A8,'1ère partie'!F:J,5,FALSE)=\"\",13,VLOOKUP(A8,'1ère partie'!F:I,4,FALSE)))),\"\")","v":""},{"$f":"IF(AND(B8<>\"\",W$1<>0),VALUE(IF(ISERROR(VLOOKUP(A8,'1ère partie'!B:E,1,FALSE)),0,IF(VLOOKUP(A8,'1ère partie'!B:F,5,FALSE)=\"\",7,VLOOKUP(A8,'1ère partie'!B:I,8,FALSE)))+IF(ISERROR(VLOOKUP(A8,'1ère partie'!F:I,1,FALSE)),0,IF(VLOOKUP(A8,'1ère partie'!F:J,5,FALSE)=\"\",7,VLOOKUP(A8,'1ère partie'!F:J,5,FALSE)))),\"\")","v":""},null,{"$f":"IF(AND(B8<>\"\",X$1<>0),VALUE(IF(ISERROR(VLOOKUP(A8,'2ème partie'!B:E,1,FALSE)),0,IF(VLOOKUP(A8,'2ème partie'!B:F,5,FALSE)=\"\",13,VLOOKUP(A8,'2ème partie'!B:E,4,FALSE)))+IF(ISERROR(VLOOKUP(A8,'2ème partie'!F:I,1,FALSE)),0,IF(VLOOKUP(A8,'2ème partie'!F:J,5,FALSE)=\"\",13,VLOOKUP(A8,'2ème partie'!F:I,4,FALSE)))),\"\")","v":""},{"$f":"IF(AND(B8<>\"\",X$1<>0),VALUE(IF(ISERROR(VLOOKUP(A8,'2ème partie'!B:E,1,FALSE)),0,IF(VLOOKUP(A8,'2ème partie'!B:F,5,FALSE)=\"\",7,VLOOKUP(A8,'2ème partie'!B:I,8,FALSE)))+IF(ISERROR(VLOOKUP(A8,'2ème partie'!F:I,1,FALSE)),0,IF(VLOOKUP(A8,'2ème partie'!F:J,5,FALSE)=\"\",7,VLOOKUP(A8,'2ème partie'!F:J,5,FALSE)))),\"\")","v":""},null,{"$f":"IF(AND(B8<>\"\",Y$1<>0),VALUE(IF(ISERROR(VLOOKUP(A8,'3ème partie'!B:E,1,FALSE)),0,IF(VLOOKUP(A8,'3ème partie'!B:F,5,FALSE)=\"\",13,VLOOKUP(A8,'3ème partie'!B:E,4,FALSE)))+IF(ISERROR(VLOOKUP(A8,'3ème partie'!F:I,1,FALSE)),0,IF(VLOOKUP(A8,'3ème partie'!F:J,5,FALSE)=\"\",13,VLOOKUP(A8,'3ème partie'!F:I,4,FALSE)))),\"\")","v":""},{"$f":"IF(AND(B8<>\"\",Y$1<>0),VALUE(IF(ISERROR(VLOOKUP(A8,'3ème partie'!B:E,1,FALSE)),0,IF(VLOOKUP(A8,'3ème partie'!B:F,5,FALSE)=\"\",7,VLOOKUP(A8,'3ème partie'!B:I,8,FALSE)))+IF(ISERROR(VLOOKUP(A8,'3ème partie'!F:I,1,FALSE)),0,IF(VLOOKUP(A8,'3ème partie'!F:J,5,FALSE)=\"\",7,VLOOKUP(A8,'3ème partie'!F:J,5,FALSE)))),\"\")","v":""},{"$f":"IF(D8=\"\",\"\",IF(D8-E8>0,1,0)+IF(G8<>\"\",IF(G8-H8>0,1,0),0)+IF(J8<>\"\",IF(J8-K8>0,1,0),0))","v":""},{"$f":"IF(AND(D8<>\"\",G8<>\"\",J8<>\"\"),D8+G8+J8,IF(AND(D8<>\"\",G8<>\"\"),D8+G8,IF(D8<>\"\",D8,\"\")))","v":""},{"$f":"IF(AND(E8<>\"\",H8<>\"\",K8<>\"\"),E8+H8+K8,IF(AND(E8<>\"\",H8<>\"\"),E8+H8,IF(E8<>\"\",E8,\"\")))","v":""},null,null,{"$f":"IF(B8<>\"\",IF(L8=3,0,MIN(IF(E8-D8>0,E8-D8,14),IF(H8-G8>0,H8-G8,14),IF(K8-J8>0,K8-J8,14))),\"\")","v":""},{"$f":"IF(B8<>\"\",MAX(IF(D8-E8>0,D8-E8,0),IF(G8-H8>0,G8-H8,0),IF(J8-K8>0,J8-K8,0)),\"\")","v":""},null,null,null,null,{"$f":"IF(B8<>\"\",VALUE(IF(ISERROR(VLOOKUP(A8,'1ère partie'!B:F,1,FALSE)),0,VLOOKUP(A8,'1ère partie'!B:F,5,FALSE))+IF(ISERROR(VLOOKUP(A8,'1ère partie'!F:L,1,FALSE)),0,VLOOKUP(A8,'1ère partie'!F:L,7,FALSE))),\"\")","v":""},{"$f":"IF(B8<>\"\",VALUE(IF(ISERROR(VLOOKUP(A8,'2ème partie'!B:F,1,FALSE)),0,VLOOKUP(A8,'2ème partie'!B:F,5,FALSE))+IF(ISERROR(VLOOKUP(A8,'2ème partie'!F:L,1,FALSE)),0,VLOOKUP(A8,'2ème partie'!F:L,7,FALSE))),\"\")","v":""},{"$f":"IF(B8<>\"\",VALUE(IF(ISERROR(VLOOKUP(A8,'3ème partie'!B:F,1,FALSE)),0,VLOOKUP(A8,'3ème partie'!B:F,5,FALSE))+IF(ISERROR(VLOOKUP(A8,'3ème partie'!F:L,1,FALSE)),0,VLOOKUP(A8,'3ème partie'!F:L,7,FALSE))),\"\")","v":""},null,null,5,""]
[6,{"$f":"IF(VLOOKUP(A9,Equipes!A:B,2,FALSE)<>\"\",VLOOKUP(A9,Equipes!A:B,2,FALSE),\"\")","v":""},{"$f":"IF(VLOOKUP(A9,Equipes!A:C,3,FALSE)<>\"\",VLOOKUP(A9,Equipes!A:C,3,FALSE),\"\")","v":""},{"$f":"IF(AND(B9<>\"\",W$1<>0),VALUE(IF(ISERROR(VLOOKUP(A9,'1ère partie'!B:E,1,FALSE)),0,IF(VLOOKUP(A9,'1ère partie'!B:F,5,FALSE)=\"\",13,VLOOKUP(A9,'1ère partie'!B:E,4,FALSE)))+IF(ISERROR(VLOOKUP(A9,'1ère partie'!F:I,1,FALSE)),0,IF(VLOOKUP(A9,'1ère partie'!F:J,5,FALSE)=\"\",13,VLOOKUP(A9,'1ère partie'!F:I,4,FALSE)))),\"\")","v":""},{"$f":"IF(AND(B9<>\"\",W$1<>0),VALUE(IF(ISERROR(VLOOKUP(A9,'1ère partie'!B:E,1,FALSE)),0,IF(VLOOKUP(A9,'1ère partie'!B:F,5,FALSE)=\"\",7,VLOOKUP(A9,'1ère partie'!B:I,8,FALSE)))+IF(ISERROR(VLOOKUP(A9,'1ère partie'!F:I,1,FALSE)),0,IF(VLOOKUP(A9,'1ère partie'!F:J,5,FALSE)=\"\",7,VLOOKUP(A9,'1ère partie'!F:J,5,FALSE)))),\"\")","v":""},null,{"$f":"IF(AND(B9<>\"\",X$1<>0),VALUE(IF(ISERROR(VLOOKUP(A9,'2ème partie'!B:E,1,FALSE)),0,IF(VLOOKUP(A9,'2ème partie'!B:F,5,FALSE)=\"\",13,VLOOKUP(A9,'2ème partie'!B:E,4,FALSE)))+IF(ISERROR(VLOOKUP(A9,'2ème partie'!F:I,1,FALSE)),0,IF(VLOOKUP(A9,'2ème partie'!F:J,5,FALSE)=\"\",13,VLOOKUP(A9,'2ème partie'!F:I,4,FALSE)))),\"\")","v":""},{"$f":"IF(AND(B9<>\"\",X$1<>0),VALUE(IF(ISERROR(VLOOKUP(A9,'2ème partie'!B:E,1,FALSE)),0,IF(VLOOKUP(A9,'2ème partie'!B:F,5,FALSE)=\"\",7,VLOOKUP(A9,'2ème partie'!B:I,8,FALSE)))+IF(ISERROR(VLOOKUP(A9,'2ème partie'!F:I,1,FALSE)),0,IF(VLOOKUP(A9,'2ème partie'!F:J,5,FALSE)=\"\",7,VLOOKUP(A9,'2ème partie'!F:J,5,FALSE)))),\"\")","v":""},null,{"$f":"IF(AND(B9<>\"\",Y$1<>0),VALUE(IF(ISERROR(VLOOKUP(A9,'3ème partie'!B:E,1,FALSE)),0,IF(VLOOKUP(A9,'3ème partie'!B:F,5,FALSE)=\"\",13,VLOOKUP(A9,'3ème partie'!B:E,4,FALSE)))+IF(ISERROR(VLOOKUP(A9,'3ème partie'!F:I,1,FALSE)),0,IF(VLOOKUP(A9,'3ème partie'!F:J,5,FALSE)=\"\",13,VLOOKUP(A9,'3ème partie'!F:I,4,FALSE)))),\"\")","v":""},{"$f":"IF(AND(B9<>\"\",Y$1<>0),VALUE(IF(ISERROR(VLOOKUP(A9,'3ème partie'!B:E,1,FALSE)),0,IF(VLOOKUP(A9,'3ème partie'!B:F,5,FALSE)=\"\",7,VLOOKUP(A9,'3ème partie'!B:I,8,FALSE)))+IF(ISERROR(VLOOKUP(A9,'3ème partie'!F:I,1,FALSE)),0,IF(VLOOKUP(A9,'3ème partie'!F:J,5,FALSE)=\"\",7,VLOOKUP(A9,'3ème partie'!F:J,5,FALSE)))),\"\")","v":""},{"$f":"IF(D9=\"\",\"\",IF(D9-E9>0,1,0)+IF(G9<>\"\",IF(G9-H9>0,1,0),0)+IF(J9<>\"\",IF(J9-K9>0,1,0),0))","v":""},{"$f":"IF(AND(D9<>\"\",G9<>\"\",J9<>\"\"),D9+G9+J9,IF(AND(D9<>\"\",G9<>\"\"),D9+G9,IF(D9<>\"\",D9,\"\")))","v":""},{"$f":"IF(AND(E9<>\"\",H9<>\"\",K9<>\"\"),E9+H9+K9,IF(AND(E9<>\"\",H9<>\"\"),E9+H9,IF(E9<>\"\",E9,\"\")))","v":""},null,null,{"$f":"IF(B9<>\"\",IF(L9=3,0,MIN(IF(E9-D9>0,E9-D9,14),IF(H9-G9>0,H9-G9,14),IF(K9-J9>0,K9-J9,14))),\"\")","v":""},{"$f":"IF(B9<>\"\",MAX(IF(D9-E9>0,D9-E9,0),IF(G9-H9>0,G9-H9,0),IF(J9-K9>0,J9-K9,0)),\"\")","v":""},null,null,null,null,{"$f":"IF(B9<>\"\",VALUE(IF(ISERROR(VLOOKUP(A9,'1ère partie'!B:F,1,FALSE)),0,VLOOKUP(A9,'1ère partie'!B:F,5,FALSE))+IF(ISERROR(VLOOKUP(A9,'1ère partie'!F:L,1,FALSE)),0,VLOOKUP(A9,'1ère partie'!F:L,7,FALSE))),\"\")","v":""},{"$f":"IF(B9<>\"\",VALUE(IF(ISERROR(VLOOKUP(A9,'2ème partie'!B:F,1,FALSE)),0,VLOOKUP(A9,'2ème partie'!B:F,5,FALSE))+IF(ISERROR(VLOOKUP(A9,'2ème partie'!F:L,1,FALSE)),0,VLOOKUP(A9,'2ème partie'!F:L,7,FALSE))),\"\")","v":""},{"$f":"IF(B9<>\"\",VALUE(IF(ISERROR(VLOOKUP(A9,'3ème partie'!B:F,1,FALSE)),0,VLOOKUP(A9,'3ème partie'!B:F,5,FALSE))+IF(ISERROR(VLOOKUP(A9,'3ème partie'!F:L,1,FALSE)),0,VLOOKUP(A9,'3ème partie'!F:L,7,FALSE))),\"\")","v":""},null,null,6,""]
[7,{"$f":"IF(VLOOKUP(A10,Equipes!A:B,2,FALSE)<>\"\",VLOOKUP(A10,Equipes!A:B,2,FALSE),\"\")","v":""},{"$f":"IF(VLOOKUP(A10,Equipes!A:C,3,FALSE)<>\"\",VLOOKUP(A10,Equipes!A:C,3,FALSE),\"\")","v":""},{"$f":"IF(AND(B10<>\"\",W$1<>0),VALUE(IF(ISERROR(VLOOKUP(A10,'1ère partie'!B:E,1,FALSE)),0,IF(VLOOKUP(A10,'1ère partie'!B:F,5,FALSE)=\"\",13,VLOOKUP(A10,'1ère partie'!B:E,4,FALSE)))+IF(ISERROR(VLOOKUP(A10,'1ère partie'!F:I,1,FALSE)),0,IF(VLOOKUP(A10,'1ère partie'!F:J,5,FALSE)=\"\",13,VLOOKUP(A10,'1ère partie'!F:I,4,FALSE)))),\"\")","v":""},{"$f":"IF(AND(B10<>\"\",W$1<>0),VALUE(IF(ISERROR(VLOOKUP(A10,'1ère partie'!B:E,1,FALSE)),0,IF(VLOOKUP(A10,'1ère partie'!B:F,5,FALSE)=\"\",7,VLOOKUP(A10,'1ère partie'!B:I,8,FALSE)))+IF(ISERROR(VLOOKUP(A10,'1ère partie'!F:I,1,FALSE)),0,IF(VLOOKUP(A10,'1ère partie'!F:J,5,FALSE)=\"\",7,VLOOKUP(A10,'1ère partie'!F:J,5,FALSE)))),\"\")","v":""},null,{"$f":"IF(AND(B10<>\"\",X$1<>0),VALUE(IF(ISERROR(VLOOKUP(A10,'2ème partie'!B:E,1,FALSE)),0,IF(VLOOKUP(A10,'2ème partie'!B:F,5,FALSE)=\"\",13,VLOOKUP(A10,'2ème partie'!B:E,4,FALSE)))+IF(ISERROR(VLOOKUP(A10,'2ème partie'!F:I,1,FALSE)),0,IF(VLOOKUP(A10,'2ème partie'!F:J,5,FALSE)=\"\",13,VLOOKUP(A10,'2ème partie'!F:I,4,FALSE)))),\"\")","v":""},{"$f":"IF(AND(B10<>\"\",X$1<>0),VALUE(IF(ISERROR(VLOOKUP(A10,'2ème partie'!B:E,1,FALSE)),0,IF(VLOOKUP(A10,'2ème partie'!B:F,5,FALSE)=\"\",7,VLOOKUP(A10,'2ème partie'!B:I,8,FALSE)))+IF(ISERROR(VLOOKUP(A10,'2ème partie'!F:I,1,FALSE)),0,IF(VLOOKUP(A10,'2ème partie'!F:J,5,FALSE)=\"\",7,VLOOKUP(A10,'2ème partie'!F:J,5,FALSE)))),\"\")","v":""},null,{"$f":"IF(AND(B10<>\"\",Y$1<>0),VALUE(IF(ISERROR(VLOOKUP(A10,'3ème partie'!B:E,1,FALSE)),0,IF(VLOOKUP(A10,'3ème partie'!B:F,5,FALSE)=\"\",13,VLOOKUP(A10,'3ème partie'!B:E,4,FALSE)))+IF(ISERROR(VLOOKUP(A10,'3ème partie'!F:I,1,FALSE)),0,IF(VLOOKUP(A10,'3ème partie'!F:J,5,FALSE)=\"\",13,VLOOKUP(A10,'3ème partie'!F:I,4,FALSE)))),\"\")","v":""},{"$f":"IF(AND(B10<>\"\",Y$1<>0),VALUE(IF(ISERROR(VLOOKUP(A10,'3ème partie'!B:E,1,FALSE)),0,IF(VLOOKUP(A10,'3ème partie'!B:F,5,FALSE)=\"\",7,VLOOKUP(A10,'3ème partie'!B:I,8,FALSE)))+IF(ISERROR(VLOOKUP(A10,'3ème partie'!F:I,1,FALSE)),0,IF(VLOOKUP(A10,'3ème partie'!F:J,5,FALSE)=\"\",7,VLOOKUP(A10,'3ème partie'!F:J,5,FALSE)))),\"\")","v":""},{"$f":"IF(D10=\"\",\"\",IF(D10-E10>0,1,0)+IF(G10<>\"\",IF(G10-H10>0,1,0),0)+IF(J10<>\"\",IF(J10-K10>0,1,0),0))","v":""},{"$f":"IF(AND(D10<>\"\",G10<>\"\",J10<>\"\"),D10+G10+J10,IF(AND(D10<>\"\",G10<>\"\"),D10+G10,IF(D10<>\"\",D10,\"\")))","v":""},{"$f":"IF(AND(E10<>\"\",H10<>\"\",K10<>\"\"),E10+H10+K10,IF(AND(E10<>\"\",H10<>\"\"),E10+H10,IF(E10<>\"\",E10,\"\")))","v":""},null,null,{"$f":"IF(B10<>\"\",IF(L10=3,0,MIN(IF(E10-D10>0,E10-D10,14),IF(H10-G10>0,H10-G10,14),IF(K10-J10>0,K10-J10,14))),\"\")","v":""},{"$f":"IF(B10<>\"\",MAX(IF(D10-E10>0,D10-E10,0),IF(G10-H10>0,G10-H10,0),IF(J10-K10>0,J10-K10,0)),\"\")","v":""},null,null,null,null,{"$f":"IF(B10<>\"\",VALUE(IF(ISERROR(VLOOKUP(A10,'1ère partie'!B:F,1,FALSE)),0,VLOOKUP(A10,'1ère partie'!B:F,5,FALSE))+IF(ISERROR(VLOOKUP(A10,'1ère partie'!F:L,1,FALSE)),0,VLOOKUP(A10,'1ère partie'!F:L,7,FALSE))),\"\")","v":""},{"$f":"IF(B10<>\"\",VALUE(IF(ISERROR(VLOOKUP(A10,'2ème partie'!B:F,1,FALSE)),0,VLOOKUP(A10,'2ème partie'!B:F,5,FALSE))+IF(ISERROR(VLOOKUP(A10,'2ème partie'!F:L,1,FALSE)),0,VLOOKUP(A10,'2ème partie'!F:L,7,FALSE))),\"\")","v":""},{"$f":"IF(B10<>\"\",VALUE(IF(ISERROR(VLOOKUP(A10,'3ème partie'!B:F,1,FALSE)),0,VLOOKUP(A10,'3ème partie'!B:F,5,FALSE))+IF(ISERROR(VLOOKUP(A10,'3ème partie'!F:L,1,FALSE)),0,VLOOKUP(A10,'3ème partie'!F:L,7,FALSE))),\"\")","v":""},null,null,7,""]
[8,{"$f":"IF(VLOOKUP(A11,Equipes!A:B,2,FALSE)<>\"\",VLOOKUP(A11,Equipes!A:B,2,FALSE),\"\")","v":""},{"$f":"IF(VLOOKUP(A11,Equipes!A:C,3,FALSE)<>\"\",VLOOKUP(A11,Equipes!A:C,3,FALSE),\"\")","v":""},{"$f":"IF(AND(B11<>\"\",W$1<>0),VALUE(IF(ISERROR(VLOOKUP(A11,'1ère partie'!B:E,1,FALSE)),0,IF(VLOOKUP(A11,'1ère partie'!B:F,5,FALSE)=\"\",13,VLOOKUP(A11,'1ère partie'!B:E,4,FALSE)))+IF(ISERROR(VLOOKUP(A11,'1ère partie'!F:I,1,FALSE)),0,IF(VLOOKUP(A11,'1ère partie'!F:J,5,FALSE)=\"\",13,VLOOKUP(A11,'1ère partie'!F:I,4,FALSE)))),\"\")","v":""},{"$f":"IF(AND(B11<>\"\",W$1<>0),VALUE(IF(ISERROR(VLOOKUP(A11,'1ère partie'!B:E,1,FALSE)),0,IF(VLOOKUP(A11,'1ère partie'!B:F,5,FALSE)=\"\",7,VLOOKUP(A11,'1ère partie'!B:I,8,FALSE)))+IF(ISERROR(VLOOKUP(A11,'1ère partie'!F:I,1,FALSE)),0,IF(VLOOKUP(A11,'1ère partie'!F:J,5,FALSE)=\"\",7,VLOOKUP(A11,'1ère partie'!F:J,5,FALSE)))),\"\")","v":""},null,{"$f":"IF(AND(B11<>\"\",X$1<>0),VALUE(IF(ISERROR(VLOOKUP(A11,'2ème partie'!B:E,1,FALSE)),0,IF(VLOOKUP(A11,'2ème partie'!B:F,5,FALSE)=\"\",13,VLOOKUP(A11,'2ème partie'!B:E,4,FALSE)))+IF(ISERROR(VLOOKUP(A11,'2ème partie'!F:I,1,FALSE)),0,IF(VLOOKUP(A11,'2ème partie'!F:J,5,FALSE)=\"\",13,VLOOKUP(A11,'2ème partie'!F:I,4,FALSE)))),\"\")","v":""},{"$f":"IF(AND(B11<>\"\",X$1<>0),VALUE(IF(ISERROR(VLOOKUP(A11,'2ème partie'!B:E,1,FALSE)),0,IF(VLOOKUP(A11,'2ème partie'!B:F,5,FALSE)=\"\",7,VLOOKUP(A11,'2ème partie'!B:I,8,FALSE)))+IF(ISERROR(VLOOKUP(A11,'2ème partie'!F:I,1,FALSE)),0,IF(VLOOKUP(A11,'2ème partie'!F:J,5,FALSE)=\"\",7,VLOOKUP(A11,'2ème partie'!F:J,5,FALSE)))),\"\")","v":""},null,{"$f":"IF(AND(B11<>\"\",Y$1<>0),VALUE(IF(ISERROR(VLOOKUP(A11,'3ème partie'!B:E,1,FALSE)),0,IF(VLOOKUP(A11,'3ème partie'!B:F,5,FALSE)=\"\",13,VLOOKUP(A11,'3ème partie'!B:E,4,FALSE)))+IF(ISERROR(VLOOKUP(A11,'3ème partie'!F:I,1,FALSE)),0,IF(VLOOKUP(A11,'3ème partie'!F:J,5,FALSE)=\"\",13,VLOOKUP(A11,'3ème partie'!F:I,4,FALSE)))),\"\")","v":""},{"$f":"IF(AND(B11<>\"\",Y$1<>0),VALUE(IF(ISERROR(VLOOKUP(A11,'3ème partie'!B:E,1,FALSE)),0,IF(VLOOKUP(A11,'3ème partie'!B:F,5,FALSE)=\"\",7,VLOOKUP(A11,'3ème partie'!B:I,8,FALSE)))+IF(ISERROR(VLOOKUP(A11,'3ème partie'!F:I,1,FALSE)),0,IF(VLOOKUP(A11,'3ème partie'!F:J,5,FALSE)=\"\",7,VLOOKUP(A11,'3ème partie'!F:J,5,FALSE)))),\"\")","v":""},{"$f":"IF(D11=\"\",\"\",IF(D11-E11>0,1,0)+IF(G11<>\"\",IF(G11-H11>0,1,0),0)+IF(J11<>\"\",IF(J11-K11>0,1,0),0))","v":""},{"$f":"IF(AND(D11<>\"\",G11<>\"\",J11<>\"\"),D11+G11+J11,IF(AND(D11<>\"\",G11<>\"\"),D11+G11,IF(D11<>\"\",D11,\"\")))","v":""},{"$f":"IF(AND(E11<>\"\",H11<>\"\",K11<>\"\"),E11+H11+K11,IF(AND(E11<>\"\",H11<>\"\"),E11+H11,IF(E11<>\"\",E11,\"\")))","v":""},null,null,{"$f":"IF(B11<>\"\",IF(L11=3,0,MIN(IF(E11-D11>0,E11-D11,14),IF(H11-G11>0,H11-G11,14),IF(K11-J11>0,K11-J11,14))),\"\")","v":""},{"$f":"IF(B11<>\"\",MAX(IF(D11-E11>0,D11-E11,0),IF(G11-H11>0,G11-H11,0),IF(J11-K11>0,J11-K11,0)),\"\")","v":""},null,null,null,null,{"$f":"IF(B11<>\"\",VALUE(IF(ISERROR(VLOOKUP(A11,'1ère partie'!B:F,1,FALSE)),0,VLOOKUP(A11,'1ère partie'!B:F,5,FALSE))+IF(ISERROR(VLOOKUP(A11,'1ère partie'!F:L,1,FALSE)),0,VLOOKUP(A11,'1ère partie'!F:L,7,FALSE))),\"\")","v":""},{"$f":"IF(B11<>\"\",VALUE(IF(ISERROR(VLOOKUP(A11,'2ème partie'!B:F,1,FALSE)),0,VLOOKUP(A11,'2ème partie'!B:F,5,FALSE))+IF(ISERROR(VLOOKUP(A11,'2ème partie'!F:L,1,FALSE)),0,VLOOKUP(A11,'2ème partie'!F:L,7,FALSE))),\"\")","v":""},{"$f":"IF(B11<>\"\",VALUE(IF(ISERROR(VLOOKUP(A11,'3ème partie'!B:F,1,FALSE)),0,VLOOKUP(A11,'3ème partie'!B:F,5,FALSE))+IF(ISERROR(VLOOKUP(A11,'3ème partie'!F:L,1,FALSE)),0,VLOOKUP(A11,'3ème partie'!F:L,7,FALSE))),\"\")","v":""},null,null,8,""]
[9,{"$f":"IF(VLOOKUP(A12,Equipes!A:B,2,FALSE)<>\"\",VLOOKUP(A12,Equipes!A:B,2,FALSE),\"\")","v":""},{"$f":"IF(VLOOKUP(A12,Equipes!A:C,3,FALSE)<>\"\",VLOOKUP(A12,Equipes!A:C,3,FALSE),\"\")","v":""},{"$f":"IF(AND(B12<>\"\",W$1<>0),VALUE(IF(ISERROR(VLOOKUP(A12,'1ère partie'!B:E,1,FALSE)),0,IF(VLOOKUP(A12,'1ère partie'!B:F,5,FALSE)=\"\",13,VLOOKUP(A12,'1ère partie'!B:E,4,FALSE)))+IF(ISERROR(VLOOKUP(A12,'1ère partie'!F:I,1,FALSE)),0,IF(VLOOKUP(A12,'1ère partie'!F:J,5,FALSE)=\"\",13,VLOOKUP(A12,'1ère partie'!F:I,4,FALSE)))),\"\")","v":""},{"$f":"IF(AND(B12<>\"\",W$1<>0),VALUE(IF(ISERROR(VLOOKUP(A12,'1ère partie'!B:E,1,FALSE)),0,IF(VLOOKUP(A12,'1ère partie'!B:F,5,FALSE)=\"\",7,VLOOKUP(A12,'1ère partie'!B:I,8,FALSE)))+IF(ISERROR(VLOOKUP(A12,'1ère partie'!F:I,1,FALSE)),0,IF(VLOOKUP(A12,'1ère partie'!F:J,5,FALSE)=\"\",7,VLOOKUP(A12,'1ère partie'!F:J,5,FALSE)))),\"\")","v":""},null,{"$f":"IF(AND(B12<>\"\",X$1<>0),VALUE(IF(ISERROR(VLOOKUP(A12,'2ème partie'!B:E,1,FALSE)),0,IF(VLOOKUP(A12,'2ème partie'!B:F,5,FALSE)=\"\",13,VLOOKUP(A12,'2ème partie'!B:E,4,FALSE)))+IF(ISERROR(VLOOKUP(A12,'2ème partie'!F:I,1,FALSE)),0,IF(VLOOKUP(A12,'2ème partie'!F:J,5,FALSE)=\"\",13,VLOOKUP(A12,'2ème partie'!F:I,4,FALSE)))),\"\")","v":""},{"$f":"IF(AND(B12<>\"\",X$1<>0),VALUE(IF(ISERROR(VLOOKUP(A12,'2ème partie'!B:E,1,FALSE)),0,IF(VLOOKUP(A12,'2ème partie'!B:F,5,FALSE)=\"\",7,VLOOKUP(A12,'2ème partie'!B:I,8,FALSE)))+IF(ISERROR(VLOOKUP(A12,'2ème partie'!F:I,1,FALSE)),0,IF(VLOOKUP(A12,'2ème partie'!F:J,5,FALSE)=\"\",7,VLOOKUP(A12,'2ème partie'!F:J,5,FALSE)))),\"\")","v":""},null,{"$f":"IF(AND(B12<>\"\",Y$1<>0),VALUE(IF(ISERROR(VLOOKUP(A12,'3ème partie'!B:E,1,FALSE)),0,IF(VLOOKUP(A12,'3ème partie'!B:F,5,FALSE)=\"\",13,VLOOKUP(A12,'3ème partie'!B:E,4,FALSE)))+IF(ISERROR(VLOOKUP(A12,'3ème partie'!F:I,1,FALSE)),0,IF(VLOOKUP(A12,'3ème partie'!F:J,5,FALSE)=\"\",13,VLOOKUP(A12,'3ème partie'!F:I,4,FALSE)))),\"\")","v":""},{"$f":"IF(AND(B12<>\"\",Y$1<>0),VALUE(IF(ISERROR(VLOOKUP(A12,'3ème partie'!B:E,1,FALSE)),0,IF(VLOOKUP(A12,'3ème partie'!B:F,5,FALSE)=\"\",7,VLOOKUP(A12,'3ème partie'!B:I,8,FALSE)))+IF(ISERROR(VLOOKUP(A12,'3ème partie'!F:I,1,FALSE)),0,IF(VLOOKUP(A12,'3ème partie'!F:J,5,FALSE)=\"\",7,VLOOKUP(A12,'3ème partie'!F:J,5,FALSE)))),\"\")","v":""},{"$f":"IF(D12=\"\",\"\",IF(D12-E12>0,1,0)+IF(G12<>\"\",IF(G12-H12>0,1,0),0)+IF(J12<>\"\",IF(J12-K12>0,1,0),0))","v":""},{"$f":"IF(AND(D12<>\"\",G12<>\"\",J12<>\"\"),D12+G12+J12,IF(AND(D12<>\"\",G12<>\"\"),D12+G12,IF(D12<>\"\",D12,\"\")))","v":""},{"$f":"IF(AND(E12<>\"\",H12<>\"\",K12<>\"\"),E12+H12+K12,IF(AND(E12<>\"\",H12<>\"\"),E12+H12,IF(E12<>\"\",E12,\"\")))","v":""},null,null,{"$f":"IF(B12<>\"\",IF(L12=3,0,MIN(IF(E12-D12>0,E12-D12,14),IF(H12-G12>0,H12-G12,14),IF(K12-J12>0,K12-J12,14))),\"\")","v":""},{"$f":"IF(B12<>\"\",MAX(IF(D12-E12>0,D12-E12,0),IF(G12-H12>0,G12-H12,0),IF(J12-K12>0,J12-K12,0)),\"\")","v":""},null,null,null,null,{"$f":"IF(B12<>\"\",VALUE(IF(ISERROR(VLOOKUP(A12,'1ère partie'!B:F,1,FALSE)),0,VLOOKUP(A12,'1ère partie'!B:F,5,FALSE))+IF(ISERROR(VLOOKUP(A12,'1ère partie'!F:L,1,FALSE)),0,VLOOKUP(A12,'1ère partie'!F:L,7,FALSE))),\"\")","v":""},{"$f":"IF(B12<>\"\",VALUE(IF(ISERROR(VLOOKUP(A12,'2ème partie'!B:F,1,FALSE)),0,VLOOKUP(A12,'2ème partie'!B:F,5,FALSE))+IF(ISERROR(VLOOKUP(A12,'2ème partie'!F:L,1,FALSE)),0,VLOOKUP(A12,'2ème partie'!F:L,7,FALSE))),\"\")","v":""},{"$f":"IF(B12<>\"\",VALUE(IF(ISERROR(VLOOKUP(A12,'3ème partie'!B:F,1,FALSE)),0,VLOOKUP(A12,'3ème partie'!B:F,5,FALSE))+IF(ISERROR(VLOOKUP(A12,'3ème partie'!F:L,1,FALSE)),0,VLOOKUP(A12,'3ème partie'!F:L,7,FALSE))),\"\")","v":""},null,null,9,""]
[10,{"$f":"IF(VLOOKUP(A13,Equipes!A:B,2,FALSE)<>\"\",VLOOKUP(A13,Equipes!A:B,2,FALSE),\"\")","v":""},{"$f":"IF(VLOOKUP(A13,Equipes!A:C,3,FALSE)<>\"\",VLOOKUP(A13,Equipes!A:C,3,FALSE),\"\")","v":""},{"$f":"IF(AND(B13<>\"\",W$1<>0),VALUE(IF(ISERROR(VLOOKUP(A13,'1ère partie'!B:E,1,FALSE)),0,IF(VLOOKUP(A13,'1ère partie'!B:F,5,FALSE)=\"\",13,VLOOKUP(A13,'1ère partie'!B:E,4,FALSE)))+IF(ISERROR(VLOOKUP(A13,'1ère partie'!F:I,1,FALSE)),0,IF(VLOOKUP(A13,'1ère partie'!F:J,5,FALSE)=\"\",13,VLOOKUP(A13,'1ère partie'!F:I,4,FALSE)))),\"\")","v":""},{"$f":"IF(AND(B13<>\"\",W$1<>0),VALUE(IF(ISERROR(VLOOKUP(A13,'1ère partie'!B:E,1,FALSE)),0,IF(VLOOKUP(A13,'1ère partie'!B:F,5,FALSE)=\"\",7,VLOOKUP(A13,'1ère partie'!B:I,8,FALSE)))+IF(ISERROR(VLOOKUP(A13,'1ère partie'!F:I,1,FALSE)),0,IF(VLOOKUP(A13,'1ère partie'!F:J,5,FALSE)=\"\",7,VLOOKUP(A13,'1ère partie'!F:J,5,FALSE)))),\"\")","v":""},null,{"$f":"IF(AND(B13<>\"\",X$1<>0),VALUE(IF(ISERROR(VLOOKUP(A13,'2ème partie'!B:E,1,FALSE)),0,IF(VLOOKUP(A13,'2ème partie'!B:F,5,FALSE)=\"\",13,VLOOKUP(A13,'2ème partie'!B:E,4,FALSE)))+IF(ISERROR(VLOOKUP(A13,'2ème partie'!F:I,1,FALSE)),0,IF(VLOOKUP(A13,'2ème partie'!F:J,5,FALSE)=\"\",13,VLOOKUP(A13,'2ème partie'!F:I,4,FALSE)))),\"\")","v":""},{"$f":"IF(AND(B13<>\"\",X$1<>0),VALUE(IF(ISERROR(VLOOKUP(A13,'2ème partie'!B:E,1,FALSE)),0,IF(VLOOKUP(A13,'2ème partie'!B:F,5,FALSE)=\"\",7,VLOOKUP(A13,'2ème partie'!B:I,8,FALSE)))+IF(ISERROR(VLOOKUP(A13,'2ème partie'!F:I,1,FALSE)),0,IF(VLOOKUP(A13,'2ème partie'!F:J,5,FALSE)=\"\",7,VLOOKUP(A13,'2ème partie'!F:J,5,FALSE)))),\"\")","v":""},null,{"$f":"IF(AND(B13<>\"\",Y$1<>0),VALUE(IF(ISERROR(VLOOKUP(A13,'3ème partie'!B:E,1,FALSE)),0,IF(VLOOKUP(A13,'3ème partie'!B:F,5,FALSE)=\"\",13,VLOOKUP(A13,'3ème partie'!B:E,4,FALSE)))+IF(ISERROR(VLOOKUP(A13,'3ème partie'!F:I,1,FALSE)),0,IF(VLOOKUP(A13,'3ème partie'!F:J,5,FALSE)=\"\",13,VLOOKUP(A13,'3ème partie'!F:I,4,FALSE)))),\"\")","v":""},{"$f":"IF(AND(B13<>\"\",Y$1<>0),VALUE(IF(ISERROR(VLOOKUP(A13,'3ème partie'!B:E,1,FALSE)),0,IF(VLOOKUP(A13,'3ème partie'!B:F,5,FALSE)=\"\",7,VLOOKUP(A13,'3ème partie'!B:I,8,FALSE)))+IF(ISERROR(VLOOKUP(A13,'3ème partie'!F:I,1,FALSE)),0,IF(VLOOKUP(A13,'3ème partie'!F:J,5,FALSE)=\"\",7,VLOOKUP(A13,'3ème partie'!F:J,5,FALSE)))),\"\")","v":""},{"$f":"IF(D13=\"\",\"\",IF(D13-E13>0,1,0)+IF(G13<>\"\",IF(G13-H13>0,1,0),0)+IF(J13<>\"\",IF(J13-K13>0,1,0),0))","v":""},{"$f":"IF(AND(D13<>\"\",G13<>\"\",J13<>\"\"),D13+G13+J13,IF(AND(D13<>\"\",G13<>\"\"),D13+G13,IF(D13<>\"\",D13,\"\")))","v":""},{"$f":"IF(AND(E13<>\"\",H13<>\"\",K13<>\"\"),E13+H13+K13,IF(AND(E13<>\"\",H13<>\"\"),E13+H13,IF(E13<>\"\",E13,\"\")))","v":""},null,null,{"$f":"IF(B13<>\"\",IF(L13=3,0,MIN(IF(E13-D13>0,E13-D13,14),IF(H13-G13>0,H13-G13,14),IF(K13-J13>0,K13-J13,14))),\"\")","v":""},{"$f":"IF(B13<>\"\",MAX(IF(D13-E13>0,D13-E13,0),IF(G13-H13>0,G13-H13,0),IF(J13-K13>0,J13-K13,0)),\"\")","v":""},null,null,null,null,{"$f":"IF(B13<>\"\",VALUE(IF(ISERROR(VLOOKUP(A13,'1ère partie'!B:F,1,FALSE)),0,VLOOKUP(A13,'1ère partie'!B:F,5,FALSE))+IF(ISERROR(VLOOKUP(A13,'1ère partie'!F:L,1,FALSE)),0,VLOOKUP(A13,'1ère partie'!F:L,7,FALSE))),\"\")","v":""},{"$f":"IF(B13<>\"\",VALUE(IF(ISERROR(VLOOKUP(A13,'2ème partie'!B:F,1,FALSE)),0,VLOOKUP(A13,'2ème partie'!B:F,5,FALSE))+IF(ISERROR(VLOOKUP(A13,'2ème partie'!F:L,1,FALSE)),0,VLOOKUP(A13,'2ème partie'!F:L,7,FALSE))),\"\")","v":""},{"$f":"IF(B13<>\"\",VALUE(IF(ISERROR(VLOOKUP(A13,'3ème partie'!B:F,1,FALSE)),0,VLOOKUP(A13,'3ème partie'!B:F,5,FALSE))+IF(ISERROR(VLOOKUP(A13,'3ème partie'!F:L,1,FALSE)),0,VLOOKUP(A13,'3ème partie'!F:L,7,FALSE))),\"\")","v":""},null,null,10,""]
[11,{"$f":"IF(VLOOKUP(A14,Equipes!A:B,2,FALSE)<>\"\",VLOOKUP(A14,Equipes!A:B,2,FALSE),\"\")","v":""},{"$f":"IF(VLOOKUP(A14,Equipes!A:C,3,FALSE)<>\"\",VLOOKUP(A14,Equipes!A:C,3,FALSE),\"\")","v":""},{"$f":"IF(AND(B14<>\"\",W$1<>0),VALUE(IF(ISERROR(VLOOKUP(A14,'1ère partie'!B:E,1,FALSE)),0,IF(VLOOKUP(A14,'1ère partie'!B:F,5,FALSE)=\"\",13,VLOOKUP(A14,'1ère partie'!B:E,4,FALSE)))+IF(ISERROR(VLOOKUP(A14,'1ère partie'!F:I,1,FALSE)),0,IF(VLOOKUP(A14,'1ère partie'!F:J,5,FALSE)=\"\",13,VLOOKUP(A14,'1ère partie'!F:I,4,FALSE)))),\"\")","v":""},{"$f":"IF(AND(B14<>\"\",W$1<>0),VALUE(IF(ISERROR(VLOOKUP(A14,'1ère partie'!B:E,1,FALSE)),0,IF(VLOOKUP(A14,'1ère partie'!B:F,5,FALSE)=\"\",7,VLOOKUP(A14,'1ère partie'!B:I,8,FALSE)))+IF(ISERROR(VLOOKUP(A14,'1ère partie'!F:I,1,FALSE)),0,IF(VLOOKUP(A14,'1ère partie'!F:J,5,FALSE)=\"\",7,VLOOKUP(A14,'1ère partie'!F:J,5,FALSE)))),\"\")","v":""},null,{"$f":"IF(AND(B14<>\"\",X$1<>0),VALUE(IF(ISERROR(VLOOKUP(A14,'2ème partie'!B:E,1,FALSE)),0,IF(VLOOKUP(A14,'2ème partie'!B:F,5,FALSE)=\"\",13,VLOOKUP(A14,'2ème partie'!B:E,4,FALSE)))+IF(ISERROR(VLOOKUP(A14,'2ème partie'!F:I,1,FALSE)),0,IF(VLOOKUP(A14,'2ème partie'!F:J,5,FALSE)=\"\",13,VLOOKUP(A14,'2ème partie'!F:I,4,FALSE)))),\"\")","v":""},{"$f":"IF(AND(B14<>\"\",X$1<>0),VALUE(IF(ISERROR(VLOOKUP(A14,'2ème partie'!B:E,1,FALSE)),0,IF(VLOOKUP(A14,'2ème partie'!B:F,5,FALSE)=\"\",7,VLOOKUP(A14,'2ème partie'!B:I,8,FALSE)))+IF(ISERROR(VLOOKUP(A14,'2ème partie'!F:I,1,FALSE)),0,IF(VLOOKUP(A14,'2ème partie'!F:J,5,FALSE)=\"\",7,VLOOKUP(A14,'2ème partie'!F:J,5,FALSE)))),\"\")","v":""},null,{"$f":"IF(AND(B14<>\"\",Y$1<>0),VALUE(IF(ISERROR(VLOOKUP(A14,'3ème partie'!B:E,1,FALSE)),0,IF(VLOOKUP(A14,'3ème partie'!B:F,5,FALSE)=\"\",13,VLOOKUP(A14,'3ème partie'!B:E,4,FALSE)))+IF(ISERROR(VLOOKUP(A14,'3ème partie'!F:I,1,FALSE)),0,IF(VLOOKUP(A14,'3ème partie'!F:J,5,FALSE)=\"\",13,VLOOKUP(A14,'3ème partie'!F:I,4,FALSE)))),\"\")","v":""},{"$f":"IF(AND(B14<>\"\",Y$1<>0),VALUE(IF(ISERROR(VLOOKUP(A14,'3ème partie'!B:E,1,FALSE)),0,IF(VLOOKUP(A14,'3ème partie'!B:F,5,FALSE)=\"\",7,VLOOKUP(A14,'3ème partie'!B:I,8,FALSE)))+IF(ISERROR(VLOOKUP(A14,'3ème partie'!F:I,1,FALSE)),0,IF(VLOOKUP(A14,'3ème partie'!F:J,5,FALSE)=\"\",7,VLOOKUP(A14,'3ème partie'!F:J,5,FALSE)))),\"\")","v":""},{"$f":"IF(D14=\"\",\"\",IF(D14-E14>0,1,0)+IF(G14<>\"\",IF(G14-H14>0,1,0),0)+IF(J14<>\"\",IF(J14-K14>0,1,0),0))","v":""},{"$f":"IF(AND(D14<>\"\",G14<>\"\",J14<>\"\"),D14+G14+J14,IF(AND(D14<>\"\",G14<>\"\"),D14+G14,IF(D14<>\"\",D14,\"\")))","v":""},{"$f":"IF(AND(E14<>\"\",H14<>\"\",K14<>\"\"),E14+H14+K14,IF(AND(E14<>\"\",H14<>\"\"),E14+H14,IF(E14<>\"\",E14,\"\")))","v":""},null,null,{"$f":"IF(B14<>\"\",IF(L14=3,0,MIN(IF(E14-D14>0,E14-D14,14),IF(H14-G14>0,H14-G14,14),IF(K14-J14>0,K14-J14,14))),\"\")","v":""},{"$f":"IF(B14<>\"\",MAX(IF(D14-E14>0,D14-E14,0),IF(G14-H14>0,G14-H14,0),IF(J14-K14>0,J14-K14,0)),\"\")","v":""},null,null,null,null,{"$f":"IF(B14<>\"\",VALUE(IF(ISERROR(VLOOKUP(A14,'1ère partie'!B:F,1,FALSE)),0,VLOOKUP(A14,'1ère partie'!B:F,5,FALSE))+IF(ISERROR(VLOOKUP(A14,'1ère partie'!F:L,1,FALSE)),0,VLOOKUP(A14,'1ère partie'!F:L,7,FALSE))),\"\")","v":""},{"$f":"IF(B14<>\"\",VALUE(IF(ISERROR(VLOOKUP(A14,'2ème partie'!B:F,1,FALSE)),0,VLOOKUP(A14,'2ème partie'!B:F,5,FALSE))+IF(ISERROR(VLOOKUP(A14,'2ème partie'!F:L,1,FALSE)),0,VLOOKUP(A14,'2ème partie'!F:L,7,FALSE))),\"\")","v":""},{"$f":"IF(B14<>\"\",VALUE(IF(ISERROR(VLOOKUP(A14,'3ème partie'!B:F,1,FALSE)),0,VLOOKUP(A14,'3ème partie'!B:F,5,FALSE))+IF(ISERROR(VLOOKUP(A14,'3ème partie'!F:L,1,FALSE)),0,VLOOKUP(A14,'3ème partie'!F:L,7,FALSE))),\"\")","v":""},null,null,11,""]
[12,{"$f":"IF(VLOOKUP(A15,Equipes!A:B,2,FALSE)<>\"\",VLOOKUP(A15,Equipes!A:B,2,FALSE),\"\")","v":""},{"$f":"IF(VLOOKUP(A15,Equipes!A:C,3,FALSE)<>\"\",VLOOKUP(A15,Equipes!A:C,3,FALSE),\"\")","v":""},{"$f":"IF(AND(B15<>\"\",W$1<>0),VALUE(IF(ISERROR(VLOOKUP(A15,'1ère partie'!B:E,1,FALSE)),0,IF(VLOOKUP(A15,'1ère partie'!B:F,5,FALSE)=\"\",13,VLOOKUP(A15,'1ère partie'!B:E,4,FALSE)))+IF(ISERROR(VLOOKUP(A15,'1ère partie'!F:I,1,FALSE)),0,IF(VLOOKUP(A15,'1ère partie'!F:J,5,FALSE)=\"\",13,VLOOKUP(A15,'1ère partie'!F:I,4,FALSE)))),\"\")","v":""},{"$f":"IF(AND(B15<>\"\",W$1<>0),VALUE(IF(ISERROR(VLOOKUP(A15,'1ère partie'!B:E,1,FALSE)),0,IF(VLOOKUP(A15,'1ère partie'!B:F,5,FALSE)=\"\",7,VLOOKUP(A15,'1ère partie'!B:I,8,FALSE)))+IF(ISERROR(VLOOKUP(A15,'1ère partie'!F:I,1,FALSE)),0,IF(VLOOKUP(A15,'1ère partie'!F:J,5,FALSE)=\"\",7,VLOOKUP(A15,'1ère partie'!F:J,5,FALSE)))),\"\")","v":""},null,{"$f":"IF(AND(B15<>\"\",X$1<>0),VALUE(IF(ISERROR(VLOOKUP(A15,'2ème partie'!B:E,1,FALSE)),0,IF(VLOOKUP(A15,'2ème partie'!B:F,5,FALSE)=\"\",13,VLOOKUP(A15,'2ème partie'!B:E,4,FALSE)))+IF(ISERROR(VLOOKUP(A15,'2ème partie'!F:I,1,FALSE)),0,IF(VLOOKUP(A15,'2ème partie'!F:J,5,FALSE)=\"\",13,VLOOKUP(A15,'2ème partie'!F:I,4,FALSE)))),\"\")","v":""},{"$f":"IF(AND(B15<>\"\",X$1<>0),VALUE(IF(ISERROR(VLOOKUP(A15,'2ème partie'!B:E,1,FALSE)),0,IF(VLOOKUP(A15,'2ème partie'!B:F,5,FALSE)=\"\",7,VLOOKUP(A15,'2ème partie'!B:I,8,FALSE)))+IF(ISERROR(VLOOKUP(A15,'2ème partie'!F:I,1,FALSE)),0,IF(VLOOKUP(A15,'2ème partie'!F:J,5,FALSE)=\"\",7,VLOOKUP(A15,'2ème partie'!F:J,5,FALSE)))),\"\")","v":""},null,{"$f":"IF(AND(B15<>\"\",Y$1<>0),VALUE(IF(ISERROR(VLOOKUP(A15,'3ème partie'!B:E,1,FALSE)),0,IF(VLOOKUP(A15,'3ème partie'!B:F,5,FALSE)=\"\",13,VLOOKUP(A15,'3ème partie'!B:E,4,FALSE)))+IF(ISERROR(VLOOKUP(A15,'3ème partie'!F:I,1,FALSE)),0,IF(VLOOKUP(A15,'3ème partie'!F:J,5,FALSE)=\"\",13,VLOOKUP(A15,'3ème partie'!F:I,4,FALSE)))),\"\")","v":""},{"$f":"IF(AND(B15<>\"\",Y$1<>0),VALUE(IF(ISERROR(VLOOKUP(A15,'3ème partie'!B:E,1,FALSE)),0,IF(VLOOKUP(A15,'3ème partie'!B:F,5,FALSE)=\"\",7,VLOOKUP(A15,'3ème partie'!B:I,8,FALSE)))+IF(ISERROR(VLOOKUP(A15,'3ème partie'!F:I,1,FALSE)),0,IF(VLOOKUP(A15,'3ème partie'!F:J,5,FALSE)=\"\",7,VLOOKUP(A15,'3ème partie'!F:J,5,FALSE)))),\"\")","v":""},{"$f":"IF(D15=\"\",\"\",IF(D15-E15>0,1,0)+IF(G15<>\"\",IF(G15-H15>0,1,0),0)+IF(J15<>\"\",IF(J15-K15>0,1,0),0))","v":""},{"$f":"IF(AND(D15<>\"\",G15<>\"\",J15<>\"\"),D15+G15+J15,IF(AND(D15<>\"\",G15<>\"\"),D15+G15,IF(D15<>\"\",D15,\"\")))","v":""},{"$f":"IF(AND(E15<>\"\",H15<>\"\",K15<>\"\"),E15+H15+K15,IF(AND(E15<>\"\",H15<>\"\"),E15+H15,IF(E15<>\"\",E15,\"\")))","v":""},null,null,{"$f":"IF(B15<>\"\",IF(L15=3,0,MIN(IF(E15-D15>0,E15-D15,14),IF(H15-G15>0,H15-G15,14),IF(K15-J15>0,K15-J15,14))),\"\")","v":""},{"$f":"IF(B15<>\"\",MAX(IF(D15-E15>0,D15-E15,0),IF(G15-H15>0,G15-H15,0),IF(J15-K15>0,J15-K15,0)),\"\")","v":""},null,null,null,null,{"$f":"IF(B15<>\"\",VALUE(IF(ISERROR(VLOOKUP(A15,'1ère partie'!B:F,1,FALSE)),0,VLOOKUP(A15,'1ère partie'!B:F,5,FALSE))+IF(ISERROR(VLOOKUP(A15,'1ère partie'!F:L,1,FALSE)),0,VLOOKUP(A15,'1ère partie'!F:L,7,FALSE))),\"\")","v":""},{"$f":"IF(B15<>\"\",VALUE(IF(ISERROR(VLOOKUP(A15,'2ème partie'!B:F,1,FALSE)),0,VLOOKUP(A15,'2ème partie'!B:F,5,FALSE))+IF(ISERROR(VLOOKUP(A15,'2ème partie'!F:L,1,FALSE)),0,VLOOKUP(A15,'2ème partie'!F:L,7,FALSE))),\"\")","v":""},{"$f":"IF(B15<>\"\",VALUE(IF(ISERROR(VLOOKUP(A15,'3ème partie'!B:F,1,FALSE)),0,VLOOKUP(A15,'3ème partie'!B:F,5,FALSE))+IF(ISERROR(VLOOKUP(A15,'3ème partie'!F:L,1,FALSE)),0,VLOOKUP(A15,'3ème partie'!F:L,7,FALSE))),\"\")","v":""},null,null,12,""]
[13,{"$f":"IF(VLOOKUP(A16,Equipes!A:B,2,FALSE)<>\"\",VLOOKUP(A16,Equipes!A:B,2,FALSE),\"\")","v":""},{"$f":"IF(VLOOKUP(A16,Equipes!A:C,3,FALSE)<>\"\",VLOOKUP(A16,Equipes!A:C,3,FALSE),\"\")","v":""},{"$f":"IF(AND(B16<>\"\",W$1<>0),VALUE(IF(ISERROR(VLOOKUP(A16,'1ère partie'!B:E,1,FALSE)),0,IF(VLOOKUP(A16,'1ère partie'!B:F,5,FALSE)=\"\",13,VLOOKUP(A16,'1ère partie'!B:E,4,FALSE)))+IF(ISERROR(VLOOKUP(A16,'1ère partie'!F:I,1,FALSE)),0,IF(VLOOKUP(A16,'1ère partie'!F:J,5,FALSE)=\"\",13,VLOOKUP(A16,'1ère partie'!F:I,4,FALSE)))),\"\")","v":""},{"$f":"IF(AND(B16<>\"\",W$1<>0),VALUE(IF(ISERROR(VLOOKUP(A16,'1ère partie'!B:E,1,FALSE)),0,IF(VLOOKUP(A16,'1ère partie'!B:F,5,FALSE)=\"\",7,VLOOKUP(A16,'1ère partie'!B:I,8,FALSE)))+IF(ISERROR(VLOOKUP(A16,'1ère partie'!F:I,1,FALSE)),0,IF(VLOOKUP(A16,'1ère partie'!F:J,5,FALSE)=\"\",7,VLOOKUP(A16,'1ère partie'!F:J,5,FALSE)))),\"\")","v":""},null,{"$f":"IF(AND(B16<>\"\",X$1<>0),VALUE(IF(ISERROR(VLOOKUP(A16,'2ème partie'!B:E,1,FALSE)),0,IF(VLOOKUP(A16,'2ème partie'!B:F,5,FALSE)=\"\",13,VLOOKUP(A16,'2ème partie'!B:E,4,FALSE)))+IF(ISERROR(VLOOKUP(A16,'2ème partie'!F:I,1,FALSE)),0,IF(VLOOKUP(A16,'2ème partie'!F:J,5,FALSE)=\"\",13,VLOOKUP(A16,'2ème partie'!F:I,4,FALSE)))),\"\")","v":""},{"$f":"IF(AND(B16<>\"\",X$1<>0),VALUE(IF(ISERROR(VLOOKUP(A16,'2ème partie'!B:E,1,FALSE)),0,IF(VLOOKUP(A16,'2ème partie'!B:F,5,FALSE)=\"\",7,VLOOKUP(A16,'2ème partie'!B:I,8,FALSE)))+IF(ISERROR(VLOOKUP(A16,'2ème partie'!F:I,1,FALSE)),0,IF(VLOOKUP(A16,'2ème partie'!F:J,5,FALSE)=\"\",7,VLOOKUP(A16,'2ème partie'!F:J,5,FALSE)))),\"\")","v":""},null,{"$f":"IF(AND(B16<>\"\",Y$1<>0),VALUE(IF(ISERROR(VLOOKUP(A16,'3ème partie'!B:E,1,FALSE)),0,IF(VLOOKUP(A16,'3ème partie'!B:F,5,FALSE)=\"\",13,VLOOKUP(A16,'3ème partie'!B:E,4,FALSE)))+IF(ISERROR(VLOOKUP(A16,'3ème partie'!F:I,1,FALSE)),0,IF(VLOOKUP(A16,'3ème partie'!F:J,5,FALSE)=\"\",13,VLOOKUP(A16,'3ème partie'!F:I,4,FALSE)))),\"\")","v":""},{"$f":"IF(AND(B16<>\"\",Y$1<>0),VALUE(IF(ISERROR(VLOOKUP(A16,'3ème partie'!B:E,1,FALSE)),0,IF(VLOOKUP(A16,'3ème partie'!B:F,5,FALSE)=\"\",7,VLOOKUP(A16,'3ème partie'!B:I,8,FALSE)))+IF(ISERROR(VLOOKUP(A16,'3ème partie'!F:I,1,FALSE)),0,IF(VLOOKUP(A16,'3ème partie'!F:J,5,FALSE)=\"\",7,VLOOKUP(A16,'3ème partie'!F:J,5,FALSE)))),\"\")","v":""},{"$f":"IF(D16=\"\",\"\",IF(D16-E16>0,1,0)+IF(G16<>\"\",IF(G16-H16>0,1,0),0)+IF(J16<>\"\",IF(J16-K16>0,1,0),0))","v":""},{"$f":"IF(AND(D16<>\"\",G16<>\"\",J16<>\"\"),D16+G16+J16,IF(AND(D16<>\"\",G16<>\"\"),D16+G16,IF(D16<>\"\",D16,\"\")))","v":""},{"$f":"IF(AND(E16<>\"\",H16<>\"\",K16<>\"\"),E16+H16+K16,IF(AND(E16<>\"\",H16<>\"\"),E16+H16,IF(E16<>\"\",E16,\"\")))","v":""},null,null,{"$f":"IF(B16<>\"\",IF(L16=3,0,MIN(IF(E16-D16>0,E16-D16,14),IF(H16-G16>0,H16-G16,14),IF(K16-J16>0,K16-J16,14))),\"\")","v":""},{"$f":"IF(B16<>\"\",MAX(IF(D16-E16>0,D16-E16,0),IF(G16-H16>0,G16-H16,0),IF(J16-K16>0,J16-K16,0)),\"\")","v":""},null,null,null,null,{"$f":"IF(B16<>\"\",VALUE(IF(ISERROR(VLOOKUP(A16,'1ère partie'!B:F,1,FALSE)),0,VLOOKUP(A16,'1ère partie'!B:F,5,FALSE))+IF(ISERROR(VLOOKUP(A16,'1ère partie'!F:L,1,FALSE)),0,VLOOKUP(A16,'1ère partie'!F:L,7,FALSE))),\"\")","v":""},{"$f":"IF(B16<>\"\",VALUE(IF(ISERROR(VLOOKUP(A16,'2ème partie'!B:F,1,FALSE)),0,VLOOKUP(A16,'2ème partie'!B:F,5,FALSE))+IF(ISERROR(VLOOKUP(A16,'2ème partie'!F:L,1,FALSE)),0,VLOOKUP(A16,'2ème partie'!F:L,7,FALSE))),\"\")","v":""},{"$f":"IF(B16<>\"\",VALUE(IF(ISERROR(VLOOKUP(A16,'3ème partie'!B:F,1,FALSE)),0,VLOOKUP(A16,'3ème partie'!B:F,5,FALSE))+IF(ISERROR(VLOOKUP(A16,'3ème partie'!F:L,1,FALSE)),0,VLOOKUP(A16,'3ème partie'!F:L,7,FALSE))),\"\")","v":""},null,null,13,""]
[14,{"$f":"IF(VLOOKUP(A17,Equipes!A:B,2,FALSE)<>\"\",VLOOKUP(A17,Equipes!A:B,2,FALSE),\"\")","v":""},{"$f":"IF(VLOOKUP(A17,Equipes!A:C,3,FALSE)<>\"\",VLOOKUP(A17,Equipes!A:C,3,FALSE),\"\")","v":""},{"$f":"IF(AND(B17<>\"\",W$1<>0),VALUE(IF(ISERROR(VLOOKUP(A17,'1ère partie'!B:E,1,FALSE)),0,IF(VLOOKUP(A17,'1ère partie'!B:F,5,FALSE)=\"\",13,VLOOKUP(A17,'1ère partie'!B:E,4,FALSE)))+IF(ISERROR(VLOOKUP(A17,'1ère partie'!F:I,1,FALSE)),0,IF(VLOOKUP(A17,'1ère partie'!F:J,5,FALSE)=\"\",13,VLOOKUP(A17,'1ère partie'!F:I,4,FALSE)))),\"\")","v":""},{"$f":"IF(AND(B17<>\"\",W$1<>0),VALUE(IF(ISERROR(VLOOKUP(A17,'1ère partie'!B:E,1,FALSE)),0,IF(VLOOKUP(A17,'1ère partie'!B:F,5,FALSE)=\"\",7,VLOOKUP(A17,'1ère partie'!B:I,8,FALSE)))+IF(ISERROR(VLOOKUP(A17,'1ère partie'!F:I,1,FALSE)),0,IF(VLOOKUP(A17,'1ère partie'!F:J,5,FALSE)=\"\",7,VLOOKUP(A17,'1ère partie'!F:J,5,FALSE)))),\"\")","v":""},null,{"$f":"IF(AND(B17<>\"\",X$1<>0),VALUE(IF(ISERROR(VLOOKUP(A17,'2ème partie'!B:E,1,FALSE)),0,IF(VLOOKUP(A17,'2ème partie'!B:F,5,FALSE)=\"\",13,VLOOKUP(A17,'2ème partie'!B:E,4,FALSE)))+IF(ISERROR(VLOOKUP(A17,'2ème partie'!F:I,1,FALSE)),0,IF(VLOOKUP(A17,'2ème partie'!F:J,5,FALSE)=\"\",13,VLOOKUP(A17,'2ème partie'!F:I,4,FALSE)))),\"\")","v":""},{"$f":"IF(AND(B17<>\"\",X$1<>0),VALUE(IF(ISERROR(VLOOKUP(A17,'2ème partie'!B:E,1,FALSE)),0,IF(VLOOKUP(A17,'2ème partie'!B:F,5,FALSE)=\"\",7,VLOOKUP(A17,'2ème partie'!B:I,8,FALSE)))+IF(ISERROR(VLOOKUP(A17,'2ème partie'!F:I,1,FALSE)),0,IF(VLOOKUP(A17,'2ème partie'!F:J,5,FALSE)=\"\",7,VLOOKUP(A17,'2ème partie'!F:J,5,FALSE)))),\"\")","v":""},null,{"$f":"IF(AND(B17<>\"\",Y$1<>0),VALUE(IF(ISERROR(VLOOKUP(A17,'3ème partie'!B:E,1,FALSE)),0,IF(VLOOKUP(A17,'3ème partie'!B:F,5,FALSE)=\"\",13,VLOOKUP(A17,'3ème partie'!B:E,4,FALSE)))+IF(ISERROR(VLOOKUP(A17,'3ème partie'!F:I,1,FALSE)),0,IF(VLOOKUP(A17,'3ème partie'!F:J,5,FALSE)=\"\",13,VLOOKUP(A17,'3ème partie'!F:I,4,FALSE)))),\"\")","v":""},{"$f":"IF(AND(B17<>\"\",Y$1<>0),VALUE(IF(ISERROR(VLOOKUP(A17,'3ème partie'!B:E,1,FALSE)),0,IF(VLOOKUP(A17,'3ème partie'!B:F,5,FALSE)=\"\",7,VLOOKUP(A17,'3ème partie'!B:I,8,FALSE)))+IF(ISERROR(VLOOKUP(A17,'3ème partie'!F:I,1,FALSE)),0,IF(VLOOKUP(A17,'3ème partie'!F:J,5,FALSE)=\"\",7,VLOOKUP(A17,'3ème partie'!F:J,5,FALSE)))),\"\")","v":""},{"$f":"IF(D17=\"\",\"\",IF(D17-E17>0,1,0)+IF(G17<>\"\",IF(G17-H17>0,1,0),0)+IF(J17<>\"\",IF(J17-K17>0,1,0),0))","v":""},{"$f":"IF(AND(D17<>\"\",G17<>\"\",J17<>\"\"),D17+G17+J17,IF(AND(D17<>\"\",G17<>\"\"),D17+G17,IF(D17<>\"\",D17,\"\")))","v":""},{"$f":"IF(AND(E17<>\"\",H17<>\"\",K17<>\"\"),E17+H17+K17,IF(AND(E17<>\"\",H17<>\"\"),E17+H17,IF(E17<>\"\",E17,\"\")))","v":""},null,null,{"$f":"IF(B17<>\"\",IF(L17=3,0,MIN(IF(E17-D17>0,E17-D17,14),IF(H17-G17>0,H17-G17,14),IF(K17-J17>0,K17-J17,14))),\"\")","v":""},{"$f":"IF(B17<>\"\",MAX(IF(D17-E17>0,D17-E17,0),IF(G17-H17>0,G17-H17,0),IF(J17-K17>0,J17-K17,0)),\"\")","v":""},null,null,null,null,{"$f":"IF(B17<>\"\",VALUE(IF(ISERROR(VLOOKUP(A17,'1ère partie'!B:F,1,FALSE)),0,VLOOKUP(A17,'1ère partie'!B:F,5,FALSE))+IF(ISERROR(VLOOKUP(A17,'1ère partie'!F:L,1,FALSE)),0,VLOOKUP(A17,'1ère partie'!F:L,7,FALSE))),\"\")","v":""},{"$f":"IF(B17<>\"\",VALUE(IF(ISERROR(VLOOKUP(A17,'2ème partie'!B:F,1,FALSE)),0,VLOOKUP(A17,'2ème partie'!B:F,5,FALSE))+IF(ISERROR(VLOOKUP(A17,'2ème partie'!F:L,1,FALSE)),0,VLOOKUP(A17,'2ème partie'!F:L,7,FALSE))),\"\")","v":""},{"$f":"IF(B17<>\"\",VALUE(IF(ISERROR(VLOOKUP(A17,'3ème partie'!B:F,1,FALSE)),0,VLOOKUP(A17,'3ème partie'!B:F,5,FALSE))+IF(ISERROR(VLOOKUP(A17,'3ème partie'!F:L,1,FALSE)),0,VLOOKUP(A17,'3ème partie'!F:L,7,FALSE))),\"\")","v":""},null,null,14,""]
[15,{"$f":"IF(VLOOKUP(A18,Equipes!A:B,2,FALSE)<>\"\",VLOOKUP(A18,Equipes!A:B,2,FALSE),\"\")","v":""},{"$f":"IF(VLOOKUP(A18,Equipes!A:C,3,FALSE)<>\"\",VLOOKUP(A18,Equipes!A:C,3,FALSE),\"\")","v":""},{"$f":"IF(AND(B18<>\"\",W$1<>0),VALUE(IF(ISERROR(VLOOKUP(A18,'1ère partie'!B:E,1,FALSE)),0,IF(VLOOKUP(A18,'1ère partie'!B:F,5,FALSE)=\"\",13,VLOOKUP(A18,'1ère partie'!B:E,4,FALSE)))+IF(ISERROR(VLOOKUP(A18,'1ère partie'!F:I,1,FALSE)),0,IF(VLOOKUP(A18,'1ère partie'!F:J,5,FALSE)=\"\",13,VLOOKUP(A18,'1ère partie'!F:I,4,FALSE)))),\"\")","v":""},{"$f":"IF(AND(B18<>\"\",W$1<>0),VALUE(IF(ISERROR(VLOOKUP(A18,'1ère partie'!B:E,1,FALSE)),0,IF(VLOOKUP(A18,'1ère partie'!B:F,5,FALSE)=\"\",7,VLOOKUP(A18,'1ère partie'!B:I,8,FALSE)))+IF(ISERROR(VLOOKUP(A18,'1ère partie'!F:I,1,FALSE)),0,IF(VLOOKUP(A18,'1ère partie'!F:J,5,FALSE)=\"\",7,VLOOKUP(A18,'1ère partie'!F:J,5,FALSE)))),\"\")","v":""},null,{"$f":"IF(AND(B18<>\"\",X$1<>0),VALUE(IF(ISERROR(VLOOKUP(A18,'2ème partie'!B:E,1,FALSE)),0,IF(VLOOKUP(A18,'2ème partie'!B:F,5,FALSE)=\"\",13,VLOOKUP(A18,'2ème partie'!B:E,4,FALSE)))+IF(ISERROR(VLOOKUP(A18,'2ème partie'!F:I,1,FALSE)),0,IF(VLOOKUP(A18,'2ème partie'!F:J,5,FALSE)=\"\",13,VLOOKUP(A18,'2ème partie'!F:I,4,FALSE)))),\"\")","v":""},{"$f":"IF(AND(B18<>\"\",X$1<>0),VALUE(IF(ISERROR(VLOOKUP(A18,'2ème partie'!B:E,1,FALSE)),0,IF(VLOOKUP(A18,'2ème partie'!B:F,5,FALSE)=\"\",7,VLOOKUP(A18,'2ème partie'!B:I,8,FALSE)))+IF(ISERROR(VLOOKUP(A18,'2ème partie'!F:I,1,FALSE)),0,IF(VLOOKUP(A18,'2ème partie'!F:J,5,FALSE)=\"\",7,VLOOKUP(A18,'2ème partie'!F:J,5,FALSE)))),\"\")","v":""},null,{"$f":"IF(AND(B18<>\"\",Y$1<>0),VALUE(IF(ISERROR(VLOOKUP(A18,'3ème partie'!B:E,1,FALSE)),0,IF(VLOOKUP(A18,'3ème partie'!B:F,5,FALSE)=\"\",13,VLOOKUP(A18,'3ème partie'!B:E,4,FALSE)))+IF(ISERROR(VLOOKUP(A18,'3ème partie'!F:I,1,FALSE)),0,IF(VLOOKUP(A18,'3ème partie'!F:J,5,FALSE)=\"\",13,VLOOKUP(A18,'3ème partie'!F:I,4,FALSE)))),\"\")","v":""},{"$f":"IF(AND(B18<>\"\",Y$1<>0),VALUE(IF(ISERROR(VLOOKUP(A18,'3ème partie'!B:E,1,FALSE)),0,IF(VLOOKUP(A18,'3ème partie'!B:F,5,FALSE)=\"\",7,VLOOKUP(A18,'3ème partie'!B:I,8,FALSE)))+IF(ISERROR(VLOOKUP(A18,'3ème partie'!F:I,1,FALSE)),0,IF(VLOOKUP(A18,'3ème partie'!F:J,5,FALSE)=\"\",7,VLOOKUP(A18,'3ème partie'!F:J,5,FALSE)))),\"\")","v":""},{"$f":"IF(D18=\"\",\"\",IF(D18-E18>0,1,0)+IF(G18<>\"\",IF(G18-H18>0,1,0),0)+IF(J18<>\"\",IF(J18-K18>0,1,0),0))","v":""},{"$f":"IF(AND(D18<>\"\",G18<>\"\",J18<>\"\"),D18+G18+J18,IF(AND(D18<>\"\",G18<>\"\"),D18+G18,IF(D18<>\"\",D18,\"\")))","v":""},{"$f":"IF(AND(E18<>\"\",H18<>\"\",K18<>\"\"),E18+H18+K18,IF(AND(E18<>\"\",H18<>\"\"),E18+H18,IF(E18<>\"\",E18,\"\")))","v":""},null,null,{"$f":"IF(B18<>\"\",IF(L18=3,0,MIN(IF(E18-D18>0,E18-D18,14),IF(H18-G18>0,H18-G18,14),IF(K18-J18>0,K18-J18,14))),\"\")","v":""},{"$f":"IF(B18<>\"\",MAX(IF(D18-E18>0,D18-E18,0),IF(G18-H18>0,G18-H18,0),IF(J18-K18>0,J18-K18,0)),\"\")","v":""},null,null,null,null,{"$f":"IF(B18<>\"\",VALUE(IF(ISERROR(VLOOKUP(A18,'1ère partie'!B:F,1,FALSE)),0,VLOOKUP(A18,'1ère partie'!B:F,5,FALSE))+IF(ISERROR(VLOOKUP(A18,'1ère partie'!F:L,1,FALSE)),0,VLOOKUP(A18,'1ère partie'!F:L,7,FALSE))),\"\")","v":""},{"$f":"IF(B18<>\"\",VALUE(IF(ISERROR(VLOOKUP(A18,'2ème partie'!B:F,1,FALSE)),0,VLOOKUP(A18,'2ème partie'!B:F,5,FALSE))+IF(ISERROR(VLOOKUP(A18,'2ème partie'!F:L,1,FALSE)),0,VLOOKUP(A18,'2ème partie'!F:L,7,FALSE))),\"\")","v":""},{"$f":"IF(B18<>\"\",VALUE(IF(ISERROR(VLOOKUP(A18,'3ème partie'!B:F,1,FALSE)),0,VLOOKUP(A18,'3ème partie'!B:F,5,FALSE))+IF(ISERROR(VLOOKUP(A18,'3ème partie'!F:L,1,FALSE)),0,VLOOKUP(A18,'3ème partie'!F:L,7,FALSE))),\"\")","v":""},null,null,15,""]
[16,{"$f":"IF(VLOOKUP(A19,Equipes!A:B,2,FALSE)<>\"\",VLOOKUP(A19,Equipes!A:B,2,FALSE),\"\")","v":""},{"$f":"IF(VLOOKUP(A19,Equipes!A:C,3,FALSE)<>\"\",VLOOKUP(A19,Equipes!A:C,3,FALSE),\"\")","v":""},{"$f":"IF(AND(B19<>\"\",W$1<>0),VALUE(IF(ISERROR(VLOOKUP(A19,'1ère partie'!B:E,1,FALSE)),0,IF(VLOOKUP(A19,'1ère partie'!B:F,5,FALSE)=\"\",13,VLOOKUP(A19,'1ère partie'!B:E,4,FALSE)))+IF(ISERROR(VLOOKUP(A19,'1ère partie'!F:I,1,FALSE)),0,IF(VLOOKUP(A19,'1ère partie'!F:J,5,FALSE)=\"\",13,VLOOKUP(A19,'1ère partie'!F:I,4,FALSE)))),\"\")","v":""},{"$f":"IF(AND(B19<>\"\",W$1<>0),VALUE(IF(ISERROR(VLOOKUP(A19,'1ère partie'!B:E,1,FALSE)),0,IF(VLOOKUP(A19,'1ère partie'!B:F,5,FALSE)=\"\",7,VLOOKUP(A19,'1ère partie'!B:I,8,FALSE)))+IF(ISERROR(VLOOKUP(A19,'1ère partie'!F:I,1,FALSE)),0,IF(VLOOKUP(A19,'1ère partie'!F:J,5,FALSE)=\"\",7,VLOOKUP(A19,'1ère partie'!F:J,5,FALSE)))),\"\")","v":""},null,{"$f":"IF(AND(B19<>\"\",X$1<>0),VALUE(IF(ISERROR(VLOOKUP(A19,'2ème partie'!B:E,1,FALSE)),0,IF(VLOOKUP(A19,'2ème partie'!B:F,5,FALSE)=\"\",13,VLOOKUP(A19,'2ème partie'!B:E,4,FALSE)))+IF(ISERROR(VLOOKUP(A19,'2ème partie'!F:I,1,FALSE)),0,IF(VLOOKUP(A19,'2ème partie'!F:J,5,FALSE)=\"\",13,VLOOKUP(A19,'2ème partie'!F:I,4,FALSE)))),\"\")","v":""},{"$f":"IF(AND(B19<>\"\",X$1<>0),VALUE(IF(ISERROR(VLOOKUP(A19,'2ème partie'!B:E,1,FALSE)),0,IF(VLOOKUP(A19,'2ème partie'!B:F,5,FALSE)=\"\",7,VLOOKUP(A19,'2ème partie'!B:I,8,FALSE)))+IF(ISERROR(VLOOKUP(A19,'2ème partie'!F:I,1,FALSE)),0,IF(VLOOKUP(A19,'2ème partie'!F:J,5,FALSE)=\"\",7,VLOOKUP(A19,'2ème partie'!F:J,5,FALSE)))),\"\")","v":""},null,{"$f":"IF(AND(B19<>\"\",Y$1<>0),VALUE(IF(ISERROR(VLOOKUP(A19,'3ème partie'!B:E,1,FALSE)),0,IF(VLOOKUP(A19,'3ème partie'!B:F,5,FALSE)=\"\",13,VLOOKUP(A19,'3ème partie'!B:E,4,FALSE)))+IF(ISERROR(VLOOKUP(A19,'3ème partie'!F:I,1,FALSE)),0,IF(VLOOKUP(A19,'3ème partie'!F:J,5,FALSE)=\"\",13,VLOOKUP(A19,'3ème partie'!F:I,4,FALSE)))),\"\")","v":""},{"$f":"IF(AND(B19<>\"\",Y$1<>0),VALUE(IF(ISERROR(VLOOKUP(A19,'3ème partie'!B:E,1,FALSE)),0,IF(VLOOKUP(A19,'3ème partie'!B:F,5,FALSE)=\"\",7,VLOOKUP(A19,'3ème partie'!B:I,8,FALSE)))+IF(ISERROR(VLOOKUP(A19,'3ème partie'!F:I,1,FALSE)),0,IF(VLOOKUP(A19,'3ème partie'!F:J,5,FALSE)=\"\",7,VLOOKUP(A19,'3ème partie'!F:J,5,FALSE)))),\"\")","v":""},{"$f":"IF(D19=\"\",\"\",IF(D19-E19>0,1,0)+IF(G19<>\"\",IF(G19-H19>0,1,0),0)+IF(J19<>\"\",IF(J19-K19>0,1,0),0))","v":""},{"$f":"IF(AND(D19<>\"\",G19<>\"\",J19<>\"\"),D19+G19+J19,IF(AND(D19<>\"\",G19<>\"\"),D19+G19,IF(D19<>\"\",D19,\"\")))","v":""},{"$f":"IF(AND(E19<>\"\",H19<>\"\",K19<>\"\"),E19+H19+K19,IF(AND(E19<>\"\",H19<>\"\"),E19+H19,IF(E19<>\"\",E19,\"\")))","v":""},null,null,{"$f":"IF(B19<>\"\",IF(L19=3,0,MIN(IF(E19-D19>0,E19-D19,14),IF(H19-G19>0,H19-G19,14),IF(K19-J19>0,K19-J19,14))),\"\")","v":""},{"$f":"IF(B19<>\"\",MAX(IF(D19-E19>0,D19-E19,0),IF(G19-H19>0,G19-H19,0),IF(J19-K19>0,J19-K19,0)),\"\")","v":""},null,null,null,null,{"$f":"IF(B19<>\"\",VALUE(IF(ISERROR(VLOOKUP(A19,'1ère partie'!B:F,1,FALSE)),0,VLOOKUP(A19,'1ère partie'!B:F,5,FALSE))+IF(ISERROR(VLOOKUP(A19,'1ère partie'!F:L,1,FALSE)),0,VLOOKUP(A19,'1ère partie'!F:L,7,FALSE))),\"\")","v":""},{"$f":"IF(B19<>\"\",VALUE(IF(ISERROR(VLOOKUP(A19,'2ème partie'!B:F,1,FALSE)),0,VLOOKUP(A19,'2ème partie'!B:F,5,FALSE))+IF(ISERROR(VLOOKUP(A19,'2ème partie'!F:L,1,FALSE)),0,VLOOKUP(A19,'2ème partie'!F:L,7,FALSE))),\"\")","v":""},{"$f":"IF(B19<>\"\",VALUE(IF(ISERROR(VLOOKUP(A19,'3ème partie'!B:F,1,FALSE)),0,VLOOKUP(A19,'3ème partie'!B:F,5,FALSE))+IF(ISERROR(VLOOKUP(A19,'3ème partie'!F:L,1,FALSE)),0,VLOOKUP(A19,'3ème partie'!F:L,7,FALSE))),\"\")","v":""},null,null,16,""]
[17,{"$f":"IF(VLOOKUP(A20,Equipes!A:B,2,FALSE)<>\"\",VLOOKUP(A20,Equipes!A:B,2,FALSE),\"\")","v":""},{"$f":"IF(VLOOKUP(A20,Equipes!A:C,3,FALSE)<>\"\",VLOOKUP(A20,Equipes!A:C,3,FALSE),\"\")","v":""},{"$f":"IF(AND(B20<>\"\",W$1<>0),VALUE(IF(ISERROR(VLOOKUP(A20,'1ère partie'!B:E,1,FALSE)),0,IF(VLOOKUP(A20,'1ère partie'!B:F,5,FALSE)=\"\",13,VLOOKUP(A20,'1ère partie'!B:E,4,FALSE)))+IF(ISERROR(VLOOKUP(A20,'1ère partie'!F:I,1,FALSE)),0,IF(VLOOKUP(A20,'1ère partie'!F:J,5,FALSE)=\"\",13,VLOOKUP(A20,'1ère partie'!F:I,4,FALSE)))),\"\")","v":""},{"$f":"IF(AND(B20<>\"\",W$1<>0),VALUE(IF(ISERROR(VLOOKUP(A20,'1ère partie'!B:E,1,FALSE)),0,IF(VLOOKUP(A20,'1ère partie'!B:F,5,FALSE)=\"\",7,VLOOKUP(A20,'1ère partie'!B:I,8,FALSE)))+IF(ISERROR(VLOOKUP(A20,'1ère partie'!F:I,1,FALSE)),0,IF(VLOOKUP(A20,'1ère partie'!F:J,5,FALSE)=\"\",7,VLOOKUP(A20,'1ère partie'!F:J,5,FALSE)))),\"\")","v":""},null,{"$f":"IF(AND(B20<>\"\",X$1<>0),VALUE(IF(ISERROR(VLOOKUP(A20,'2ème partie'!B:E,1,FALSE)),0,IF(VLOOKUP(A20,'2ème partie'!B:F,5,FALSE)=\"\",13,VLOOKUP(A20,'2ème partie'!B:E,4,FALSE)))+IF(ISERROR(VLOOKUP(A20,'2ème partie'!F:I,1,FALSE)),0,IF(VLOOKUP(A20,'2ème partie'!F:J,5,FALSE)=\"\",13,VLOOKUP(A20,'2ème partie'!F:I,4,FALSE)))),\"\")","v":""},{"$f":"IF(AND(B20<>\"\",X$1<>0),VALUE(IF(ISERROR(VLOOKUP(A20,'2ème partie'!B:E,1,FALSE)),0,IF(VLOOKUP(A20,'2ème partie'!B:F,5,FALSE)=\"\",7,VLOOKUP(A20,'2ème partie'!B:I,8,FALSE)))+IF(ISERROR(VLOOKUP(A20,'2ème partie'!F:I,1,FALSE)),0,IF(VLOOKUP(A20,'2ème partie'!F:J,5,FALSE)=\"\",7,VLOOKUP(A20,'2ème partie'!F:J,5,FALSE)))),\"\")","v":""},null,{"$f":"IF(AND(B20<>\"\",Y$1<>0),VALUE(IF(ISERROR(VLOOKUP(A20,'3ème partie'!B:E,1,FALSE)),0,IF(VLOOKUP(A20,'3ème partie'!B:F,5,FALSE)=\"\",13,VLOOKUP(A20,'3ème partie'!B:E,4,FALSE)))+IF(ISERROR(VLOOKUP(A20,'3ème partie'!F:I,1,FALSE)),0,IF(VLOOKUP(A20,'3ème partie'!F:J,5,FALSE)=\"\",13,VLOOKUP(A20,'3ème partie'!F:I,4,FALSE)))),\"\")","v":""},{"$f":"IF(AND(B20<>\"\",Y$1<>0),VALUE(IF(ISERROR(VLOOKUP(A20,'3ème partie'!B:E,1,FALSE)),0,IF(VLOOKUP(A20,'3ème partie'!B:F,5,FALSE)=\"\",7,VLOOKUP(A20,'3ème partie'!B:I,8,FALSE)))+IF(ISERROR(VLOOKUP(A20,'3ème partie'!F:I,1,FALSE)),0,IF(VLOOKUP(A20,'3ème partie'!F:J,5,FALSE)=\"\",7,VLOOKUP(A20,'3ème partie'!F:J,5,FALSE)))),\"\")","v":""},{"$f":"IF(D20=\"\",\"\",IF(D20-E20>0,1,0)+IF(G20<>\"\",IF(G20-H20>0,1,0),0)+IF(J20<>\"\",IF(J20-K20>0,1,0),0))","v":""},{"$f":"IF(AND(D20<>\"\",G20<>\"\",J20<>\"\"),D20+G20+J20,IF(AND(D20<>\"\",G20<>\"\"),D20+G20,IF(D20<>\"\",D20,\"\")))","v":""},{"$f":"IF(AND(E20<>\"\",H20<>\"\",K20<>\"\"),E20+H20+K20,IF(AND(E20<>\"\",H20<>\"\"),E20+H20,IF(E20<>\"\",E20,\"\")))","v":""},null,null,{"$f":"IF(B20<>\"\",IF(L20=3,0,MIN(IF(E20-D20>0,E20-D20,14),IF(H20-G20>0,H20-G20,14),IF(K20-J20>0,K20-J20,14))),\"\")","v":""},{"$f":"IF(B20<>\"\",MAX(IF(D20-E20>0,D20-E20,0),IF(G20-H20>0,G20-H20,0),IF(J20-K20>0,J20-K20,0)),\"\")","v":""},null,null,null,null,{"$f":"IF(B20<>\"\",VALUE(IF(ISERROR(VLOOKUP(A20,'1ère partie'!B:F,1,FALSE)),0,VLOOKUP(A20,'1ère partie'!B:F,5,FALSE))+IF(ISERROR(VLOOKUP(A20,'1ère partie'!F:L,1,FALSE)),0,VLOOKUP(A20,'1ère partie'!F:L,7,FALSE))),\"\")","v":""},{"$f":"IF(B20<>\"\",VALUE(IF(ISERROR(VLOOKUP(A20,'2ème partie'!B:F,1,FALSE)),0,VLOOKUP(A20,'2ème partie'!B:F,5,FALSE))+IF(ISERROR(VLOOKUP(A20,'2ème partie'!F:L,1,FALSE)),0,VLOOKUP(A20,'2ème partie'!F:L,7,FALSE))),\"\")","v":""},{"$f":"IF(B20<>\"\",VALUE(IF(ISERROR(VLOOKUP(A20,'3ème partie'!B:F,1,FALSE)),0,VLOOKUP(A20,'3ème partie'!B:F,5,FALSE))+IF(ISERROR(VLOOKUP(A20,'3ème partie'!F:L,1,FALSE)),0,VLOOKUP(A20,'3ème partie'!F:L,7,FALSE))),\"\")","v":""},null,null,17,""]
[18,{"$f":"IF(VLOOKUP(A21,Equipes!A:B,2,FALSE)<>\"\",VLOOKUP(A21,Equipes!A:B,2,FALSE),\"\")","v":""},{"$f":"IF(VLOOKUP(A21,Equipes!A:C,3,FALSE)<>\"\",VLOOKUP(A21,Equipes!A:C,3,FALSE),\"\")","v":""},{"$f":"IF(AND(B21<>\"\",W$1<>0),VALUE(IF(ISERROR(VLOOKUP(A21,'1ère partie'!B:E,1,FALSE)),0,IF(VLOOKUP(A21,'1ère partie'!B:F,5,FALSE)=\"\",13,VLOOKUP(A21,'1ère partie'!B:E,4,FALSE)))+IF(ISERROR(VLOOKUP(A21,'1ère partie'!F:I,1,FALSE)),0,IF(VLOOKUP(A21,'1ère partie'!F:J,5,FALSE)=\"\",13,VLOOKUP(A21,'1ère partie'!F:I,4,FALSE)))),\"\")","v":""},{"$f":"IF(AND(B21<>\"\",W$1<>0),VALUE(IF(ISERROR(VLOOKUP(A21,'1ère partie'!B:E,1,FALSE)),0,IF(VLOOKUP(A21,'1ère partie'!B:F,5,FALSE)=\"\",7,VLOOKUP(A21,'1ère partie'!B:I,8,FALSE)))+IF(ISERROR(VLOOKUP(A21,'1ère partie'!F:I,1,FALSE)),0,IF(VLOOKUP(A21,'1ère partie'!F:J,5,FALSE)=\"\",7,VLOOKUP(A21,'1ère partie'!F:J,5,FALSE)))),\"\")","v":""},null,{"$f":"IF(AND(B21<>\"\",X$1<>0),VALUE(IF(ISERROR(VLOOKUP(A21,'2ème partie'!B:E,1,FALSE)),0,IF(VLOOKUP(A21,'2ème partie'!B:F,5,FALSE)=\"\",13,VLOOKUP(A21,'2ème partie'!B:E,4,FALSE)))+IF(ISERROR(VLOOKUP(A21,'2ème partie'!F:I,1,FALSE)),0,IF(VLOOKUP(A21,'2ème partie'!F:J,5,FALSE)=\"\",13,VLOOKUP(A21,'2ème partie'!F:I,4,FALSE)))),\"\")","v":""},{"$f":"IF(AND(B21<>\"\",X$1<>0),VALUE(IF(ISERROR(VLOOKUP(A21,'2ème partie'!B:E,1,FALSE)),0,IF(VLOOKUP(A21,'2ème partie'!B:F,5,FALSE)=\"\",7,VLOOKUP(A21,'2ème partie'!B:I,8,FALSE)))+IF(ISERROR(VLOOKUP(A21,'2ème partie'!F:I,1,FALSE)),0,IF(VLOOKUP(A21,'2ème partie'!F:J,5,FALSE)=\"\",7,VLOOKUP(A21,'2ème partie'!F:J,5,FALSE)))),\"\")","v":""},null,{"$f":"IF(AND(B21<>\"\",Y$1<>0),VALUE(IF(ISERROR(VLOOKUP(A21,'3ème partie'!B:E,1,FALSE)),0,IF(VLOOKUP(A21,'3ème partie'!B:F,5,FALSE)=\"\",13,VLOOKUP(A21,'3ème partie'!B:E,4,FALSE)))+IF(ISERROR(VLOOKUP(A21,'3ème partie'!F:I,1,FALSE)),0,IF(VLOOKUP(A21,'3ème partie'!F:J,5,FALSE)=\"\",13,VLOOKUP(A21,'3ème partie'!F:I,4,FALSE)))),\"\")","v":""},{"$f":"IF(AND(B21<>\"\",Y$1<>0),VALUE(IF(ISERROR(VLOOKUP(A21,'3ème partie'!B:E,1,FALSE)),0,IF(VLOOKUP(A21,'3ème partie'!B:F,5,FALSE)=\"\",7,VLOOKUP(A21,'3ème partie'!B:I,8,FALSE)))+IF(ISERROR(VLOOKUP(A21,'3ème partie'!F:I,1,FALSE)),0,IF(VLOOKUP(A21,'3ème partie'!F:J,5,FALSE)=\"\",7,VLOOKUP(A21,'3ème partie'!F:J,5,FALSE)))),\"\")","v":""},{"$f":"IF(D21=\"\",\"\",IF(D21-E21>0,1,0)+IF(G21<>\"\",IF(G21-H21>0,1,0),0)+IF(J21<>\"\",IF(J21-K21>0,1,0),0))","v":""},{"$f":"IF(AND(D21<>\"\",G21<>\"\",J21<>\"\"),D21+G21+J21,IF(AND(D21<>\"\",G21<>\"\"),D21+G21,IF(D21<>\"\",D21,\"\")))","v":""},{"$f":"IF(AND(E21<>\"\",H21<>\"\",K21<>\"\"),E21+H21+K21,IF(AND(E21<>\"\",H21<>\"\"),E21+H21,IF(E21<>\"\",E21,\"\")))","v":""},null,null,{"$f":"IF(B21<>\"\",IF(L21=3,0,MIN(IF(E21-D21>0,E21-D21,14),IF(H21-G21>0,H21-G21,14),IF(K21-J21>0,K21-J21,14))),\"\")","v":""},{"$f":"IF(B21<>\"\",MAX(IF(D21-E21>0,D21-E21,0),IF(G21-H21>0,G21-H21,0),IF(J21-K21>0,J21-K21,0)),\"\")","v":""},null,null,null,null,{"$f":"IF(B21<>\"\",VALUE(IF(ISERROR(VLOOKUP(A21,'1ère partie'!B:F,1,FALSE)),0,VLOOKUP(A21,'1ère partie'!B:F,5,FALSE))+IF(ISERROR(VLOOKUP(A21,'1ère partie'!F:L,1,FALSE)),0,VLOOKUP(A21,'1ère partie'!F:L,7,FALSE))),\"\")","v":""},{"$f":"IF(B21<>\"\",VALUE(IF(ISERROR(VLOOKUP(A21,'2ème partie'!B:F,1,FALSE)),0,VLOOKUP(A21,'2ème partie'!B:F,5,FALSE))+IF(ISERROR(VLOOKUP(A21,'2ème partie'!F:L,1,FALSE)),0,VLOOKUP(A21,'2ème partie'!F:L,7,FALSE))),\"\")","v":""},{"$f":"IF(B21<>\"\",VALUE(IF(ISERROR(VLOOKUP(A21,'3ème partie'!B:F,1,FALSE)),0,VLOOKUP(A21,'3ème partie'!B:F,5,FALSE))+IF(ISERROR(VLOOKUP(A21,'3ème partie'!F:L,1,FALSE)),0,VLOOKUP(A21,'3ème partie'!F:L,7,FALSE))),\"\")","v":""},null,null,18,""]
[19,{"$f":"IF(VLOOKUP(A22,Equipes!A:B,2,FALSE)<>\"\",VLOOKUP(A22,Equipes!A:B,2,FALSE),\"\")","v":""},{"$f":"IF(VLOOKUP(A22,Equipes!A:C,3,FALSE)<>\"\",VLOOKUP(A22,Equipes!A:C,3,FALSE),\"\")","v":""},{"$f":"IF(AND(B22<>\"\",W$1<>0),VALUE(IF(ISERROR(VLOOKUP(A22,'1ère partie'!B:E,1,FALSE)),0,IF(VLOOKUP(A22,'1ère partie'!B:F,5,FALSE)=\"\",13,VLOOKUP(A22,'1ère partie'!B:E,4,FALSE)))+IF(ISERROR(VLOOKUP(A22,'1ère partie'!F:I,1,FALSE)),0,IF(VLOOKUP(A22,'1ère partie'!F:J,5,FALSE)=\"\",13,VLOOKUP(A22,'1ère partie'!F:I,4,FALSE)))),\"\")","v":""},{"$f":"IF(AND(B22<>\"\",W$1<>0),VALUE(IF(ISERROR(VLOOKUP(A22,'1ère partie'!B:E,1,FALSE)),0,IF(VLOOKUP(A22,'1ère partie'!B:F,5,FALSE)=\"\",7,VLOOKUP(A22,'1ère partie'!B:I,8,FALSE)))+IF(ISERROR(VLOOKUP(A22,'1ère partie'!F:I,1,FALSE)),0,IF(VLOOKUP(A22,'1ère partie'!F:J,5,FALSE)=\"\",7,VLOOKUP(A22,'1ère partie'!F:J,5,FALSE)))),\"\")","v":""},null,{"$f":"IF(AND(B22<>\"\",X$1<>0),VALUE(IF(ISERROR(VLOOKUP(A22,'2ème partie'!B:E,1,FALSE)),0,IF(VLOOKUP(A22,'2ème partie'!B:F,5,FALSE)=\"\",13,VLOOKUP(A22,'2ème partie'!B:E,4,FALSE)))+IF(ISERROR(VLOOKUP(A22,'2ème partie'!F:I,1,FALSE)),0,IF(VLOOKUP(A22,'2ème partie'!F:J,5,FALSE)=\"\",13,VLOOKUP(A22,'2ème partie'!F:I,4,FALSE)))),\"\")","v":""},{"$f":"IF(AND(B22<>\"\",X$1<>0),VALUE(IF(ISERROR(VLOOKUP(A22,'2ème partie'!B:E,1,FALSE)),0,IF(VLOOKUP(A22,'2ème partie'!B:F,5,FALSE)=\"\",7,VLOOKUP(A22,'2ème partie'!B:I,8,FALSE)))+IF(ISERROR(VLOOKUP(A22,'2ème partie'!F:I,1,FALSE)),0,IF(VLOOKUP(A22,'2ème partie'!F:J,5,FALSE)=\"\",7,VLOOKUP(A22,'2ème partie'!F:J,5,FALSE)))),\"\")","v":""},null,{"$f":"IF(AND(B22<>\"\",Y$1<>0),VALUE(IF(ISERROR(VLOOKUP(A22,'3ème partie'!B:E,1,FALSE)),0,IF(VLOOKUP(A22,'3ème partie'!B:F,5,FALSE)=\"\",13,VLOOKUP(A22,'3ème partie'!B:E,4,FALSE)))+IF(ISERROR(VLOOKUP(A22,'3ème partie'!F:I,1,FALSE)),0,IF(VLOOKUP(A22,'3ème partie'!F:J,5,FALSE)=\"\",13,VLOOKUP(A22,'3ème partie'!F:I,4,FALSE)))),\"\")","v":""},{"$f":"IF(AND(B22<>\"\",Y$1<>0),VALUE(IF(ISERROR(VLOOKUP(A22,'3ème partie'!B:E,1,FALSE)),0,IF(VLOOKUP(A22,'3ème partie'!B:F,5,FALSE)=\"\",7,VLOOKUP(A22,'3ème partie'!B:I,8,FALSE)))+IF(ISERROR(VLOOKUP(A22,'3ème partie'!F:I,1,FALSE)),0,IF(VLOOKUP(A22,'3ème partie'!F:J,5,FALSE)=\"\",7,VLOOKUP(A22,'3ème partie'!F:J,5,FALSE)))),\"\")","v":""},{"$f":"IF(D22=\"\",\"\",IF(D22-E22>0,1,0)+IF(G22<>\"\",IF(G22-H22>0,1,0),0)+IF(J22<>\"\",IF(J22-K22>0,1,0),0))","v":""},{"$f":"IF(AND(D22<>\"\",G22<>\"\",J22<>\"\"),D22+G22+J22,IF(AND(D22<>\"\",G22<>\"\"),D22+G22,IF(D22<>\"\",D22,\"\")))","v":""},{"$f":"IF(AND(E22<>\"\",H22<>\"\",K22<>\"\"),E22+H22+K22,IF(AND(E22<>\"\",H22<>\"\"),E22+H22,IF(E22<>\"\",E22,\"\")))","v":""},null,null,{"$f":"IF(B22<>\"\",IF(L22=3,0,MIN(IF(E22-D22>0,E22-D22,14),IF(H22-G22>0,H22-G22,14),IF(K22-J22>0,K22-J22,14))),\"\")","v":""},{"$f":"IF(B22<>\"\",MAX(IF(D22-E22>0,D22-E22,0),IF(G22-H22>0,G22-H22,0),IF(J22-K22>0,J22-K22,0)),\"\")","v":""},null,null,null,null,{"$f":"IF(B22<>\"\",VALUE(IF(ISERROR(VLOOKUP(A22,'1ère partie'!B:F,1,FALSE)),0,VLOOKUP(A22,'1ère partie'!B:F,5,FALSE))+IF(ISERROR(VLOOKUP(A22,'1ère partie'!F:L,1,FALSE)),0,VLOOKUP(A22,'1ère partie'!F:L,7,FALSE))),\"\")","v":""},{"$f":"IF(B22<>\"\",VALUE(IF(ISERROR(VLOOKUP(A22,'2ème partie'!B:F,1,FALSE)),0,VLOOKUP(A22,'2ème partie'!B:F,5,FALSE))+IF(ISERROR(VLOOKUP(A22,'2ème partie'!F:L,1,FALSE)),0,VLOOKUP(A22,'2ème partie'!F:L,7,FALSE))),\"\")","v":""},{"$f":"IF(B22<>\"\",VALUE(IF(ISERROR(VLOOKUP(A22,'3ème partie'!B:F,1,FALSE)),0,VLOOKUP(A22,'3ème partie'!B:F,5,FALSE))+IF(ISERROR(VLOOKUP(A22,'3ème partie'!F:L,1,FALSE)),0,VLOOKUP(A22,'3ème partie'!F:L,7,FALSE))),\"\")","v":""},null,null,19,""]
[20,{"$f":"IF(VLOOKUP(A23,Equipes!A:B,2,FALSE)<>\"\",VLOOKUP(A23,Equipes!A:B,2,FALSE),\"\")","v":""},{"$f":"IF(VLOOKUP(A23,Equipes!A:C,3,FALSE)<>\"\",VLOOKUP(A23,Equipes!A:C,3,FALSE),\"\")","v":""},{"$f":"IF(AND(B23<>\"\",W$1<>0),VALUE(IF(ISERROR(VLOOKUP(A23,'1ère partie'!B:E,1,FALSE)),0,IF(VLOOKUP(A23,'1ère partie'!B:F,5,FALSE)=\"\",13,VLOOKUP(A23,'1ère partie'!B:E,4,FALSE)))+IF(ISERROR(VLOOKUP(A23,'1ère partie'!F:I,1,FALSE)),0,IF(VLOOKUP(A23,'1ère partie'!F:J,5,FALSE)=\"\",13,VLOOKUP(A23,'1ère partie'!F:I,4,FALSE)))),\"\")","v":""},{"$f":"IF(AND(B23<>\"\",W$1<>0),VALUE(IF(ISERROR(VLOOKUP(A23,'1ère partie'!B:E,1,FALSE)),0,IF(VLOOKUP(A23,'1ère partie'!B:F,5,FALSE)=\"\",7,VLOOKUP(A23,'1ère partie'!B:I,8,FALSE)))+IF(ISERROR(VLOOKUP(A23,'1ère partie'!F:I,1,FALSE)),0,IF(VLOOKUP(A23,'1ère partie'!F:J,5,FALSE)=\"\",7,VLOOKUP(A23,'1ère partie'!F:J,5,FALSE)))),\"\")","v":""},null,{"$f":"IF(AND(B23<>\"\",X$1<>0),VALUE(IF(ISERROR(VLOOKUP(A23,'2ème partie'!B:E,1,FALSE)),0,IF(VLOOKUP(A23,'2ème partie'!B:F,5,FALSE)=\"\",13,VLOOKUP(A23,'2ème partie'!B:E,4,FALSE)))+IF(ISERROR(VLOOKUP(A23,'2ème partie'!F:I,1,FALSE)),0,IF(VLOOKUP(A23,'2ème partie'!F:J,5,FALSE)=\"\",13,VLOOKUP(A23,'2ème partie'!F:I,4,FALSE)))),\"\")","v":""},{"$f":"IF(AND(B23<>\"\",X$1<>0),VALUE(IF(ISERROR(VLOOKUP(A23,'2ème partie'!B:E,1,FALSE)),0,IF(VLOOKUP(A23,'2ème partie'!B:F,5,FALSE)=\"\",7,VLOOKUP(A23,'2ème partie'!B:I,8,FALSE)))+IF(ISERROR(VLOOKUP(A23,'2ème partie'!F:I,1,FALSE)),0,IF(VLOOKUP(A23,'2ème partie'!F:J,5,FALSE)=\"\",7,VLOOKUP(A23,'2ème partie'!F:J,5,FALSE)))),\"\")","v":""},null,{"$f":"IF(AND(B23<>\"\",Y$1<>0),VALUE(IF(ISERROR(VLOOKUP(A23,'3ème partie'!B:E,1,FALSE)),0,IF(VLOOKUP(A23,'3ème partie'!B:F,5,FALSE)=\"\",13,VLOOKUP(A23,'3ème partie'!B:E,4,FALSE)))+IF(ISERROR(VLOOKUP(A23,'3ème partie'!F:I,1,FALSE)),0,IF(VLOOKUP(A23,'3ème partie'!F:J,5,FALSE)=\"\",13,VLOOKUP(A23,'3ème partie'!F:I,4,FALSE)))),\"\")","v":""},{"$f":"IF(AND(B23<>\"\",Y$1<>0),VALUE(IF(ISERROR(VLOOKUP(A23,'3ème partie'!B:E,1,FALSE)),0,IF(VLOOKUP(A23,'3ème partie'!B:F,5,FALSE)=\"\",7,VLOOKUP(A23,'3ème partie'!B:I,8,FALSE)))+IF(ISERROR(VLOOKUP(A23,'3ème partie'!F:I,1,FALSE)),0,IF(VLOOKUP(A23,'3ème partie'!F:J,5,FALSE)=\"\",7,VLOOKUP(A23,'3ème partie'!F:J,5,FALSE)))),\"\")","v":""},{"$f":"IF(D23=\"\",\"\",IF(D23-E23>0,1,0)+IF(G23<>\"\",IF(G23-H23>0,1,0),0)+IF(J23<>\"\",IF(J23-K23>0,1,0),0))","v":""},{"$f":"IF(AND(D23<>\"\",G23<>\"\",J23<>\"\"),D23+G23+J23,IF(AND(D23<>\"\",G23<>\"\"),D23+G23,IF(D23<>\"\",D23,\"\")))","v":""},{"$f":"IF(AND(E23<>\"\",H23<>\"\",K23<>\"\"),E23+H23+K23,IF(AND(E23<>\"\",H23<>\"\"),E23+H23,IF(E23<>\"\",E23,\"\")))","v":""},null,null,{"$f":"IF(B23<>\"\",IF(L23=3,0,MIN(IF(E23-D23>0,E23-D23,14),IF(H23-G23>0,H23-G23,14),IF(K23-J23>0,K23-J23,14))),\"\")","v":""},{"$f":"IF(B23<>\"\",MAX(IF(D23-E23>0,D23-E23,0),IF(G23-H23>0,G23-H23,0),IF(J23-K23>0,J23-K23,0)),\"\")","v":""},null,null,null,null,{"$f":"IF(B23<>\"\",VALUE(IF(ISERROR(VLOOKUP(A23,'1ère partie'!B:F,1,FALSE)),0,VLOOKUP(A23,'1ère partie'!B:F,5,FALSE))+IF(ISERROR(VLOOKUP(A23,'1ère partie'!F:L,1,FALSE)),0,VLOOKUP(A23,'1ère partie'!F:L,7,FALSE))),\"\")","v":""},{"$f":"IF(B23<>\"\",VALUE(IF(ISERROR(VLOOKUP(A23,'2ème partie'!B:F,1,FALSE)),0,VLOOKUP(A23,'2ème partie'!B:F,5,FALSE))+IF(ISERROR(VLOOKUP(A23,'2ème partie'!F:L,1,FALSE)),0,VLOOKUP(A23,'2ème partie'!F:L,7,FALSE))),\"\")","v":""},{"$f":"IF(B23<>\"\",VALUE(IF(ISERROR(VLOOKUP(A23,'3ème partie'!B:F,1,FALSE)),0,VLOOKUP(A23,'3ème partie'!B:F,5,FALSE))+IF(ISERROR(VLOOKUP(A23,'3ème partie'!F:L,1,FALSE)),0,VLOOKUP(A23,'3ème partie'!F:L,7,FALSE))),\"\")","v":""},null,null,20,""]
[21,{"$f":"IF(VLOOKUP(A24,Equipes!A:B,2,FALSE)<>\"\",VLOOKUP(A24,Equipes!A:B,2,FALSE),\"\")","v":""},{"$f":"IF(VLOOKUP(A24,Equipes!A:C,3,FALSE)<>\"\",VLOOKUP(A24,Equipes!A:C,3,FALSE),\"\")","v":""},{"$f":"IF(AND(B24<>\"\",W$1<>0),VALUE(IF(ISERROR(VLOOKUP(A24,'1ère partie'!B:E,1,FALSE)),0,IF(VLOOKUP(A24,'1ère partie'!B:F,5,FALSE)=\"\",13,VLOOKUP(A24,'1ère partie'!B:E,4,FALSE)))+IF(ISERROR(VLOOKUP(A24,'1ère partie'!F:I,1,FALSE)),0,IF(VLOOKUP(A24,'1ère partie'!F:J,5,FALSE)=\"\",13,VLOOKUP(A24,'1ère partie'!F:I,4,FALSE)))),\"\")","v":""},{"$f":"IF(AND(B24<>\"\",W$1<>0),VALUE(IF(ISERROR(VLOOKUP(A24,'1ère partie'!B:E,1,FALSE)),0,IF(VLOOKUP(A24,'1ère partie'!B:F,5,FALSE)=\"\",7,VLOOKUP(A24,'1ère partie'!B:I,8,FALSE)))+IF(ISERROR(VLOOKUP(A24,'1ère partie'!F:I,1,FALSE)),0,IF(VLOOKUP(A24,'1ère partie'!F:J,5,FALSE)=\"\",7,VLOOKUP(A24,'1ère partie'!F:J,5,FALSE)))),\"\")","v":""},null,{"$f":"IF(AND(B24<>\"\",X$1<>0),VALUE(IF(ISERROR(VLOOKUP(A24,'2ème partie'!B:E,1,FALSE)),0,IF(VLOOKUP(A24,'2ème partie'!B:F,5,FALSE)=\"\",13,VLOOKUP(A24,'2ème partie'!B:E,4,FALSE)))+IF(ISERROR(VLOOKUP(A24,'2ème partie'!F:I,1,FALSE)),0,IF(VLOOKUP(A24,'2ème partie'!F:J,5,FALSE)=\"\",13,VLOOKUP(A24,'2ème partie'!F:I,4,FALSE)))),\"\")","v":""},{"$f":"IF(AND(B24<>\"\",X$1<>0),VALUE(IF(ISERROR(VLOOKUP(A24,'2ème partie'!B:E,1,FALSE)),0,IF(VLOOKUP(A24,'2ème partie'!B:F,5,FALSE)=\"\",7,VLOOKUP(A24,'2ème partie'!B:I,8,FALSE)))+IF(ISERROR(VLOOKUP(A24,'2ème partie'!F:I,1,FALSE)),0,IF(VLOOKUP(A24,'2ème partie'!F:J,5,FALSE)=\"\",7,VLOOKUP(A24,'2ème partie'!F:J,5,FALSE)))),\"\")","v":""},null,{"$f":"IF(AND(B24<>\"\",Y$1<>0),VALUE(IF(ISERROR(VLOOKUP(A24,'3ème partie'!B:E,1,FALSE)),0,IF(VLOOKUP(A24,'3ème partie'!B:F,5,FALSE)=\"\",13,VLOOKUP(A24,'3ème partie'!B:E,4,FALSE)))+IF(ISERROR(VLOOKUP(A24,'3ème partie'!F:I,1,FALSE)),0,IF(VLOOKUP(A24,'3ème partie'!F:J,5,FALSE)=\"\",13,VLOOKUP(A24,'3ème partie'!F:I,4,FALSE)))),\"\")","v":""},{"$f":"IF(AND(B24<>\"\",Y$1<>0),VALUE(IF(ISERROR(VLOOKUP(A24,'3ème partie'!B:E,1,FALSE)),0,IF(VLOOKUP(A24,'3ème partie'!B:F,5,FALSE)=\"\",7,VLOOKUP(A24,'3ème partie'!B:I,8,FALSE)))+IF(ISERROR(VLOOKUP(A24,'3ème partie'!F:I,1,FALSE)),0,IF(VLOOKUP(A24,'3ème partie'!F:J,5,FALSE)=\"\",7,VLOOKUP(A24,'3ème partie'!F:J,5,FALSE)))),\"\")","v":""},{"$f":"IF(D24=\"\",\"\",IF(D24-E24>0,1,0)+IF(G24<>\"\",IF(G24-H24>0,1,0),0)+IF(J24<>\"\",IF(J24-K24>0,1,0),0))","v":""},{"$f":"IF(AND(D24<>\"\",G24<>\"\",J24<>\"\"),D24+G24+J24,IF(AND(D24<>\"\",G24<>\"\"),D24+G24,IF(D24<>\"\",D24,\"\")))","v":""},{"$f":"IF(AND(E24<>\"\",H24<>\"\",K24<>\"\"),E24+H24+K24,IF(AND(E24<>\"\",H24<>\"\"),E24+H24,IF(E24<>\"\",E24,\"\")))","v":""},null,null,{"$f":"IF(B24<>\"\",IF(L24=3,0,MIN(IF(E24-D24>0,E24-D24,14),IF(H24-G24>0,H24-G24,14),IF(K24-J24>0,K24-J24,14))),\"\")","v":""},{"$f":"IF(B24<>\"\",MAX(IF(D24-E24>0,D24-E24,0),IF(G24-H24>0,G24-H24,0),IF(J24-K24>0,J24-K24,0)),\"\")","v":""},null,null,null,null,{"$f":"IF(B24<>\"\",VALUE(IF(ISERROR(VLOOKUP(A24,'1ère partie'!B:F,1,FALSE)),0,VLOOKUP(A24,'1ère partie'!B:F,5,FALSE))+IF(ISERROR(VLOOKUP(A24,'1ère partie'!F:L,1,FALSE)),0,VLOOKUP(A24,'1ère partie'!F:L,7,FALSE))),\"\")","v":""},{"$f":"IF(B24<>\"\",VALUE(IF(ISERROR(VLOOKUP(A24,'2ème partie'!B:F,1,FALSE)),0,VLOOKUP(A24,'2ème partie'!B:F,5,FALSE))+IF(ISERROR(VLOOKUP(A24,'2ème partie'!F:L,1,FALSE)),0,VLOOKUP(A24,'2ème partie'!F:L,7,FALSE))),\"\")","v":""},{"$f":"IF(B24<>\"\",VALUE(IF(ISERROR(VLOOKUP(A24,'3ème partie'!B:F,1,FALSE)),0,VLOOKUP(A24,'3ème partie'!B:F,5,FALSE))+IF(ISERROR(VLOOKUP(A24,'3ème partie'!F:L,1,FALSE)),0,VLOOKUP(A24,'3ème partie'!F:L,7,FALSE))),\"\")","v":""},null,null,21,""]
[22,{"$f":"IF(VLOOKUP(A25,Equipes!A:B,2,FALSE)<>\"\",VLOOKUP(A25,Equipes!A:B,2,FALSE),\"\")","v":""},{"$f":"IF(VLOOKUP(A25,Equipes!A:C,3,FALSE)<>\"\",VLOOKUP(A25,Equipes!A:C,3,FALSE),\"\")","v":""},{"$f":"IF(AND(B25<>\"\",W$1<>0),VALUE(IF(ISERROR(VLOOKUP(A25,'1ère partie'!B:E,1,FALSE)),0,IF(VLOOKUP(A25,'1ère partie'!B:F,5,FALSE)=\"\",13,VLOOKUP(A25,'1ère partie'!B:E,4,FALSE)))+IF(ISERROR(VLOOKUP(A25,'1ère partie'!F:I,1,FALSE)),0,IF(VLOOKUP(A25,'1ère partie'!F:J,5,FALSE)=\"\",13,VLOOKUP(A25,'1ère partie'!F:I,4,FALSE)))),\"\")","v":""},{"$f":"IF(AND(B25<>\"\",W$1<>0),VALUE(IF(ISERROR(VLOOKUP(A25,'1ère partie'!B:E,1,FALSE)),0,IF(VLOOKUP(A25,'1ère partie'!B:F,5,FALSE)=\"\",7,VLOOKUP(A25,'1ère partie'!B:I,8,FALSE)))+IF(ISERROR(VLOOKUP(A25,'1ère partie'!F:I,1,FALSE)),0,IF(VLOOKUP(A25,'1ère partie'!F:J,5,FALSE)=\"\",7,VLOOKUP(A25,'1ère partie'!F:J,5,FALSE)))),\"\")","v":""},null,{"$f":"IF(AND(B25<>\"\",X$1<>0),VALUE(IF(ISERROR(VLOOKUP(A25,'2ème partie'!B:E,1,FALSE)),0,IF(VLOOKUP(A25,'2ème partie'!B:F,5,FALSE)=\"\",13,VLOOKUP(A25,'2ème partie'!B:E,4,FALSE)))+IF(ISERROR(VLOOKUP(A25,'2ème partie'!F:I,1,FALSE)),0,IF(VLOOKUP(A25,'2ème partie'!F:J,5,FALSE)=\"\",13,VLOOKUP(A25,'2ème partie'!F:I,4,FALSE)))),\"\")","v":""},{"$f":"IF(AND(B25<>\"\",X$1<>0),VALUE(IF(ISERROR(VLOOKUP(A25,'2ème partie'!B:E,1,FALSE)),0,IF(VLOOKUP(A25,'2ème partie'!B:F,5,FALSE)=\"\",7,VLOOKUP(A25,'2ème partie'!B:I,8,FALSE)))+IF(ISERROR(VLOOKUP(A25,'2ème partie'!F:I,1,FALSE)),0,IF(VLOOKUP(A25,'2ème partie'!F:J,5,FALSE)=\"\",7,VLOOKUP(A25,'2ème partie'!F:J,5,FALSE)))),\"\")","v":""},null,{"$f":"IF(AND(B25<>\"\",Y$1<>0),VALUE(IF(ISERROR(VLOOKUP(A25,'3ème partie'!B:E,1,FALSE)),0,IF(VLOOKUP(A25,'3ème partie'!B:F,5,FALSE)=\"\",13,VLOOKUP(A25,'3ème partie'!B:E,4,FALSE)))+IF(ISERROR(VLOOKUP(A25,'3ème partie'!F:I,1,FALSE)),0,IF(VLOOKUP(A25,'3ème partie'!F:J,5,FALSE)=\"\",13,VLOOKUP(A25,'3ème partie'!F:I,4,FALSE)))),\"\")","v":""},{"$f":"IF(AND(B25<>\"\",Y$1<>0),VALUE(IF(ISERROR(VLOOKUP(A25,'3ème partie'!B:E,1,FALSE)),0,IF(VLOOKUP(A25,'3ème partie'!B:F,5,FALSE)=\"\",7,VLOOKUP(A25,'3ème partie'!B:I,8,FALSE)))+IF(ISERROR(VLOOKUP(A25,'3ème partie'!F:I,1,FALSE)),0,IF(VLOOKUP(A25,'3ème partie'!F:J,5,FALSE)=\"\",7,VLOOKUP(A25,'3ème partie'!F:J,5,FALSE)))),\"\")","v":""},{"$f":"IF(D25=\"\",\"\",IF(D25-E25>0,1,0)+IF(G25<>\"\",IF(G25-H25>0,1,0),0)+IF(J25<>\"\",IF(J25-K25>0,1,0),0))","v":""},{"$f":"IF(AND(D25<>\"\",G25<>\"\",J25<>\"\"),D25+G25+J25,IF(AND(D25<>\"\",G25<>\"\"),D25+G25,IF(D25<>\"\",D25,\"\")))","v":""},{"$f":"IF(AND(E25<>\"\",H25<>\"\",K25<>\"\"),E25+H25+K25,IF(AND(E25<>\"\",H25<>\"\"),E25+H25,IF(E25<>\"\",E25,\"\")))","v":""},null,null,{"$f":"IF(B25<>\"\",IF(L25=3,0,MIN(IF(E25-D25>0,E25-D25,14),IF(H25-G25>0,H25-G25,14),IF(K25-J25>0,K25-J25,14))),\"\")","v":""},{"$f":"IF(B25<>\"\",MAX(IF(D25-E25>0,D25-E25,0),IF(G25-H25>0,G25-H25,0),IF(J25-K25>0,J25-K25,0)),\"\")","v":""},null,null,null,null,{"$f":"IF(B25<>\"\",VALUE(IF(ISERROR(VLOOKUP(A25,'1ère partie'!B:F,1,FALSE)),0,VLOOKUP(A25,'1ère partie'!B:F,5,FALSE))+IF(ISERROR(VLOOKUP(A25,'1ère partie'!F:L,1,FALSE)),0,VLOOKUP(A25,'1ère partie'!F:L,7,FALSE))),\"\")","v":""},{"$f":"IF(B25<>\"\",VALUE(IF(ISERROR(VLOOKUP(A25,'2ème partie'!B:F,1,FALSE)),0,VLOOKUP(A25,'2ème partie'!B:F,5,FALSE))+IF(ISERROR(VLOOKUP(A25,'2ème partie'!F:L,1,FALSE)),0,VLOOKUP(A25,'2ème partie'!F:L,7,FALSE))),\"\")","v":""},{"$f":"IF(B25<>\"\",VALUE(IF(ISERROR(VLOOKUP(A25,'3ème partie'!B:F,1,FALSE)),0,VLOOKUP(A25,'3ème partie'!B:F,5,FALSE))+IF(ISERROR(VLOOKUP(A25,'3ème partie'!F:L,1,FALSE)),0,VLOOKUP(A25,'3ème partie'!F:L,7,FALSE))),\"\")","v":""},null,null,22,""]
[23,{"$f":"IF(VLOOKUP(A26,Equipes!A:B,2,FALSE)<>\"\",VLOOKUP(A26,Equipes!A:B,2,FALSE),\"\")","v":""},{"$f":"IF(VLOOKUP(A26,Equipes!A:C,3,FALSE)<>\"\",VLOOKUP(A26,Equipes!A:C,3,FALSE),\"\")","v":""},{"$f":"IF(AND(B26<>\"\",W$1<>0),VALUE(IF(ISERROR(VLOOKUP(A26,'1ère partie'!B:E,1,FALSE)),0,IF(VLOOKUP(A26,'1ère partie'!B:F,5,FALSE)=\"\",13,VLOOKUP(A26,'1ère partie'!B:E,4,FALSE)))+IF(ISERROR(VLOOKUP(A26,'1ère partie'!F:I,1,FALSE)),0,IF(VLOOKUP(A26,'1ère partie'!F:J,5,FALSE)=\"\",13,VLOOKUP(A26,'1ère partie'!F:I,4,FALSE)))),\"\")","v":""},{"$f":"IF(AND(B26<>\"\",W$1<>0),VALUE(IF(ISERROR(VLOOKUP(A26,'1ère partie'!B:E,1,FALSE)),0,IF(VLOOKUP(A26,'1ère partie'!B:F,5,FALSE)=\"\",7,VLOOKUP(A26,'1ère partie'!B:I,8,FALSE)))+IF(ISERROR(VLOOKUP(A26,'1ère partie'!F:I,1,FALSE)),0,IF(VLOOKUP(A26,'1ère partie'!F:J,5,FALSE)=\"\",7,VLOOKUP(A26,'1ère partie'!F:J,5,FALSE)))),\"\")","v":""},null,{"$f":"IF(AND(B26<>\"\",X$1<>0),VALUE(IF(ISERROR(VLOOKUP(A26,'2ème partie'!B:E,1,FALSE)),0,IF(VLOOKUP(A26,'2ème partie'!B:F,5,FALSE)=\"\",13,VLOOKUP(A26,'2ème partie'!B:E,4,FALSE)))+IF(ISERROR(VLOOKUP(A26,'2ème partie'!F:I,1,FALSE)),0,IF(VLOOKUP(A26,'2ème partie'!F:J,5,FALSE)=\"\",13,VLOOKUP(A26,'2ème partie'!F:I,4,FALSE)))),\"\")","v":""},{"$f":"IF(AND(B26<>\"\",X$1<>0),VALUE(IF(ISERROR(VLOOKUP(A26,'2ème partie'!B:E,1,FALSE)),0,IF(VLOOKUP(A26,'2ème partie'!B:F,5,FALSE)=\"\",7,VLOOKUP(A26,'2ème partie'!B:I,8,FALSE)))+IF(ISERROR(VLOOKUP(A26,'2ème partie'!F:I,1,FALSE)),0,IF(VLOOKUP(A26,'2ème partie'!F:J,5,FALSE)=\"\",7,VLOOKUP(A26,'2ème partie'!F:J,5,FALSE)))),\"\")","v":""},null,{"$f":"IF(AND(B26<>\"\",Y$1<>0),VALUE(IF(ISERROR(VLOOKUP(A26,'3ème partie'!B:E,1,FALSE)),0,IF(VLOOKUP(A26,'3ème partie'!B:F,5,FALSE)=\"\",13,VLOOKUP(A26,'3ème partie'!B:E,4,FALSE)))+IF(ISERROR(VLOOKUP(A26,'3ème partie'!F:I,1,FALSE)),0,IF(VLOOKUP(A26,'3ème partie'!F:J,5,FALSE)=\"\",13,VLOOKUP(A26,'3ème partie'!F:I,4,FALSE)))),\"\")","v":""},{"$f":"IF(AND(B26<>\"\",Y$1<>0),VALUE(IF(ISERROR(VLOOKUP(A26,'3ème partie'!B:E,1,FALSE)),0,IF(VLOOKUP(A26,'3ème partie'!B:F,5,FALSE)=\"\",7,VLOOKUP(A26,'3ème partie'!B:I,8,FALSE)))+IF(ISERROR(VLOOKUP(A26,'3ème partie'!F:I,1,FALSE)),0,IF(VLOOKUP(A26,'3ème partie'!F:J,5,FALSE)=\"\",7,VLOOKUP(A26,'3ème partie'!F:J,5,FALSE)))),\"\")","v":""},{"$f":"IF(D26=\"\",\"\",IF(D26-E26>0,1,0)+IF(G26<>\"\",IF(G26-H26>0,1,0),0)+IF(J26<>\"\",IF(J26-K26>0,1,0),0))","v":""},{"$f":"IF(AND(D26<>\"\",G26<>\"\",J26<>\"\"),D26+G26+J26,IF(AND(D26<>\"\",G26<>\"\"),D26+G26,IF(D26<>\"\",D26,\"\")))","v":""},{"$f":"IF(AND(E26<>\"\",H26<>\"\",K26<>\"\"),E26+H26+K26,IF(AND(E26<>\"\",H26<>\"\"),E26+H26,IF(E26<>\"\",E26,\"\")))","v":""},null,null,{"$f":"IF(B26<>\"\",IF(L26=3,0,MIN(IF(E26-D26>0,E26-D26,14),IF(H26-G26>0,H26-G26,14),IF(K26-J26>0,K26-J26,14))),\"\")","v":""},{"$f":"IF(B26<>\"\",MAX(IF(D26-E26>0,D26-E26,0),IF(G26-H26>0,G26-H26,0),IF(J26-K26>0,J26-K26,0)),\"\")","v":""},null,null,null,null,{"$f":"IF(B26<>\"\",VALUE(IF(ISERROR(VLOOKUP(A26,'1ère partie'!B:F,1,FALSE)),0,VLOOKUP(A26,'1ère partie'!B:F,5,FALSE))+IF(ISERROR(VLOOKUP(A26,'1ère partie'!F:L,1,FALSE)),0,VLOOKUP(A26,'1ère partie'!F:L,7,FALSE))),\"\")","v":""},{"$f":"IF(B26<>\"\",VALUE(IF(ISERROR(VLOOKUP(A26,'2ème partie'!B:F,1,FALSE)),0,VLOOKUP(A26,'2ème partie'!B:F,5,FALSE))+IF(ISERROR(VLOOKUP(A26,'2ème partie'!F:L,1,FALSE)),0,VLOOKUP(A26,'2ème partie'!F:L,7,FALSE))),\"\")","v":""},{"$f":"IF(B26<>\"\",VALUE(IF(ISERROR(VLOOKUP(A26,'3ème partie'!B:F,1,FALSE)),0,VLOOKUP(A26,'3ème partie'!B:F,5,FALSE))+IF(ISERROR(VLOOKUP(A26,'3ème partie'!F:L,1,FALSE)),0,VLOOKUP(A26,'3ème partie'!F:L,7,FALSE))),\"\")","v":""},null,null,23,""]
[24,{"$f":"IF(VLOOKUP(A27,Equipes!A:B,2,FALSE)<>\"\",VLOOKUP(A27,Equipes!A:B,2,FALSE),\"\")","v":""},{"$f":"IF(VLOOKUP(A27,Equipes!A:C,3,FALSE)<>\"\",VLOOKUP(A27,Equipes!A:C,3,FALSE),\"\")","v":""},{"$f":"IF(AND(B27<>\"\",W$1<>0),VALUE(IF(ISERROR(VLOOKUP(A27,'1ère partie'!B:E,1,FALSE)),0,IF(VLOOKUP(A27,'1ère partie'!B:F,5,FALSE)=\"\",13,VLOOKUP(A27,'1ère partie'!B:E,4,FALSE)))+IF(ISERROR(VLOOKUP(A27,'1ère partie'!F:I,1,FALSE)),0,IF(VLOOKUP(A27,'1ère partie'!F:J,5,FALSE)=\"\",13,VLOOKUP(A27,'1ère partie'!F:I,4,FALSE)))),\"\")","v":""},{"$f":"IF(AND(B27<>\"\",W$1<>0),VALUE(IF(ISERROR(VLOOKUP(A27,'1ère partie'!B:E,1,FALSE)),0,IF(VLOOKUP(A27,'1ère partie'!B:F,5,FALSE)=\"\",7,VLOOKUP(A27,'1ère partie'!B:I,8,FALSE)))+IF(ISERROR(VLOOKUP(A27,'1ère partie'!F:I,1,FALSE)),0,IF(VLOOKUP(A27,'1ère partie'!F:J,5,FALSE)=\"\",7,VLOOKUP(A27,'1ère partie'!F:J,5,FALSE)))),\"\")","v":""},null,{"$f":"IF(AND(B27<>\"\",X$1<>0),VALUE(IF(ISERROR(VLOOKUP(A27,'2ème partie'!B:E,1,FALSE)),0,IF(VLOOKUP(A27,'2ème partie'!B:F,5,FALSE)=\"\",13,VLOOKUP(A27,'2ème partie'!B:E,4,FALSE)))+IF(ISERROR(VLOOKUP(A27,'2ème partie'!F:I,1,FALSE)),0,IF(VLOOKUP(A27,'2ème partie'!F:J,5,FALSE)=\"\",13,VLOOKUP(A27,'2ème partie'!F:I,4,FALSE)))),\"\")","v":""},{"$f":"IF(AND(B27<>\"\",X$1<>0),VALUE(IF(ISERROR(VLOOKUP(A27,'2ème partie'!B:E,1,FALSE)),0,IF(VLOOKUP(A27,'2ème partie'!B:F,5,FALSE)=\"\",7,VLOOKUP(A27,'2ème partie'!B:I,8,FALSE)))+IF(ISERROR(VLOOKUP(A27,'2ème partie'!F:I,1,FALSE)),0,IF(VLOOKUP(A27,'2ème partie'!F:J,5,FALSE)=\"\",7,VLOOKUP(A27,'2ème partie'!F:J,5,FALSE)))),\"\")","v":""},null,{"$f":"IF(AND(B27<>\"\",Y$1<>0),VALUE(IF(ISERROR(VLOOKUP(A27,'3ème partie'!B:E,1,FALSE)),0,IF(VLOOKUP(A27,'3ème partie'!B:F,5,FALSE)=\"\",13,VLOOKUP(A27,'3ème partie'!B:E,4,FALSE)))+IF(ISERROR(VLOOKUP(A27,'3ème partie'!F:I,1,FALSE)),0,IF(VLOOKUP(A27,'3ème partie'!F:J,5,FALSE)=\"\",13,VLOOKUP(A27,'3ème partie'!F:I,4,FALSE)))),\"\")","v":""},{"$f":"IF(AND(B27<>\"\",Y$1<>0),VALUE(IF(ISERROR(VLOOKUP(A27,'3ème partie'!B:E,1,FALSE)),0,IF(VLOOKUP(A27,'3ème partie'!B:F,5,FALSE)=\"\",7,VLOOKUP(A27,'3ème partie'!B:I,8,FALSE)))+IF(ISERROR(VLOOKUP(A27,'3ème partie'!F:I,1,FALSE)),0,IF(VLOOKUP(A27,'3ème partie'!F:J,5,FALSE)=\"\",7,VLOOKUP(A27,'3ème partie'!F:J,5,FALSE)))),\"\")","v":""},{"$f":"IF(D27=\"\",\"\",IF(D27-E27>0,1,0)+IF(G27<>\"\",IF(G27-H27>0,1,0),0)+IF(J27<>\"\",IF(J27-K27>0,1,0),0))","v":""},{"$f":"IF(AND(D27<>\"\",G27<>\"\",J27<>\"\"),D27+G27+J27,IF(AND(D27<>\"\",G27<>\"\"),D27+G27,IF(D27<>\"\",D27,\"\")))","v":""},{"$f":"IF(AND(E27<>\"\",H27<>\"\",K27<>\"\"),E27+H27+K27,IF(AND(E27<>\"\",H27<>\"\"),E27+H27,IF(E27<>\"\",E27,\"\")))","v":""},null,null,{"$f":"IF(B27<>\"\",IF(L27=3,0,MIN(IF(E27-D27>0,E27-D27,14),IF(H27-G27>0,H27-G27,14),IF(K27-J27>0,K27-J27,14))),\"\")","v":""},{"$f":"IF(B27<>\"\",MAX(IF(D27-E27>0,D27-E27,0),IF(G27-H27>0,G27-H27,0),IF(J27-K27>0,J27-K27,0)),\"\")","v":""},null,null,null,null,{"$f":"IF(B27<>\"\",VALUE(IF(ISERROR(VLOOKUP(A27,'1ère partie'!B:F,1,FALSE)),0,VLOOKUP(A27,'1ère partie'!B:F,5,FALSE))+IF(ISERROR(VLOOKUP(A27,'1ère partie'!F:L,1,FALSE)),0,VLOOKUP(A27,'1ère partie'!F:L,7,FALSE))),\"\")","v":""},{"$f":"IF(B27<>\"\",VALUE(IF(ISERROR(VLOOKUP(A27,'2ème partie'!B:F,1,FALSE)),0,VLOOKUP(A27,'2ème partie'!B:F,5,FALSE))+IF(ISERROR(VLOOKUP(A27,'2ème partie'!F:L,1,FALSE)),0,VLOOKUP(A27,'2ème partie'!F:L,7,FALSE))),\"\")","v":""},{"$f":"IF(B27<>\"\",VALUE(IF(ISERROR(VLOOKUP(A27,'3ème partie'!B:F,1,FALSE)),0,VLOOKUP(A27,'3ème partie'!B:F,5,FALSE))+IF(ISERROR(VLOOKUP(A27,'3ème partie'!F:L,1,FALSE)),0,VLOOKUP(A27,'3ème partie'!F:L,7,FALSE))),\"\")","v":""},null,null,24,""]
[25,{"$f":"IF(VLOOKUP(A28,Equipes!A:B,2,FALSE)<>\"\",VLOOKUP(A28,Equipes!A:B,2,FALSE),\"\")","v":""},{"$f":"IF(VLOOKUP(A28,Equipes!A:C,3,FALSE)<>\"\",VLOOKUP(A28,Equipes!A:C,3,FALSE),\"\")","v":""},{"$f":"IF(AND(B28<>\"\",W$1<>0),VALUE(IF(ISERROR(VLOOKUP(A28,'1ère partie'!B:E,1,FALSE)),0,IF(VLOOKUP(A28,'1ère partie'!B:F,5,FALSE)=\"\",13,VLOOKUP(A28,'1ère partie'!B:E,4,FALSE)))+IF(ISERROR(VLOOKUP(A28,'1ère partie'!F:I,1,FALSE)),0,IF(VLOOKUP(A28,'1ère partie'!F:J,5,FALSE)=\"\",13,VLOOKUP(A28,'1ère partie'!F:I,4,FALSE)))),\"\")","v":""},{"$f":"IF(AND(B28<>\"\",W$1<>0),VALUE(IF(ISERROR(VLOOKUP(A28,'1ère partie'!B:E,1,FALSE)),0,IF(VLOOKUP(A28,'1ère partie'!B:F,5,FALSE)=\"\",7,VLOOKUP(A28,'1ère partie'!B:I,8,FALSE)))+IF(ISERROR(VLOOKUP(A28,'1ère partie'!F:I,1,FALSE)),0,IF(VLOOKUP(A28,'1ère partie'!F:J,5,FALSE)=\"\",7,VLOOKUP(A28,'1ère partie'!F:J,5,FALSE)))),\"\")","v":""},null,{"$f":"IF(AND(B28<>\"\",X$1<>0),VALUE(IF(ISERROR(VLOOKUP(A28,'2ème partie'!B:E,1,FALSE)),0,IF(VLOOKUP(A28,'2ème partie'!B:F,5,FALSE)=\"\",13,VLOOKUP(A28,'2ème partie'!B:E,4,FALSE)))+IF(ISERROR(VLOOKUP(A28,'2ème partie'!F:I,1,FALSE)),0,IF(VLOOKUP(A28,'2ème partie'!F:J,5,FALSE)=\"\",13,VLOOKUP(A28,'2ème partie'!F:I,4,FALSE)))),\"\")","v":""},{"$f":"IF(AND(B28<>\"\",X$1<>0),VALUE(IF(ISERROR(VLOOKUP(A28,'2ème partie'!B:E,1,FALSE)),0,IF(VLOOKUP(A28,'2ème partie'!B:F,5,FALSE)=\"\",7,VLOOKUP(A28,'2ème partie'!B:I,8,FALSE)))+IF(ISERROR(VLOOKUP(A28,'2ème partie'!F:I,1,FALSE)),0,IF(VLOOKUP(A28,'2ème partie'!F:J,5,FALSE)=\"\",7,VLOOKUP(A28,'2ème partie'!F:J,5,FALSE)))),\"\")","v":""},null,{"$f":"IF(AND(B28<>\"\",Y$1<>0),VALUE(IF(ISERROR(VLOOKUP(A28,'3ème partie'!B:E,1,FALSE)),0,IF(VLOOKUP(A28,'3ème partie'!B:F,5,FALSE)=\"\",13,VLOOKUP(A28,'3ème partie'!B:E,4,FALSE)))+IF(ISERROR(VLOOKUP(A28,'3ème partie'!F:I,1,FALSE)),0,IF(VLOOKUP(A28,'3ème partie'!F:J,5,FALSE)=\"\",13,VLOOKUP(A28,'3ème partie'!F:I,4,FALSE)))),\"\")","v":""},{"$f":"IF(AND(B28<>\"\",Y$1<>0),VALUE(IF(ISERROR(VLOOKUP(A28,'3ème partie'!B:E,1,FALSE)),0,IF(VLOOKUP(A28,'3ème partie'!B:F,5,FALSE)=\"\",7,VLOOKUP(A28,'3ème partie'!B:I,8,FALSE)))+IF(ISERROR(VLOOKUP(A28,'3ème partie'!F:I,1,FALSE)),0,IF(VLOOKUP(A28,'3ème partie'!F:J,5,FALSE)=\"\",7,VLOOKUP(A28,'3ème partie'!F:J,5,FALSE)))),\"\")","v":""},{"$f":"IF(D28=\"\",\"\",IF(D28-E28>0,1,0)+IF(G28<>\"\",IF(G28-H28>0,1,0),0)+IF(J28<>\"\",IF(J28-K28>0,1,0),0))","v":""},{"$f":"IF(AND(D28<>\"\",G28<>\"\",J28<>\"\"),D28+G28+J28,IF(AND(D28<>\"\",G28<>\"\"),D28+G28,IF(D28<>\"\",D28,\"\")))","v":""},{"$f":"IF(AND(E28<>\"\",H28<>\"\",K28<>\"\"),E28+H28+K28,IF(AND(E28<>\"\",H28<>\"\"),E28+H28,IF(E28<>\"\",E28,\"\")))","v":""},null,null,{"$f":"IF(B28<>\"\",IF(L28=3,0,MIN(IF(E28-D28>0,E28-D28,14),IF(H28-G28>0,H28-G28,14),IF(K28-J28>0,K28-J28,14))),\"\")","v":""},{"$f":"IF(B28<>\"\",MAX(IF(D28-E28>0,D28-E28,0),IF(G28-H28>0,G28-H28,0),IF(J28-K28>0,J28-K28,0)),\"\")","v":""},null,null,null,null,{"$f":"IF(B28<>\"\",VALUE(IF(ISERROR(VLOOKUP(A28,'1ère partie'!B:F,1,FALSE)),0,VLOOKUP(A28,'1ère partie'!B:F,5,FALSE))+IF(ISERROR(VLOOKUP(A28,'1ère partie'!F:L,1,FALSE)),0,VLOOKUP(A28,'1ère partie'!F:L,7,FALSE))),\"\")","v":""},{"$f":"IF(B28<>\"\",VALUE(IF(ISERROR(VLOOKUP(A28,'2ème partie'!B:F,1,FALSE)),0,VLOOKUP(A28,'2ème partie'!B:F,5,FALSE))+IF(ISERROR(VLOOKUP(A28,'2ème partie'!F:L,1,FALSE)),0,VLOOKUP(A28,'2ème partie'!F:L,7,FALSE))),\"\")","v":""},{"$f":"IF(B28<>\"\",VALUE(IF(ISERROR(VLOOKUP(A28,'3ème partie'!B:F,1,FALSE)),0,VLOOKUP(A28,'3ème partie'!B:F,5,FALSE))+IF(ISERROR(VLOOKUP(A28,'3ème partie'!F:L,1,FALSE)),0,VLOOKUP(A28,'3ème partie'!F:L,7,FALSE))),\"\")","v":""},null,null,25,""]
[26,{"$f":"IF(VLOOKUP(A29,Equipes!A:B,2,FALSE)<>\"\",VLOOKUP(A29,Equipes!A:B,2,FALSE),\"\")","v":""},{"$f":"IF(VLOOKUP(A29,Equipes!A:C,3,FALSE)<>\"\",VLOOKUP(A29,Equipes!A:C,3,FALSE),\"\")","v":""},{"$f":"IF(AND(B29<>\"\",W$1<>0),VALUE(IF(ISERROR(VLOOKUP(A29,'1ère partie'!B:E,1,FALSE)),0,IF(VLOOKUP(A29,'1ère partie'!B:F,5,FALSE)=\"\",13,VLOOKUP(A29,'1ère partie'!B:E,4,FALSE)))+IF(ISERROR(VLOOKUP(A29,'1ère partie'!F:I,1,FALSE)),0,IF(VLOOKUP(A29,'1ère partie'!F:J,5,FALSE)=\"\",13,VLOOKUP(A29,'1ère partie'!F:I,4,FALSE)))),\"\")","v":""},{"$f":"IF(AND(B29<>\"\",W$1<>0),VALUE(IF(ISERROR(VLOOKUP(A29,'1ère partie'!B:E,1,FALSE)),0,IF(VLOOKUP(A29,'1ère partie'!B:F,5,FALSE)=\"\",7,VLOOKUP(A29,'1ère partie'!B:I,8,FALSE)))+IF(ISERROR(VLOOKUP(A29,'1ère partie'!F:I,1,FALSE)),0,IF(VLOOKUP(A29,'1ère partie'!F:J,5,FALSE)=\"\",7,VLOOKUP(A29,'1ère partie'!F:J,5,FALSE)))),\"\")","v":""},null,{"$f":"IF(AND(B29<>\"\",X$1<>0),VALUE(IF(ISERROR(VLOOKUP(A29,'2ème partie'!B:E,1,FALSE)),0,IF(VLOOKUP(A29,'2ème partie'!B:F,5,FALSE)=\"\",13,VLOOKUP(A29,'2ème partie'!B:E,4,FALSE)))+IF(ISERROR(VLOOKUP(A29,'2ème partie'!F:I,1,FALSE)),0,IF(VLOOKUP(A29,'2ème partie'!F:J,5,FALSE)=\"\",13,VLOOKUP(A29,'2ème partie'!F:I,4,FALSE)))),\"\")","v":""},{"$f":"IF(AND(B29<>\"\",X$1<>0),VALUE(IF(ISERROR(VLOOKUP(A29,'2ème partie'!B:E,1,FALSE)),0,IF(VLOOKUP(A29,'2ème partie'!B:F,5,FALSE)=\"\",7,VLOOKUP(A29,'2ème partie'!B:I,8,FALSE)))+IF(ISERROR(VLOOKUP(A29,'2ème partie'!F:I,1,FALSE)),0,IF(VLOOKUP(A29,'2ème partie'!F:J,5,FALSE)=\"\",7,VLOOKUP(A29,'2ème partie'!F:J,5,FALSE)))),\"\")","v":""},null,{"$f":"IF(AND(B29<>\"\",Y$1<>0),VALUE(IF(ISERROR(VLOOKUP(A29,'3ème partie'!B:E,1,FALSE)),0,IF(VLOOKUP(A29,'3ème partie'!B:F,5,FALSE)=\"\",13,VLOOKUP(A29,'3ème partie'!B:E,4,FALSE)))+IF(ISERROR(VLOOKUP(A29,'3ème partie'!F:I,1,FALSE)),0,IF(VLOOKUP(A29,'3ème partie'!F:J,5,FALSE)=\"\",13,VLOOKUP(A29,'3ème partie'!F:I,4,FALSE)))),\"\")","v":""},{"$f":"IF(AND(B29<>\"\",Y$1<>0),VALUE(IF(ISERROR(VLOOKUP(A29,'3ème partie'!B:E,1,FALSE)),0,IF(VLOOKUP(A29,'3ème partie'!B:F,5,FALSE)=\"\",7,VLOOKUP(A29,'3ème partie'!B:I,8,FALSE)))+IF(ISERROR(VLOOKUP(A29,'3ème partie'!F:I,1,FALSE)),0,IF(VLOOKUP(A29,'3ème partie'!F:J,5,FALSE)=\"\",7,VLOOKUP(A29,'3ème partie'!F:J,5,FALSE)))),\"\")","v":""},{"$f":"IF(D29=\"\",\"\",IF(D29-E29>0,1,0)+IF(G29<>\"\",IF(G29-H29>0,1,0),0)+IF(J29<>\"\",IF(J29-K29>0,1,0),0))","v":""},{"$f":"IF(AND(D29<>\"\",G29<>\"\",J29<>\"\"),D29+G29+J29,IF(AND(D29<>\"\",G29<>\"\"),D29+G29,IF(D29<>\"\",D29,\"\")))","v":""},{"$f":"IF(AND(E29<>\"\",H29<>\"\",K29<>\"\"),E29+H29+K29,IF(AND(E29<>\"\",H29<>\"\"),E29+H29,IF(E29<>\"\",E29,\"\")))","v":""},null,null,{"$f":"IF(B29<>\"\",IF(L29=3,0,MIN(IF(E29-D29>0,E29-D29,14),IF(H29-G29>0,H29-G29,14),IF(K29-J29>0,K29-J29,14))),\"\")","v":""},{"$f":"IF(B29<>\"\",MAX(IF(D29-E29>0,D29-E29,0),IF(G29-H29>0,G29-H29,0),IF(J29-K29>0,J29-K29,0)),\"\")","v":""},null,null,null,null,{"$f":"IF(B29<>\"\",VALUE(IF(ISERROR(VLOOKUP(A29,'1ère partie'!B:F,1,FALSE)),0,VLOOKUP(A29,'1ère partie'!B:F,5,FALSE))+IF(ISERROR(VLOOKUP(A29,'1ère partie'!F:L,1,FALSE)),0,VLOOKUP(A29,'1ère partie'!F:L,7,FALSE))),\"\")","v":""},{"$f":"IF(B29<>\"\",VALUE(IF(ISERROR(VLOOKUP(A29,'2ème partie'!B:F,1,FALSE)),0,VLOOKUP(A29,'2ème partie'!B:F,5,FALSE))+IF(ISERROR(VLOOKUP(A29,'2ème partie'!F:L,1,FALSE)),0,VLOOKUP(A29,'2ème partie'!F:L,7,FALSE))),\"\")","v":""},{"$f":"IF(B29<>\"\",VALUE(IF(ISERROR(VLOOKUP(A29,'3ème partie'!B:F,1,FALSE)),0,VLOOKUP(A29,'3ème partie'!B:F,5,FALSE))+IF(ISERROR(VLOOKUP(A29,'3ème partie'!F:L,1,FALSE)),0,VLOOKUP(A29,'3ème partie'!F:L,7,FALSE))),\"\")","v":""},null,null,26,""]
[27,{"$f":"IF(VLOOKUP(A30,Equipes!A:B,2,FALSE)<>\"\",VLOOKUP(A30,Equipes!A:B,2,FALSE),\"\")","v":""},{"$f":"IF(VLOOKUP(A30,Equipes!A:C,3,FALSE)<>\"\",VLOOKUP(A30,Equipes!A:C,3,FALSE),\"\")","v":""},{"$f":"IF(AND(B30<>\"\",W$1<>0),VALUE(IF(ISERROR(VLOOKUP(A30,'1ère partie'!B:E,1,FALSE)),0,IF(VLOOKUP(A30,'1ère partie'!B:F,5,FALSE)=\"\",13,VLOOKUP(A30,'1ère partie'!B:E,4,FALSE)))+IF(ISERROR(VLOOKUP(A30,'1ère partie'!F:I,1,FALSE)),0,IF(VLOOKUP(A30,'1ère partie'!F:J,5,FALSE)=\"\",13,VLOOKUP(A30,'1ère partie'!F:I,4,FALSE)))),\"\")","v":""},{"$f":"IF(AND(B30<>\"\",W$1<>0),VALUE(IF(ISERROR(VLOOKUP(A30,'1ère partie'!B:E,1,FALSE)),0,IF(VLOOKUP(A30,'1ère partie'!B:F,5,FALSE)=\"\",7,VLOOKUP(A30,'1ère partie'!B:I,8,FALSE)))+IF(ISERROR(VLOOKUP(A30,'1ère partie'!F:I,1,FALSE)),0,IF(VLOOKUP(A30,'1ère partie'!F:J,5,FALSE)=\"\",7,VLOOKUP(A30,'1ère partie'!F:J,5,FALSE)))),\"\")","v":""},null,{"$f":"IF(AND(B30<>\"\",X$1<>0),VALUE(IF(ISERROR(VLOOKUP(A30,'2ème partie'!B:E,1,FALSE)),0,IF(VLOOKUP(A30,'2ème partie'!B:F,5,FALSE)=\"\",13,VLOOKUP(A30,'2ème partie'!B:E,4,FALSE)))+IF(ISERROR(VLOOKUP(A30,'2ème partie'!F:I,1,FALSE)),0,IF(VLOOKUP(A30,'2ème partie'!F:J,5,FALSE)=\"\",13,VLOOKUP(A30,'2ème partie'!F:I,4,FALSE)))),\"\")","v":""},{"$f":"IF(AND(B30<>\"\",X$1<>0),VALUE(IF(ISERROR(VLOOKUP(A30,'2ème partie'!B:E,1,FALSE)),0,IF(VLOOKUP(A30,'2ème partie'!B:F,5,FALSE)=\"\",7,VLOOKUP(A30,'2ème partie'!B:I,8,FALSE)))+IF(ISERROR(VLOOKUP(A30,'2ème partie'!F:I,1,FALSE)),0,IF(VLOOKUP(A30,'2ème partie'!F:J,5,FALSE)=\"\",7,VLOOKUP(A30,'2ème partie'!F:J,5,FALSE)))),\"\")","v":""},null,{"$f":"IF(AND(B30<>\"\",Y$1<>0),VALUE(IF(ISERROR(VLOOKUP(A30,'3ème partie'!B:E,1,FALSE)),0,IF(VLOOKUP(A30,'3ème partie'!B:F,5,FALSE)=\"\",13,VLOOKUP(A30,'3ème partie'!B:E,4,FALSE)))+IF(ISERROR(VLOOKUP(A30,'3ème partie'!F:I,1,FALSE)),0,IF(VLOOKUP(A30,'3ème partie'!F:J,5,FALSE)=\"\",13,VLOOKUP(A30,'3ème partie'!F:I,4,FALSE)))),\"\")","v":""},{"$f":"IF(AND(B30<>\"\",Y$1<>0),VALUE(IF(ISERROR(VLOOKUP(A30,'3ème partie'!B:E,1,FALSE)),0,IF(VLOOKUP(A30,'3ème partie'!B:F,5,FALSE)=\"\",7,VLOOKUP(A30,'3ème partie'!B:I,8,FALSE)))+IF(ISERROR(VLOOKUP(A30,'3ème partie'!F:I,1,FALSE)),0,IF(VLOOKUP(A30,'3ème partie'!F:J,5,FALSE)=\"\",7,VLOOKUP(A30,'3ème partie'!F:J,5,FALSE)))),\"\")","v":""},{"$f":"IF(D30=\"\",\"\",IF(D30-E30>0,1,0)+IF(G30<>\"\",IF(G30-H30>0,1,0),0)+IF(J30<>\"\",IF(J30-K30>0,1,0),0))","v":""},{"$f":"IF(AND(D30<>\"\",G30<>\"\",J30<>\"\"),D30+G30+J30,IF(AND(D30<>\"\",G30<>\"\"),D30+G30,IF(D30<>\"\",D30,\"\")))","v":""},{"$f":"IF(AND(E30<>\"\",H30<>\"\",K30<>\"\"),E30+H30+K30,IF(AND(E30<>\"\",H30<>\"\"),E30+H30,IF(E30<>\"\",E30,\"\")))","v":""},null,null,{"$f":"IF(B30<>\"\",IF(L30=3,0,MIN(IF(E30-D30>0,E30-D30,14),IF(H30-G30>0,H30-G30,14),IF(K30-J30>0,K30-J30,14))),\"\")","v":""},{"$f":"IF(B30<>\"\",MAX(IF(D30-E30>0,D30-E30,0),IF(G30-H30>0,G30-H30,0),IF(J30-K30>0,J30-K30,0)),\"\")","v":""},null,null,null,null,{"$f":"IF(B30<>\"\",VALUE(IF(ISERROR(VLOOKUP(A30,'1ère partie'!B:F,1,FALSE)),0,VLOOKUP(A30,'1ère partie'!B:F,5,FALSE))+IF(ISERROR(VLOOKUP(A30,'1ère partie'!F:L,1,FALSE)),0,VLOOKUP(A30,'1ère partie'!F:L,7,FALSE))),\"\")","v":""},{"$f":"IF(B30<>\"\",VALUE(IF(ISERROR(VLOOKUP(A30,'2ème partie'!B:F,1,FALSE)),0,VLOOKUP(A30,'2ème partie'!B:F,5,FALSE))+IF(ISERROR(VLOOKUP(A30,'2ème partie'!F:L,1,FALSE)),0,VLOOKUP(A30,'2ème partie'!F:L,7,FALSE))),\"\")","v":""},{"$f":"IF(B30<>\"\",VALUE(IF(ISERROR(VLOOKUP(A30,'3ème partie'!B:F,1,FALSE)),0,VLOOKUP(A30,'3ème partie'!B:F,5,FALSE))+IF(ISERROR(VLOOKUP(A30,'3ème partie'!F:L,1,FALSE)),0,VLOOKUP(A30,'3ème partie'!F:L,7,FALSE))),\"\")","v":""},null,null,27,""]
[28,{"$f":"IF(VLOOKUP(A31,Equipes!A:B,2,FALSE)<>\"\",VLOOKUP(A31,Equipes!A:B,2,FALSE),\"\")","v":""},{"$f":"IF(VLOOKUP(A31,Equipes!A:C,3,FALSE)<>\"\",VLOOKUP(A31,Equipes!A:C,3,FALSE),\"\")","v":""},{"$f":"IF(AND(B31<>\"\",W$1<>0),VALUE(IF(ISERROR(VLOOKUP(A31,'1ère partie'!B:E,1,FALSE)),0,IF(VLOOKUP(A31,'1ère partie'!B:F,5,FALSE)=\"\",13,VLOOKUP(A31,'1ère partie'!B:E,4,FALSE)))+IF(ISERROR(VLOOKUP(A31,'1ère partie'!F:I,1,FALSE)),0,IF(VLOOKUP(A31,'1ère partie'!F:J,5,FALSE)=\"\",13,VLOOKUP(A31,'1ère partie'!F:I,4,FALSE)))),\"\")","v":""},{"$f":"IF(AND(B31<>\"\",W$1<>0),VALUE(IF(ISERROR(VLOOKUP(A31,'1ère partie'!B:E,1,FALSE)),0,IF(VLOOKUP(A31,'1ère partie'!B:F,5,FALSE)=\"\",7,VLOOKUP(A31,'1ère partie'!B:I,8,FALSE)))+IF(ISERROR(VLOOKUP(A31,'1ère partie'!F:I,1,FALSE)),0,IF(VLOOKUP(A31,'1ère partie'!F:J,5,FALSE)=\"\",7,VLOOKUP(A31,'1ère partie'!F:J,5,FALSE)))),\"\")","v":""},null,{"$f":"IF(AND(B31<>\"\",X$1<>0),VALUE(IF(ISERROR(VLOOKUP(A31,'2ème partie'!B:E,1,FALSE)),0,IF(VLOOKUP(A31,'2ème partie'!B:F,5,FALSE)=\"\",13,VLOOKUP(A31,'2ème partie'!B:E,4,FALSE)))+IF(ISERROR(VLOOKUP(A31,'2ème partie'!F:I,1,FALSE)),0,IF(VLOOKUP(A31,'2ème partie'!F:J,5,FALSE)=\"\",13,VLOOKUP(A31,'2ème partie'!F:I,4,FALSE)))),\"\")","v":""},{"$f":"IF(AND(B31<>\"\",X$1<>0),VALUE(IF(ISERROR(VLOOKUP(A31,'2ème partie'!B:E,1,FALSE)),0,IF(VLOOKUP(A31,'2ème partie'!B:F,5,FALSE)=\"\",7,VLOOKUP(A31,'2ème partie'!B:I,8,FALSE)))+IF(ISERROR(VLOOKUP(A31,'2ème partie'!F:I,1,FALSE)),0,IF(VLOOKUP(A31,'2ème partie'!F:J,5,FALSE)=\"\",7,VLOOKUP(A31,'2ème partie'!F:J,5,FALSE)))),\"\")","v":""},null,{"$f":"IF(AND(B31<>\"\",Y$1<>0),VALUE(IF(ISERROR(VLOOKUP(A31,'3ème partie'!B:E,1,FALSE)),0,IF(VLOOKUP(A31,'3ème partie'!B:F,5,FALSE)=\"\",13,VLOOKUP(A31,'3ème partie'!B:E,4,FALSE)))+IF(ISERROR(VLOOKUP(A31,'3ème partie'!F:I,1,FALSE)),0,IF(VLOOKUP(A31,'3ème partie'!F:J,5,FALSE)=\"\",13,VLOOKUP(A31,'3ème partie'!F:I,4,FALSE)))),\"\")","v":""},{"$f":"IF(AND(B31<>\"\",Y$1<>0),VALUE(IF(ISERROR(VLOOKUP(A31,'3ème partie'!B:E,1,FALSE)),0,IF(VLOOKUP(A31,'3ème partie'!B:F,5,FALSE)=\"\",7,VLOOKUP(A31,'3ème partie'!B:I,8,FALSE)))+IF(ISERROR(VLOOKUP(A31,'3ème partie'!F:I,1,FALSE)),0,IF(VLOOKUP(A31,'3ème partie'!F:J,5,FALSE)=\"\",7,VLOOKUP(A31,'3ème partie'!F:J,5,FALSE)))),\"\")","v":""},{"$f":"IF(D31=\"\",\"\",IF(D31-E31>0,1,0)+IF(G31<>\"\",IF(G31-H31>0,1,0),0)+IF(J31<>\"\",IF(J31-K31>0,1,0),0))","v":""},{"$f":"IF(AND(D31<>\"\",G31<>\"\",J31<>\"\"),D31+G31+J31,IF(AND(D31<>\"\",G31<>\"\"),D31+G31,IF(D31<>\"\",D31,\"\")))","v":""},{"$f":"IF(AND(E31<>\"\",H31<>\"\",K31<>\"\"),E31+H31+K31,IF(AND(E31<>\"\",H31<>\"\"),E31+H31,IF(E31<>\"\",E31,\"\")))","v":""},null,null,{"$f":"IF(B31<>\"\",IF(L31=3,0,MIN(IF(E31-D31>0,E31-D31,14),IF(H31-G31>0,H31-G31,14),IF(K31-J31>0,K31-J31,14))),\"\")","v":""},{"$f":"IF(B31<>\"\",MAX(IF(D31-E31>0,D31-E31,0),IF(G31-H31>0,G31-H31,0),IF(J31-K31>0,J31-K31,0)),\"\")","v":""},null,null,null,null,{"$f":"IF(B31<>\"\",VALUE(IF(ISERROR(VLOOKUP(A31,'1ère partie'!B:F,1,FALSE)),0,VLOOKUP(A31,'1ère partie'!B:F,5,FALSE))+IF(ISERROR(VLOOKUP(A31,'1ère partie'!F:L,1,FALSE)),0,VLOOKUP(A31,'1ère partie'!F:L,7,FALSE))),\"\")","v":""},{"$f":"IF(B31<>\"\",VALUE(IF(ISERROR(VLOOKUP(A31,'2ème partie'!B:F,1,FALSE)),0,VLOOKUP(A31,'2ème partie'!B:F,5,FALSE))+IF(ISERROR(VLOOKUP(A31,'2ème partie'!F:L,1,FALSE)),0,VLOOKUP(A31,'2ème partie'!F:L,7,FALSE))),\"\")","v":""},{"$f":"IF(B31<>\"\",VALUE(IF(ISERROR(VLOOKUP(A31,'3ème partie'!B:F,1,FALSE)),0,VLOOKUP(A31,'3ème partie'!B:F,5,FALSE))+IF(ISERROR(VLOOKUP(A31,'3ème partie'!F:L,1,FALSE)),0,VLOOKUP(A31,'3ème partie'!F:L,7,FALSE))),\"\")","v":""},null,null,28,""]
[29,{"$f":"IF(VLOOKUP(A32,Equipes!A:B,2,FALSE)<>\"\",VLOOKUP(A32,Equipes!A:B,2,FALSE),\"\")","v":""},{"$f":"IF(VLOOKUP(A32,Equipes!A:C,3,FALSE)<>\"\",VLOOKUP(A32,Equipes!A:C,3,FALSE),\"\")","v":""},{"$f":"IF(AND(B32<>\"\",W$1<>0),VALUE(IF(ISERROR(VLOOKUP(A32,'1ère partie'!B:E,1,FALSE)),0,IF(VLOOKUP(A32,'1ère partie'!B:F,5,FALSE)=\"\",13,VLOOKUP(A32,'1ère partie'!B:E,4,FALSE)))+IF(ISERROR(VLOOKUP(A32,'1ère partie'!F:I,1,FALSE)),0,IF(VLOOKUP(A32,'1ère partie'!F:J,5,FALSE)=\"\",13,VLOOKUP(A32,'1ère partie'!F:I,4,FALSE)))),\"\")","v":""},{"$f":"IF(AND(B32<>\"\",W$1<>0),VALUE(IF(ISERROR(VLOOKUP(A32,'1ère partie'!B:E,1,FALSE)),0,IF(VLOOKUP(A32,'1ère partie'!B:F,5,FALSE)=\"\",7,VLOOKUP(A32,'1ère partie'!B:I,8,FALSE)))+IF(ISERROR(VLOOKUP(A32,'1ère partie'!F:I,1,FALSE)),0,IF(VLOOKUP(A32,'1ère partie'!F:J,5,FALSE)=\"\",7,VLOOKUP(A32,'1ère partie'!F:J,5,FALSE)))),\"\")","v":""},null,{"$f":"IF(AND(B32<>\"\",X$1<>0),VALUE(IF(ISERROR(VLOOKUP(A32,'2ème partie'!B:E,1,FALSE)),0,IF(VLOOKUP(A32,'2ème partie'!B:F,5,FALSE)=\"\",13,VLOOKUP(A32,'2ème partie'!B:E,4,FALSE)))+IF(ISERROR(VLOOKUP(A32,'2ème partie'!F:I,1,FALSE)),0,IF(VLOOKUP(A32,'2ème partie'!F:J,5,FALSE)=\"\",13,VLOOKUP(A32,'2ème partie'!F:I,4,FALSE)))),\"\")","v":""},{"$f":"IF(AND(B32<>\"\",X$1<>0),VALUE(IF(ISERROR(VLOOKUP(A32,'2ème partie'!B:E,1,FALSE)),0,IF(VLOOKUP(A32,'2ème partie'!B:F,5,FALSE)=\"\",7,VLOOKUP(A32,'2ème partie'!B:I,8,FALSE)))+IF(ISERROR(VLOOKUP(A32,'2ème partie'!F:I,1,FALSE)),0,IF(VLOOKUP(A32,'2ème partie'!F:J,5,FALSE)=\"\",7,VLOOKUP(A32,'2ème partie'!F:J,5,FALSE)))),\"\")","v":""},null,{"$f":"IF(AND(B32<>\"\",Y$1<>0),VALUE(IF(ISERROR(VLOOKUP(A32,'3ème partie'!B:E,1,FALSE)),0,IF(VLOOKUP(A32,'3ème partie'!B:F,5,FALSE)=\"\",13,VLOOKUP(A32,'3ème partie'!B:E,4,FALSE)))+IF(ISERROR(VLOOKUP(A32,'3ème partie'!F:I,1,FALSE)),0,IF(VLOOKUP(A32,'3ème partie'!F:J,5,FALSE)=\"\",13,VLOOKUP(A32,'3ème partie'!F:I,4,FALSE)))),\"\")","v":""},{"$f":"IF(AND(B32<>\"\",Y$1<>0),VALUE(IF(ISERROR(VLOOKUP(A32,'3ème partie'!B:E,1,FALSE)),0,IF(VLOOKUP(A32,'3ème partie'!B:F,5,FALSE)=\"\",7,VLOOKUP(A32,'3ème partie'!B:I,8,FALSE)))+IF(ISERROR(VLOOKUP(A32,'3ème partie'!F:I,1,FALSE)),0,IF(VLOOKUP(A32,'3ème partie'!F:J,5,FALSE)=\"\",7,VLOOKUP(A32,'3ème partie'!F:J,5,FALSE)))),\"\")","v":""},{"$f":"IF(D32=\"\",\"\",IF(D32-E32>0,1,0)+IF(G32<>\"\",IF(G32-H32>0,1,0),0)+IF(J32<>\"\",IF(J32-K32>0,1,0),0))","v":""},{"$f":"IF(AND(D32<>\"\",G32<>\"\",J32<>\"\"),D32+G32+J32,IF(AND(D32<>\"\",G32<>\"\"),D32+G32,IF(D32<>\"\",D32,\"\")))","v":""},{"$f":"IF(AND(E32<>\"\",H32<>\"\",K32<>\"\"),E32+H32+K32,IF(AND(E32<>\"\",H32<>\"\"),E32+H32,IF(E32<>\"\",E32,\"\")))","v":""},null,null,{"$f":"IF(B32<>\"\",IF(L32=3,0,MIN(IF(E32-D32>0,E32-D32,14),IF(H32-G32>0,H32-G32,14),IF(K32-J32>0,K32-J32,14))),\"\")","v":""},{"$f":"IF(B32<>\"\",MAX(IF(D32-E32>0,D32-E32,0),IF(G32-H32>0,G32-H32,0),IF(J32-K32>0,J32-K32,0)),\"\")","v":""},null,null,null,null,{"$f":"IF(B32<>\"\",VALUE(IF(ISERROR(VLOOKUP(A32,'1ère partie'!B:F,1,FALSE)),0,VLOOKUP(A32,'1ère partie'!B:F,5,FALSE))+IF(ISERROR(VLOOKUP(A32,'1ère partie'!F:L,1,FALSE)),0,VLOOKUP(A32,'1ère partie'!F:L,7,FALSE))),\"\")","v":""},{"$f":"IF(B32<>\"\",VALUE(IF(ISERROR(VLOOKUP(A32,'2ème partie'!B:F,1,FALSE)),0,VLOOKUP(A32,'2ème partie'!B:F,5,FALSE))+IF(ISERROR(VLOOKUP(A32,'2ème partie'!F:L,1,FALSE)),0,VLOOKUP(A32,'2ème partie'!F:L,7,FALSE))),\"\")","v":""},{"$f":"IF(B32<>\"\",VALUE(IF(ISERROR(VLOOKUP(A32,'3ème partie'!B:F,1,FALSE)),0,VLOOKUP(A32,'3ème partie'!B:F,5,FALSE))+IF(ISERROR(VLOOKUP(A32,'3ème partie'!F:L,1,FALSE)),0,VLOOKUP(A32,'3ème partie'!F:L,7,FALSE))),\"\")","v":""},null,null,29,""]
[30,{"$f":"IF(VLOOKUP(A33,Equipes!A:B,2,FALSE)<>\"\",VLOOKUP(A33,Equipes!A:B,2,FALSE),\"\")","v":""},{"$f":"IF(VLOOKUP(A33,Equipes!A:C,3,FALSE)<>\"\",VLOOKUP(A33,Equipes!A:C,3,FALSE),\"\")","v":""},{"$f":"IF(AND(B33<>\"\",W$1<>0),VALUE(IF(ISERROR(VLOOKUP(A33,'1ère partie'!B:E,1,FALSE)),0,IF(VLOOKUP(A33,'1ère partie'!B:F,5,FALSE)=\"\",13,VLOOKUP(A33,'1ère partie'!B:E,4,FALSE)))+IF(ISERROR(VLOOKUP(A33,'1ère partie'!F:I,1,FALSE)),0,IF(VLOOKUP(A33,'1ère partie'!F:J,5,FALSE)=\"\",13,VLOOKUP(A33,'1ère partie'!F:I,4,FALSE)))),\"\")","v":""},{"$f":"IF(AND(B33<>\"\",W$1<>0),VALUE(IF(ISERROR(VLOOKUP(A33,'1ère partie'!B:E,1,FALSE)),0,IF(VLOOKUP(A33,'1ère partie'!B:F,5,FALSE)=\"\",7,VLOOKUP(A33,'1ère partie'!B:I,8,FALSE)))+IF(ISERROR(VLOOKUP(A33,'1ère partie'!F:I,1,FALSE)),0,IF(VLOOKUP(A33,'1ère partie'!F:J,5,FALSE)=\"\",7,VLOOKUP(A33,'1ère partie'!F:J,5,FALSE)))),\"\")","v":""},null,{"$f":"IF(AND(B33<>\"\",X$1<>0),VALUE(IF(ISERROR(VLOOKUP(A33,'2ème partie'!B:E,1,FALSE)),0,IF(VLOOKUP(A33,'2ème partie'!B:F,5,FALSE)=\"\",13,VLOOKUP(A33,'2ème partie'!B:E,4,FALSE)))+IF(ISERROR(VLOOKUP(A33,'2ème partie'!F:I,1,FALSE)),0,IF(VLOOKUP(A33,'2ème partie'!F:J,5,FALSE)=\"\",13,VLOOKUP(A33,'2ème partie'!F:I,4,FALSE)))),\"\")","v":""},{"$f":"IF(AND(B33<>\"\",X$1<>0),VALUE(IF(ISERROR(VLOOKUP(A33,'2ème partie'!B:E,1,FALSE)),0,IF(VLOOKUP(A33,'2ème partie'!B:F,5,FALSE)=\"\",7,VLOOKUP(A33,'2ème partie'!B:I,8,FALSE)))+IF(ISERROR(VLOOKUP(A33,'2ème partie'!F:I,1,FALSE)),0,IF(VLOOKUP(A33,'2ème partie'!F:J,5,FALSE)=\"\",7,VLOOKUP(A33,'2ème partie'!F:J,5,FALSE)))),\"\")","v":""},null,{"$f":"IF(AND(B33<>\"\",Y$1<>0),VALUE(IF(ISERROR(VLOOKUP(A33,'3ème partie'!B:E,1,FALSE)),0,IF(VLOOKUP(A33,'3ème partie'!B:F,5,FALSE)=\"\",13,VLOOKUP(A33,'3ème partie'!B:E,4,FALSE)))+IF(ISERROR(VLOOKUP(A33,'3ème partie'!F:I,1,FALSE)),0,IF(VLOOKUP(A33,'3ème partie'!F:J,5,FALSE)=\"\",13,VLOOKUP(A33,'3ème partie'!F:I,4,FALSE)))),\"\")","v":""},{"$f":"IF(AND(B33<>\"\",Y$1<>0),VALUE(IF(ISERROR(VLOOKUP(A33,'3ème partie'!B:E,1,FALSE)),0,IF(VLOOKUP(A33,'3ème partie'!B:F,5,FALSE)=\"\",7,VLOOKUP(A33,'3ème partie'!B:I,8,FALSE)))+IF(ISERROR(VLOOKUP(A33,'3ème partie'!F:I,1,FALSE)),0,IF(VLOOKUP(A33,'3ème partie'!F:J,5,FALSE)=\"\",7,VLOOKUP(A33,'3ème partie'!F:J,5,FALSE)))),\"\")","v":""},{"$f":"IF(D33=\"\",\"\",IF(D33-E33>0,1,0)+IF(G33<>\"\",IF(G33-H33>0,1,0),0)+IF(J33<>\"\",IF(J33-K33>0,1,0),0))","v":""},{"$f":"IF(AND(D33<>\"\",G33<>\"\",J33<>\"\"),D33+G33+J33,IF(AND(D33<>\"\",G33<>\"\"),D33+G33,IF(D33<>\"\",D33,\"\")))","v":""},{"$f":"IF(AND(E33<>\"\",H33<>\"\",K33<>\"\"),E33+H33+K33,IF(AND(E33<>\"\",H33<>\"\"),E33+H33,IF(E33<>\"\",E33,\"\")))","v":""},null,null,{"$f":"IF(B33<>\"\",IF(L33=3,0,MIN(IF(E33-D33>0,E33-D33,14),IF(H33-G33>0,H33-G33,14),IF(K33-J33>0,K33-J33,14))),\"\")","v":""},{"$f":"IF(B33<>\"\",MAX(IF(D33-E33>0,D33-E33,0),IF(G33-H33>0,G33-H33,0),IF(J33-K33>0,J33-K33,0)),\"\")","v":""},null,null,null,null,{"$f":"IF(B33<>\"\",VALUE(IF(ISERROR(VLOOKUP(A33,'1ère partie'!B:F,1,FALSE)),0,VLOOKUP(A33,'1ère partie'!B:F,5,FALSE))+IF(ISERROR(VLOOKUP(A33,'1ère partie'!F:L,1,FALSE)),0,VLOOKUP(A33,'1ère partie'!F:L,7,FALSE))),\"\")","v":""},{"$f":"IF(B33<>\"\",VALUE(IF(ISERROR(VLOOKUP(A33,'2ème partie'!B:F,1,FALSE)),0,VLOOKUP(A33,'2ème partie'!B:F,5,FALSE))+IF(ISERROR(VLOOKUP(A33,'2ème partie'!F:L,1,FALSE)),0,VLOOKUP(A33,'2ème partie'!F:L,7,FALSE))),\"\")","v":""},{"$f":"IF(B33<>\"\",VALUE(IF(ISERROR(VLOOKUP(A33,'3ème partie'!B:F,1,FALSE)),0,VLOOKUP(A33,'3ème partie'!B:F,5,FALSE))+IF(ISERROR(VLOOKUP(A33,'3ème partie'!F:L,1,FALSE)),0,VLOOKUP(A33,'3ème partie'!F:L,7,FALSE))),\"\")","v":""},null,null,30,""]
[31,{"$f":"IF(VLOOKUP(A34,Equipes!A:B,2,FALSE)<>\"\",VLOOKUP(A34,Equipes!A:B,2,FALSE),\"\")","v":""},{"$f":"IF(VLOOKUP(A34,Equipes!A:C,3,FALSE)<>\"\",VLOOKUP(A34,Equipes!A:C,3,FALSE),\"\")","v":""},{"$f":"IF(AND(B34<>\"\",W$1<>0),VALUE(IF(ISERROR(VLOOKUP(A34,'1ère partie'!B:E,1,FALSE)),0,IF(VLOOKUP(A34,'1ère partie'!B:F,5,FALSE)=\"\",13,VLOOKUP(A34,'1ère partie'!B:E,4,FALSE)))+IF(ISERROR(VLOOKUP(A34,'1ère partie'!F:I,1,FALSE)),0,IF(VLOOKUP(A34,'1ère partie'!F:J,5,FALSE)=\"\",13,VLOOKUP(A34,'1ère partie'!F:I,4,FALSE)))),\"\")","v":""},{"$f":"IF(AND(B34<>\"\",W$1<>0),VALUE(IF(ISERROR(VLOOKUP(A34,'1ère partie'!B:E,1,FALSE)),0,IF(VLOOKUP(A34,'1ère partie'!B:F,5,FALSE)=\"\",7,VLOOKUP(A34,'1ère partie'!B:I,8,FALSE)))+IF(ISERROR(VLOOKUP(A34,'1ère partie'!F:I,1,FALSE)),0,IF(VLOOKUP(A34,'1ère partie'!F:J,5,FALSE)=\"\",7,VLOOKUP(A34,'1ère partie'!F:J,5,FALSE)))),\"\")","v":""},null,{"$f":"IF(AND(B34<>\"\",X$1<>0),VALUE(IF(ISERROR(VLOOKUP(A34,'2ème partie'!B:E,1,FALSE)),0,IF(VLOOKUP(A34,'2ème partie'!B:F,5,FALSE)=\"\",13,VLOOKUP(A34,'2ème partie'!B:E,4,FALSE)))+IF(ISERROR(VLOOKUP(A34,'2ème partie'!F:I,1,FALSE)),0,IF(VLOOKUP(A34,'2ème partie'!F:J,5,FALSE)=\"\",13,VLOOKUP(A34,'2ème partie'!F:I,4,FALSE)))),\"\")","v":""},{"$f":"IF(AND(B34<>\"\",X$1<>0),VALUE(IF(ISERROR(VLOOKUP(A34,'2ème partie'!B:E,1,FALSE)),0,IF(VLOOKUP(A34,'2ème partie'!B:F,5,FALSE)=\"\",7,VLOOKUP(A34,'2ème partie'!B:I,8,FALSE)))+IF(ISERROR(VLOOKUP(A34,'2ème partie'!F:I,1,FALSE)),0,IF(VLOOKUP(A34,'2ème partie'!F:J,5,FALSE)=\"\",7,VLOOKUP(A34,'2ème partie'!F:J,5,FALSE)))),\"\")","v":""},null,{"$f":"IF(AND(B34<>\"\",Y$1<>0),VALUE(IF(ISERROR(VLOOKUP(A34,'3ème partie'!B:E,1,FALSE)),0,IF(VLOOKUP(A34,'3ème partie'!B:F,5,FALSE)=\"\",13,VLOOKUP(A34,'3ème partie'!B:E,4,FALSE)))+IF(ISERROR(VLOOKUP(A34,'3ème partie'!F:I,1,FALSE)),0,IF(VLOOKUP(A34,'3ème partie'!F:J,5,FALSE)=\"\",13,VLOOKUP(A34,'3ème partie'!F:I,4,FALSE)))),\"\")","v":""},{"$f":"IF(AND(B34<>\"\",Y$1<>0),VALUE(IF(ISERROR(VLOOKUP(A34,'3ème partie'!B:E,1,FALSE)),0,IF(VLOOKUP(A34,'3ème partie'!B:F,5,FALSE)=\"\",7,VLOOKUP(A34,'3ème partie'!B:I,8,FALSE)))+IF(ISERROR(VLOOKUP(A34,'3ème partie'!F:I,1,FALSE)),0,IF(VLOOKUP(A34,'3ème partie'!F:J,5,FALSE)=\"\",7,VLOOKUP(A34,'3ème partie'!F:J,5,FALSE)))),\"\")","v":""},{"$f":"IF(D34=\"\",\"\",IF(D34-E34>0,1,0)+IF(G34<>\"\",IF(G34-H34>0,1,0),0)+IF(J34<>\"\",IF(J34-K34>0,1,0),0))","v":""},{"$f":"IF(AND(D34<>\"\",G34<>\"\",J34<>\"\"),D34+G34+J34,IF(AND(D34<>\"\",G34<>\"\"),D34+G34,IF(D34<>\"\",D34,\"\")))","v":""},{"$f":"IF(AND(E34<>\"\",H34<>\"\",K34<>\"\"),E34+H34+K34,IF(AND(E34<>\"\",H34<>\"\"),E34+H34,IF(E34<>\"\",E34,\"\")))","v":""},null,null,{"$f":"IF(B34<>\"\",IF(L34=3,0,MIN(IF(E34-D34>0,E34-D34,14),IF(H34-G34>0,H34-G34,14),IF(K34-J34>0,K34-J34,14))),\"\")","v":""},{"$f":"IF(B34<>\"\",MAX(IF(D34-E34>0,D34-E34,0),IF(G34-H34>0,G34-H34,0),IF(J34-K34>0,J34-K34,0)),\"\")","v":""},null,null,null,null,{"$f":"IF(B34<>\"\",VALUE(IF(ISERROR(VLOOKUP(A34,'1ère partie'!B:F,1,FALSE)),0,VLOOKUP(A34,'1ère partie'!B:F,5,FALSE))+IF(ISERROR(VLOOKUP(A34,'1ère partie'!F:L,1,FALSE)),0,VLOOKUP(A34,'1ère partie'!F:L,7,FALSE))),\"\")","v":""},{"$f":"IF(B34<>\"\",VALUE(IF(ISERROR(VLOOKUP(A34,'2ème partie'!B:F,1,FALSE)),0,VLOOKUP(A34,'2ème partie'!B:F,5,FALSE))+IF(ISERROR(VLOOKUP(A34,'2ème partie'!F:L,1,FALSE)),0,VLOOKUP(A34,'2ème partie'!F:L,7,FALSE))),\"\")","v":""},{"$f":"IF(B34<>\"\",VALUE(IF(ISERROR(VLOOKUP(A34,'3ème partie'!B:F,1,FALSE)),0,VLOOKUP(A34,'3ème partie'!B:F,5,FALSE))+IF(ISERROR(VLOOKUP(A34,'3ème partie'!F:L,1,FALSE)),0,VLOOKUP(A34,'3ème partie'!F:L,7,FALSE))),\"\")","v":""},null,null,31,""]
[32,{"$f":"IF(VLOOKUP(A35,Equipes!A:B,2,FALSE)<>\"\",VLOOKUP(A35,Equipes!A:B,2,FALSE),\"\")","v":""},{"$f":"IF(VLOOKUP(A35,Equipes!A:C,3,FALSE)<>\"\",VLOOKUP(A35,Equipes!A:C,3,FALSE),\"\")","v":""},{"$f":"IF(AND(B35<>\"\",W$1<>0),VALUE(IF(ISERROR(VLOOKUP(A35,'1ère partie'!B:E,1,FALSE)),0,IF(VLOOKUP(A35,'1ère partie'!B:F,5,FALSE)=\"\",13,VLOOKUP(A35,'1ère partie'!B:E,4,FALSE)))+IF(ISERROR(VLOOKUP(A35,'1ère partie'!F:I,1,FALSE)),0,IF(VLOOKUP(A35,'1ère partie'!F:J,5,FALSE)=\"\",13,VLOOKUP(A35,'1ère partie'!F:I,4,FALSE)))),\"\")","v":""},{"$f":"IF(AND(B35<>\"\",W$1<>0),VALUE(IF(ISERROR(VLOOKUP(A35,'1ère partie'!B:E,1,FALSE)),0,IF(VLOOKUP(A35,'1ère partie'!B:F,5,FALSE)=\"\",7,VLOOKUP(A35,'1ère partie'!B:I,8,FALSE)))+IF(ISERROR(VLOOKUP(A35,'1ère partie'!F:I,1,FALSE)),0,IF(VLOOKUP(A35,'1ère partie'!F:J,5,FALSE)=\"\",7,VLOOKUP(A35,'1ère partie'!F:J,5,FALSE)))),\"\")","v":""},null,{"$f":"IF(AND(B35<>\"\",X$1<>0),VALUE(IF(ISERROR(VLOOKUP(A35,'2ème partie'!B:E,1,FALSE)),0,IF(VLOOKUP(A35,'2ème partie'!B:F,5,FALSE)=\"\",13,VLOOKUP(A35,'2ème partie'!B:E,4,FALSE)))+IF(ISERROR(VLOOKUP(A35,'2ème partie'!F:I,1,FALSE)),0,IF(VLOOKUP(A35,'2ème partie'!F:J,5,FALSE)=\"\",13,VLOOKUP(A35,'2ème partie'!F:I,4,FALSE)))),\"\")","v":""},{"$f":"IF(AND(B35<>\"\",X$1<>0),VALUE(IF(ISERROR(VLOOKUP(A35,'2ème partie'!B:E,1,FALSE)),0,IF(VLOOKUP(A35,'2ème partie'!B:F,5,FALSE)=\"\",7,VLOOKUP(A35,'2ème partie'!B:I,8,FALSE)))+IF(ISERROR(VLOOKUP(A35,'2ème partie'!F:I,1,FALSE)),0,IF(VLOOKUP(A35,'2ème partie'!F:J,5,FALSE)=\"\",7,VLOOKUP(A35,'2ème partie'!F:J,5,FALSE)))),\"\")","v":""},null,{"$f":"IF(AND(B35<>\"\",Y$1<>0),VALUE(IF(ISERROR(VLOOKUP(A35,'3ème partie'!B:E,1,FALSE)),0,IF(VLOOKUP(A35,'3ème partie'!B:F,5,FALSE)=\"\",13,VLOOKUP(A35,'3ème partie'!B:E,4,FALSE)))+IF(ISERROR(VLOOKUP(A35,'3ème partie'!F:I,1,FALSE)),0,IF(VLOOKUP(A35,'3ème partie'!F:J,5,FALSE)=\"\",13,VLOOKUP(A35,'3ème partie'!F:I,4,FALSE)))),\"\")","v":""},{"$f":"IF(AND(B35<>\"\",Y$1<>0),VALUE(IF(ISERROR(VLOOKUP(A35,'3ème partie'!B:E,1,FALSE)),0,IF(VLOOKUP(A35,'3ème partie'!B:F,5,FALSE)=\"\",7,VLOOKUP(A35,'3ème partie'!B:I,8,FALSE)))+IF(ISERROR(VLOOKUP(A35,'3ème partie'!F:I,1,FALSE)),0,IF(VLOOKUP(A35,'3ème partie'!F:J,5,FALSE)=\"\",7,VLOOKUP(A35,'3ème partie'!F:J,5,FALSE)))),\"\")","v":""},{"$f":"IF(D35=\"\",\"\",IF(D35-E35>0,1,0)+IF(G35<>\"\",IF(G35-H35>0,1,0),0)+IF(J35<>\"\",IF(J35-K35>0,1,0),0))","v":""},{"$f":"IF(AND(D35<>\"\",G35<>\"\",J35<>\"\"),D35+G35+J35,IF(AND(D35<>\"\",G35<>\"\"),D35+G35,IF(D35<>\"\",D35,\"\")))","v":""},{"$f":"IF(AND(E35<>\"\",H35<>\"\",K35<>\"\"),E35+H35+K35,IF(AND(E35<>\"\",H35<>\"\"),E35+H35,IF(E35<>\"\",E35,\"\")))","v":""},null,null,{"$f":"IF(B35<>\"\",IF(L35=3,0,MIN(IF(E35-D35>0,E35-D35,14),IF(H35-G35>0,H35-G35,14),IF(K35-J35>0,K35-J35,14))),\"\")","v":""},{"$f":"IF(B35<>\"\",MAX(IF(D35-E35>0,D35-E35,0),IF(G35-H35>0,G35-H35,0),IF(J35-K35>0,J35-K35,0)),\"\")","v":""},null,null,null,null,{"$f":"IF(B35<>\"\",VALUE(IF(ISERROR(VLOOKUP(A35,'1ère partie'!B:F,1,FALSE)),0,VLOOKUP(A35,'1ère partie'!B:F,5,FALSE))+IF(ISERROR(VLOOKUP(A35,'1ère partie'!F:L,1,FALSE)),0,VLOOKUP(A35,'1ère partie'!F:L,7,FALSE))),\"\")","v":""},{"$f":"IF(B35<>\"\",VALUE(IF(ISERROR(VLOOKUP(A35,'2ème partie'!B:F,1,FALSE)),0,VLOOKUP(A35,'2ème partie'!B:F,5,FALSE))+IF(ISERROR(VLOOKUP(A35,'2ème partie'!F:L,1,FALSE)),0,VLOOKUP(A35,'2ème partie'!F:L,7,FALSE))),\"\")","v":""},{"$f":"IF(B35<>\"\",VALUE(IF(ISERROR(VLOOKUP(A35,'3ème partie'!B:F,1,FALSE)),0,VLOOKUP(A35,'3ème partie'!B:F,5,FALSE))+IF(ISERROR(VLOOKUP(A35,'3ème partie'!F:L,1,FALSE)),0,VLOOKUP(A35,'3ème partie'!F:L,7,FALSE))),\"\")","v":""},null,null,32,""]
[33,{"$f":"IF(VLOOKUP(A36,Equipes!A:B,2,FALSE)<>\"\",VLOOKUP(A36,Equipes!A:B,2,FALSE),\"\")","v":""},{"$f":"IF(VLOOKUP(A36,Equipes!A:C,3,FALSE)<>\"\",VLOOKUP(A36,Equipes!A:C,3,FALSE),\"\")","v":""},{"$f":"IF(AND(B36<>\"\",W$1<>0),VALUE(IF(ISERROR(VLOOKUP(A36,'1ère partie'!B:E,1,FALSE)),0,IF(VLOOKUP(A36,'1ère partie'!B:F,5,FALSE)=\"\",13,VLOOKUP(A36,'1ère partie'!B:E,4,FALSE)))+IF(ISERROR(VLOOKUP(A36,'1ère partie'!F:I,1,FALSE)),0,IF(VLOOKUP(A36,'1ère partie'!F:J,5,FALSE)=\"\",13,VLOOKUP(A36,'1ère partie'!F:I,4,FALSE)))),\"\")","v":""},{"$f":"IF(AND(B36<>\"\",W$1<>0),VALUE(IF(ISERROR(VLOOKUP(A36,'1ère partie'!B:E,1,FALSE)),0,IF(VLOOKUP(A36,'1ère partie'!B:F,5,FALSE)=\"\",7,VLOOKUP(A36,'1ère partie'!B:I,8,FALSE)))+IF(ISERROR(VLOOKUP(A36,'1ère partie'!F:I,1,FALSE)),0,IF(VLOOKUP(A36,'1ère partie'!F:J,5,FALSE)=\"\",7,VLOOKUP(A36,'1ère partie'!F:J,5,FALSE)))),\"\")","v":""},null,{"$f":"IF(AND(B36<>\"\",X$1<>0),VALUE(IF(ISERROR(VLOOKUP(A36,'2ème partie'!B:E,1,FALSE)),0,IF(VLOOKUP(A36,'2ème partie'!B:F,5,FALSE)=\"\",13,VLOOKUP(A36,'2ème partie'!B:E,4,FALSE)))+IF(ISERROR(VLOOKUP(A36,'2ème partie'!F:I,1,FALSE)),0,IF(VLOOKUP(A36,'2ème partie'!F:J,5,FALSE)=\"\",13,VLOOKUP(A36,'2ème partie'!F:I,4,FALSE)))),\"\")","v":""},{"$f":"IF(AND(B36<>\"\",X$1<>0),VALUE(IF(ISERROR(VLOOKUP(A36,'2ème partie'!B:E,1,FALSE)),0,IF(VLOOKUP(A36,'2ème partie'!B:F,5,FALSE)=\"\",7,VLOOKUP(A36,'2ème partie'!B:I,8,FALSE)))+IF(ISERROR(VLOOKUP(A36,'2ème partie'!F:I,1,FALSE)),0,IF(VLOOKUP(A36,'2ème partie'!F:J,5,FALSE)=\"\",7,VLOOKUP(A36,'2ème partie'!F:J,5,FALSE)))),\"\")","v":""},null,{"$f":"IF(AND(B36<>\"\",Y$1<>0),VALUE(IF(ISERROR(VLOOKUP(A36,'3ème partie'!B:E,1,FALSE)),0,IF(VLOOKUP(A36,'3ème partie'!B:F,5,FALSE)=\"\",13,VLOOKUP(A36,'3ème partie'!B:E,4,FALSE)))+IF(ISERROR(VLOOKUP(A36,'3ème partie'!F:I,1,FALSE)),0,IF(VLOOKUP(A36,'3ème partie'!F:J,5,FALSE)=\"\",13,VLOOKUP(A36,'3ème partie'!F:I,4,FALSE)))),\"\")","v":""},{"$f":"IF(AND(B36<>\"\",Y$1<>0),VALUE(IF(ISERROR(VLOOKUP(A36,'3ème partie'!B:E,1,FALSE)),0,IF(VLOOKUP(A36,'3ème partie'!B:F,5,FALSE)=\"\",7,VLOOKUP(A36,'3ème partie'!B:I,8,FALSE)))+IF(ISERROR(VLOOKUP(A36,'3ème partie'!F:I,1,FALSE)),0,IF(VLOOKUP(A36,'3ème partie'!F:J,5,FALSE)=\"\",7,VLOOKUP(A36,'3ème partie'!F:J,5,FALSE)))),\"\")","v":""},{"$f":"IF(D36=\"\",\"\",IF(D36-E36>0,1,0)+IF(G36<>\"\",IF(G36-H36>0,1,0),0)+IF(J36<>\"\",IF(J36-K36>0,1,0),0))","v":""},{"$f":"IF(AND(D36<>\"\",G36<>\"\",J36<>\"\"),D36+G36+J36,IF(AND(D36<>\"\",G36<>\"\"),D36+G36,IF(D36<>\"\",D36,\"\")))","v":""},{"$f":"IF(AND(E36<>\"\",H36<>\"\",K36<>\"\"),E36+H36+K36,IF(AND(E36<>\"\",H36<>\"\"),E36+H36,IF(E36<>\"\",E36,\"\")))","v":""},null,null,{"$f":"IF(B36<>\"\",IF(L36=3,0,MIN(IF(E36-D36>0,E36-D36,14),IF(H36-G36>0,H36-G36,14),IF(K36-J36>0,K36-J36,14))),\"\")","v":""},{"$f":"IF(B36<>\"\",MAX(IF(D36-E36>0,D36-E36,0),IF(G36-H36>0,G36-H36,0),IF(J36-K36>0,J36-K36,0)),\"\")","v":""},null,null,null,null,{"$f":"IF(B36<>\"\",VALUE(IF(ISERROR(VLOOKUP(A36,'1ère partie'!B:F,1,FALSE)),0,VLOOKUP(A36,'1ère partie'!B:F,5,FALSE))+IF(ISERROR(VLOOKUP(A36,'1ère partie'!F:L,1,FALSE)),0,VLOOKUP(A36,'1ère partie'!F:L,7,FALSE))),\"\")","v":""},{"$f":"IF(B36<>\"\",VALUE(IF(ISERROR(VLOOKUP(A36,'2ème partie'!B:F,1,FALSE)),0,VLOOKUP(A36,'2ème partie'!B:F,5,FALSE))+IF(ISERROR(VLOOKUP(A36,'2ème partie'!F:L,1,FALSE)),0,VLOOKUP(A36,'2ème partie'!F:L,7,FALSE))),\"\")","v":""},{"$f":"IF(B36<>\"\",VALUE(IF(ISERROR(VLOOKUP(A36,'3ème partie'!B:F,1,FALSE)),0,VLOOKUP(A36,'3ème partie'!B:F,5,FALSE))+IF(ISERROR(VLOOKUP(A36,'3ème partie'!F:L,1,FALSE)),0,VLOOKUP(A36,'3ème partie'!F:L,7,FALSE))),\"\")","v":""},null,null,{"$f":"A36","v":33},{"$f":"IF(B36<>\"\",\"  (\" & IF(AND(D36=13,W36<>\"\"),1,0)+IF(AND(G36=13,X36<>\"\"),1,0)+IF(AND(J36=13,Y36<>\"\"),1,0) & \")\",\"\")","v":""}]
[34,{"$f":"IF(VLOOKUP(A37,Equipes!A:B,2,FALSE)<>\"\",VLOOKUP(A37,Equipes!A:B,2,FALSE),\"\")","v":""},{"$f":"IF(VLOOKUP(A37,Equipes!A:C,3,FALSE)<>\"\",VLOOKUP(A37,Equipes!A:C,3,FALSE),\"\")","v":""},{"$f":"IF(AND(B37<>\"\",W$1<>0),VALUE(IF(ISERROR(VLOOKUP(A37,'1ère partie'!B:E,1,FALSE)),0,IF(VLOOKUP(A37,'1ère partie'!B:F,5,FALSE)=\"\",13,VLOOKUP(A37,'1ère partie'!B:E,4,FALSE)))+IF(ISERROR(VLOOKUP(A37,'1ère partie'!F:I,1,FALSE)),0,IF(VLOOKUP(A37,'1ère partie'!F:J,5,FALSE)=\"\",13,VLOOKUP(A37,'1ère partie'!F:I,4,FALSE)))),\"\")","v":""},{"$f":"IF(AND(B37<>\"\",W$1<>0),VALUE(IF(ISERROR(VLOOKUP(A37,'1ère partie'!B:E,1,FALSE)),0,IF(VLOOKUP(A37,'1ère partie'!B:F,5,FALSE)=\"\",7,VLOOKUP(A37,'1ère partie'!B:I,8,FALSE)))+IF(ISERROR(VLOOKUP(A37,'1ère partie'!F:I,1,FALSE)),0,IF(VLOOKUP(A37,'1ère partie'!F:J,5,FALSE)=\"\",7,VLOOKUP(A37,'1ère partie'!F:J,5,FALSE)))),\"\")","v":""},null,{"$f":"IF(AND(B37<>\"\",X$1<>0),VALUE(IF(ISERROR(VLOOKUP(A37,'2ème partie'!B:E,1,FALSE)),0,IF(VLOOKUP(A37,'2ème partie'!B:F,5,FALSE)=\"\",13,VLOOKUP(A37,'2ème partie'!B:E,4,FALSE)))+IF(ISERROR(VLOOKUP(A37,'2ème partie'!F:I,1,FALSE)),0,IF(VLOOKUP(A37,'2ème partie'!F:J,5,FALSE)=\"\",13,VLOOKUP(A37,'2ème partie'!F:I,4,FALSE)))),\"\")","v":""},{"$f":"IF(AND(B37<>\"\",X$1<>0),VALUE(IF(ISERROR(VLOOKUP(A37,'2ème partie'!B:E,1,FALSE)),0,IF(VLOOKUP(A37,'2ème partie'!B:F,5,FALSE)=\"\",7,VLOOKUP(A37,'2ème partie'!B:I,8,FALSE)))+IF(ISERROR(VLOOKUP(A37,'2ème partie'!F:I,1,FALSE)),0,IF(VLOOKUP(A37,'2ème partie'!F:J,5,FALSE)=\"\",7,VLOOKUP(A37,'2ème partie'!F:J,5,FALSE)))),\"\")","v":""},null,{"$f":"IF(AND(B37<>\"\",Y$1<>0),VALUE(IF(ISERROR(VLOOKUP(A37,'3ème partie'!B:E,1,FALSE)),0,IF(VLOOKUP(A37,'3ème partie'!B:F,5,FALSE)=\"\",13,VLOOKUP(A37,'3ème partie'!B:E,4,FALSE)))+IF(ISERROR(VLOOKUP(A37,'3ème partie'!F:I,1,FALSE)),0,IF(VLOOKUP(A37,'3ème partie'!F:J,5,FALSE)=\"\",13,VLOOKUP(A37,'3ème partie'!F:I,4,FALSE)))),\"\")","v":""},{"$f":"IF(AND(B37<>\"\",Y$1<>0),VALUE(IF(ISERROR(VLOOKUP(A37,'3ème partie'!B:E,1,FALSE)),0,IF(VLOOKUP(A37,'3ème partie'!B:F,5,FALSE)=\"\",7,VLOOKUP(A37,'3ème partie'!B:I,8,FALSE)))+IF(ISERROR(VLOOKUP(A37,'3ème partie'!F:I,1,FALSE)),0,IF(VLOOKUP(A37,'3ème partie'!F:J,5,FALSE)=\"\",7,VLOOKUP(A37,'3ème partie'!F:J,5,FALSE)))),\"\")","v":""},{"$f":"IF(D37=\"\",\"\",IF(D37-E37>0,1,0)+IF(G37<>\"\",IF(G37-H37>0,1,0),0)+IF(J37<>\"\",IF(J37-K37>0,1,0),0))","v":""},{"$f":"IF(AND(D37<>\"\",G37<>\"\",J37<>\"\"),D37+G37+J37,IF(AND(D37<>\"\",G37<>\"\"),D37+G37,IF(D37<>\"\",D37,\"\")))","v":""},{"$f":"IF(AND(E37<>\"\",H37<>\"\",K37<>\"\"),E37+H37+K37,IF(AND(E37<>\"\",H37<>\"\"),E37+H37,IF(E37<>\"\",E37,\"\")))","v":""},null,null,{"$f":"IF(B37<>\"\",IF(L37=3,0,MIN(IF(E37-D37>0,E37-D37,14),IF(H37-G37>0,H37-G37,14),IF(K37-J37>0,K37-J37,14))),\"\")","v":""},{"$f":"IF(B37<>\"\",MAX(IF(D37-E37>0,D37-E37,0),IF(G37-H37>0,G37-H37,0),IF(J37-K37>0,J37-K37,0)),\"\")","v":""},null,null,null,null,{"$f":"IF(B37<>\"\",VALUE(IF(ISERROR(VLOOKUP(A37,'1ère partie'!B:F,1,FALSE)),0,VLOOKUP(A37,'1ère partie'!B:F,5,FALSE))+IF(ISERROR(VLOOKUP(A37,'1ère partie'!F:L,1,FALSE)),0,VLOOKUP(A37,'1ère partie'!F:L,7,FALSE))),\"\")","v":""},{"$f":"IF(B37<>\"\",VALUE(IF(ISERROR(VLOOKUP(A37,'2ème partie'!B:F,1,FALSE)),0,VLOOKUP(A37,'2ème partie'!B:F,5,FALSE))+IF(ISERROR(VLOOKUP(A37,'2ème partie'!F:L,1,FALSE)),0,VLOOKUP(A37,'2ème partie'!F:L,7,FALSE))),\"\")","v":""},{"$f":"IF(B37<>\"\",VALUE(IF(ISERROR(VLOOKUP(A37,'3ème partie'!B:F,1,FALSE)),0,VLOOKUP(A37,'3ème partie'!B:F,5,FALSE))+IF(ISERROR(VLOOKUP(A37,'3ème partie'!F:L,1,FALSE)),0,VLOOKUP(A37,'3ème partie'!F:L,7,FALSE))),\"\")","v":""},null,null,34,""]
[35,{"$f":"IF(VLOOKUP(A38,Equipes!A:B,2,FALSE)<>\"\",VLOOKUP(A38,Equipes!A:B,2,FALSE),\"\")","v":""},{"$f":"IF(VLOOKUP(A38,Equipes!A:C,3,FALSE)<>\"\",VLOOKUP(A38,Equipes!A:C,3,FALSE),\"\")","v":""},{"$f":"IF(AND(B38<>\"\",W$1<>0),VALUE(IF(ISERROR(VLOOKUP(A38,'1ère partie'!B:E,1,FALSE)),0,IF(VLOOKUP(A38,'1ère partie'!B:F,5,FALSE)=\"\",13,VLOOKUP(A38,'1ère partie'!B:E,4,FALSE)))+IF(ISERROR(VLOOKUP(A38,'1ère partie'!F:I,1,FALSE)),0,IF(VLOOKUP(A38,'1ère partie'!F:J,5,FALSE)=\"\",13,VLOOKUP(A38,'1ère partie'!F:I,4,FALSE)))),\"\")","v":""},{"$f":"IF(AND(B38<>\"\",W$1<>0),VALUE(IF(ISERROR(VLOOKUP(A38,'1ère partie'!B:E,1,FALSE)),0,IF(VLOOKUP(A38,'1ère partie'!B:F,5,FALSE)=\"\",7,VLOOKUP(A38,'1ère partie'!B:I,8,FALSE)))+IF(ISERROR(VLOOKUP(A38,'1ère partie'!F:I,1,FALSE)),0,IF(VLOOKUP(A38,'1ère partie'!F:J,5,FALSE)=\"\",7,VLOOKUP(A38,'1ère partie'!F:J,5,FALSE)))),\"\")","v":""},null,{"$f":"IF(AND(B38<>\"\",X$1<>0),VALUE(IF(ISERROR(VLOOKUP(A38,'2ème partie'!B:E,1,FALSE)),0,IF(VLOOKUP(A38,'2ème partie'!B:F,5,FALSE)=\"\",13,VLOOKUP(A38,'2ème partie'!B:E,4,FALSE)))+IF(ISERROR(VLOOKUP(A38,'2ème partie'!F:I,1,FALSE)),0,IF(VLOOKUP(A38,'2ème partie'!F:J,5,FALSE)=\"\",13,VLOOKUP(A38,'2ème partie'!F:I,4,FALSE)))),\"\")","v":""},{"$f":"IF(AND(B38<>\"\",X$1<>0),VALUE(IF(ISERROR(VLOOKUP(A38,'2ème partie'!B:E,1,FALSE)),0,IF(VLOOKUP(A38,'2ème partie'!B:F,5,FALSE)=\"\",7,VLOOKUP(A38,'2ème partie'!B:I,8,FALSE)))+IF(ISERROR(VLOOKUP(A38,'2ème partie'!F:I,1,FALSE)),0,IF(VLOOKUP(A38,'2ème partie'!F:J,5,FALSE)=\"\",7,VLOOKUP(A38,'2ème partie'!F:J,5,FALSE)))),\"\")","v":""},null,{"$f":"IF(AND(B38<>\"\",Y$1<>0),VALUE(IF(ISERROR(VLOOKUP(A38,'3ème partie'!B:E,1,FALSE)),0,IF(VLOOKUP(A38,'3ème partie'!B:F,5,FALSE)=\"\",13,VLOOKUP(A38,'3ème partie'!B:E,4,FALSE)))+IF(ISERROR(VLOOKUP(A38,'3ème partie'!F:I,1,FALSE)),0,IF(VLOOKUP(A38,'3ème partie'!F:J,5,FALSE)=\"\",13,VLOOKUP(A38,'3ème partie'!F:I,4,FALSE)))),\"\")","v":""},{"$f":"IF(AND(B38<>\"\",Y$1<>0),VALUE(IF(ISERROR(VLOOKUP(A38,'3ème partie'!B:E,1,FALSE)),0,IF(VLOOKUP(A38,'3ème partie'!B:F,5,FALSE)=\"\",7,VLOOKUP(A38,'3ème partie'!B:I,8,FALSE)))+IF(ISERROR(VLOOKUP(A38,'3ème partie'!F:I,1,FALSE)),0,IF(VLOOKUP(A38,'3ème partie'!F:J,5,FALSE)=\"\",7,VLOOKUP(A38,'3ème partie'!F:J,5,FALSE)))),\"\")","v":""},{"$f":"IF(D38=\"\",\"\",IF(D38-E38>0,1,0)+IF(G38<>\"\",IF(G38-H38>0,1,0),0)+IF(J38<>\"\",IF(J38-K38>0,1,0),0))","v":""},{"$f":"IF(AND(D38<>\"\",G38<>\"\",J38<>\"\"),D38+G38+J38,IF(AND(D38<>\"\",G38<>\"\"),D38+G38,IF(D38<>\"\",D38,\"\")))","v":""},{"$f":"IF(AND(E38<>\"\",H38<>\"\",K38<>\"\"),E38+H38+K38,IF(AND(E38<>\"\",H38<>\"\"),E38+H38,IF(E38<>\"\",E38,\"\")))","v":""},null,null,{"$f":"IF(B38<>\"\",IF(L38=3,0,MIN(IF(E38-D38>0,E38-D38,14),IF(H38-G38>0,H38-G38,14),IF(K38-J38>0,K38-J38,14))),\"\")","v":""},{"$f":"IF(B38<>\"\",MAX(IF(D38-E38>0,D38-E38,0),IF(G38-H38>0,G38-H38,0),IF(J38-K38>0,J38-K38,0)),\"\")","v":""},null,null,null,null,{"$f":"IF(B38<>\"\",VALUE(IF(ISERROR(VLOOKUP(A38,'1ère partie'!B:F,1,FALSE)),0,VLOOKUP(A38,'1ère partie'!B:F,5,FALSE))+IF(ISERROR(VLOOKUP(A38,'1ère partie'!F:L,1,FALSE)),0,VLOOKUP(A38,'1ère partie'!F:L,7,FALSE))),\"\")","v":""},{"$f":"IF(B38<>\"\",VALUE(IF(ISERROR(VLOOKUP(A38,'2ème partie'!B:F,1,FALSE)),0,VLOOKUP(A38,'2ème partie'!B:F,5,FALSE))+IF(ISERROR(VLOOKUP(A38,'2ème partie'!F:L,1,FALSE)),0,VLOOKUP(A38,'2ème partie'!F:L,7,FALSE))),\"\")","v":""},{"$f":"IF(B38<>\"\",VALUE(IF(ISERROR(VLOOKUP(A38,'3ème partie'!B:F,1,FALSE)),0,VLOOKUP(A38,'3ème partie'!B:F,5,FALSE))+IF(ISERROR(VLOOKUP(A38,'3ème partie'!F:L,1,FALSE)),0,VLOOKUP(A38,'3ème partie'!F:L,7,FALSE))),\"\")","v":""},null,null,35,""]
[36,{"$f":"IF(VLOOKUP(A39,Equipes!A:B,2,FALSE)<>\"\",VLOOKUP(A39,Equipes!A:B,2,FALSE),\"\")","v":""},{"$f":"IF(VLOOKUP(A39,Equipes!A:C,3,FALSE)<>\"\",VLOOKUP(A39,Equipes!A:C,3,FALSE),\"\")","v":""},{"$f":"IF(AND(B39<>\"\",W$1<>0),VALUE(IF(ISERROR(VLOOKUP(A39,'1ère partie'!B:E,1,FALSE)),0,IF(VLOOKUP(A39,'1ère partie'!B:F,5,FALSE)=\"\",13,VLOOKUP(A39,'1ère partie'!B:E,4,FALSE)))+IF(ISERROR(VLOOKUP(A39,'1ère partie'!F:I,1,FALSE)),0,IF(VLOOKUP(A39,'1ère partie'!F:J,5,FALSE)=\"\",13,VLOOKUP(A39,'1ère partie'!F:I,4,FALSE)))),\"\")","v":""},{"$f":"IF(AND(B39<>\"\",W$1<>0),VALUE(IF(ISERROR(VLOOKUP(A39,'1ère partie'!B:E,1,FALSE)),0,IF(VLOOKUP(A39,'1ère partie'!B:F,5,FALSE)=\"\",7,VLOOKUP(A39,'1ère partie'!B:I,8,FALSE)))+IF(ISERROR(VLOOKUP(A39,'1ère partie'!F:I,1,FALSE)),0,IF(VLOOKUP(A39,'1ère partie'!F:J,5,FALSE)=\"\",7,VLOOKUP(A39,'1ère partie'!F:J,5,FALSE)))),\"\")","v":""},null,{"$f":"IF(AND(B39<>\"\",X$1<>0),VALUE(IF(ISERROR(VLOOKUP(A39,'2ème partie'!B:E,1,FALSE)),0,IF(VLOOKUP(A39,'2ème partie'!B:F,5,FALSE)=\"\",13,VLOOKUP(A39,'2ème partie'!B:E,4,FALSE)))+IF(ISERROR(VLOOKUP(A39,'2ème partie'!F:I,1,FALSE)),0,IF(VLOOKUP(A39,'2ème partie'!F:J,5,FALSE)=\"\",13,VLOOKUP(A39,'2ème partie'!F:I,4,FALSE)))),\"\")","v":""},{"$f":"IF(AND(B39<>\"\",X$1<>0),VALUE(IF(ISERROR(VLOOKUP(A39,'2ème partie'!B:E,1,FALSE)),0,IF(VLOOKUP(A39,'2ème partie'!B:F,5,FALSE)=\"\",7,VLOOKUP(A39,'2ème partie'!B:I,8,FALSE)))+IF(ISERROR(VLOOKUP(A39,'2ème partie'!F:I,1,FALSE)),0,IF(VLOOKUP(A39,'2ème partie'!F:J,5,FALSE)=\"\",7,VLOOKUP(A39,'2ème partie'!F:J,5,FALSE)))),\"\")","v":""},null,{"$f":"IF(AND(B39<>\"\",Y$1<>0),VALUE(IF(ISERROR(VLOOKUP(A39,'3ème partie'!B:E,1,FALSE)),0,IF(VLOOKUP(A39,'3ème partie'!B:F,5,FALSE)=\"\",13,VLOOKUP(A39,'3ème partie'!B:E,4,FALSE)))+IF(ISERROR(VLOOKUP(A39,'3ème partie'!F:I,1,FALSE)),0,IF(VLOOKUP(A39,'3ème partie'!F:J,5,FALSE)=\"\",13,VLOOKUP(A39,'3ème partie'!F:I,4,FALSE)))),\"\")","v":""},{"$f":"IF(AND(B39<>\"\",Y$1<>0),VALUE(IF(ISERROR(VLOOKUP(A39,'3ème partie'!B:E,1,FALSE)),0,IF(VLOOKUP(A39,'3ème partie'!B:F,5,FALSE)=\"\",7,VLOOKUP(A39,'3ème partie'!B:I,8,FALSE)))+IF(ISERROR(VLOOKUP(A39,'3ème partie'!F:I,1,FALSE)),0,IF(VLOOKUP(A39,'3ème partie'!F:J,5,FALSE)=\"\",7,VLOOKUP(A39,'3ème partie'!F:J,5,FALSE)))),\"\")","v":""},{"$f":"IF(D39=\"\",\"\",IF(D39-E39>0,1,0)+IF(G39<>\"\",IF(G39-H39>0,1,0),0)+IF(J39<>\"\",IF(J39-K39>0,1,0),0))","v":""},{"$f":"IF(AND(D39<>\"\",G39<>\"\",J39<>\"\"),D39+G39+J39,IF(AND(D39<>\"\",G39<>\"\"),D39+G39,IF(D39<>\"\",D39,\"\")))","v":""},{"$f":"IF(AND(E39<>\"\",H39<>\"\",K39<>\"\"),E39+H39+K39,IF(AND(E39<>\"\",H39<>\"\"),E39+H39,IF(E39<>\"\",E39,\"\")))","v":""},null,null,{"$f":"IF(B39<>\"\",IF(L39=3,0,MIN(IF(E39-D39>0,E39-D39,14),IF(H39-G39>0,H39-G39,14),IF(K39-J39>0,K39-J39,14))),\"\")","v":""},{"$f":"IF(B39<>\"\",MAX(IF(D39-E39>0,D39-E39,0),IF(G39-H39>0,G39-H39,0),IF(J39-K39>0,J39-K39,0)),\"\")","v":""},null,null,null,null,{"$f":"IF(B39<>\"\",VALUE(IF(ISERROR(VLOOKUP(A39,'1ère partie'!B:F,1,FALSE)),0,VLOOKUP(A39,'1ère partie'!B:F,5,FALSE))+IF(ISERROR(VLOOKUP(A39,'1ère partie'!F:L,1,FALSE)),0,VLOOKUP(A39,'1ère partie'!F:L,7,FALSE))),\"\")","v":""},{"$f":"IF(B39<>\"\",VALUE(IF(ISERROR(VLOOKUP(A39,'2ème partie'!B:F,1,FALSE)),0,VLOOKUP(A39,'2ème partie'!B:F,5,FALSE))+IF(ISERROR(VLOOKUP(A39,'2ème partie'!F:L,1,FALSE)),0,VLOOKUP(A39,'2ème partie'!F:L,7,FALSE))),\"\")","v":""},{"$f":"IF(B39<>\"\",VALUE(IF(ISERROR(VLOOKUP(A39,'3ème partie'!B:F,1,FALSE)),0,VLOOKUP(A39,'3ème partie'!B:F,5,FALSE))+IF(ISERROR(VLOOKUP(A39,'3ème partie'!F:L,1,FALSE)),0,VLOOKUP(A39,'3ème partie'!F:L,7,FALSE))),\"\")","v":""},null,null,36,""]
[37,{"$f":"IF(VLOOKUP(A40,Equipes!A:B,2,FALSE)<>\"\",VLOOKUP(A40,Equipes!A:B,2,FALSE),\"\")","v":""},{"$f":"IF(VLOOKUP(A40,Equipes!A:C,3,FALSE)<>\"\",VLOOKUP(A40,Equipes!A:C,3,FALSE),\"\")","v":""},{"$f":"IF(AND(B40<>\"\",W$1<>0),VALUE(IF(ISERROR(VLOOKUP(A40,'1ère partie'!B:E,1,FALSE)),0,IF(VLOOKUP(A40,'1ère partie'!B:F,5,FALSE)=\"\",13,VLOOKUP(A40,'1ère partie'!B:E,4,FALSE)))+IF(ISERROR(VLOOKUP(A40,'1ère partie'!F:I,1,FALSE)),0,IF(VLOOKUP(A40,'1ère partie'!F:J,5,FALSE)=\"\",13,VLOOKUP(A40,'1ère partie'!F:I,4,FALSE)))),\"\")","v":""},{"$f":"IF(AND(B40<>\"\",W$1<>0),VALUE(IF(ISERROR(VLOOKUP(A40,'1ère partie'!B:E,1,FALSE)),0,IF(VLOOKUP(A40,'1ère partie'!B:F,5,FALSE)=\"\",7,VLOOKUP(A40,'1ère partie'!B:I,8,FALSE)))+IF(ISERROR(VLOOKUP(A40,'1ère partie'!F:I,1,FALSE)),0,IF(VLOOKUP(A40,'1ère partie'!F:J,5,FALSE)=\"\",7,VLOOKUP(A40,'1ère partie'!F:J,5,FALSE)))),\"\")","v":""},null,{"$f":"IF(AND(B40<>\"\",X$1<>0),VALUE(IF(ISERROR(VLOOKUP(A40,'2ème partie'!B:E,1,FALSE)),0,IF(VLOOKUP(A40,'2ème partie'!B:F,5,FALSE)=\"\",13,VLOOKUP(A40,'2ème partie'!B:E,4,FALSE)))+IF(ISERROR(VLOOKUP(A40,'2ème partie'!F:I,1,FALSE)),0,IF(VLOOKUP(A40,'2ème partie'!F:J,5,FALSE)=\"\",13,VLOOKUP(A40,'2ème partie'!F:I,4,FALSE)))),\"\")","v":""},{"$f":"IF(AND(B40<>\"\",X$1<>0),VALUE(IF(ISERROR(VLOOKUP(A40,'2ème partie'!B:E,1,FALSE)),0,IF(VLOOKUP(A40,'2ème partie'!B:F,5,FALSE)=\"\",7,VLOOKUP(A40,'2ème partie'!B:I,8,FALSE)))+IF(ISERROR(VLOOKUP(A40,'2ème partie'!F:I,1,FALSE)),0,IF(VLOOKUP(A40,'2ème partie'!F:J,5,FALSE)=\"\",7,VLOOKUP(A40,'2ème partie'!F:J,5,FALSE)))),\"\")","v":""},null,{"$f":"IF(AND(B40<>\"\",Y$1<>0),VALUE(IF(ISERROR(VLOOKUP(A40,'3ème partie'!B:E,1,FALSE)),0,IF(VLOOKUP(A40,'3ème partie'!B:F,5,FALSE)=\"\",13,VLOOKUP(A40,'3ème partie'!B:E,4,FALSE)))+IF(ISERROR(VLOOKUP(A40,'3ème partie'!F:I,1,FALSE)),0,IF(VLOOKUP(A40,'3ème partie'!F:J,5,FALSE)=\"\",13,VLOOKUP(A40,'3ème partie'!F:I,4,FALSE)))),\"\")","v":""},{"$f":"IF(AND(B40<>\"\",Y$1<>0),VALUE(IF(ISERROR(VLOOKUP(A40,'3ème partie'!B:E,1,FALSE)),0,IF(VLOOKUP(A40,'3ème partie'!B:F,5,FALSE)=\"\",7,VLOOKUP(A40,'3ème partie'!B:I,8,FALSE)))+IF(ISERROR(VLOOKUP(A40,'3ème partie'!F:I,1,FALSE)),0,IF(VLOOKUP(A40,'3ème partie'!F:J,5,FALSE)=\"\",7,VLOOKUP(A40,'3ème partie'!F:J,5,FALSE)))),\"\")","v":""},{"$f":"IF(D40=\"\",\"\",IF(D40-E40>0,1,0)+IF(G40<>\"\",IF(G40-H40>0,1,0),0)+IF(J40<>\"\",IF(J40-K40>0,1,0),0))","v":""},{"$f":"IF(AND(D40<>\"\",G40<>\"\",J40<>\"\"),D40+G40+J40,IF(AND(D40<>\"\",G40<>\"\"),D40+G40,IF(D40<>\"\",D40,\"\")))","v":""},{"$f":"IF(AND(E40<>\"\",H40<>\"\",K40<>\"\"),E40+H40+K40,IF(AND(E40<>\"\",H40<>\"\"),E40+H40,IF(E40<>\"\",E40,\"\")))","v":""},null,null,{"$f":"IF(B40<>\"\",IF(L40=3,0,MIN(IF(E40-D40>0,E40-D40,14),IF(H40-G40>0,H40-G40,14),IF(K40-J40>0,K40-J40,14))),\"\")","v":""},{"$f":"IF(B40<>\"\",MAX(IF(D40-E40>0,D40-E40,0),IF(G40-H40>0,G40-H40,0),IF(J40-K40>0,J40-K40,0)),\"\")","v":""},null,null,null,null,{"$f":"IF(B40<>\"\",VALUE(IF(ISERROR(VLOOKUP(A40,'1ère partie'!B:F,1,FALSE)),0,VLOOKUP(A40,'1ère partie'!B:F,5,FALSE))+IF(ISERROR(VLOOKUP(A40,'1ère partie'!F:L,1,FALSE)),0,VLOOKUP(A40,'1ère partie'!F:L,7,FALSE))),\"\")","v":""},{"$f":"IF(B40<>\"\",VALUE(IF(ISERROR(VLOOKUP(A40,'2ème partie'!B:F,1,FALSE)),0,VLOOKUP(A40,'2ème partie'!B:F,5,FALSE))+IF(ISERROR(VLOOKUP(A40,'2ème partie'!F:L,1,FALSE)),0,VLOOKUP(A40,'2ème partie'!F:L,7,FALSE))),\"\")","v":""},{"$f":"IF(B40<>\"\",VALUE(IF(ISERROR(VLOOKUP(A40,'3ème partie'!B:F,1,FALSE)),0,VLOOKUP(A40,'3ème partie'!B:F,5,FALSE))+IF(ISERROR(VLOOKUP(A40,'3ème partie'!F:L,1,FALSE)),0,VLOOKUP(A40,'3ème partie'!F:L,7,FALSE))),\"\")","v":""},null,null,37,""]
[38,{"$f":"IF(VLOOKUP(A41,Equipes!A:B,2,FALSE)<>\"\",VLOOKUP(A41,Equipes!A:B,2,FALSE),\"\")","v":""},{"$f":"IF(VLOOKUP(A41,Equipes!A:C,3,FALSE)<>\"\",VLOOKUP(A41,Equipes!A:C,3,FALSE),\"\")","v":""},{"$f":"IF(AND(B41<>\"\",W$1<>0),VALUE(IF(ISERROR(VLOOKUP(A41,'1ère partie'!B:E,1,FALSE)),0,IF(VLOOKUP(A41,'1ère partie'!B:F,5,FALSE)=\"\",13,VLOOKUP(A41,'1ère partie'!B:E,4,FALSE)))+IF(ISERROR(VLOOKUP(A41,'1ère partie'!F:I,1,FALSE)),0,IF(VLOOKUP(A41,'1ère partie'!F:J,5,FALSE)=\"\",13,VLOOKUP(A41,'1ère partie'!F:I,4,FALSE)))),\"\")","v":""},{"$f":"IF(AND(B41<>\"\",W$1<>0),VALUE(IF(ISERROR(VLOOKUP(A41,'1ère partie'!B:E,1,FALSE)),0,IF(VLOOKUP(A41,'1ère partie'!B:F,5,FALSE)=\"\",7,VLOOKUP(A41,'1ère partie'!B:I,8,FALSE)))+IF(ISERROR(VLOOKUP(A41,'1ère partie'!F:I,1,FALSE)),0,IF(VLOOKUP(A41,'1ère partie'!F:J,5,FALSE)=\"\",7,VLOOKUP(A41,'1ère partie'!F:J,5,FALSE)))),\"\")","v":""},null,{"$f":"IF(AND(B41<>\"\",X$1<>0),VALUE(IF(ISERROR(VLOOKUP(A41,'2ème partie'!B:E,1,FALSE)),0,IF(VLOOKUP(A41,'2ème partie'!B:F,5,FALSE)=\"\",13,VLOOKUP(A41,'2ème partie'!B:E,4,FALSE)))+IF(ISERROR(VLOOKUP(A41,'2ème partie'!F:I,1,FALSE)),0,IF(VLOOKUP(A41,'2ème partie'!F:J,5,FALSE)=\"\",13,VLOOKUP(A41,'2ème partie'!F:I,4,FALSE)))),\"\")","v":""},{"$f":"IF(AND(B41<>\"\",X$1<>0),VALUE(IF(ISERROR(VLOOKUP(A41,'2ème partie'!B:E,1,FALSE)),0,IF(VLOOKUP(A41,'2ème partie'!B:F,5,FALSE)=\"\",7,VLOOKUP(A41,'2ème partie'!B:I,8,FALSE)))+IF(ISERROR(VLOOKUP(A41,'2ème partie'!F:I,1,FALSE)),0,IF(VLOOKUP(A41,'2ème partie'!F:J,5,FALSE)=\"\",7,VLOOKUP(A41,'2ème partie'!F:J,5,FALSE)))),\"\")","v":""},null,{"$f":"IF(AND(B41<>\"\",Y$1<>0),VALUE(IF(ISERROR(VLOOKUP(A41,'3ème partie'!B:E,1,FALSE)),0,IF(VLOOKUP(A41,'3ème partie'!B:F,5,FALSE)=\"\",13,VLOOKUP(A41,'3ème partie'!B:E,4,FALSE)))+IF(ISERROR(VLOOKUP(A41,'3ème partie'!F:I,1,FALSE)),0,IF(VLOOKUP(A41,'3ème partie'!F:J,5,FALSE)=\"\",13,VLOOKUP(A41,'3ème partie'!F:I,4,FALSE)))),\"\")","v":""},{"$f":"IF(AND(B41<>\"\",Y$1<>0),VALUE(IF(ISERROR(VLOOKUP(A41,'3ème partie'!B:E,1,FALSE)),0,IF(VLOOKUP(A41,'3ème partie'!B:F,5,FALSE)=\"\",7,VLOOKUP(A41,'3ème partie'!B:I,8,FALSE)))+IF(ISERROR(VLOOKUP(A41,'3ème partie'!F:I,1,FALSE)),0,IF(VLOOKUP(A41,'3ème partie'!F:J,5,FALSE)=\"\",7,VLOOKUP(A41,'3ème partie'!F:J,5,FALSE)))),\"\")","v":""},{"$f":"IF(D41=\"\",\"\",IF(D41-E41>0,1,0)+IF(G41<>\"\",IF(G41-H41>0,1,0),0)+IF(J41<>\"\",IF(J41-K41>0,1,0),0))","v":""},{"$f":"IF(AND(D41<>\"\",G41<>\"\",J41<>\"\"),D41+G41+J41,IF(AND(D41<>\"\",G41<>\"\"),D41+G41,IF(D41<>\"\",D41,\"\")))","v":""},{"$f":"IF(AND(E41<>\"\",H41<>\"\",K41<>\"\"),E41+H41+K41,IF(AND(E41<>\"\",H41<>\"\"),E41+H41,IF(E41<>\"\",E41,\"\")))","v":""},null,null,{"$f":"IF(B41<>\"\",IF(L41=3,0,MIN(IF(E41-D41>0,E41-D41,14),IF(H41-G41>0,H41-G41,14),IF(K41-J41>0,K41-J41,14))),\"\")","v":""},{"$f":"IF(B41<>\"\",MAX(IF(D41-E41>0,D41-E41,0),IF(G41-H41>0,G41-H41,0),IF(J41-K41>0,J41-K41,0)),\"\")","v":""},null,null,null,null,{"$f":"IF(B41<>\"\",VALUE(IF(ISERROR(VLOOKUP(A41,'1ère partie'!B:F,1,FALSE)),0,VLOOKUP(A41,'1ère partie'!B:F,5,FALSE))+IF(ISERROR(VLOOKUP(A41,'1ère partie'!F:L,1,FALSE)),0,VLOOKUP(A41,'1ère partie'!F:L,7,FALSE))),\"\")","v":""},{"$f":"IF(B41<>\"\",VALUE(IF(ISERROR(VLOOKUP(A41,'2ème partie'!B:F,1,FALSE)),0,VLOOKUP(A41,'2ème partie'!B:F,5,FALSE))+IF(ISERROR(VLOOKUP(A41,'2ème partie'!F:L,1,FALSE)),0,VLOOKUP(A41,'2ème partie'!F:L,7,FALSE))),\"\")","v":""},{"$f":"IF(B41<>\"\",VALUE(IF(ISERROR(VLOOKUP(A41,'3ème partie'!B:F,1,FALSE)),0,VLOOKUP(A41,'3ème partie'!B:F,5,FALSE))+IF(ISERROR(VLOOKUP(A41,'3ème partie'!F:L,1,FALSE)),0,VLOOKUP(A41,'3ème partie'!F:L,7,FALSE))),\"\")","v":""},null,null,38,""]
[39,{"$f":"IF(VLOOKUP(A42,Equipes!A:B,2,FALSE)<>\"\",VLOOKUP(A42,Equipes!A:B,2,FALSE),\"\")","v":""},{"$f":"IF(VLOOKUP(A42,Equipes!A:C,3,FALSE)<>\"\",VLOOKUP(A42,Equipes!A:C,3,FALSE),\"\")","v":""},{"$f":"IF(AND(B42<>\"\",W$1<>0),VALUE(IF(ISERROR(VLOOKUP(A42,'1ère partie'!B:E,1,FALSE)),0,IF(VLOOKUP(A42,'1ère partie'!B:F,5,FALSE)=\"\",13,VLOOKUP(A42,'1ère partie'!B:E,4,FALSE)))+IF(ISERROR(VLOOKUP(A42,'1ère partie'!F:I,1,FALSE)),0,IF(VLOOKUP(A42,'1ère partie'!F:J,5,FALSE)=\"\",13,VLOOKUP(A42,'1ère partie'!F:I,4,FALSE)))),\"\")","v":""},{"$f":"IF(AND(B42<>\"\",W$1<>0),VALUE(IF(ISERROR(VLOOKUP(A42,'1ère partie'!B:E,1,FALSE)),0,IF(VLOOKUP(A42,'1ère partie'!B:F,5,FALSE)=\"\",7,VLOOKUP(A42,'1ère partie'!B:I,8,FALSE)))+IF(ISERROR(VLOOKUP(A42,'1ère partie'!F:I,1,FALSE)),0,IF(VLOOKUP(A42,'1ère partie'!F:J,5,FALSE)=\"\",7,VLOOKUP(A42,'1ère partie'!F:J,5,FALSE)))),\"\")","v":""},null,{"$f":"IF(AND(B42<>\"\",X$1<>0),VALUE(IF(ISERROR(VLOOKUP(A42,'2ème partie'!B:E,1,FALSE)),0,IF(VLOOKUP(A42,'2ème partie'!B:F,5,FALSE)=\"\",13,VLOOKUP(A42,'2ème partie'!B:E,4,FALSE)))+IF(ISERROR(VLOOKUP(A42,'2ème partie'!F:I,1,FALSE)),0,IF(VLOOKUP(A42,'2ème partie'!F:J,5,FALSE)=\"\",13,VLOOKUP(A42,'2ème partie'!F:I,4,FALSE)))),\"\")","v":""},{"$f":"IF(AND(B42<>\"\",X$1<>0),VALUE(IF(ISERROR(VLOOKUP(A42,'2ème partie'!B:E,1,FALSE)),0,IF(VLOOKUP(A42,'2ème partie'!B:F,5,FALSE)=\"\",7,VLOOKUP(A42,'2ème partie'!B:I,8,FALSE)))+IF(ISERROR(VLOOKUP(A42,'2ème partie'!F:I,1,FALSE)),0,IF(VLOOKUP(A42,'2ème partie'!F:J,5,FALSE)=\"\",7,VLOOKUP(A42,'2ème partie'!F:J,5,FALSE)))),\"\")","v":""},null,{"$f":"IF(AND(B42<>\"\",Y$1<>0),VALUE(IF(ISERROR(VLOOKUP(A42,'3ème partie'!B:E,1,FALSE)),0,IF(VLOOKUP(A42,'3ème partie'!B:F,5,FALSE)=\"\",13,VLOOKUP(A42,'3ème partie'!B:E,4,FALSE)))+IF(ISERROR(VLOOKUP(A42,'3ème partie'!F:I,1,FALSE)),0,IF(VLOOKUP(A42,'3ème partie'!F:J,5,FALSE)=\"\",13,VLOOKUP(A42,'3ème partie'!F:I,4,FALSE)))),\"\")","v":""},{"$f":"IF(AND(B42<>\"\",Y$1<>0),VALUE(IF(ISERROR(VLOOKUP(A42,'3ème partie'!B:E,1,FALSE)),0,IF(VLOOKUP(A42,'3ème partie'!B:F,5,FALSE)=\"\",7,VLOOKUP(A42,'3ème partie'!B:I,8,FALSE)))+IF(ISERROR(VLOOKUP(A42,'3ème partie'!F:I,1,FALSE)),0,IF(VLOOKUP(A42,'3ème partie'!F:J,5,FALSE)=\"\",7,VLOOKUP(A42,'3ème partie'!F:J,5,FALSE)))),\"\")","v":""},{"$f":"IF(D42=\"\",\"\",IF(D42-E42>0,1,0)+IF(G42<>\"\",IF(G42-H42>0,1,0),0)+IF(J42<>\"\",IF(J42-K42>0,1,0),0))","v":""},{"$f":"IF(AND(D42<>\"\",G42<>\"\",J42<>\"\"),D42+G42+J42,IF(AND(D42<>\"\",G42<>\"\"),D42+G42,IF(D42<>\"\",D42,\"\")))","v":""},{"$f":"IF(AND(E42<>\"\",H42<>\"\",K42<>\"\"),E42+H42+K42,IF(AND(E42<>\"\",H42<>\"\"),E42+H42,IF(E42<>\"\",E42,\"\")))","v":""},null,null,{"$f":"IF(B42<>\"\",IF(L42=3,0,MIN(IF(E42-D42>0,E42-D42,14),IF(H42-G42>0,H42-G42,14),IF(K42-J42>0,K42-J42,14))),\"\")","v":""},{"$f":"IF(B42<>\"\",MAX(IF(D42-E42>0,D42-E42,0),IF(G42-H42>0,G42-H42,0),IF(J42-K42>0,J42-K42,0)),\"\")","v":""},null,null,null,null,{"$f":"IF(B42<>\"\",VALUE(IF(ISERROR(VLOOKUP(A42,'1ère partie'!B:F,1,FALSE)),0,VLOOKUP(A42,'1ère partie'!B:F,5,FALSE))+IF(ISERROR(VLOOKUP(A42,'1ère partie'!F:L,1,FALSE)),0,VLOOKUP(A42,'1ère partie'!F:L,7,FALSE))),\"\")","v":""},{"$f":"IF(B42<>\"\",VALUE(IF(ISERROR(VLOOKUP(A42,'2ème partie'!B:F,1,FALSE)),0,VLOOKUP(A42,'2ème partie'!B:F,5,FALSE))+IF(ISERROR(VLOOKUP(A42,'2ème partie'!F:L,1,FALSE)),0,VLOOKUP(A42,'2ème partie'!F:L,7,FALSE))),\"\")","v":""},{"$f":"IF(B42<>\"\",VALUE(IF(ISERROR(VLOOKUP(A42,'3ème partie'!B:F,1,FALSE)),0,VLOOKUP(A42,'3ème partie'!B:F,5,FALSE))+IF(ISERROR(VLOOKUP(A42,'3ème partie'!F:L,1,FALSE)),0,VLOOKUP(A42,'3ème partie'!F:L,7,FALSE))),\"\")","v":""},null,null,39,""]
[40,{"$f":"IF(VLOOKUP(A43,Equipes!A:B,2,FALSE)<>\"\",VLOOKUP(A43,Equipes!A:B,2,FALSE),\"\")","v":""},{"$f":"IF(VLOOKUP(A43,Equipes!A:C,3,FALSE)<>\"\",VLOOKUP(A43,Equipes!A:C,3,FALSE),\"\")","v":""},{"$f":"IF(AND(B43<>\"\",W$1<>0),VALUE(IF(ISERROR(VLOOKUP(A43,'1ère partie'!B:E,1,FALSE)),0,IF(VLOOKUP(A43,'1ère partie'!B:F,5,FALSE)=\"\",13,VLOOKUP(A43,'1ère partie'!B:E,4,FALSE)))+IF(ISERROR(VLOOKUP(A43,'1ère partie'!F:I,1,FALSE)),0,IF(VLOOKUP(A43,'1ère partie'!F:J,5,FALSE)=\"\",13,VLOOKUP(A43,'1ère partie'!F:I,4,FALSE)))),\"\")","v":""},{"$f":"IF(AND(B43<>\"\",W$1<>0),VALUE(IF(ISERROR(VLOOKUP(A43,'1ère partie'!B:E,1,FALSE)),0,IF(VLOOKUP(A43,'1ère partie'!B:F,5,FALSE)=\"\",7,VLOOKUP(A43,'1ère partie'!B:I,8,FALSE)))+IF(ISERROR(VLOOKUP(A43,'1ère partie'!F:I,1,FALSE)),0,IF(VLOOKUP(A43,'1ère partie'!F:J,5,FALSE)=\"\",7,VLOOKUP(A43,'1ère partie'!F:J,5,FALSE)))),\"\")","v":""},null,{"$f":"IF(AND(B43<>\"\",X$1<>0),VALUE(IF(ISERROR(VLOOKUP(A43,'2ème partie'!B:E,1,FALSE)),0,IF(VLOOKUP(A43,'2ème partie'!B:F,5,FALSE)=\"\",13,VLOOKUP(A43,'2ème partie'!B:E,4,FALSE)))+IF(ISERROR(VLOOKUP(A43,'2ème partie'!F:I,1,FALSE)),0,IF(VLOOKUP(A43,'2ème partie'!F:J,5,FALSE)=\"\",13,VLOOKUP(A43,'2ème partie'!F:I,4,FALSE)))),\"\")","v":""},{"$f":"IF(AND(B43<>\"\",X$1<>0),VALUE(IF(ISERROR(VLOOKUP(A43,'2ème partie'!B:E,1,FALSE)),0,IF(VLOOKUP(A43,'2ème partie'!B:F,5,FALSE)=\"\",7,VLOOKUP(A43,'2ème partie'!B:I,8,FALSE)))+IF(ISERROR(VLOOKUP(A43,'2ème partie'!F:I,1,FALSE)),0,IF(VLOOKUP(A43,'2ème partie'!F:J,5,FALSE)=\"\",7,VLOOKUP(A43,'2ème partie'!F:J,5,FALSE)))),\"\")","v":""},null,{"$f":"IF(AND(B43<>\"\",Y$1<>0),VALUE(IF(ISERROR(VLOOKUP(A43,'3ème partie'!B:E,1,FALSE)),0,IF(VLOOKUP(A43,'3ème partie'!B:F,5,FALSE)=\"\",13,VLOOKUP(A43,'3ème partie'!B:E,4,FALSE)))+IF(ISERROR(VLOOKUP(A43,'3ème partie'!F:I,1,FALSE)),0,IF(VLOOKUP(A43,'3ème partie'!F:J,5,FALSE)=\"\",13,VLOOKUP(A43,'3ème partie'!F:I,4,FALSE)))),\"\")","v":""},{"$f":"IF(AND(B43<>\"\",Y$1<>0),VALUE(IF(ISERROR(VLOOKUP(A43,'3ème partie'!B:E,1,FALSE)),0,IF(VLOOKUP(A43,'3ème partie'!B:F,5,FALSE)=\"\",7,VLOOKUP(A43,'3ème partie'!B:I,8,FALSE)))+IF(ISERROR(VLOOKUP(A43,'3ème partie'!F:I,1,FALSE)),0,IF(VLOOKUP(A43,'3ème partie'!F:J,5,FALSE)=\"\",7,VLOOKUP(A43,'3ème partie'!F:J,5,FALSE)))),\"\")","v":""},{"$f":"IF(D43=\"\",\"\",IF(D43-E43>0,1,0)+IF(G43<>\"\",IF(G43-H43>0,1,0),0)+IF(J43<>\"\",IF(J43-K43>0,1,0),0))","v":""},{"$f":"IF(AND(D43<>\"\",G43<>\"\",J43<>\"\"),D43+G43+J43,IF(AND(D43<>\"\",G43<>\"\"),D43+G43,IF(D43<>\"\",D43,\"\")))","v":""},{"$f":"IF(AND(E43<>\"\",H43<>\"\",K43<>\"\"),E43+H43+K43,IF(AND(E43<>\"\",H43<>\"\"),E43+H43,IF(E43<>\"\",E43,\"\")))","v":""},null,null,{"$f":"IF(B43<>\"\",IF(L43=3,0,MIN(IF(E43-D43>0,E43-D43,14),IF(H43-G43>0,H43-G43,14),IF(K43-J43>0,K43-J43,14))),\"\")","v":""},{"$f":"IF(B43<>\"\",MAX(IF(D43-E43>0,D43-E43,0),IF(G43-H43>0,G43-H43,0),IF(J43-K43>0,J43-K43,0)),\"\")","v":""},null,null,null,null,{"$f":"IF(B43<>\"\",VALUE(IF(ISERROR(VLOOKUP(A43,'1ère partie'!B:F,1,FALSE)),0,VLOOKUP(A43,'1ère partie'!B:F,5,FALSE))+IF(ISERROR(VLOOKUP(A43,'1ère partie'!F:L,1,FALSE)),0,VLOOKUP(A43,'1ère partie'!F:L,7,FALSE))),\"\")","v":""},{"$f":"IF(B43<>\"\",VALUE(IF(ISERROR(VLOOKUP(A43,'2ème partie'!B:F,1,FALSE)),0,VLOOKUP(A43,'2ème partie'!B:F,5,FALSE))+IF(ISERROR(VLOOKUP(A43,'2ème partie'!F:L,1,FALSE)),0,VLOOKUP(A43,'2ème partie'!F:L,7,FALSE))),\"\")","v":""},{"$f":"IF(B43<>\"\",VALUE(IF(ISERROR(VLOOKUP(A43,'3ème partie'!B:F,1,FALSE)),0,VLOOKUP(A43,'3ème partie'!B:F,5,FALSE))+IF(ISERROR(VLOOKUP(A43,'3ème partie'!F:L,1,FALSE)),0,VLOOKUP(A43,'3ème partie'!F:L,7,FALSE))),\"\")","v":""},null,null,40,""]
[41,{"$f":"IF(VLOOKUP(A44,Equipes!A:B,2,FALSE)<>\"\",VLOOKUP(A44,Equipes!A:B,2,FALSE),\"\")","v":""},{"$f":"IF(VLOOKUP(A44,Equipes!A:C,3,FALSE)<>\"\",VLOOKUP(A44,Equipes!A:C,3,FALSE),\"\")","v":""},{"$f":"IF(AND(B44<>\"\",W$1<>0),VALUE(IF(ISERROR(VLOOKUP(A44,'1ère partie'!B:E,1,FALSE)),0,IF(VLOOKUP(A44,'1ère partie'!B:F,5,FALSE)=\"\",13,VLOOKUP(A44,'1ère partie'!B:E,4,FALSE)))+IF(ISERROR(VLOOKUP(A44,'1ère partie'!F:I,1,FALSE)),0,IF(VLOOKUP(A44,'1ère partie'!F:J,5,FALSE)=\"\",13,VLOOKUP(A44,'1ère partie'!F:I,4,FALSE)))),\"\")","v":""},{"$f":"IF(AND(B44<>\"\",W$1<>0),VALUE(IF(ISERROR(VLOOKUP(A44,'1ère partie'!B:E,1,FALSE)),0,IF(VLOOKUP(A44,'1ère partie'!B:F,5,FALSE)=\"\",7,VLOOKUP(A44,'1ère partie'!B:I,8,FALSE)))+IF(ISERROR(VLOOKUP(A44,'1ère partie'!F:I,1,FALSE)),0,IF(VLOOKUP(A44,'1ère partie'!F:J,5,FALSE)=\"\",7,VLOOKUP(A44,'1ère partie'!F:J,5,FALSE)))),\"\")","v":""},null,{"$f":"IF(AND(B44<>\"\",X$1<>0),VALUE(IF(ISERROR(VLOOKUP(A44,'2ème partie'!B:E,1,FALSE)),0,IF(VLOOKUP(A44,'2ème partie'!B:F,5,FALSE)=\"\",13,VLOOKUP(A44,'2ème partie'!B:E,4,FALSE)))+IF(ISERROR(VLOOKUP(A44,'2ème partie'!F:I,1,FALSE)),0,IF(VLOOKUP(A44,'2ème partie'!F:J,5,FALSE)=\"\",13,VLOOKUP(A44,'2ème partie'!F:I,4,FALSE)))),\"\")","v":""},{"$f":"IF(AND(B44<>\"\",X$1<>0),VALUE(IF(ISERROR(VLOOKUP(A44,'2ème partie'!B:E,1,FALSE)),0,IF(VLOOKUP(A44,'2ème partie'!B:F,5,FALSE)=\"\",7,VLOOKUP(A44,'2ème partie'!B:I,8,FALSE)))+IF(ISERROR(VLOOKUP(A44,'2ème partie'!F:I,1,FALSE)),0,IF(VLOOKUP(A44,'2ème partie'!F:J,5,FALSE)=\"\",7,VLOOKUP(A44,'2ème partie'!F:J,5,FALSE)))),\"\")","v":""},null,{"$f":"IF(AND(B44<>\"\",Y$1<>0),VALUE(IF(ISERROR(VLOOKUP(A44,'3ème partie'!B:E,1,FALSE)),0,IF(VLOOKUP(A44,'3ème partie'!B:F,5,FALSE)=\"\",13,VLOOKUP(A44,'3ème partie'!B:E,4,FALSE)))+IF(ISERROR(VLOOKUP(A44,'3ème partie'!F:I,1,FALSE)),0,IF(VLOOKUP(A44,'3ème partie'!F:J,5,FALSE)=\"\",13,VLOOKUP(A44,'3ème partie'!F:I,4,FALSE)))),\"\")","v":""},{"$f":"IF(AND(B44<>\"\",Y$1<>0),VALUE(IF(ISERROR(VLOOKUP(A44,'3ème partie'!B:E,1,FALSE)),0,IF(VLOOKUP(A44,'3ème partie'!B:F,5,FALSE)=\"\",7,VLOOKUP(A44,'3ème partie'!B:I,8,FALSE)))+IF(ISERROR(VLOOKUP(A44,'3ème partie'!F:I,1,FALSE)),0,IF(VLOOKUP(A44,'3ème partie'!F:J,5,FALSE)=\"\",7,VLOOKUP(A44,'3ème partie'!F:J,5,FALSE)))),\"\")","v":""},{"$f":"IF(D44=\"\",\"\",IF(D44-E44>0,1,0)+IF(G44<>\"\",IF(G44-H44>0,1,0),0)+IF(J44<>\"\",IF(J44-K44>0,1,0),0))","v":""},{"$f":"IF(AND(D44<>\"\",G44<>\"\",J44<>\"\"),D44+G44+J44,IF(AND(D44<>\"\",G44<>\"\"),D44+G44,IF(D44<>\"\",D44,\"\")))","v":""},{"$f":"IF(AND(E44<>\"\",H44<>\"\",K44<>\"\"),E44+H44+K44,IF(AND(E44<>\"\",H44<>\"\"),E44+H44,IF(E44<>\"\",E44,\"\")))","v":""},null,null,{"$f":"IF(B44<>\"\",IF(L44=3,0,MIN(IF(E44-D44>0,E44-D44,14),IF(H44-G44>0,H44-G44,14),IF(K44-J44>0,K44-J44,14))),\"\")","v":""},{"$f":"IF(B44<>\"\",MAX(IF(D44-E44>0,D44-E44,0),IF(G44-H44>0,G44-H44,0),IF(J44-K44>0,J44-K44,0)),\"\")","v":""},null,null,null,null,{"$f":"IF(B44<>\"\",VALUE(IF(ISERROR(VLOOKUP(A44,'1ère partie'!B:F,1,FALSE)),0,VLOOKUP(A44,'1ère partie'!B:F,5,FALSE))+IF(ISERROR(VLOOKUP(A44,'1ère partie'!F:L,1,FALSE)),0,VLOOKUP(A44,'1ère partie'!F:L,7,FALSE))),\"\")","v":""},{"$f":"IF(B44<>\"\",VALUE(IF(ISERROR(VLOOKUP(A44,'2ème partie'!B:F,1,FALSE)),0,VLOOKUP(A44,'2ème partie'!B:F,5,FALSE))+IF(ISERROR(VLOOKUP(A44,'2ème partie'!F:L,1,FALSE)),0,VLOOKUP(A44,'2ème partie'!F:L,7,FALSE))),\"\")","v":""},{"$f":"IF(B44<>\"\",VALUE(IF(ISERROR(VLOOKUP(A44,'3ème partie'!B:F,1,FALSE)),0,VLOOKUP(A44,'3ème partie'!B:F,5,FALSE))+IF(ISERROR(VLOOKUP(A44,'3ème partie'!F:L,1,FALSE)),0,VLOOKUP(A44,'3ème partie'!F:L,7,FALSE))),\"\")","v":""},null,null,41,""]
[42,{"$f":"IF(VLOOKUP(A45,Equipes!A:B,2,FALSE)<>\"\",VLOOKUP(A45,Equipes!A:B,2,FALSE),\"\")","v":""},{"$f":"IF(VLOOKUP(A45,Equipes!A:C,3,FALSE)<>\"\",VLOOKUP(A45,Equipes!A:C,3,FALSE),\"\")","v":""},{"$f":"IF(AND(B45<>\"\",W$1<>0),VALUE(IF(ISERROR(VLOOKUP(A45,'1ère partie'!B:E,1,FALSE)),0,IF(VLOOKUP(A45,'1ère partie'!B:F,5,FALSE)=\"\",13,VLOOKUP(A45,'1ère partie'!B:E,4,FALSE)))+IF(ISERROR(VLOOKUP(A45,'1ère partie'!F:I,1,FALSE)),0,IF(VLOOKUP(A45,'1ère partie'!F:J,5,FALSE)=\"\",13,VLOOKUP(A45,'1ère partie'!F:I,4,FALSE)))),\"\")","v":""},{"$f":"IF(AND(B45<>\"\",W$1<>0),VALUE(IF(ISERROR(VLOOKUP(A45,'1ère partie'!B:E,1,FALSE)),0,IF(VLOOKUP(A45,'1ère partie'!B:F,5,FALSE)=\"\",7,VLOOKUP(A45,'1ère partie'!B:I,8,FALSE)))+IF(ISERROR(VLOOKUP(A45,'1ère partie'!F:I,1,FALSE)),0,IF(VLOOKUP(A45,'1ère partie'!F:J,5,FALSE)=\"\",7,VLOOKUP(A45,'1ère partie'!F:J,5,FALSE)))),\"\")","v":""},null,{"$f":"IF(AND(B45<>\"\",X$1<>0),VALUE(IF(ISERROR(VLOOKUP(A45,'2ème partie'!B:E,1,FALSE)),0,IF(VLOOKUP(A45,'2ème partie'!B:F,5,FALSE)=\"\",13,VLOOKUP(A45,'2ème partie'!B:E,4,FALSE)))+IF(ISERROR(VLOOKUP(A45,'2ème partie'!F:I,1,FALSE)),0,IF(VLOOKUP(A45,'2ème partie'!F:J,5,FALSE)=\"\",13,VLOOKUP(A45,'2ème partie'!F:I,4,FALSE)))),\"\")","v":""},{"$f":"IF(AND(B45<>\"\",X$1<>0),VALUE(IF(ISERROR(VLOOKUP(A45,'2ème partie'!B:E,1,FALSE)),0,IF(VLOOKUP(A45,'2ème partie'!B:F,5,FALSE)=\"\",7,VLOOKUP(A45,'2ème partie'!B:I,8,FALSE)))+IF(ISERROR(VLOOKUP(A45,'2ème partie'!F:I,1,FALSE)),0,IF(VLOOKUP(A45,'2ème partie'!F:J,5,FALSE)=\"\",7,VLOOKUP(A45,'2ème partie'!F:J,5,FALSE)))),\"\")","v":""},null,{"$f":"IF(AND(B45<>\"\",Y$1<>0),VALUE(IF(ISERROR(VLOOKUP(A45,'3ème partie'!B:E,1,FALSE)),0,IF(VLOOKUP(A45,'3ème partie'!B:F,5,FALSE)=\"\",13,VLOOKUP(A45,'3ème partie'!B:E,4,FALSE)))+IF(ISERROR(VLOOKUP(A45,'3ème partie'!F:I,1,FALSE)),0,IF(VLOOKUP(A45,'3ème partie'!F:J,5,FALSE)=\"\",13,VLOOKUP(A45,'3ème partie'!F:I,4,FALSE)))),\"\")","v":""},{"$f":"IF(AND(B45<>\"\",Y$1<>0),VALUE(IF(ISERROR(VLOOKUP(A45,'3ème partie'!B:E,1,FALSE)),0,IF(VLOOKUP(A45,'3ème partie'!B:F,5,FALSE)=\"\",7,VLOOKUP(A45,'3ème partie'!B:I,8,FALSE)))+IF(ISERROR(VLOOKUP(A45,'3ème partie'!F:I,1,FALSE)),0,IF(VLOOKUP(A45,'3ème partie'!F:J,5,FALSE)=\"\",7,VLOOKUP(A45,'3ème partie'!F:J,5,FALSE)))),\"\")","v":""},{"$f":"IF(D45=\"\",\"\",IF(D45-E45>0,1,0)+IF(G45<>\"\",IF(G45-H45>0,1,0),0)+IF(J45<>\"\",IF(J45-K45>0,1,0),0))","v":""},{"$f":"IF(AND(D45<>\"\",G45<>\"\",J45<>\"\"),D45+G45+J45,IF(AND(D45<>\"\",G45<>\"\"),D45+G45,IF(D45<>\"\",D45,\"\")))","v":""},{"$f":"IF(AND(E45<>\"\",H45<>\"\",K45<>\"\"),E45+H45+K45,IF(AND(E45<>\"\",H45<>\"\"),E45+H45,IF(E45<>\"\",E45,\"\")))","v":""},null,null,{"$f":"IF(B45<>\"\",IF(L45=3,0,MIN(IF(E45-D45>0,E45-D45,14),IF(H45-G45>0,H45-G45,14),IF(K45-J45>0,K45-J45,14))),\"\")","v":""},{"$f":"IF(B45<>\"\",MAX(IF(D45-E45>0,D45-E45,0),IF(G45-H45>0,G45-H45,0),IF(J45-K45>0,J45-K45,0)),\"\")","v":""},null,null,null,null,{"$f":"IF(B45<>\"\",VALUE(IF(ISERROR(VLOOKUP(A45,'1ère partie'!B:F,1,FALSE)),0,VLOOKUP(A45,'1ère partie'!B:F,5,FALSE))+IF(ISERROR(VLOOKUP(A45,'1ère partie'!F:L,1,FALSE)),0,VLOOKUP(A45,'1ère partie'!F:L,7,FALSE))),\"\")","v":""},{"$f":"IF(B45<>\"\",VALUE(IF(ISERROR(VLOOKUP(A45,'2ème partie'!B:F,1,FALSE)),0,VLOOKUP(A45,'2ème partie'!B:F,5,FALSE))+IF(ISERROR(VLOOKUP(A45,'2ème partie'!F:L,1,FALSE)),0,VLOOKUP(A45,'2ème partie'!F:L,7,FALSE))),\"\")","v":""},{"$f":"IF(B45<>\"\",VALUE(IF(ISERROR(VLOOKUP(A45,'3ème partie'!B:F,1,FALSE)),0,VLOOKUP(A45,'3ème partie'!B:F,5,FALSE))+IF(ISERROR(VLOOKUP(A45,'3ème partie'!F:L,1,FALSE)),0,VLOOKUP(A45,'3ème partie'!F:L,7,FALSE))),\"\")","v":""},null,null,42,""]
[43,{"$f":"IF(VLOOKUP(A46,Equipes!A:B,2,FALSE)<>\"\",VLOOKUP(A46,Equipes!A:B,2,FALSE),\"\")","v":""},{"$f":"IF(VLOOKUP(A46,Equipes!A:C,3,FALSE)<>\"\",VLOOKUP(A46,Equipes!A:C,3,FALSE),\"\")","v":""},{"$f":"IF(AND(B46<>\"\",W$1<>0),VALUE(IF(ISERROR(VLOOKUP(A46,'1ère partie'!B:E,1,FALSE)),0,IF(VLOOKUP(A46,'1ère partie'!B:F,5,FALSE)=\"\",13,VLOOKUP(A46,'1ère partie'!B:E,4,FALSE)))+IF(ISERROR(VLOOKUP(A46,'1ère partie'!F:I,1,FALSE)),0,IF(VLOOKUP(A46,'1ère partie'!F:J,5,FALSE)=\"\",13,VLOOKUP(A46,'1ère partie'!F:I,4,FALSE)))),\"\")","v":""},{"$f":"IF(AND(B46<>\"\",W$1<>0),VALUE(IF(ISERROR(VLOOKUP(A46,'1ère partie'!B:E,1,FALSE)),0,IF(VLOOKUP(A46,'1ère partie'!B:F,5,FALSE)=\"\",7,VLOOKUP(A46,'1ère partie'!B:I,8,FALSE)))+IF(ISERROR(VLOOKUP(A46,'1ère partie'!F:I,1,FALSE)),0,IF(VLOOKUP(A46,'1ère partie'!F:J,5,FALSE)=\"\",7,VLOOKUP(A46,'1ère partie'!F:J,5,FALSE)))),\"\")","v":""},null,{"$f":"IF(AND(B46<>\"\",X$1<>0),VALUE(IF(ISERROR(VLOOKUP(A46,'2ème partie'!B:E,1,FALSE)),0,IF(VLOOKUP(A46,'2ème partie'!B:F,5,FALSE)=\"\",13,VLOOKUP(A46,'2ème partie'!B:E,4,FALSE)))+IF(ISERROR(VLOOKUP(A46,'2ème partie'!F:I,1,FALSE)),0,IF(VLOOKUP(A46,'2ème partie'!F:J,5,FALSE)=\"\",13,VLOOKUP(A46,'2ème partie'!F:I,4,FALSE)))),\"\")","v":""},{"$f":"IF(AND(B46<>\"\",X$1<>0),VALUE(IF(ISERROR(VLOOKUP(A46,'2ème partie'!B:E,1,FALSE)),0,IF(VLOOKUP(A46,'2ème partie'!B:F,5,FALSE)=\"\",7,VLOOKUP(A46,'2ème partie'!B:I,8,FALSE)))+IF(ISERROR(VLOOKUP(A46,'2ème partie'!F:I,1,FALSE)),0,IF(VLOOKUP(A46,'2ème partie'!F:J,5,FALSE)=\"\",7,VLOOKUP(A46,'2ème partie'!F:J,5,FALSE)))),\"\")","v":""},null,{"$f":"IF(AND(B46<>\"\",Y$1<>0),VALUE(IF(ISERROR(VLOOKUP(A46,'3ème partie'!B:E,1,FALSE)),0,IF(VLOOKUP(A46,'3ème partie'!B:F,5,FALSE)=\"\",13,VLOOKUP(A46,'3ème partie'!B:E,4,FALSE)))+IF(ISERROR(VLOOKUP(A46,'3ème partie'!F:I,1,FALSE)),0,IF(VLOOKUP(A46,'3ème partie'!F:J,5,FALSE)=\"\",13,VLOOKUP(A46,'3ème partie'!F:I,4,FALSE)))),\"\")","v":""},{"$f":"IF(AND(B46<>\"\",Y$1<>0),VALUE(IF(ISERROR(VLOOKUP(A46,'3ème partie'!B:E,1,FALSE)),0,IF(VLOOKUP(A46,'3ème partie'!B:F,5,FALSE)=\"\",7,VLOOKUP(A46,'3ème partie'!B:I,8,FALSE)))+IF(ISERROR(VLOOKUP(A46,'3ème partie'!F:I,1,FALSE)),0,IF(VLOOKUP(A46,'3ème partie'!F:J,5,FALSE)=\"\",7,VLOOKUP(A46,'3ème partie'!F:J,5,FALSE)))),\"\")","v":""},{"$f":"IF(D46=\"\",\"\",IF(D46-E46>0,1,0)+IF(G46<>\"\",IF(G46-H46>0,1,0),0)+IF(J46<>\"\",IF(J46-K46>0,1,0),0))","v":""},{"$f":"IF(AND(D46<>\"\",G46<>\"\",J46<>\"\"),D46+G46+J46,IF(AND(D46<>\"\",G46<>\"\"),D46+G46,IF(D46<>\"\",D46,\"\")))","v":""},{"$f":"IF(AND(E46<>\"\",H46<>\"\",K46<>\"\"),E46+H46+K46,IF(AND(E46<>\"\",H46<>\"\"),E46+H46,IF(E46<>\"\",E46,\"\")))","v":""},null,null,{"$f":"IF(B46<>\"\",IF(L46=3,0,MIN(IF(E46-D46>0,E46-D46,14),IF(H46-G46>0,H46-G46,14),IF(K46-J46>0,K46-J46,14))),\"\")","v":""},{"$f":"IF(B46<>\"\",MAX(IF(D46-E46>0,D46-E46,0),IF(G46-H46>0,G46-H46,0),IF(J46-K46>0,J46-K46,0)),\"\")","v":""},null,null,null,null,{"$f":"IF(B46<>\"\",VALUE(IF(ISERROR(VLOOKUP(A46,'1ère partie'!B:F,1,FALSE)),0,VLOOKUP(A46,'1ère partie'!B:F,5,FALSE))+IF(ISERROR(VLOOKUP(A46,'1ère partie'!F:L,1,FALSE)),0,VLOOKUP(A46,'1ère partie'!F:L,7,FALSE))),\"\")","v":""},{"$f":"IF(B46<>\"\",VALUE(IF(ISERROR(VLOOKUP(A46,'2ème partie'!B:F,1,FALSE)),0,VLOOKUP(A46,'2ème partie'!B:F,5,FALSE))+IF(ISERROR(VLOOKUP(A46,'2ème partie'!F:L,1,FALSE)),0,VLOOKUP(A46,'2ème partie'!F:L,7,FALSE))),\"\")","v":""},{"$f":"IF(B46<>\"\",VALUE(IF(ISERROR(VLOOKUP(A46,'3ème partie'!B:F,1,FALSE)),0,VLOOKUP(A46,'3ème partie'!B:F,5,FALSE))+IF(ISERROR(VLOOKUP(A46,'3ème partie'!F:L,1,FALSE)),0,VLOOKUP(A46,'3ème partie'!F:L,7,FALSE))),\"\")","v":""},null,null,43,""]
[44,{"$f":"IF(VLOOKUP(A47,Equipes!A:B,2,FALSE)<>\"\",VLOOKUP(A47,Equipes!A:B,2,FALSE),\"\")","v":""},{"$f":"IF(VLOOKUP(A47,Equipes!A:C,3,FALSE)<>\"\",VLOOKUP(A47,Equipes!A:C,3,FALSE),\"\")","v":""},{"$f":"IF(AND(B47<>\"\",W$1<>0),VALUE(IF(ISERROR(VLOOKUP(A47,'1ère partie'!B:E,1,FALSE)),0,IF(VLOOKUP(A47,'1ère partie'!B:F,5,FALSE)=\"\",13,VLOOKUP(A47,'1ère partie'!B:E,4,FALSE)))+IF(ISERROR(VLOOKUP(A47,'1ère partie'!F:I,1,FALSE)),0,IF(VLOOKUP(A47,'1ère partie'!F:J,5,FALSE)=\"\",13,VLOOKUP(A47,'1ère partie'!F:I,4,FALSE)))),\"\")","v":""},{"$f":"IF(AND(B47<>\"\",W$1<>0),VALUE(IF(ISERROR(VLOOKUP(A47,'1ère partie'!B:E,1,FALSE)),0,IF(VLOOKUP(A47,'1ère partie'!B:F,5,FALSE)=\"\",7,VLOOKUP(A47,'1ère partie'!B:I,8,FALSE)))+IF(ISERROR(VLOOKUP(A47,'1ère partie'!F:I,1,FALSE)),0,IF(VLOOKUP(A47,'1ère partie'!F:J,5,FALSE)=\"\",7,VLOOKUP(A47,'1ère partie'!F:J,5,FALSE)))),\"\")","v":""},null,{"$f":"IF(AND(B47<>\"\",X$1<>0),VALUE(IF(ISERROR(VLOOKUP(A47,'2ème partie'!B:E,1,FALSE)),0,IF(VLOOKUP(A47,'2ème partie'!B:F,5,FALSE)=\"\",13,VLOOKUP(A47,'2ème partie'!B:E,4,FALSE)))+IF(ISERROR(VLOOKUP(A47,'2ème partie'!F:I,1,FALSE)),0,IF(VLOOKUP(A47,'2ème partie'!F:J,5,FALSE)=\"\",13,VLOOKUP(A47,'2ème partie'!F:I,4,FALSE)))),\"\")","v":""},{"$f":"IF(AND(B47<>\"\",X$1<>0),VALUE(IF(ISERROR(VLOOKUP(A47,'2ème partie'!B:E,1,FALSE)),0,IF(VLOOKUP(A47,'2ème partie'!B:F,5,FALSE)=\"\",7,VLOOKUP(A47,'2ème partie'!B:I,8,FALSE)))+IF(ISERROR(VLOOKUP(A47,'2ème partie'!F:I,1,FALSE)),0,IF(VLOOKUP(A47,'2ème partie'!F:J,5,FALSE)=\"\",7,VLOOKUP(A47,'2ème partie'!F:J,5,FALSE)))),\"\")","v":""},null,{"$f":"IF(AND(B47<>\"\",Y$1<>0),VALUE(IF(ISERROR(VLOOKUP(A47,'3ème partie'!B:E,1,FALSE)),0,IF(VLOOKUP(A47,'3ème partie'!B:F,5,FALSE)=\"\",13,VLOOKUP(A47,'3ème partie'!B:E,4,FALSE)))+IF(ISERROR(VLOOKUP(A47,'3ème partie'!F:I,1,FALSE)),0,IF(VLOOKUP(A47,'3ème partie'!F:J,5,FALSE)=\"\",13,VLOOKUP(A47,'3ème partie'!F:I,4,FALSE)))),\"\")","v":""},{"$f":"IF(AND(B47<>\"\",Y$1<>0),VALUE(IF(ISERROR(VLOOKUP(A47,'3ème partie'!B:E,1,FALSE)),0,IF(VLOOKUP(A47,'3ème partie'!B:F,5,FALSE)=\"\",7,VLOOKUP(A47,'3ème partie'!B:I,8,FALSE)))+IF(ISERROR(VLOOKUP(A47,'3ème partie'!F:I,1,FALSE)),0,IF(VLOOKUP(A47,'3ème partie'!F:J,5,FALSE)=\"\",7,VLOOKUP(A47,'3ème partie'!F:J,5,FALSE)))),\"\")","v":""},{"$f":"IF(D47=\"\",\"\",IF(D47-E47>0,1,0)+IF(G47<>\"\",IF(G47-H47>0,1,0),0)+IF(J47<>\"\",IF(J47-K47>0,1,0),0))","v":""},{"$f":"IF(AND(D47<>\"\",G47<>\"\",J47<>\"\"),D47+G47+J47,IF(AND(D47<>\"\",G47<>\"\"),D47+G47,IF(D47<>\"\",D47,\"\")))","v":""},{"$f":"IF(AND(E47<>\"\",H47<>\"\",K47<>\"\"),E47+H47+K47,IF(AND(E47<>\"\",H47<>\"\"),E47+H47,IF(E47<>\"\",E47,\"\")))","v":""},null,null,{"$f":"IF(B47<>\"\",IF(L47=3,0,MIN(IF(E47-D47>0,E47-D47,14),IF(H47-G47>0,H47-G47,14),IF(K47-J47>0,K47-J47,14))),\"\")","v":""},{"$f":"IF(B47<>\"\",MAX(IF(D47-E47>0,D47-E47,0),IF(G47-H47>0,G47-H47,0),IF(J47-K47>0,J47-K47,0)),\"\")","v":""},null,null,null,null,{"$f":"IF(B47<>\"\",VALUE(IF(ISERROR(VLOOKUP(A47,'1ère partie'!B:F,1,FALSE)),0,VLOOKUP(A47,'1ère partie'!B:F,5,FALSE))+IF(ISERROR(VLOOKUP(A47,'1ère partie'!F:L,1,FALSE)),0,VLOOKUP(A47,'1ère partie'!F:L,7,FALSE))),\"\")","v":""},{"$f":"IF(B47<>\"\",VALUE(IF(ISERROR(VLOOKUP(A47,'2ème partie'!B:F,1,FALSE)),0,VLOOKUP(A47,'2ème partie'!B:F,5,FALSE))+IF(ISERROR(VLOOKUP(A47,'2ème partie'!F:L,1,FALSE)),0,VLOOKUP(A47,'2ème partie'!F:L,7,FALSE))),\"\")","v":""},{"$f":"IF(B47<>\"\",VALUE(IF(ISERROR(VLOOKUP(A47,'3ème partie'!B:F,1,FALSE)),0,VLOOKUP(A47,'3ème partie'!B:F,5,FALSE))+IF(ISERROR(VLOOKUP(A47,'3ème partie'!F:L,1,FALSE)),0,VLOOKUP(A47,'3ème partie'!F:L,7,FALSE))),\"\")","v":""},null,null,44,""]
[45,{"$f":"IF(VLOOKUP(A48,Equipes!A:B,2,FALSE)<>\"\",VLOOKUP(A48,Equipes!A:B,2,FALSE),\"\")","v":""},{"$f":"IF(VLOOKUP(A48,Equipes!A:C,3,FALSE)<>\"\",VLOOKUP(A48,Equipes!A:C,3,FALSE),\"\")","v":""},{"$f":"IF(AND(B48<>\"\",W$1<>0),VALUE(IF(ISERROR(VLOOKUP(A48,'1ère partie'!B:E,1,FALSE)),0,IF(VLOOKUP(A48,'1ère partie'!B:F,5,FALSE)=\"\",13,VLOOKUP(A48,'1ère partie'!B:E,4,FALSE)))+IF(ISERROR(VLOOKUP(A48,'1ère partie'!F:I,1,FALSE)),0,IF(VLOOKUP(A48,'1ère partie'!F:J,5,FALSE)=\"\",13,VLOOKUP(A48,'1ère partie'!F:I,4,FALSE)))),\"\")","v":""},{"$f":"IF(AND(B48<>\"\",W$1<>0),VALUE(IF(ISERROR(VLOOKUP(A48,'1ère partie'!B:E,1,FALSE)),0,IF(VLOOKUP(A48,'1ère partie'!B:F,5,FALSE)=\"\",7,VLOOKUP(A48,'1ère partie'!B:I,8,FALSE)))+IF(ISERROR(VLOOKUP(A48,'1ère partie'!F:I,1,FALSE)),0,IF(VLOOKUP(A48,'1ère partie'!F:J,5,FALSE)=\"\",7,VLOOKUP(A48,'1ère partie'!F:J,5,FALSE)))),\"\")","v":""},null,{"$f":"IF(AND(B48<>\"\",X$1<>0),VALUE(IF(ISERROR(VLOOKUP(A48,'2ème partie'!B:E,1,FALSE)),0,IF(VLOOKUP(A48,'2ème partie'!B:F,5,FALSE)=\"\",13,VLOOKUP(A48,'2ème partie'!B:E,4,FALSE)))+IF(ISERROR(VLOOKUP(A48,'2ème partie'!F:I,1,FALSE)),0,IF(VLOOKUP(A48,'2ème partie'!F:J,5,FALSE)=\"\",13,VLOOKUP(A48,'2ème partie'!F:I,4,FALSE)))),\"\")","v":""},{"$f":"IF(AND(B48<>\"\",X$1<>0),VALUE(IF(ISERROR(VLOOKUP(A48,'2ème partie'!B:E,1,FALSE)),0,IF(VLOOKUP(A48,'2ème partie'!B:F,5,FALSE)=\"\",7,VLOOKUP(A48,'2ème partie'!B:I,8,FALSE)))+IF(ISERROR(VLOOKUP(A48,'2ème partie'!F:I,1,FALSE)),0,IF(VLOOKUP(A48,'2ème partie'!F:J,5,FALSE)=\"\",7,VLOOKUP(A48,'2ème partie'!F:J,5,FALSE)))),\"\")","v":""},null,{"$f":"IF(AND(B48<>\"\",Y$1<>0),VALUE(IF(ISERROR(VLOOKUP(A48,'3ème partie'!B:E,1,FALSE)),0,IF(VLOOKUP(A48,'3ème partie'!B:F,5,FALSE)=\"\",13,VLOOKUP(A48,'3ème partie'!B:E,4,FALSE)))+IF(ISERROR(VLOOKUP(A48,'3ème partie'!F:I,1,FALSE)),0,IF(VLOOKUP(A48,'3ème partie'!F:J,5,FALSE)=\"\",13,VLOOKUP(A48,'3ème partie'!F:I,4,FALSE)))),\"\")","v":""},{"$f":"IF(AND(B48<>\"\",Y$1<>0),VALUE(IF(ISERROR(VLOOKUP(A48,'3ème partie'!B:E,1,FALSE)),0,IF(VLOOKUP(A48,'3ème partie'!B:F,5,FALSE)=\"\",7,VLOOKUP(A48,'3ème partie'!B:I,8,FALSE)))+IF(ISERROR(VLOOKUP(A48,'3ème partie'!F:I,1,FALSE)),0,IF(VLOOKUP(A48,'3ème partie'!F:J,5,FALSE)=\"\",7,VLOOKUP(A48,'3ème partie'!F:J,5,FALSE)))),\"\")","v":""},{"$f":"IF(D48=\"\",\"\",IF(D48-E48>0,1,0)+IF(G48<>\"\",IF(G48-H48>0,1,0),0)+IF(J48<>\"\",IF(J48-K48>0,1,0),0))","v":""},{"$f":"IF(AND(D48<>\"\",G48<>\"\",J48<>\"\"),D48+G48+J48,IF(AND(D48<>\"\",G48<>\"\"),D48+G48,IF(D48<>\"\",D48,\"\")))","v":""},{"$f":"IF(AND(E48<>\"\",H48<>\"\",K48<>\"\"),E48+H48+K48,IF(AND(E48<>\"\",H48<>\"\"),E48+H48,IF(E48<>\"\",E48,\"\")))","v":""},null,null,{"$f":"IF(B48<>\"\",IF(L48=3,0,MIN(IF(E48-D48>0,E48-D48,14),IF(H48-G48>0,H48-G48,14),IF(K48-J48>0,K48-J48,14))),\"\")","v":""},{"$f":"IF(B48<>\"\",MAX(IF(D48-E48>0,D48-E48,0),IF(G48-H48>0,G48-H48,0),IF(J48-K48>0,J48-K48,0)),\"\")","v":""},null,null,null,null,{"$f":"IF(B48<>\"\",VALUE(IF(ISERROR(VLOOKUP(A48,'1ère partie'!B:F,1,FALSE)),0,VLOOKUP(A48,'1ère partie'!B:F,5,FALSE))+IF(ISERROR(VLOOKUP(A48,'1ère partie'!F:L,1,FALSE)),0,VLOOKUP(A48,'1ère partie'!F:L,7,FALSE))),\"\")","v":""},{"$f":"IF(B48<>\"\",VALUE(IF(ISERROR(VLOOKUP(A48,'2ème partie'!B:F,1,FALSE)),0,VLOOKUP(A48,'2ème partie'!B:F,5,FALSE))+IF(ISERROR(VLOOKUP(A48,'2ème partie'!F:L,1,FALSE)),0,VLOOKUP(A48,'2ème partie'!F:L,7,FALSE))),\"\")","v":""},{"$f":"IF(B48<>\"\",VALUE(IF(ISERROR(VLOOKUP(A48,'3ème partie'!B:F,1,FALSE)),0,VLOOKUP(A48,'3ème partie'!B:F,5,FALSE))+IF(ISERROR(VLOOKUP(A48,'3ème partie'!F:L,1,FALSE)),0,VLOOKUP(A48,'3ème partie'!F:L,7,FALSE))),\"\")","v":""},null,null,45,""]
[46,{"$f":"IF(VLOOKUP(A49,Equipes!A:B,2,FALSE)<>\"\",VLOOKUP(A49,Equipes!A:B,2,FALSE),\"\")","v":""},{"$f":"IF(VLOOKUP(A49,Equipes!A:C,3,FALSE)<>\"\",VLOOKUP(A49,Equipes!A:C,3,FALSE),\"\")","v":""},{"$f":"IF(AND(B49<>\"\",W$1<>0),VALUE(IF(ISERROR(VLOOKUP(A49,'1ère partie'!B:E,1,FALSE)),0,IF(VLOOKUP(A49,'1ère partie'!B:F,5,FALSE)=\"\",13,VLOOKUP(A49,'1ère partie'!B:E,4,FALSE)))+IF(ISERROR(VLOOKUP(A49,'1ère partie'!F:I,1,FALSE)),0,IF(VLOOKUP(A49,'1ère partie'!F:J,5,FALSE)=\"\",13,VLOOKUP(A49,'1ère partie'!F:I,4,FALSE)))),\"\")","v":""},{"$f":"IF(AND(B49<>\"\",W$1<>0),VALUE(IF(ISERROR(VLOOKUP(A49,'1ère partie'!B:E,1,FALSE)),0,IF(VLOOKUP(A49,'1ère partie'!B:F,5,FALSE)=\"\",7,VLOOKUP(A49,'1ère partie'!B:I,8,FALSE)))+IF(ISERROR(VLOOKUP(A49,'1ère partie'!F:I,1,FALSE)),0,IF(VLOOKUP(A49,'1ère partie'!F:J,5,FALSE)=\"\",7,VLOOKUP(A49,'1ère partie'!F:J,5,FALSE)))),\"\")","v":""},null,{"$f":"IF(AND(B49<>\"\",X$1<>0),VALUE(IF(ISERROR(VLOOKUP(A49,'2ème partie'!B:E,1,FALSE)),0,IF(VLOOKUP(A49,'2ème partie'!B:F,5,FALSE)=\"\",13,VLOOKUP(A49,'2ème partie'!B:E,4,FALSE)))+IF(ISERROR(VLOOKUP(A49,'2ème partie'!F:I,1,FALSE)),0,IF(VLOOKUP(A49,'2ème partie'!F:J,5,FALSE)=\"\",13,VLOOKUP(A49,'2ème partie'!F:I,4,FALSE)))),\"\")","v":""},{"$f":"IF(AND(B49<>\"\",X$1<>0),VALUE(IF(ISERROR(VLOOKUP(A49,'2ème partie'!B:E,1,FALSE)),0,IF(VLOOKUP(A49,'2ème partie'!B:F,5,FALSE)=\"\",7,VLOOKUP(A49,'2ème partie'!B:I,8,FALSE)))+IF(ISERROR(VLOOKUP(A49,'2ème partie'!F:I,1,FALSE)),0,IF(VLOOKUP(A49,'2ème partie'!F:J,5,FALSE)=\"\",7,VLOOKUP(A49,'2ème partie'!F:J,5,FALSE)))),\"\")","v":""},null,{"$f":"IF(AND(B49<>\"\",Y$1<>0),VALUE(IF(ISERROR(VLOOKUP(A49,'3ème partie'!B:E,1,FALSE)),0,IF(VLOOKUP(A49,'3ème partie'!B:F,5,FALSE)=\"\",13,VLOOKUP(A49,'3ème partie'!B:E,4,FALSE)))+IF(ISERROR(VLOOKUP(A49,'3ème partie'!F:I,1,FALSE)),0,IF(VLOOKUP(A49,'3ème partie'!F:J,5,FALSE)=\"\",13,VLOOKUP(A49,'3ème partie'!F:I,4,FALSE)))),\"\")","v":""},{"$f":"IF(AND(B49<>\"\",Y$1<>0),VALUE(IF(ISERROR(VLOOKUP(A49,'3ème partie'!B:E,1,FALSE)),0,IF(VLOOKUP(A49,'3ème partie'!B:F,5,FALSE)=\"\",7,VLOOKUP(A49,'3ème partie'!B:I,8,FALSE)))+IF(ISERROR(VLOOKUP(A49,'3ème partie'!F:I,1,FALSE)),0,IF(VLOOKUP(A49,'3ème partie'!F:J,5,FALSE)=\"\",7,VLOOKUP(A49,'3ème partie'!F:J,5,FALSE)))),\"\")","v":""},{"$f":"IF(D49=\"\",\"\",IF(D49-E49>0,1,0)+IF(G49<>\"\",IF(G49-H49>0,1,0),0)+IF(J49<>\"\",IF(J49-K49>0,1,0),0))","v":""},{"$f":"IF(AND(D49<>\"\",G49<>\"\",J49<>\"\"),D49+G49+J49,IF(AND(D49<>\"\",G49<>\"\"),D49+G49,IF(D49<>\"\",D49,\"\")))","v":""},{"$f":"IF(AND(E49<>\"\",H49<>\"\",K49<>\"\"),E49+H49+K49,IF(AND(E49<>\"\",H49<>\"\"),E49+H49,IF(E49<>\"\",E49,\"\")))","v":""},null,null,{"$f":"IF(B49<>\"\",IF(L49=3,0,MIN(IF(E49-D49>0,E49-D49,14),IF(H49-G49>0,H49-G49,14),IF(K49-J49>0,K49-J49,14))),\"\")","v":""},{"$f":"IF(B49<>\"\",MAX(IF(D49-E49>0,D49-E49,0),IF(G49-H49>0,G49-H49,0),IF(J49-K49>0,J49-K49,0)),\"\")","v":""},null,null,null,null,{"$f":"IF(B49<>\"\",VALUE(IF(ISERROR(VLOOKUP(A49,'1ère partie'!B:F,1,FALSE)),0,VLOOKUP(A49,'1ère partie'!B:F,5,FALSE))+IF(ISERROR(VLOOKUP(A49,'1ère partie'!F:L,1,FALSE)),0,VLOOKUP(A49,'1ère partie'!F:L,7,FALSE))),\"\")","v":""},{"$f":"IF(B49<>\"\",VALUE(IF(ISERROR(VLOOKUP(A49,'2ème partie'!B:F,1,FALSE)),0,VLOOKUP(A49,'2ème partie'!B:F,5,FALSE))+IF(ISERROR(VLOOKUP(A49,'2ème partie'!F:L,1,FALSE)),0,VLOOKUP(A49,'2ème partie'!F:L,7,FALSE))),\"\")","v":""},{"$f":"IF(B49<>\"\",VALUE(IF(ISERROR(VLOOKUP(A49,'3ème partie'!B:F,1,FALSE)),0,VLOOKUP(A49,'3ème partie'!B:F,5,FALSE))+IF(ISERROR(VLOOKUP(A49,'3ème partie'!F:L,1,FALSE)),0,VLOOKUP(A49,'3ème partie'!F:L,7,FALSE))),\"\")","v":""},null,null,46,""]
[47,{"$f":"IF(VLOOKUP(A50,Equipes!A:B,2,FALSE)<>\"\",VLOOKUP(A50,Equipes!A:B,2,FALSE),\"\")","v":""},{"$f":"IF(VLOOKUP(A50,Equipes!A:C,3,FALSE)<>\"\",VLOOKUP(A50,Equipes!A:C,3,FALSE),\"\")","v":""},{"$f":"IF(AND(B50<>\"\",W$1<>0),VALUE(IF(ISERROR(VLOOKUP(A50,'1ère partie'!B:E,1,FALSE)),0,IF(VLOOKUP(A50,'1ère partie'!B:F,5,FALSE)=\"\",13,VLOOKUP(A50,'1ère partie'!B:E,4,FALSE)))+IF(ISERROR(VLOOKUP(A50,'1ère partie'!F:I,1,FALSE)),0,IF(VLOOKUP(A50,'1ère partie'!F:J,5,FALSE)=\"\",13,VLOOKUP(A50,'1ère partie'!F:I,4,FALSE)))),\"\")","v":""},{"$f":"IF(AND(B50<>\"\",W$1<>0),VALUE(IF(ISERROR(VLOOKUP(A50,'1ère partie'!B:E,1,FALSE)),0,IF(VLOOKUP(A50,'1ère partie'!B:F,5,FALSE)=\"\",7,VLOOKUP(A50,'1ère partie'!B:I,8,FALSE)))+IF(ISERROR(VLOOKUP(A50,'1ère partie'!F:I,1,FALSE)),0,IF(VLOOKUP(A50,'1ère partie'!F:J,5,FALSE)=\"\",7,VLOOKUP(A50,'1ère partie'!F:J,5,FALSE)))),\"\")","v":""},null,{"$f":"IF(AND(B50<>\"\",X$1<>0),VALUE(IF(ISERROR(VLOOKUP(A50,'2ème partie'!B:E,1,FALSE)),0,IF(VLOOKUP(A50,'2ème partie'!B:F,5,FALSE)=\"\",13,VLOOKUP(A50,'2ème partie'!B:E,4,FALSE)))+IF(ISERROR(VLOOKUP(A50,'2ème partie'!F:I,1,FALSE)),0,IF(VLOOKUP(A50,'2ème partie'!F:J,5,FALSE)=\"\",13,VLOOKUP(A50,'2ème partie'!F:I,4,FALSE)))),\"\")","v":""},{"$f":"IF(AND(B50<>\"\",X$1<>0),VALUE(IF(ISERROR(VLOOKUP(A50,'2ème partie'!B:E,1,FALSE)),0,IF(VLOOKUP(A50,'2ème partie'!B:F,5,FALSE)=\"\",7,VLOOKUP(A50,'2ème partie'!B:I,8,FALSE)))+IF(ISERROR(VLOOKUP(A50,'2ème partie'!F:I,1,FALSE)),0,IF(VLOOKUP(A50,'2ème partie'!F:J,5,FALSE)=\"\",7,VLOOKUP(A50,'2ème partie'!F:J,5,FALSE)))),\"\")","v":""},null,{"$f":"IF(AND(B50<>\"\",Y$1<>0),VALUE(IF(ISERROR(VLOOKUP(A50,'3ème partie'!B:E,1,FALSE)),0,IF(VLOOKUP(A50,'3ème partie'!B:F,5,FALSE)=\"\",13,VLOOKUP(A50,'3ème partie'!B:E,4,FALSE)))+IF(ISERROR(VLOOKUP(A50,'3ème partie'!F:I,1,FALSE)),0,IF(VLOOKUP(A50,'3ème partie'!F:J,5,FALSE)=\"\",13,VLOOKUP(A50,'3ème partie'!F:I,4,FALSE)))),\"\")","v":""},{"$f":"IF(AND(B50<>\"\",Y$1<>0),VALUE(IF(ISERROR(VLOOKUP(A50,'3ème partie'!B:E,1,FALSE)),0,IF(VLOOKUP(A50,'3ème partie'!B:F,5,FALSE)=\"\",7,VLOOKUP(A50,'3ème partie'!B:I,8,FALSE)))+IF(ISERROR(VLOOKUP(A50,'3ème partie'!F:I,1,FALSE)),0,IF(VLOOKUP(A50,'3ème partie'!F:J,5,FALSE)=\"\",7,VLOOKUP(A50,'3ème partie'!F:J,5,FALSE)))),\"\")","v":""},{"$f":"IF(D50=\"\",\"\",IF(D50-E50>0,1,0)+IF(G50<>\"\",IF(G50-H50>0,1,0),0)+IF(J50<>\"\",IF(J50-K50>0,1,0),0))","v":""},{"$f":"IF(AND(D50<>\"\",G50<>\"\",J50<>\"\"),D50+G50+J50,IF(AND(D50<>\"\",G50<>\"\"),D50+G50,IF(D50<>\"\",D50,\"\")))","v":""},{"$f":"IF(AND(E50<>\"\",H50<>\"\",K50<>\"\"),E50+H50+K50,IF(AND(E50<>\"\",H50<>\"\"),E50+H50,IF(E50<>\"\",E50,\"\")))","v":""},null,null,{"$f":"IF(B50<>\"\",IF(L50=3,0,MIN(IF(E50-D50>0,E50-D50,14),IF(H50-G50>0,H50-G50,14),IF(K50-J50>0,K50-J50,14))),\"\")","v":""},{"$f":"IF(B50<>\"\",MAX(IF(D50-E50>0,D50-E50,0),IF(G50-H50>0,G50-H50,0),IF(J50-K50>0,J50-K50,0)),\"\")","v":""},null,null,null,null,{"$f":"IF(B50<>\"\",VALUE(IF(ISERROR(VLOOKUP(A50,'1ère partie'!B:F,1,FALSE)),0,VLOOKUP(A50,'1ère partie'!B:F,5,FALSE))+IF(ISERROR(VLOOKUP(A50,'1ère partie'!F:L,1,FALSE)),0,VLOOKUP(A50,'1ère partie'!F:L,7,FALSE))),\"\")","v":""},{"$f":"IF(B50<>\"\",VALUE(IF(ISERROR(VLOOKUP(A50,'2ème partie'!B:F,1,FALSE)),0,VLOOKUP(A50,'2ème partie'!B:F,5,FALSE))+IF(ISERROR(VLOOKUP(A50,'2ème partie'!F:L,1,FALSE)),0,VLOOKUP(A50,'2ème partie'!F:L,7,FALSE))),\"\")","v":""},{"$f":"IF(B50<>\"\",VALUE(IF(ISERROR(VLOOKUP(A50,'3ème partie'!B:F,1,FALSE)),0,VLOOKUP(A50,'3ème partie'!B:F,5,FALSE))+IF(ISERROR(VLOOKUP(A50,'3ème partie'!F:L,1,FALSE)),0,VLOOKUP(A50,'3ème partie'!F:L,7,FALSE))),\"\")","v":""},null,null,47,""]
[48,{"$f":"IF(VLOOKUP(A51,Equipes!A:B,2,FALSE)<>\"\",VLOOKUP(A51,Equipes!A:B,2,FALSE),\"\")","v":""},{"$f":"IF(VLOOKUP(A51,Equipes!A:C,3,FALSE)<>\"\",VLOOKUP(A51,Equipes!A:C,3,FALSE),\"\")","v":""},{"$f":"IF(AND(B51<>\"\",W$1<>0),VALUE(IF(ISERROR(VLOOKUP(A51,'1ère partie'!B:E,1,FALSE)),0,IF(VLOOKUP(A51,'1ère partie'!B:F,5,FALSE)=\"\",13,VLOOKUP(A51,'1ère partie'!B:E,4,FALSE)))+IF(ISERROR(VLOOKUP(A51,'1ère partie'!F:I,1,FALSE)),0,IF(VLOOKUP(A51,'1ère partie'!F:J,5,FALSE)=\"\",13,VLOOKUP(A51,'1ère partie'!F:I,4,FALSE)))),\"\")","v":""},{"$f":"IF(AND(B51<>\"\",W$1<>0),VALUE(IF(ISERROR(VLOOKUP(A51,'1ère partie'!B:E,1,FALSE)),0,IF(VLOOKUP(A51,'1ère partie'!B:F,5,FALSE)=\"\",7,VLOOKUP(A51,'1ère partie'!B:I,8,FALSE)))+IF(ISERROR(VLOOKUP(A51,'1ère partie'!F:I,1,FALSE)),0,IF(VLOOKUP(A51,'1ère partie'!F:J,5,FALSE)=\"\",7,VLOOKUP(A51,'1ère partie'!F:J,5,FALSE)))),\"\")","v":""},null,{"$f":"IF(AND(B51<>\"\",X$1<>0),VALUE(IF(ISERROR(VLOOKUP(A51,'2ème partie'!B:E,1,FALSE)),0,IF(VLOOKUP(A51,'2ème partie'!B:F,5,FALSE)=\"\",13,VLOOKUP(A51,'2ème partie'!B:E,4,FALSE)))+IF(ISERROR(VLOOKUP(A51,'2ème partie'!F:I,1,FALSE)),0,IF(VLOOKUP(A51,'2ème partie'!F:J,5,FALSE)=\"\",13,VLOOKUP(A51,'2ème partie'!F:I,4,FALSE)))),\"\")","v":""},{"$f":"IF(AND(B51<>\"\",X$1<>0),VALUE(IF(ISERROR(VLOOKUP(A51,'2ème partie'!B:E,1,FALSE)),0,IF(VLOOKUP(A51,'2ème partie'!B:F,5,FALSE)=\"\",7,VLOOKUP(A51,'2ème partie'!B:I,8,FALSE)))+IF(ISERROR(VLOOKUP(A51,'2ème partie'!F:I,1,FALSE)),0,IF(VLOOKUP(A51,'2ème partie'!F:J,5,FALSE)=\"\",7,VLOOKUP(A51,'2ème partie'!F:J,5,FALSE)))),\"\")","v":""},null,{"$f":"IF(AND(B51<>\"\",Y$1<>0),VALUE(IF(ISERROR(VLOOKUP(A51,'3ème partie'!B:E,1,FALSE)),0,IF(VLOOKUP(A51,'3ème partie'!B:F,5,FALSE)=\"\",13,VLOOKUP(A51,'3ème partie'!B:E,4,FALSE)))+IF(ISERROR(VLOOKUP(A51,'3ème partie'!F:I,1,FALSE)),0,IF(VLOOKUP(A51,'3ème partie'!F:J,5,FALSE)=\"\",13,VLOOKUP(A51,'3ème partie'!F:I,4,FALSE)))),\"\")","v":""},{"$f":"IF(AND(B51<>\"\",Y$1<>0),VALUE(IF(ISERROR(VLOOKUP(A51,'3ème partie'!B:E,1,FALSE)),0,IF(VLOOKUP(A51,'3ème partie'!B:F,5,FALSE)=\"\",7,VLOOKUP(A51,'3ème partie'!B:I,8,FALSE)))+IF(ISERROR(VLOOKUP(A51,'3ème partie'!F:I,1,FALSE)),0,IF(VLOOKUP(A51,'3ème partie'!F:J,5,FALSE)=\"\",7,VLOOKUP(A51,'3ème partie'!F:J,5,FALSE)))),\"\")","v":""},{"$f":"IF(D51=\"\",\"\",IF(D51-E51>0,1,0)+IF(G51<>\"\",IF(G51-H51>0,1,0),0)+IF(J51<>\"\",IF(J51-K51>0,1,0),0))","v":""},{"$f":"IF(AND(D51<>\"\",G51<>\"\",J51<>\"\"),D51+G51+J51,IF(AND(D51<>\"\",G51<>\"\"),D51+G51,IF(D51<>\"\",D51,\"\")))","v":""},{"$f":"IF(AND(E51<>\"\",H51<>\"\",K51<>\"\"),E51+H51+K51,IF(AND(E51<>\"\",H51<>\"\"),E51+H51,IF(E51<>\"\",E51,\"\")))","v":""},null,null,{"$f":"IF(B51<>\"\",IF(L51=3,0,MIN(IF(E51-D51>0,E51-D51,14),IF(H51-G51>0,H51-G51,14),IF(K51-J51>0,K51-J51,14))),\"\")","v":""},{"$f":"IF(B51<>\"\",MAX(IF(D51-E51>0,D51-E51,0),IF(G51-H51>0,G51-H51,0),IF(J51-K51>0,J51-K51,0)),\"\")","v":""},null,null,null,null,{"$f":"IF(B51<>\"\",VALUE(IF(ISERROR(VLOOKUP(A51,'1ère partie'!B:F,1,FALSE)),0,VLOOKUP(A51,'1ère partie'!B:F,5,FALSE))+IF(ISERROR(VLOOKUP(A51,'1ère partie'!F:L,1,FALSE)),0,VLOOKUP(A51,'1ère partie'!F:L,7,FALSE))),\"\")","v":""},{"$f":"IF(B51<>\"\",VALUE(IF(ISERROR(VLOOKUP(A51,'2ème partie'!B:F,1,FALSE)),0,VLOOKUP(A51,'2ème partie'!B:F,5,FALSE))+IF(ISERROR(VLOOKUP(A51,'2ème partie'!F:L,1,FALSE)),0,VLOOKUP(A51,'2ème partie'!F:L,7,FALSE))),\"\")","v":""},{"$f":"IF(B51<>\"\",VALUE(IF(ISERROR(VLOOKUP(A51,'3ème partie'!B:F,1,FALSE)),0,VLOOKUP(A51,'3ème partie'!B:F,5,FALSE))+IF(ISERROR(VLOOKUP(A51,'3ème partie'!F:L,1,FALSE)),0,VLOOKUP(A51,'3ème partie'!F:L,7,FALSE))),\"\")","v":""},null,null,48,""]
[49,{"$f":"IF(VLOOKUP(A52,Equipes!A:B,2,FALSE)<>\"\",VLOOKUP(A52,Equipes!A:B,2,FALSE),\"\")","v":""},{"$f":"IF(VLOOKUP(A52,Equipes!A:C,3,FALSE)<>\"\",VLOOKUP(A52,Equipes!A:C,3,FALSE),\"\")","v":""},{"$f":"IF(AND(B52<>\"\",W$1<>0),VALUE(IF(ISERROR(VLOOKUP(A52,'1ère partie'!B:E,1,FALSE)),0,IF(VLOOKUP(A52,'1ère partie'!B:F,5,FALSE)=\"\",13,VLOOKUP(A52,'1ère partie'!B:E,4,FALSE)))+IF(ISERROR(VLOOKUP(A52,'1ère partie'!F:I,1,FALSE)),0,IF(VLOOKUP(A52,'1ère partie'!F:J,5,FALSE)=\"\",13,VLOOKUP(A52,'1ère partie'!F:I,4,FALSE)))),\"\")","v":""},{"$f":"IF(AND(B52<>\"\",W$1<>0),VALUE(IF(ISERROR(VLOOKUP(A52,'1ère partie'!B:E,1,FALSE)),0,IF(VLOOKUP(A52,'1ère partie'!B:F,5,FALSE)=\"\",7,VLOOKUP(A52,'1ère partie'!B:I,8,FALSE)))+IF(ISERROR(VLOOKUP(A52,'1ère partie'!F:I,1,FALSE)),0,IF(VLOOKUP(A52,'1ère partie'!F:J,5,FALSE)=\"\",7,VLOOKUP(A52,'1ère partie'!F:J,5,FALSE)))),\"\")","v":""},null,{"$f":"IF(AND(B52<>\"\",X$1<>0),VALUE(IF(ISERROR(VLOOKUP(A52,'2ème partie'!B:E,1,FALSE)),0,IF(VLOOKUP(A52,'2ème partie'!B:F,5,FALSE)=\"\",13,VLOOKUP(A52,'2ème partie'!B:E,4,FALSE)))+IF(ISERROR(VLOOKUP(A52,'2ème partie'!F:I,1,FALSE)),0,IF(VLOOKUP(A52,'2ème partie'!F:J,5,FALSE)=\"\",13,VLOOKUP(A52,'2ème partie'!F:I,4,FALSE)))),\"\")","v":""},{"$f":"IF(AND(B52<>\"\",X$1<>0),VALUE(IF(ISERROR(VLOOKUP(A52,'2ème partie'!B:E,1,FALSE)),0,IF(VLOOKUP(A52,'2ème partie'!B:F,5,FALSE)=\"\",7,VLOOKUP(A52,'2ème partie'!B:I,8,FALSE)))+IF(ISERROR(VLOOKUP(A52,'2ème partie'!F:I,1,FALSE)),0,IF(VLOOKUP(A52,'2ème partie'!F:J,5,FALSE)=\"\",7,VLOOKUP(A52,'2ème partie'!F:J,5,FALSE)))),\"\")","v":""},null,{"$f":"IF(AND(B52<>\"\",Y$1<>0),VALUE(IF(ISERROR(VLOOKUP(A52,'3ème partie'!B:E,1,FALSE)),0,IF(VLOOKUP(A52,'3ème partie'!B:F,5,FALSE)=\"\",13,VLOOKUP(A52,'3ème partie'!B:E,4,FALSE)))+IF(ISERROR(VLOOKUP(A52,'3ème partie'!F:I,1,FALSE)),0,IF(VLOOKUP(A52,'3ème partie'!F:J,5,FALSE)=\"\",13,VLOOKUP(A52,'3ème partie'!F:I,4,FALSE)))),\"\")","v":""},{"$f":"IF(AND(B52<>\"\",Y$1<>0),VALUE(IF(ISERROR(VLOOKUP(A52,'3ème partie'!B:E,1,FALSE)),0,IF(VLOOKUP(A52,'3ème partie'!B:F,5,FALSE)=\"\",7,VLOOKUP(A52,'3ème partie'!B:I,8,FALSE)))+IF(ISERROR(VLOOKUP(A52,'3ème partie'!F:I,1,FALSE)),0,IF(VLOOKUP(A52,'3ème partie'!F:J,5,FALSE)=\"\",7,VLOOKUP(A52,'3ème partie'!F:J,5,FALSE)))),\"\")","v":""},{"$f":"IF(D52=\"\",\"\",IF(D52-E52>0,1,0)+IF(G52<>\"\",IF(G52-H52>0,1,0),0)+IF(J52<>\"\",IF(J52-K52>0,1,0),0))","v":""},{"$f":"IF(AND(D52<>\"\",G52<>\"\",J52<>\"\"),D52+G52+J52,IF(AND(D52<>\"\",G52<>\"\"),D52+G52,IF(D52<>\"\",D52,\"\")))","v":""},{"$f":"IF(AND(E52<>\"\",H52<>\"\",K52<>\"\"),E52+H52+K52,IF(AND(E52<>\"\",H52<>\"\"),E52+H52,IF(E52<>\"\",E52,\"\")))","v":""},null,null,{"$f":"IF(B52<>\"\",IF(L52=3,0,MIN(IF(E52-D52>0,E52-D52,14),IF(H52-G52>0,H52-G52,14),IF(K52-J52>0,K52-J52,14))),\"\")","v":""},{"$f":"IF(B52<>\"\",MAX(IF(D52-E52>0,D52-E52,0),IF(G52-H52>0,G52-H52,0),IF(J52-K52>0,J52-K52,0)),\"\")","v":""},null,null,null,null,{"$f":"IF(B52<>\"\",VALUE(IF(ISERROR(VLOOKUP(A52,'1ère partie'!B:F,1,FALSE)),0,VLOOKUP(A52,'1ère partie'!B:F,5,FALSE))+IF(ISERROR(VLOOKUP(A52,'1ère partie'!F:L,1,FALSE)),0,VLOOKUP(A52,'1ère partie'!F:L,7,FALSE))),\"\")","v":""},{"$f":"IF(B52<>\"\",VALUE(IF(ISERROR(VLOOKUP(A52,'2ème partie'!B:F,1,FALSE)),0,VLOOKUP(A52,'2ème partie'!B:F,5,FALSE))+IF(ISERROR(VLOOKUP(A52,'2ème partie'!F:L,1,FALSE)),0,VLOOKUP(A52,'2ème partie'!F:L,7,FALSE))),\"\")","v":""},{"$f":"IF(B52<>\"\",VALUE(IF(ISERROR(VLOOKUP(A52,'3ème partie'!B:F,1,FALSE)),0,VLOOKUP(A52,'3ème partie'!B:F,5,FALSE))+IF(ISERROR(VLOOKUP(A52,'3ème partie'!F:L,1,FALSE)),0,VLOOKUP(A52,'3ème partie'!F:L,7,FALSE))),\"\")","v":""},null,null,49,""]
[50,{"$f":"IF(VLOOKUP(A53,Equipes!A:B,2,FALSE)<>\"\",VLOOKUP(A53,Equipes!A:B,2,FALSE),\"\")","v":""},{"$f":"IF(VLOOKUP(A53,Equipes!A:C,3,FALSE)<>\"\",VLOOKUP(A53,Equipes!A:C,3,FALSE),\"\")","v":""},{"$f":"IF(AND(B53<>\"\",W$1<>0),VALUE(IF(ISERROR(VLOOKUP(A53,'1ère partie'!B:E,1,FALSE)),0,IF(VLOOKUP(A53,'1ère partie'!B:F,5,FALSE)=\"\",13,VLOOKUP(A53,'1ère partie'!B:E,4,FALSE)))+IF(ISERROR(VLOOKUP(A53,'1ère partie'!F:I,1,FALSE)),0,IF(VLOOKUP(A53,'1ère partie'!F:J,5,FALSE)=\"\",13,VLOOKUP(A53,'1ère partie'!F:I,4,FALSE)))),\"\")","v":""},{"$f":"IF(AND(B53<>\"\",W$1<>0),VALUE(IF(ISERROR(VLOOKUP(A53,'1ère partie'!B:E,1,FALSE)),0,IF(VLOOKUP(A53,'1ère partie'!B:F,5,FALSE)=\"\",7,VLOOKUP(A53,'1ère partie'!B:I,8,FALSE)))+IF(ISERROR(VLOOKUP(A53,'1ère partie'!F:I,1,FALSE)),0,IF(VLOOKUP(A53,'1ère partie'!F:J,5,FALSE)=\"\",7,VLOOKUP(A53,'1ère partie'!F:J,5,FALSE)))),\"\")","v":""},null,{"$f":"IF(AND(B53<>\"\",X$1<>0),VALUE(IF(ISERROR(VLOOKUP(A53,'2ème partie'!B:E,1,FALSE)),0,IF(VLOOKUP(A53,'2ème partie'!B:F,5,FALSE)=\"\",13,VLOOKUP(A53,'2ème partie'!B:E,4,FALSE)))+IF(ISERROR(VLOOKUP(A53,'2ème partie'!F:I,1,FALSE)),0,IF(VLOOKUP(A53,'2ème partie'!F:J,5,FALSE)=\"\",13,VLOOKUP(A53,'2ème partie'!F:I,4,FALSE)))),\"\")","v":""},{"$f":"IF(AND(B53<>\"\",X$1<>0),VALUE(IF(ISERROR(VLOOKUP(A53,'2ème partie'!B:E,1,FALSE)),0,IF(VLOOKUP(A53,'2ème partie'!B:F,5,FALSE)=\"\",7,VLOOKUP(A53,'2ème partie'!B:I,8,FALSE)))+IF(ISERROR(VLOOKUP(A53,'2ème partie'!F:I,1,FALSE)),0,IF(VLOOKUP(A53,'2ème partie'!F:J,5,FALSE)=\"\",7,VLOOKUP(A53,'2ème partie'!F:J,5,FALSE)))),\"\")","v":""},null,{"$f":"IF(AND(B53<>\"\",Y$1<>0),VALUE(IF(ISERROR(VLOOKUP(A53,'3ème partie'!B:E,1,FALSE)),0,IF(VLOOKUP(A53,'3ème partie'!B:F,5,FALSE)=\"\",13,VLOOKUP(A53,'3ème partie'!B:E,4,FALSE)))+IF(ISERROR(VLOOKUP(A53,'3ème partie'!F:I,1,FALSE)),0,IF(VLOOKUP(A53,'3ème partie'!F:J,5,FALSE)=\"\",13,VLOOKUP(A53,'3ème partie'!F:I,4,FALSE)))),\"\")","v":""},{"$f":"IF(AND(B53<>\"\",Y$1<>0),VALUE(IF(ISERROR(VLOOKUP(A53,'3ème partie'!B:E,1,FALSE)),0,IF(VLOOKUP(A53,'3ème partie'!B:F,5,FALSE)=\"\",7,VLOOKUP(A53,'3ème partie'!B:I,8,FALSE)))+IF(ISERROR(VLOOKUP(A53,'3ème partie'!F:I,1,FALSE)),0,IF(VLOOKUP(A53,'3ème partie'!F:J,5,FALSE)=\"\",7,VLOOKUP(A53,'3ème partie'!F:J,5,FALSE)))),\"\")","v":""},{"$f":"IF(D53=\"\",\"\",IF(D53-E53>0,1,0)+IF(G53<>\"\",IF(G53-H53>0,1,0),0)+IF(J53<>\"\",IF(J53-K53>0,1,0),0))","v":""},{"$f":"IF(AND(D53<>\"\",G53<>\"\",J53<>\"\"),D53+G53+J53,IF(AND(D53<>\"\",G53<>\"\"),D53+G53,IF(D53<>\"\",D53,\"\")))","v":""},{"$f":"IF(AND(E53<>\"\",H53<>\"\",K53<>\"\"),E53+H53+K53,IF(AND(E53<>\"\",H53<>\"\"),E53+H53,IF(E53<>\"\",E53,\"\")))","v":""},null,null,{"$f":"IF(B53<>\"\",IF(L53=3,0,MIN(IF(E53-D53>0,E53-D53,14),IF(H53-G53>0,H53-G53,14),IF(K53-J53>0,K53-J53,14))),\"\")","v":""},{"$f":"IF(B53<>\"\",MAX(IF(D53-E53>0,D53-E53,0),IF(G53-H53>0,G53-H53,0),IF(J53-K53>0,J53-K53,0)),\"\")","v":""},null,null,null,null,{"$f":"IF(B53<>\"\",VALUE(IF(ISERROR(VLOOKUP(A53,'1ère partie'!B:F,1,FALSE)),0,VLOOKUP(A53,'1ère partie'!B:F,5,FALSE))+IF(ISERROR(VLOOKUP(A53,'1ère partie'!F:L,1,FALSE)),0,VLOOKUP(A53,'1ère partie'!F:L,7,FALSE))),\"\")","v":""},{"$f":"IF(B53<>\"\",VALUE(IF(ISERROR(VLOOKUP(A53,'2ème partie'!B:F,1,FALSE)),0,VLOOKUP(A53,'2ème partie'!B:F,5,FALSE))+IF(ISERROR(VLOOKUP(A53,'2ème partie'!F:L,1,FALSE)),0,VLOOKUP(A53,'2ème partie'!F:L,7,FALSE))),\"\")","v":""},{"$f":"IF(B53<>\"\",VALUE(IF(ISERROR(VLOOKUP(A53,'3ème partie'!B:F,1,FALSE)),0,VLOOKUP(A53,'3ème partie'!B:F,5,FALSE))+IF(ISERROR(VLOOKUP(A53,'3ème partie'!F:L,1,FALSE)),0,VLOOKUP(A53,'3ème partie'!F:L,7,FALSE))),\"\")","v":""},null,null,50,""]
[51,{"$f":"IF(VLOOKUP(A54,Equipes!A:B,2,FALSE)<>\"\",VLOOKUP(A54,Equipes!A:B,2,FALSE),\"\")","v":""},{"$f":"IF(VLOOKUP(A54,Equipes!A:C,3,FALSE)<>\"\",VLOOKUP(A54,Equipes!A:C,3,FALSE),\"\")","v":""},{"$f":"IF(AND(B54<>\"\",W$1<>0),VALUE(IF(ISERROR(VLOOKUP(A54,'1ère partie'!B:E,1,FALSE)),0,IF(VLOOKUP(A54,'1ère partie'!B:F,5,FALSE)=\"\",13,VLOOKUP(A54,'1ère partie'!B:E,4,FALSE)))+IF(ISERROR(VLOOKUP(A54,'1ère partie'!F:I,1,FALSE)),0,IF(VLOOKUP(A54,'1ère partie'!F:J,5,FALSE)=\"\",13,VLOOKUP(A54,'1ère partie'!F:I,4,FALSE)))),\"\")","v":""},{"$f":"IF(AND(B54<>\"\",W$1<>0),VALUE(IF(ISERROR(VLOOKUP(A54,'1ère partie'!B:E,1,FALSE)),0,IF(VLOOKUP(A54,'1ère partie'!B:F,5,FALSE)=\"\",7,VLOOKUP(A54,'1ère partie'!B:I,8,FALSE)))+IF(ISERROR(VLOOKUP(A54,'1ère partie'!F:I,1,FALSE)),0,IF(VLOOKUP(A54,'1ère partie'!F:J,5,FALSE)=\"\",7,VLOOKUP(A54,'1ère partie'!F:J,5,FALSE)))),\"\")","v":""},null,{"$f":"IF(AND(B54<>\"\",X$1<>0),VALUE(IF(ISERROR(VLOOKUP(A54,'2ème partie'!B:E,1,FALSE)),0,IF(VLOOKUP(A54,'2ème partie'!B:F,5,FALSE)=\"\",13,VLOOKUP(A54,'2ème partie'!B:E,4,FALSE)))+IF(ISERROR(VLOOKUP(A54,'2ème partie'!F:I,1,FALSE)),0,IF(VLOOKUP(A54,'2ème partie'!F:J,5,FALSE)=\"\",13,VLOOKUP(A54,'2ème partie'!F:I,4,FALSE)))),\"\")","v":""},{"$f":"IF(AND(B54<>\"\",X$1<>0),VALUE(IF(ISERROR(VLOOKUP(A54,'2ème partie'!B:E,1,FALSE)),0,IF(VLOOKUP(A54,'2ème partie'!B:F,5,FALSE)=\"\",7,VLOOKUP(A54,'2ème partie'!B:I,8,FALSE)))+IF(ISERROR(VLOOKUP(A54,'2ème partie'!F:I,1,FALSE)),0,IF(VLOOKUP(A54,'2ème partie'!F:J,5,FALSE)=\"\",7,VLOOKUP(A54,'2ème partie'!F:J,5,FALSE)))),\"\")","v":""},null,{"$f":"IF(AND(B54<>\"\",Y$1<>0),VALUE(IF(ISERROR(VLOOKUP(A54,'3ème partie'!B:E,1,FALSE)),0,IF(VLOOKUP(A54,'3ème partie'!B:F,5,FALSE)=\"\",13,VLOOKUP(A54,'3ème partie'!B:E,4,FALSE)))+IF(ISERROR(VLOOKUP(A54,'3ème partie'!F:I,1,FALSE)),0,IF(VLOOKUP(A54,'3ème partie'!F:J,5,FALSE)=\"\",13,VLOOKUP(A54,'3ème partie'!F:I,4,FALSE)))),\"\")","v":""},{"$f":"IF(AND(B54<>\"\",Y$1<>0),VALUE(IF(ISERROR(VLOOKUP(A54,'3ème partie'!B:E,1,FALSE)),0,IF(VLOOKUP(A54,'3ème partie'!B:F,5,FALSE)=\"\",7,VLOOKUP(A54,'3ème partie'!B:I,8,FALSE)))+IF(ISERROR(VLOOKUP(A54,'3ème partie'!F:I,1,FALSE)),0,IF(VLOOKUP(A54,'3ème partie'!F:J,5,FALSE)=\"\",7,VLOOKUP(A54,'3ème partie'!F:J,5,FALSE)))),\"\")","v":""},{"$f":"IF(D54=\"\",\"\",IF(D54-E54>0,1,0)+IF(G54<>\"\",IF(G54-H54>0,1,0),0)+IF(J54<>\"\",IF(J54-K54>0,1,0),0))","v":""},{"$f":"IF(AND(D54<>\"\",G54<>\"\",J54<>\"\"),D54+G54+J54,IF(AND(D54<>\"\",G54<>\"\"),D54+G54,IF(D54<>\"\",D54,\"\")))","v":""},{"$f":"IF(AND(E54<>\"\",H54<>\"\",K54<>\"\"),E54+H54+K54,IF(AND(E54<>\"\",H54<>\"\"),E54+H54,IF(E54<>\"\",E54,\"\")))","v":""},null,null,{"$f":"IF(B54<>\"\",IF(L54=3,0,MIN(IF(E54-D54>0,E54-D54,14),IF(H54-G54>0,H54-G54,14),IF(K54-J54>0,K54-J54,14))),\"\")","v":""},{"$f":"IF(B54<>\"\",MAX(IF(D54-E54>0,D54-E54,0),IF(G54-H54>0,G54-H54,0),IF(J54-K54>0,J54-K54,0)),\"\")","v":""},null,null,null,null,{"$f":"IF(B54<>\"\",VALUE(IF(ISERROR(VLOOKUP(A54,'1ère partie'!B:F,1,FALSE)),0,VLOOKUP(A54,'1ère partie'!B:F,5,FALSE))+IF(ISERROR(VLOOKUP(A54,'1ère partie'!F:L,1,FALSE)),0,VLOOKUP(A54,'1ère partie'!F:L,7,FALSE))),\"\")","v":""},{"$f":"IF(B54<>\"\",VALUE(IF(ISERROR(VLOOKUP(A54,'2ème partie'!B:F,1,FALSE)),0,VLOOKUP(A54,'2ème partie'!B:F,5,FALSE))+IF(ISERROR(VLOOKUP(A54,'2ème partie'!F:L,1,FALSE)),0,VLOOKUP(A54,'2ème partie'!F:L,7,FALSE))),\"\")","v":""},{"$f":"IF(B54<>\"\",VALUE(IF(ISERROR(VLOOKUP(A54,'3ème partie'!B:F,1,FALSE)),0,VLOOKUP(A54,'3ème partie'!B:F,5,FALSE))+IF(ISERROR(VLOOKUP(A54,'3ème partie'!F:L,1,FALSE)),0,VLOOKUP(A54,'3ème partie'!F:L,7,FALSE))),\"\")","v":""},null,null,51,""]
[52,{"$f":"IF(VLOOKUP(A55,Equipes!A:B,2,FALSE)<>\"\",VLOOKUP(A55,Equipes!A:B,2,FALSE),\"\")","v":""},{"$f":"IF(VLOOKUP(A55,Equipes!A:C,3,FALSE)<>\"\",VLOOKUP(A55,Equipes!A:C,3,FALSE),\"\")","v":""},{"$f":"IF(AND(B55<>\"\",W$1<>0),VALUE(IF(ISERROR(VLOOKUP(A55,'1ère partie'!B:E,1,FALSE)),0,IF(VLOOKUP(A55,'1ère partie'!B:F,5,FALSE)=\"\",13,VLOOKUP(A55,'1ère partie'!B:E,4,FALSE)))+IF(ISERROR(VLOOKUP(A55,'1ère partie'!F:I,1,FALSE)),0,IF(VLOOKUP(A55,'1ère partie'!F:J,5,FALSE)=\"\",13,VLOOKUP(A55,'1ère partie'!F:I,4,FALSE)))),\"\")","v":""},{"$f":"IF(AND(B55<>\"\",W$1<>0),VALUE(IF(ISERROR(VLOOKUP(A55,'1ère partie'!B:E,1,FALSE)),0,IF(VLOOKUP(A55,'1ère partie'!B:F,5,FALSE)=\"\",7,VLOOKUP(A55,'1ère partie'!B:I,8,FALSE)))+IF(ISERROR(VLOOKUP(A55,'1ère partie'!F:I,1,FALSE)),0,IF(VLOOKUP(A55,'1ère partie'!F:J,5,FALSE)=\"\",7,VLOOKUP(A55,'1ère partie'!F:J,5,FALSE)))),\"\")","v":""},null,{"$f":"IF(AND(B55<>\"\",X$1<>0),VALUE(IF(ISERROR(VLOOKUP(A55,'2ème partie'!B:E,1,FALSE)),0,IF(VLOOKUP(A55,'2ème partie'!B:F,5,FALSE)=\"\",13,VLOOKUP(A55,'2ème partie'!B:E,4,FALSE)))+IF(ISERROR(VLOOKUP(A55,'2ème partie'!F:I,1,FALSE)),0,IF(VLOOKUP(A55,'2ème partie'!F:J,5,FALSE)=\"\",13,VLOOKUP(A55,'2ème partie'!F:I,4,FALSE)))),\"\")","v":""},{"$f":"IF(AND(B55<>\"\",X$1<>0),VALUE(IF(ISERROR(VLOOKUP(A55,'2ème partie'!B:E,1,FALSE)),0,IF(VLOOKUP(A55,'2ème partie'!B:F,5,FALSE)=\"\",7,VLOOKUP(A55,'2ème partie'!B:I,8,FALSE)))+IF(ISERROR(VLOOKUP(A55,'2ème partie'!F:I,1,FALSE)),0,IF(VLOOKUP(A55,'2ème partie'!F:J,5,FALSE)=\"\",7,VLOOKUP(A55,'2ème partie'!F:J,5,FALSE)))),\"\")","v":""},null,{"$f":"IF(AND(B55<>\"\",Y$1<>0),VALUE(IF(ISERROR(VLOOKUP(A55,'3ème partie'!B:E,1,FALSE)),0,IF(VLOOKUP(A55,'3ème partie'!B:F,5,FALSE)=\"\",13,VLOOKUP(A55,'3ème partie'!B:E,4,FALSE)))+IF(ISERROR(VLOOKUP(A55,'3ème partie'!F:I,1,FALSE)),0,IF(VLOOKUP(A55,'3ème partie'!F:J,5,FALSE)=\"\",13,VLOOKUP(A55,'3ème partie'!F:I,4,FALSE)))),\"\")","v":""},{"$f":"IF(AND(B55<>\"\",Y$1<>0),VALUE(IF(ISERROR(VLOOKUP(A55,'3ème partie'!B:E,1,FALSE)),0,IF(VLOOKUP(A55,'3ème partie'!B:F,5,FALSE)=\"\",7,VLOOKUP(A55,'3ème partie'!B:I,8,FALSE)))+IF(ISERROR(VLOOKUP(A55,'3ème partie'!F:I,1,FALSE)),0,IF(VLOOKUP(A55,'3ème partie'!F:J,5,FALSE)=\"\",7,VLOOKUP(A55,'3ème partie'!F:J,5,FALSE)))),\"\")","v":""},{"$f":"IF(D55=\"\",\"\",IF(D55-E55>0,1,0)+IF(G55<>\"\",IF(G55-H55>0,1,0),0)+IF(J55<>\"\",IF(J55-K55>0,1,0),0))","v":""},{"$f":"IF(AND(D55<>\"\",G55<>\"\",J55<>\"\"),D55+G55+J55,IF(AND(D55<>\"\",G55<>\"\"),D55+G55,IF(D55<>\"\",D55,\"\")))","v":""},{"$f":"IF(AND(E55<>\"\",H55<>\"\",K55<>\"\"),E55+H55+K55,IF(AND(E55<>\"\",H55<>\"\"),E55+H55,IF(E55<>\"\",E55,\"\")))","v":""},null,null,{"$f":"IF(B55<>\"\",IF(L55=3,0,MIN(IF(E55-D55>0,E55-D55,14),IF(H55-G55>0,H55-G55,14),IF(K55-J55>0,K55-J55,14))),\"\")","v":""},{"$f":"IF(B55<>\"\",MAX(IF(D55-E55>0,D55-E55,0),IF(G55-H55>0,G55-H55,0),IF(J55-K55>0,J55-K55,0)),\"\")","v":""},null,null,null,null,{"$f":"IF(B55<>\"\",VALUE(IF(ISERROR(VLOOKUP(A55,'1ère partie'!B:F,1,FALSE)),0,VLOOKUP(A55,'1ère partie'!B:F,5,FALSE))+IF(ISERROR(VLOOKUP(A55,'1ère partie'!F:L,1,FALSE)),0,VLOOKUP(A55,'1ère partie'!F:L,7,FALSE))),\"\")","v":""},{"$f":"IF(B55<>\"\",VALUE(IF(ISERROR(VLOOKUP(A55,'2ème partie'!B:F,1,FALSE)),0,VLOOKUP(A55,'2ème partie'!B:F,5,FALSE))+IF(ISERROR(VLOOKUP(A55,'2ème partie'!F:L,1,FALSE)),0,VLOOKUP(A55,'2ème partie'!F:L,7,FALSE))),\"\")","v":""},{"$f":"IF(B55<>\"\",VALUE(IF(ISERROR(VLOOKUP(A55,'3ème partie'!B:F,1,FALSE)),0,VLOOKUP(A55,'3ème partie'!B:F,5,FALSE))+IF(ISERROR(VLOOKUP(A55,'3ème partie'!F:L,1,FALSE)),0,VLOOKUP(A55,'3ème partie'!F:L,7,FALSE))),\"\")","v":""},null,null,52,""]
[53,{"$f":"IF(VLOOKUP(A56,Equipes!A:B,2,FALSE)<>\"\",VLOOKUP(A56,Equipes!A:B,2,FALSE),\"\")","v":""},{"$f":"IF(VLOOKUP(A56,Equipes!A:C,3,FALSE)<>\"\",VLOOKUP(A56,Equipes!A:C,3,FALSE),\"\")","v":""},{"$f":"IF(AND(B56<>\"\",W$1<>0),VALUE(IF(ISERROR(VLOOKUP(A56,'1ère partie'!B:E,1,FALSE)),0,IF(VLOOKUP(A56,'1ère partie'!B:F,5,FALSE)=\"\",13,VLOOKUP(A56,'1ère partie'!B:E,4,FALSE)))+IF(ISERROR(VLOOKUP(A56,'1ère partie'!F:I,1,FALSE)),0,IF(VLOOKUP(A56,'1ère partie'!F:J,5,FALSE)=\"\",13,VLOOKUP(A56,'1ère partie'!F:I,4,FALSE)))),\"\")","v":""},{"$f":"IF(AND(B56<>\"\",W$1<>0),VALUE(IF(ISERROR(VLOOKUP(A56,'1ère partie'!B:E,1,FALSE)),0,IF(VLOOKUP(A56,'1ère partie'!B:F,5,FALSE)=\"\",7,VLOOKUP(A56,'1ère partie'!B:I,8,FALSE)))+IF(ISERROR(VLOOKUP(A56,'1ère partie'!F:I,1,FALSE)),0,IF(VLOOKUP(A56,'1ère partie'!F:J,5,FALSE)=\"\",7,VLOOKUP(A56,'1ère partie'!F:J,5,FALSE)))),\"\")","v":""},null,{"$f":"IF(AND(B56<>\"\",X$1<>0),VALUE(IF(ISERROR(VLOOKUP(A56,'2ème partie'!B:E,1,FALSE)),0,IF(VLOOKUP(A56,'2ème partie'!B:F,5,FALSE)=\"\",13,VLOOKUP(A56,'2ème partie'!B:E,4,FALSE)))+IF(ISERROR(VLOOKUP(A56,'2ème partie'!F:I,1,FALSE)),0,IF(VLOOKUP(A56,'2ème partie'!F:J,5,FALSE)=\"\",13,VLOOKUP(A56,'2ème partie'!F:I,4,FALSE)))),\"\")","v":""},{"$f":"IF(AND(B56<>\"\",X$1<>0),VALUE(IF(ISERROR(VLOOKUP(A56,'2ème partie'!B:E,1,FALSE)),0,IF(VLOOKUP(A56,'2ème partie'!B:F,5,FALSE)=\"\",7,VLOOKUP(A56,'2ème partie'!B:I,8,FALSE)))+IF(ISERROR(VLOOKUP(A56,'2ème partie'!F:I,1,FALSE)),0,IF(VLOOKUP(A56,'2ème partie'!F:J,5,FALSE)=\"\",7,VLOOKUP(A56,'2ème partie'!F:J,5,FALSE)))),\"\")","v":""},null,{"$f":"IF(AND(B56<>\"\",Y$1<>0),VALUE(IF(ISERROR(VLOOKUP(A56,'3ème partie'!B:E,1,FALSE)),0,IF(VLOOKUP(A56,'3ème partie'!B:F,5,FALSE)=\"\",13,VLOOKUP(A56,'3ème partie'!B:E,4,FALSE)))+IF(ISERROR(VLOOKUP(A56,'3ème partie'!F:I,1,FALSE)),0,IF(VLOOKUP(A56,'3ème partie'!F:J,5,FALSE)=\"\",13,VLOOKUP(A56,'3ème partie'!F:I,4,FALSE)))),\"\")","v":""},{"$f":"IF(AND(B56<>\"\",Y$1<>0),VALUE(IF(ISERROR(VLOOKUP(A56,'3ème partie'!B:E,1,FALSE)),0,IF(VLOOKUP(A56,'3ème partie'!B:F,5,FALSE)=\"\",7,VLOOKUP(A56,'3ème partie'!B:I,8,FALSE)))+IF(ISERROR(VLOOKUP(A56,'3ème partie'!F:I,1,FALSE)),0,IF(VLOOKUP(A56,'3ème partie'!F:J,5,FALSE)=\"\",7,VLOOKUP(A56,'3ème partie'!F:J,5,FALSE)))),\"\")","v":""},{"$f":"IF(D56=\"\",\"\",IF(D56-E56>0,1,0)+IF(G56<>\"\",IF(G56-H56>0,1,0),0)+IF(J56<>\"\",IF(J56-K56>0,1,0),0))","v":""},{"$f":"IF(AND(D56<>\"\",G56<>\"\",J56<>\"\"),D56+G56+J56,IF(AND(D56<>\"\",G56<>\"\"),D56+G56,IF(D56<>\"\",D56,\"\")))","v":""},{"$f":"IF(AND(E56<>\"\",H56<>\"\",K56<>\"\"),E56+H56+K56,IF(AND(E56<>\"\",H56<>\"\"),E56+H56,IF(E56<>\"\",E56,\"\")))","v":""},null,null,{"$f":"IF(B56<>\"\",IF(L56=3,0,MIN(IF(E56-D56>0,E56-D56,14),IF(H56-G56>0,H56-G56,14),IF(K56-J56>0,K56-J56,14))),\"\")","v":""},{"$f":"IF(B56<>\"\",MAX(IF(D56-E56>0,D56-E56,0),IF(G56-H56>0,G56-H56,0),IF(J56-K56>0,J56-K56,0)),\"\")","v":""},null,null,null,null,{"$f":"IF(B56<>\"\",VALUE(IF(ISERROR(VLOOKUP(A56,'1ère partie'!B:F,1,FALSE)),0,VLOOKUP(A56,'1ère partie'!B:F,5,FALSE))+IF(ISERROR(VLOOKUP(A56,'1ère partie'!F:L,1,FALSE)),0,VLOOKUP(A56,'1ère partie'!F:L,7,FALSE))),\"\")","v":""},{"$f":"IF(B56<>\"\",VALUE(IF(ISERROR(VLOOKUP(A56,'2ème partie'!B:F,1,FALSE)),0,VLOOKUP(A56,'2ème partie'!B:F,5,FALSE))+IF(ISERROR(VLOOKUP(A56,'2ème partie'!F:L,1,FALSE)),0,VLOOKUP(A56,'2ème partie'!F:L,7,FALSE))),\"\")","v":""},{"$f":"IF(B56<>\"\",VALUE(IF(ISERROR(VLOOKUP(A56,'3ème partie'!B:F,1,FALSE)),0,VLOOKUP(A56,'3ème partie'!B:F,5,FALSE))+IF(ISERROR(VLOOKUP(A56,'3ème partie'!F:L,1,FALSE)),0,VLOOKUP(A56,'3ème partie'!F:L,7,FALSE))),\"\")","v":""},null,null,53,""]
[54,{"$f":"IF(VLOOKUP(A57,Equipes!A:B,2,FALSE)<>\"\",VLOOKUP(A57,Equipes!A:B,2,FALSE),\"\")","v":""},{"$f":"IF(VLOOKUP(A57,Equipes!A:C,3,FALSE)<>\"\",VLOOKUP(A57,Equipes!A:C,3,FALSE),\"\")","v":""},{"$f":"IF(AND(B57<>\"\",W$1<>0),VALUE(IF(ISERROR(VLOOKUP(A57,'1ère partie'!B:E,1,FALSE)),0,IF(VLOOKUP(A57,'1ère partie'!B:F,5,FALSE)=\"\",13,VLOOKUP(A57,'1ère partie'!B:E,4,FALSE)))+IF(ISERROR(VLOOKUP(A57,'1ère partie'!F:I,1,FALSE)),0,IF(VLOOKUP(A57,'1ère partie'!F:J,5,FALSE)=\"\",13,VLOOKUP(A57,'1ère partie'!F:I,4,FALSE)))),\"\")","v":""},{"$f":"IF(AND(B57<>\"\",W$1<>0),VALUE(IF(ISERROR(VLOOKUP(A57,'1ère partie'!B:E,1,FALSE)),0,IF(VLOOKUP(A57,'1ère partie'!B:F,5,FALSE)=\"\",7,VLOOKUP(A57,'1ère partie'!B:I,8,FALSE)))+IF(ISERROR(VLOOKUP(A57,'1ère partie'!F:I,1,FALSE)),0,IF(VLOOKUP(A57,'1ère partie'!F:J,5,FALSE)=\"\",7,VLOOKUP(A57,'1ère partie'!F:J,5,FALSE)))),\"\")","v":""},null,{"$f":"IF(AND(B57<>\"\",X$1<>0),VALUE(IF(ISERROR(VLOOKUP(A57,'2ème partie'!B:E,1,FALSE)),0,IF(VLOOKUP(A57,'2ème partie'!B:F,5,FALSE)=\"\",13,VLOOKUP(A57,'2ème partie'!B:E,4,FALSE)))+IF(ISERROR(VLOOKUP(A57,'2ème partie'!F:I,1,FALSE)),0,IF(VLOOKUP(A57,'2ème partie'!F:J,5,FALSE)=\"\",13,VLOOKUP(A57,'2ème partie'!F:I,4,FALSE)))),\"\")","v":""},{"$f":"IF(AND(B57<>\"\",X$1<>0),VALUE(IF(ISERROR(VLOOKUP(A57,'2ème partie'!B:E,1,FALSE)),0,IF(VLOOKUP(A57,'2ème partie'!B:F,5,FALSE)=\"\",7,VLOOKUP(A57,'2ème partie'!B:I,8,FALSE)))+IF(ISERROR(VLOOKUP(A57,'2ème partie'!F:I,1,FALSE)),0,IF(VLOOKUP(A57,'2ème partie'!F:J,5,FALSE)=\"\",7,VLOOKUP(A57,'2ème partie'!F:J,5,FALSE)))),\"\")","v":""},null,{"$f":"IF(AND(B57<>\"\",Y$1<>0),VALUE(IF(ISERROR(VLOOKUP(A57,'3ème partie'!B:E,1,FALSE)),0,IF(VLOOKUP(A57,'3ème partie'!B:F,5,FALSE)=\"\",13,VLOOKUP(A57,'3ème partie'!B:E,4,FALSE)))+IF(ISERROR(VLOOKUP(A57,'3ème partie'!F:I,1,FALSE)),0,IF(VLOOKUP(A57,'3ème partie'!F:J,5,FALSE)=\"\",13,VLOOKUP(A57,'3ème partie'!F:I,4,FALSE)))),\"\")","v":""},{"$f":"IF(AND(B57<>\"\",Y$1<>0),VALUE(IF(ISERROR(VLOOKUP(A57,'3ème partie'!B:E,1,FALSE)),0,IF(VLOOKUP(A57,'3ème partie'!B:F,5,FALSE)=\"\",7,VLOOKUP(A57,'3ème partie'!B:I,8,FALSE)))+IF(ISERROR(VLOOKUP(A57,'3ème partie'!F:I,1,FALSE)),0,IF(VLOOKUP(A57,'3ème partie'!F:J,5,FALSE)=\"\",7,VLOOKUP(A57,'3ème partie'!F:J,5,FALSE)))),\"\")","v":""},{"$f":"IF(D57=\"\",\"\",IF(D57-E57>0,1,0)+IF(G57<>\"\",IF(G57-H57>0,1,0),0)+IF(J57<>\"\",IF(J57-K57>0,1,0),0))","v":""},{"$f":"IF(AND(D57<>\"\",G57<>\"\",J57<>\"\"),D57+G57+J57,IF(AND(D57<>\"\",G57<>\"\"),D57+G57,IF(D57<>\"\",D57,\"\")))","v":""},{"$f":"IF(AND(E57<>\"\",H57<>\"\",K57<>\"\"),E57+H57+K57,IF(AND(E57<>\"\",H57<>\"\"),E57+H57,IF(E57<>\"\",E57,\"\")))","v":""},null,null,{"$f":"IF(B57<>\"\",IF(L57=3,0,MIN(IF(E57-D57>0,E57-D57,14),IF(H57-G57>0,H57-G57,14),IF(K57-J57>0,K57-J57,14))),\"\")","v":""},{"$f":"IF(B57<>\"\",MAX(IF(D57-E57>0,D57-E57,0),IF(G57-H57>0,G57-H57,0),IF(J57-K57>0,J57-K57,0)),\"\")","v":""},null,null,null,null,{"$f":"IF(B57<>\"\",VALUE(IF(ISERROR(VLOOKUP(A57,'1ère partie'!B:F,1,FALSE)),0,VLOOKUP(A57,'1ère partie'!B:F,5,FALSE))+IF(ISERROR(VLOOKUP(A57,'1ère partie'!F:L,1,FALSE)),0,VLOOKUP(A57,'1ère partie'!F:L,7,FALSE))),\"\")","v":""},{"$f":"IF(B57<>\"\",VALUE(IF(ISERROR(VLOOKUP(A57,'2ème partie'!B:F,1,FALSE)),0,VLOOKUP(A57,'2ème partie'!B:F,5,FALSE))+IF(ISERROR(VLOOKUP(A57,'2ème partie'!F:L,1,FALSE)),0,VLOOKUP(A57,'2ème partie'!F:L,7,FALSE))),\"\")","v":""},{"$f":"IF(B57<>\"\",VALUE(IF(ISERROR(VLOOKUP(A57,'3ème partie'!B:F,1,FALSE)),0,VLOOKUP(A57,'3ème partie'!B:F,5,FALSE))+IF(ISERROR(VLOOKUP(A57,'3ème partie'!F:L,1,FALSE)),0,VLOOKUP(A57,'3ème partie'!F:L,7,FALSE))),\"\")","v":""},null,null,54,""]
[55,{"$f":"IF(VLOOKUP(A58,Equipes!A:B,2,FALSE)<>\"\",VLOOKUP(A58,Equipes!A:B,2,FALSE),\"\")","v":""},{"$f":"IF(VLOOKUP(A58,Equipes!A:C,3,FALSE)<>\"\",VLOOKUP(A58,Equipes!A:C,3,FALSE),\"\")","v":""},{"$f":"IF(AND(B58<>\"\",W$1<>0),VALUE(IF(ISERROR(VLOOKUP(A58,'1ère partie'!B:E,1,FALSE)),0,IF(VLOOKUP(A58,'1ère partie'!B:F,5,FALSE)=\"\",13,VLOOKUP(A58,'1ère partie'!B:E,4,FALSE)))+IF(ISERROR(VLOOKUP(A58,'1ère partie'!F:I,1,FALSE)),0,IF(VLOOKUP(A58,'1ère partie'!F:J,5,FALSE)=\"\",13,VLOOKUP(A58,'1ère partie'!F:I,4,FALSE)))),\"\")","v":""},{"$f":"IF(AND(B58<>\"\",W$1<>0),VALUE(IF(ISERROR(VLOOKUP(A58,'1ère partie'!B:E,1,FALSE)),0,IF(VLOOKUP(A58,'1ère partie'!B:F,5,FALSE)=\"\",7,VLOOKUP(A58,'1ère partie'!B:I,8,FALSE)))+IF(ISERROR(VLOOKUP(A58,'1ère partie'!F:I,1,FALSE)),0,IF(VLOOKUP(A58,'1ère partie'!F:J,5,FALSE)=\"\",7,VLOOKUP(A58,'1ère partie'!F:J,5,FALSE)))),\"\")","v":""},null,{"$f":"IF(AND(B58<>\"\",X$1<>0),VALUE(IF(ISERROR(VLOOKUP(A58,'2ème partie'!B:E,1,FALSE)),0,IF(VLOOKUP(A58,'2ème partie'!B:F,5,FALSE)=\"\",13,VLOOKUP(A58,'2ème partie'!B:E,4,FALSE)))+IF(ISERROR(VLOOKUP(A58,'2ème partie'!F:I,1,FALSE)),0,IF(VLOOKUP(A58,'2ème partie'!F:J,5,FALSE)=\"\",13,VLOOKUP(A58,'2ème partie'!F:I,4,FALSE)))),\"\")","v":""},{"$f":"IF(AND(B58<>\"\",X$1<>0),VALUE(IF(ISERROR(VLOOKUP(A58,'2ème partie'!B:E,1,FALSE)),0,IF(VLOOKUP(A58,'2ème partie'!B:F,5,FALSE)=\"\",7,VLOOKUP(A58,'2ème partie'!B:I,8,FALSE)))+IF(ISERROR(VLOOKUP(A58,'2ème partie'!F:I,1,FALSE)),0,IF(VLOOKUP(A58,'2ème partie'!F:J,5,FALSE)=\"\",7,VLOOKUP(A58,'2ème partie'!F:J,5,FALSE)))),\"\")","v":""},null,{"$f":"IF(AND(B58<>\"\",Y$1<>0),VALUE(IF(ISERROR(VLOOKUP(A58,'3ème partie'!B:E,1,FALSE)),0,IF(VLOOKUP(A58,'3ème partie'!B:F,5,FALSE)=\"\",13,VLOOKUP(A58,'3ème partie'!B:E,4,FALSE)))+IF(ISERROR(VLOOKUP(A58,'3ème partie'!F:I,1,FALSE)),0,IF(VLOOKUP(A58,'3ème partie'!F:J,5,FALSE)=\"\",13,VLOOKUP(A58,'3ème partie'!F:I,4,FALSE)))),\"\")","v":""},{"$f":"IF(AND(B58<>\"\",Y$1<>0),VALUE(IF(ISERROR(VLOOKUP(A58,'3ème partie'!B:E,1,FALSE)),0,IF(VLOOKUP(A58,'3ème partie'!B:F,5,FALSE)=\"\",7,VLOOKUP(A58,'3ème partie'!B:I,8,FALSE)))+IF(ISERROR(VLOOKUP(A58,'3ème partie'!F:I,1,FALSE)),0,IF(VLOOKUP(A58,'3ème partie'!F:J,5,FALSE)=\"\",7,VLOOKUP(A58,'3ème partie'!F:J,5,FALSE)))),\"\")","v":""},{"$f":"IF(D58=\"\",\"\",IF(D58-E58>0,1,0)+IF(G58<>\"\",IF(G58-H58>0,1,0),0)+IF(J58<>\"\",IF(J58-K58>0,1,0),0))","v":""},{"$f":"IF(AND(D58<>\"\",G58<>\"\",J58<>\"\"),D58+G58+J58,IF(AND(D58<>\"\",G58<>\"\"),D58+G58,IF(D58<>\"\",D58,\"\")))","v":""},{"$f":"IF(AND(E58<>\"\",H58<>\"\",K58<>\"\"),E58+H58+K58,IF(AND(E58<>\"\",H58<>\"\"),E58+H58,IF(E58<>\"\",E58,\"\")))","v":""},null,null,{"$f":"IF(B58<>\"\",IF(L58=3,0,MIN(IF(E58-D58>0,E58-D58,14),IF(H58-G58>0,H58-G58,14),IF(K58-J58>0,K58-J58,14))),\"\")","v":""},{"$f":"IF(B58<>\"\",MAX(IF(D58-E58>0,D58-E58,0),IF(G58-H58>0,G58-H58,0),IF(J58-K58>0,J58-K58,0)),\"\")","v":""},null,null,null,null,{"$f":"IF(B58<>\"\",VALUE(IF(ISERROR(VLOOKUP(A58,'1ère partie'!B:F,1,FALSE)),0,VLOOKUP(A58,'1ère partie'!B:F,5,FALSE))+IF(ISERROR(VLOOKUP(A58,'1ère partie'!F:L,1,FALSE)),0,VLOOKUP(A58,'1ère partie'!F:L,7,FALSE))),\"\")","v":""},{"$f":"IF(B58<>\"\",VALUE(IF(ISERROR(VLOOKUP(A58,'2ème partie'!B:F,1,FALSE)),0,VLOOKUP(A58,'2ème partie'!B:F,5,FALSE))+IF(ISERROR(VLOOKUP(A58,'2ème partie'!F:L,1,FALSE)),0,VLOOKUP(A58,'2ème partie'!F:L,7,FALSE))),\"\")","v":""},{"$f":"IF(B58<>\"\",VALUE(IF(ISERROR(VLOOKUP(A58,'3ème partie'!B:F,1,FALSE)),0,VLOOKUP(A58,'3ème partie'!B:F,5,FALSE))+IF(ISERROR(VLOOKUP(A58,'3ème partie'!F:L,1,FALSE)),0,VLOOKUP(A58,'3ème partie'!F:L,7,FALSE))),\"\")","v":""},null,null,55,""]
[56,{"$f":"IF(VLOOKUP(A59,Equipes!A:B,2,FALSE)<>\"\",VLOOKUP(A59,Equipes!A:B,2,FALSE),\"\")","v":""},{"$f":"IF(VLOOKUP(A59,Equipes!A:C,3,FALSE)<>\"\",VLOOKUP(A59,Equipes!A:C,3,FALSE),\"\")","v":""},{"$f":"IF(AND(B59<>\"\",W$1<>0),VALUE(IF(ISERROR(VLOOKUP(A59,'1ère partie'!B:E,1,FALSE)),0,IF(VLOOKUP(A59,'1ère partie'!B:F,5,FALSE)=\"\",13,VLOOKUP(A59,'1ère partie'!B:E,4,FALSE)))+IF(ISERROR(VLOOKUP(A59,'1ère partie'!F:I,1,FALSE)),0,IF(VLOOKUP(A59,'1ère partie'!F:J,5,FALSE)=\"\",13,VLOOKUP(A59,'1ère partie'!F:I,4,FALSE)))),\"\")","v":""},{"$f":"IF(AND(B59<>\"\",W$1<>0),VALUE(IF(ISERROR(VLOOKUP(A59,'1ère partie'!B:E,1,FALSE)),0,IF(VLOOKUP(A59,'1ère partie'!B:F,5,FALSE)=\"\",7,VLOOKUP(A59,'1ère partie'!B:I,8,FALSE)))+IF(ISERROR(VLOOKUP(A59,'1ère partie'!F:I,1,FALSE)),0,IF(VLOOKUP(A59,'1ère partie'!F:J,5,FALSE)=\"\",7,VLOOKUP(A59,'1ère partie'!F:J,5,FALSE)))),\"\")","v":""},null,{"$f":"IF(AND(B59<>\"\",X$1<>0),VALUE(IF(ISERROR(VLOOKUP(A59,'2ème partie'!B:E,1,FALSE)),0,IF(VLOOKUP(A59,'2ème partie'!B:F,5,FALSE)=\"\",13,VLOOKUP(A59,'2ème partie'!B:E,4,FALSE)))+IF(ISERROR(VLOOKUP(A59,'2ème partie'!F:I,1,FALSE)),0,IF(VLOOKUP(A59,'2ème partie'!F:J,5,FALSE)=\"\",13,VLOOKUP(A59,'2ème partie'!F:I,4,FALSE)))),\"\")","v":""},{"$f":"IF(AND(B59<>\"\",X$1<>0),VALUE(IF(ISERROR(VLOOKUP(A59,'2ème partie'!B:E,1,FALSE)),0,IF(VLOOKUP(A59,'2ème partie'!B:F,5,FALSE)=\"\",7,VLOOKUP(A59,'2ème partie'!B:I,8,FALSE)))+IF(ISERROR(VLOOKUP(A59,'2ème partie'!F:I,1,FALSE)),0,IF(VLOOKUP(A59,'2ème partie'!F:J,5,FALSE)=\"\",7,VLOOKUP(A59,'2ème partie'!F:J,5,FALSE)))),\"\")","v":""},null,{"$f":"IF(AND(B59<>\"\",Y$1<>0),VALUE(IF(ISERROR(VLOOKUP(A59,'3ème partie'!B:E,1,FALSE)),0,IF(VLOOKUP(A59,'3ème partie'!B:F,5,FALSE)=\"\",13,VLOOKUP(A59,'3ème partie'!B:E,4,FALSE)))+IF(ISERROR(VLOOKUP(A59,'3ème partie'!F:I,1,FALSE)),0,IF(VLOOKUP(A59,'3ème partie'!F:J,5,FALSE)=\"\",13,VLOOKUP(A59,'3ème partie'!F:I,4,FALSE)))),\"\")","v":""},{"$f":"IF(AND(B59<>\"\",Y$1<>0),VALUE(IF(ISERROR(VLOOKUP(A59,'3ème partie'!B:E,1,FALSE)),0,IF(VLOOKUP(A59,'3ème partie'!B:F,5,FALSE)=\"\",7,VLOOKUP(A59,'3ème partie'!B:I,8,FALSE)))+IF(ISERROR(VLOOKUP(A59,'3ème partie'!F:I,1,FALSE)),0,IF(VLOOKUP(A59,'3ème partie'!F:J,5,FALSE)=\"\",7,VLOOKUP(A59,'3ème partie'!F:J,5,FALSE)))),\"\")","v":""},{"$f":"IF(D59=\"\",\"\",IF(D59-E59>0,1,0)+IF(G59<>\"\",IF(G59-H59>0,1,0),0)+IF(J59<>\"\",IF(J59-K59>0,1,0),0))","v":""},{"$f":"IF(AND(D59<>\"\",G59<>\"\",J59<>\"\"),D59+G59+J59,IF(AND(D59<>\"\",G59<>\"\"),D59+G59,IF(D59<>\"\",D59,\"\")))","v":""},{"$f":"IF(AND(E59<>\"\",H59<>\"\",K59<>\"\"),E59+H59+K59,IF(AND(E59<>\"\",H59<>\"\"),E59+H59,IF(E59<>\"\",E59,\"\")))","v":""},null,null,{"$f":"IF(B59<>\"\",IF(L59=3,0,MIN(IF(E59-D59>0,E59-D59,14),IF(H59-G59>0,H59-G59,14),IF(K59-J59>0,K59-J59,14))),\"\")","v":""},{"$f":"IF(B59<>\"\",MAX(IF(D59-E59>0,D59-E59,0),IF(G59-H59>0,G59-H59,0),IF(J59-K59>0,J59-K59,0)),\"\")","v":""},null,null,null,null,{"$f":"IF(B59<>\"\",VALUE(IF(ISERROR(VLOOKUP(A59,'1ère partie'!B:F,1,FALSE)),0,VLOOKUP(A59,'1ère partie'!B:F,5,FALSE))+IF(ISERROR(VLOOKUP(A59,'1ère partie'!F:L,1,FALSE)),0,VLOOKUP(A59,'1ère partie'!F:L,7,FALSE))),\"\")","v":""},{"$f":"IF(B59<>\"\",VALUE(IF(ISERROR(VLOOKUP(A59,'2ème partie'!B:F,1,FALSE)),0,VLOOKUP(A59,'2ème partie'!B:F,5,FALSE))+IF(ISERROR(VLOOKUP(A59,'2ème partie'!F:L,1,FALSE)),0,VLOOKUP(A59,'2ème partie'!F:L,7,FALSE))),\"\")","v":""},{"$f":"IF(B59<>\"\",VALUE(IF(ISERROR(VLOOKUP(A59,'3ème partie'!B:F,1,FALSE)),0,VLOOKUP(A59,'3ème partie'!B:F,5,FALSE))+IF(ISERROR(VLOOKUP(A59,'3ème partie'!F:L,1,FALSE)),0,VLOOKUP(A59,'3ème partie'!F:L,7,FALSE))),\"\")","v":""},null,null,56,""]
[57,{"$f":"IF(VLOOKUP(A60,Equipes!A:B,2,FALSE)<>\"\",VLOOKUP(A60,Equipes!A:B,2,FALSE),\"\")","v":""},{"$f":"IF(VLOOKUP(A60,Equipes!A:C,3,FALSE)<>\"\",VLOOKUP(A60,Equipes!A:C,3,FALSE),\"\")","v":""},{"$f":"IF(AND(B60<>\"\",W$1<>0),VALUE(IF(ISERROR(VLOOKUP(A60,'1ère partie'!B:E,1,FALSE)),0,IF(VLOOKUP(A60,'1ère partie'!B:F,5,FALSE)=\"\",13,VLOOKUP(A60,'1ère partie'!B:E,4,FALSE)))+IF(ISERROR(VLOOKUP(A60,'1ère partie'!F:I,1,FALSE)),0,IF(VLOOKUP(A60,'1ère partie'!F:J,5,FALSE)=\"\",13,VLOOKUP(A60,'1ère partie'!F:I,4,FALSE)))),\"\")","v":""},{"$f":"IF(AND(B60<>\"\",W$1<>0),VALUE(IF(ISERROR(VLOOKUP(A60,'1ère partie'!B:E,1,FALSE)),0,IF(VLOOKUP(A60,'1ère partie'!B:F,5,FALSE)=\"\",7,VLOOKUP(A60,'1ère partie'!B:I,8,FALSE)))+IF(ISERROR(VLOOKUP(A60,'1ère partie'!F:I,1,FALSE)),0,IF(VLOOKUP(A60,'1ère partie'!F:J,5,FALSE)=\"\",7,VLOOKUP(A60,'1ère partie'!F:J,5,FALSE)))),\"\")","v":""},null,{"$f":"IF(AND(B60<>\"\",X$1<>0),VALUE(IF(ISERROR(VLOOKUP(A60,'2ème partie'!B:E,1,FALSE)),0,IF(VLOOKUP(A60,'2ème partie'!B:F,5,FALSE)=\"\",13,VLOOKUP(A60,'2ème partie'!B:E,4,FALSE)))+IF(ISERROR(VLOOKUP(A60,'2ème partie'!F:I,1,FALSE)),0,IF(VLOOKUP(A60,'2ème partie'!F:J,5,FALSE)=\"\",13,VLOOKUP(A60,'2ème partie'!F:I,4,FALSE)))),\"\")","v":""},{"$f":"IF(AND(B60<>\"\",X$1<>0),VALUE(IF(ISERROR(VLOOKUP(A60,'2ème partie'!B:E,1,FALSE)),0,IF(VLOOKUP(A60,'2ème partie'!B:F,5,FALSE)=\"\",7,VLOOKUP(A60,'2ème partie'!B:I,8,FALSE)))+IF(ISERROR(VLOOKUP(A60,'2ème partie'!F:I,1,FALSE)),0,IF(VLOOKUP(A60,'2ème partie'!F:J,5,FALSE)=\"\",7,VLOOKUP(A60,'2ème partie'!F:J,5,FALSE)))),\"\")","v":""},null,{"$f":"IF(AND(B60<>\"\",Y$1<>0),VALUE(IF(ISERROR(VLOOKUP(A60,'3ème partie'!B:E,1,FALSE)),0,IF(VLOOKUP(A60,'3ème partie'!B:F,5,FALSE)=\"\",13,VLOOKUP(A60,'3ème partie'!B:E,4,FALSE)))+IF(ISERROR(VLOOKUP(A60,'3ème partie'!F:I,1,FALSE)),0,IF(VLOOKUP(A60,'3ème partie'!F:J,5,FALSE)=\"\",13,VLOOKUP(A60,'3ème partie'!F:I,4,FALSE)))),\"\")","v":""},{"$f":"IF(AND(B60<>\"\",Y$1<>0),VALUE(IF(ISERROR(VLOOKUP(A60,'3ème partie'!B:E,1,FALSE)),0,IF(VLOOKUP(A60,'3ème partie'!B:F,5,FALSE)=\"\",7,VLOOKUP(A60,'3ème partie'!B:I,8,FALSE)))+IF(ISERROR(VLOOKUP(A60,'3ème partie'!F:I,1,FALSE)),0,IF(VLOOKUP(A60,'3ème partie'!F:J,5,FALSE)=\"\",7,VLOOKUP(A60,'3ème partie'!F:J,5,FALSE)))),\"\")","v":""},{"$f":"IF(D60=\"\",\"\",IF(D60-E60>0,1,0)+IF(G60<>\"\",IF(G60-H60>0,1,0),0)+IF(J60<>\"\",IF(J60-K60>0,1,0),0))","v":""},{"$f":"IF(AND(D60<>\"\",G60<>\"\",J60<>\"\"),D60+G60+J60,IF(AND(D60<>\"\",G60<>\"\"),D60+G60,IF(D60<>\"\",D60,\"\")))","v":""},{"$f":"IF(AND(E60<>\"\",H60<>\"\",K60<>\"\"),E60+H60+K60,IF(AND(E60<>\"\",H60<>\"\"),E60+H60,IF(E60<>\"\",E60,\"\")))","v":""},null,null,{"$f":"IF(B60<>\"\",IF(L60=3,0,MIN(IF(E60-D60>0,E60-D60,14),IF(H60-G60>0,H60-G60,14),IF(K60-J60>0,K60-J60,14))),\"\")","v":""},{"$f":"IF(B60<>\"\",MAX(IF(D60-E60>0,D60-E60,0),IF(G60-H60>0,G60-H60,0),IF(J60-K60>0,J60-K60,0)),\"\")","v":""},null,null,null,null,{"$f":"IF(B60<>\"\",VALUE(IF(ISERROR(VLOOKUP(A60,'1ère partie'!B:F,1,FALSE)),0,VLOOKUP(A60,'1ère partie'!B:F,5,FALSE))+IF(ISERROR(VLOOKUP(A60,'1ère partie'!F:L,1,FALSE)),0,VLOOKUP(A60,'1ère partie'!F:L,7,FALSE))),\"\")","v":""},{"$f":"IF(B60<>\"\",VALUE(IF(ISERROR(VLOOKUP(A60,'2ème partie'!B:F,1,FALSE)),0,VLOOKUP(A60,'2ème partie'!B:F,5,FALSE))+IF(ISERROR(VLOOKUP(A60,'2ème partie'!F:L,1,FALSE)),0,VLOOKUP(A60,'2ème partie'!F:L,7,FALSE))),\"\")","v":""},{"$f":"IF(B60<>\"\",VALUE(IF(ISERROR(VLOOKUP(A60,'3ème partie'!B:F,1,FALSE)),0,VLOOKUP(A60,'3ème partie'!B:F,5,FALSE))+IF(ISERROR(VLOOKUP(A60,'3ème partie'!F:L,1,FALSE)),0,VLOOKUP(A60,'3ème partie'!F:L,7,FALSE))),\"\")","v":""},null,null,57,""]
[58,{"$f":"IF(VLOOKUP(A61,Equipes!A:B,2,FALSE)<>\"\",VLOOKUP(A61,Equipes!A:B,2,FALSE),\"\")","v":""},{"$f":"IF(VLOOKUP(A61,Equipes!A:C,3,FALSE)<>\"\",VLOOKUP(A61,Equipes!A:C,3,FALSE),\"\")","v":""},{"$f":"IF(AND(B61<>\"\",W$1<>0),VALUE(IF(ISERROR(VLOOKUP(A61,'1ère partie'!B:E,1,FALSE)),0,IF(VLOOKUP(A61,'1ère partie'!B:F,5,FALSE)=\"\",13,VLOOKUP(A61,'1ère partie'!B:E,4,FALSE)))+IF(ISERROR(VLOOKUP(A61,'1ère partie'!F:I,1,FALSE)),0,IF(VLOOKUP(A61,'1ère partie'!F:J,5,FALSE)=\"\",13,VLOOKUP(A61,'1ère partie'!F:I,4,FALSE)))),\"\")","v":""},{"$f":"IF(AND(B61<>\"\",W$1<>0),VALUE(IF(ISERROR(VLOOKUP(A61,'1ère partie'!B:E,1,FALSE)),0,IF(VLOOKUP(A61,'1ère partie'!B:F,5,FALSE)=\"\",7,VLOOKUP(A61,'1ère partie'!B:I,8,FALSE)))+IF(ISERROR(VLOOKUP(A61,'1ère partie'!F:I,1,FALSE)),0,IF(VLOOKUP(A61,'1ère partie'!F:J,5,FALSE)=\"\",7,VLOOKUP(A61,'1ère partie'!F:J,5,FALSE)))),\"\")","v":""},null,{"$f":"IF(AND(B61<>\"\",X$1<>0),VALUE(IF(ISERROR(VLOOKUP(A61,'2ème partie'!B:E,1,FALSE)),0,IF(VLOOKUP(A61,'2ème partie'!B:F,5,FALSE)=\"\",13,VLOOKUP(A61,'2ème partie'!B:E,4,FALSE)))+IF(ISERROR(VLOOKUP(A61,'2ème partie'!F:I,1,FALSE)),0,IF(VLOOKUP(A61,'2ème partie'!F:J,5,FALSE)=\"\",13,VLOOKUP(A61,'2ème partie'!F:I,4,FALSE)))),\"\")","v":""},{"$f":"IF(AND(B61<>\"\",X$1<>0),VALUE(IF(ISERROR(VLOOKUP(A61,'2ème partie'!B:E,1,FALSE)),0,IF(VLOOKUP(A61,'2ème partie'!B:F,5,FALSE)=\"\",7,VLOOKUP(A61,'2ème partie'!B:I,8,FALSE)))+IF(ISERROR(VLOOKUP(A61,'2ème partie'!F:I,1,FALSE)),0,IF(VLOOKUP(A61,'2ème partie'!F:J,5,FALSE)=\"\",7,VLOOKUP(A61,'2ème partie'!F:J,5,FALSE)))),\"\")","v":""},null,{"$f":"IF(AND(B61<>\"\",Y$1<>0),VALUE(IF(ISERROR(VLOOKUP(A61,'3ème partie'!B:E,1,FALSE)),0,IF(VLOOKUP(A61,'3ème partie'!B:F,5,FALSE)=\"\",13,VLOOKUP(A61,'3ème partie'!B:E,4,FALSE)))+IF(ISERROR(VLOOKUP(A61,'3ème partie'!F:I,1,FALSE)),0,IF(VLOOKUP(A61,'3ème partie'!F:J,5,FALSE)=\"\",13,VLOOKUP(A61,'3ème partie'!F:I,4,FALSE)))),\"\")","v":""},{"$f":"IF(AND(B61<>\"\",Y$1<>0),VALUE(IF(ISERROR(VLOOKUP(A61,'3ème partie'!B:E,1,FALSE)),0,IF(VLOOKUP(A61,'3ème partie'!B:F,5,FALSE)=\"\",7,VLOOKUP(A61,'3ème partie'!B:I,8,FALSE)))+IF(ISERROR(VLOOKUP(A61,'3ème partie'!F:I,1,FALSE)),0,IF(VLOOKUP(A61,'3ème partie'!F:J,5,FALSE)=\"\",7,VLOOKUP(A61,'3ème partie'!F:J,5,FALSE)))),\"\")","v":""},{"$f":"IF(D61=\"\",\"\",IF(D61-E61>0,1,0)+IF(G61<>\"\",IF(G61-H61>0,1,0),0)+IF(J61<>\"\",IF(J61-K61>0,1,0),0))","v":""},{"$f":"IF(AND(D61<>\"\",G61<>\"\",J61<>\"\"),D61+G61+J61,IF(AND(D61<>\"\",G61<>\"\"),D61+G61,IF(D61<>\"\",D61,\"\")))","v":""},{"$f":"IF(AND(E61<>\"\",H61<>\"\",K61<>\"\"),E61+H61+K61,IF(AND(E61<>\"\",H61<>\"\"),E61+H61,IF(E61<>\"\",E61,\"\")))","v":""},null,null,{"$f":"IF(B61<>\"\",IF(L61=3,0,MIN(IF(E61-D61>0,E61-D61,14),IF(H61-G61>0,H61-G61,14),IF(K61-J61>0,K61-J61,14))),\"\")","v":""},{"$f":"IF(B61<>\"\",MAX(IF(D61-E61>0,D61-E61,0),IF(G61-H61>0,G61-H61,0),IF(J61-K61>0,J61-K61,0)),\"\")","v":""},null,null,null,null,{"$f":"IF(B61<>\"\",VALUE(IF(ISERROR(VLOOKUP(A61,'1ère partie'!B:F,1,FALSE)),0,VLOOKUP(A61,'1ère partie'!B:F,5,FALSE))+IF(ISERROR(VLOOKUP(A61,'1ère partie'!F:L,1,FALSE)),0,VLOOKUP(A61,'1ère partie'!F:L,7,FALSE))),\"\")","v":""},{"$f":"IF(B61<>\"\",VALUE(IF(ISERROR(VLOOKUP(A61,'2ème partie'!B:F,1,FALSE)),0,VLOOKUP(A61,'2ème partie'!B:F,5,FALSE))+IF(ISERROR(VLOOKUP(A61,'2ème partie'!F:L,1,FALSE)),0,VLOOKUP(A61,'2ème partie'!F:L,7,FALSE))),\"\")","v":""},{"$f":"IF(B61<>\"\",VALUE(IF(ISERROR(VLOOKUP(A61,'3ème partie'!B:F,1,FALSE)),0,VLOOKUP(A61,'3ème partie'!B:F,5,FALSE))+IF(ISERROR(VLOOKUP(A61,'3ème partie'!F:L,1,FALSE)),0,VLOOKUP(A61,'3ème partie'!F:L,7,FALSE))),\"\")","v":""},null,null,58,""]
[59,{"$f":"IF(VLOOKUP(A62,Equipes!A:B,2,FALSE)<>\"\",VLOOKUP(A62,Equipes!A:B,2,FALSE),\"\")","v":""},{"$f":"IF(VLOOKUP(A62,Equipes!A:C,3,FALSE)<>\"\",VLOOKUP(A62,Equipes!A:C,3,FALSE),\"\")","v":""},{"$f":"IF(AND(B62<>\"\",W$1<>0),VALUE(IF(ISERROR(VLOOKUP(A62,'1ère partie'!B:E,1,FALSE)),0,IF(VLOOKUP(A62,'1ère partie'!B:F,5,FALSE)=\"\",13,VLOOKUP(A62,'1ère partie'!B:E,4,FALSE)))+IF(ISERROR(VLOOKUP(A62,'1ère partie'!F:I,1,FALSE)),0,IF(VLOOKUP(A62,'1ère partie'!F:J,5,FALSE)=\"\",13,VLOOKUP(A62,'1ère partie'!F:I,4,FALSE)))),\"\")","v":""},{"$f":"IF(AND(B62<>\"\",W$1<>0),VALUE(IF(ISERROR(VLOOKUP(A62,'1ère partie'!B:E,1,FALSE)),0,IF(VLOOKUP(A62,'1ère partie'!B:F,5,FALSE)=\"\",7,VLOOKUP(A62,'1ère partie'!B:I,8,FALSE)))+IF(ISERROR(VLOOKUP(A62,'1ère partie'!F:I,1,FALSE)),0,IF(VLOOKUP(A62,'1ère partie'!F:J,5,FALSE)=\"\",7,VLOOKUP(A62,'1ère partie'!F:J,5,FALSE)))),\"\")","v":""},null,{"$f":"IF(AND(B62<>\"\",X$1<>0),VALUE(IF(ISERROR(VLOOKUP(A62,'2ème partie'!B:E,1,FALSE)),0,IF(VLOOKUP(A62,'2ème partie'!B:F,5,FALSE)=\"\",13,VLOOKUP(A62,'2ème partie'!B:E,4,FALSE)))+IF(ISERROR(VLOOKUP(A62,'2ème partie'!F:I,1,FALSE)),0,IF(VLOOKUP(A62,'2ème partie'!F:J,5,FALSE)=\"\",13,VLOOKUP(A62,'2ème partie'!F:I,4,FALSE)))),\"\")","v":""},{"$f":"IF(AND(B62<>\"\",X$1<>0),VALUE(IF(ISERROR(VLOOKUP(A62,'2ème partie'!B:E,1,FALSE)),0,IF(VLOOKUP(A62,'2ème partie'!B:F,5,FALSE)=\"\",7,VLOOKUP(A62,'2ème partie'!B:I,8,FALSE)))+IF(ISERROR(VLOOKUP(A62,'2ème partie'!F:I,1,FALSE)),0,IF(VLOOKUP(A62,'2ème partie'!F:J,5,FALSE)=\"\",7,VLOOKUP(A62,'2ème partie'!F:J,5,FALSE)))),\"\")","v":""},null,{"$f":"IF(AND(B62<>\"\",Y$1<>0),VALUE(IF(ISERROR(VLOOKUP(A62,'3ème partie'!B:E,1,FALSE)),0,IF(VLOOKUP(A62,'3ème partie'!B:F,5,FALSE)=\"\",13,VLOOKUP(A62,'3ème partie'!B:E,4,FALSE)))+IF(ISERROR(VLOOKUP(A62,'3ème partie'!F:I,1,FALSE)),0,IF(VLOOKUP(A62,'3ème partie'!F:J,5,FALSE)=\"\",13,VLOOKUP(A62,'3ème partie'!F:I,4,FALSE)))),\"\")","v":""},{"$f":"IF(AND(B62<>\"\",Y$1<>0),VALUE(IF(ISERROR(VLOOKUP(A62,'3ème partie'!B:E,1,FALSE)),0,IF(VLOOKUP(A62,'3ème partie'!B:F,5,FALSE)=\"\",7,VLOOKUP(A62,'3ème partie'!B:I,8,FALSE)))+IF(ISERROR(VLOOKUP(A62,'3ème partie'!F:I,1,FALSE)),0,IF(VLOOKUP(A62,'3ème partie'!F:J,5,FALSE)=\"\",7,VLOOKUP(A62,'3ème partie'!F:J,5,FALSE)))),\"\")","v":""},{"$f":"IF(D62=\"\",\"\",IF(D62-E62>0,1,0)+IF(G62<>\"\",IF(G62-H62>0,1,0),0)+IF(J62<>\"\",IF(J62-K62>0,1,0),0))","v":""},{"$f":"IF(AND(D62<>\"\",G62<>\"\",J62<>\"\"),D62+G62+J62,IF(AND(D62<>\"\",G62<>\"\"),D62+G62,IF(D62<>\"\",D62,\"\")))","v":""},{"$f":"IF(AND(E62<>\"\",H62<>\"\",K62<>\"\"),E62+H62+K62,IF(AND(E62<>\"\",H62<>\"\"),E62+H62,IF(E62<>\"\",E62,\"\")))","v":""},null,null,{"$f":"IF(B62<>\"\",IF(L62=3,0,MIN(IF(E62-D62>0,E62-D62,14),IF(H62-G62>0,H62-G62,14),IF(K62-J62>0,K62-J62,14))),\"\")","v":""},{"$f":"IF(B62<>\"\",MAX(IF(D62-E62>0,D62-E62,0),IF(G62-H62>0,G62-H62,0),IF(J62-K62>0,J62-K62,0)),\"\")","v":""},null,null,null,null,{"$f":"IF(B62<>\"\",VALUE(IF(ISERROR(VLOOKUP(A62,'1ère partie'!B:F,1,FALSE)),0,VLOOKUP(A62,'1ère partie'!B:F,5,FALSE))+IF(ISERROR(VLOOKUP(A62,'1ère partie'!F:L,1,FALSE)),0,VLOOKUP(A62,'1ère partie'!F:L,7,FALSE))),\"\")","v":""},{"$f":"IF(B62<>\"\",VALUE(IF(ISERROR(VLOOKUP(A62,'2ème partie'!B:F,1,FALSE)),0,VLOOKUP(A62,'2ème partie'!B:F,5,FALSE))+IF(ISERROR(VLOOKUP(A62,'2ème partie'!F:L,1,FALSE)),0,VLOOKUP(A62,'2ème partie'!F:L,7,FALSE))),\"\")","v":""},{"$f":"IF(B62<>\"\",VALUE(IF(ISERROR(VLOOKUP(A62,'3ème partie'!B:F,1,FALSE)),0,VLOOKUP(A62,'3ème partie'!B:F,5,FALSE))+IF(ISERROR(VLOOKUP(A62,'3ème partie'!F:L,1,FALSE)),0,VLOOKUP(A62,'3ème partie'!F:L,7,FALSE))),\"\")","v":""},null,null,59,""]
[60,{"$f":"IF(VLOOKUP(A63,Equipes!A:B,2,FALSE)<>\"\",VLOOKUP(A63,Equipes!A:B,2,FALSE),\"\")","v":""},{"$f":"IF(VLOOKUP(A63,Equipes!A:C,3,FALSE)<>\"\",VLOOKUP(A63,Equipes!A:C,3,FALSE),\"\")","v":""},{"$f":"IF(AND(B63<>\"\",W$1<>0),VALUE(IF(ISERROR(VLOOKUP(A63,'1ère partie'!B:E,1,FALSE)),0,IF(VLOOKUP(A63,'1ère partie'!B:F,5,FALSE)=\"\",13,VLOOKUP(A63,'1ère partie'!B:E,4,FALSE)))+IF(ISERROR(VLOOKUP(A63,'1ère partie'!F:I,1,FALSE)),0,IF(VLOOKUP(A63,'1ère partie'!F:J,5,FALSE)=\"\",13,VLOOKUP(A63,'1ère partie'!F:I,4,FALSE)))),\"\")","v":""},{"$f":"IF(AND(B63<>\"\",W$1<>0),VALUE(IF(ISERROR(VLOOKUP(A63,'1ère partie'!B:E,1,FALSE)),0,IF(VLOOKUP(A63,'1ère partie'!B:F,5,FALSE)=\"\",7,VLOOKUP(A63,'1ère partie'!B:I,8,FALSE)))+IF(ISERROR(VLOOKUP(A63,'1ère partie'!F:I,1,FALSE)),0,IF(VLOOKUP(A63,'1ère partie'!F:J,5,FALSE)=\"\",7,VLOOKUP(A63,'1ère partie'!F:J,5,FALSE)))),\"\")","v":""},null,{"$f":"IF(AND(B63<>\"\",X$1<>0),VALUE(IF(ISERROR(VLOOKUP(A63,'2ème partie'!B:E,1,FALSE)),0,IF(VLOOKUP(A63,'2ème partie'!B:F,5,FALSE)=\"\",13,VLOOKUP(A63,'2ème partie'!B:E,4,FALSE)))+IF(ISERROR(VLOOKUP(A63,'2ème partie'!F:I,1,FALSE)),0,IF(VLOOKUP(A63,'2ème partie'!F:J,5,FALSE)=\"\",13,VLOOKUP(A63,'2ème partie'!F:I,4,FALSE)))),\"\")","v":""},{"$f":"IF(AND(B63<>\"\",X$1<>0),VALUE(IF(ISERROR(VLOOKUP(A63,'2ème partie'!B:E,1,FALSE)),0,IF(VLOOKUP(A63,'2ème partie'!B:F,5,FALSE)=\"\",7,VLOOKUP(A63,'2ème partie'!B:I,8,FALSE)))+IF(ISERROR(VLOOKUP(A63,'2ème partie'!F:I,1,FALSE)),0,IF(VLOOKUP(A63,'2ème partie'!F:J,5,FALSE)=\"\",7,VLOOKUP(A63,'2ème partie'!F:J,5,FALSE)))),\"\")","v":""},null,{"$f":"IF(AND(B63<>\"\",Y$1<>0),VALUE(IF(ISERROR(VLOOKUP(A63,'3ème partie'!B:E,1,FALSE)),0,IF(VLOOKUP(A63,'3ème partie'!B:F,5,FALSE)=\"\",13,VLOOKUP(A63,'3ème partie'!B:E,4,FALSE)))+IF(ISERROR(VLOOKUP(A63,'3ème partie'!F:I,1,FALSE)),0,IF(VLOOKUP(A63,'3ème partie'!F:J,5,FALSE)=\"\",13,VLOOKUP(A63,'3ème partie'!F:I,4,FALSE)))),\"\")","v":""},{"$f":"IF(AND(B63<>\"\",Y$1<>0),VALUE(IF(ISERROR(VLOOKUP(A63,'3ème partie'!B:E,1,FALSE)),0,IF(VLOOKUP(A63,'3ème partie'!B:F,5,FALSE)=\"\",7,VLOOKUP(A63,'3ème partie'!B:I,8,FALSE)))+IF(ISERROR(VLOOKUP(A63,'3ème partie'!F:I,1,FALSE)),0,IF(VLOOKUP(A63,'3ème partie'!F:J,5,FALSE)=\"\",7,VLOOKUP(A63,'3ème partie'!F:J,5,FALSE)))),\"\")","v":""},{"$f":"IF(D63=\"\",\"\",IF(D63-E63>0,1,0)+IF(G63<>\"\",IF(G63-H63>0,1,0),0)+IF(J63<>\"\",IF(J63-K63>0,1,0),0))","v":""},{"$f":"IF(AND(D63<>\"\",G63<>\"\",J63<>\"\"),D63+G63+J63,IF(AND(D63<>\"\",G63<>\"\"),D63+G63,IF(D63<>\"\",D63,\"\")))","v":""},{"$f":"IF(AND(E63<>\"\",H63<>\"\",K63<>\"\"),E63+H63+K63,IF(AND(E63<>\"\",H63<>\"\"),E63+H63,IF(E63<>\"\",E63,\"\")))","v":""},null,null,{"$f":"IF(B63<>\"\",IF(L63=3,0,MIN(IF(E63-D63>0,E63-D63,14),IF(H63-G63>0,H63-G63,14),IF(K63-J63>0,K63-J63,14))),\"\")","v":""},{"$f":"IF(B63<>\"\",MAX(IF(D63-E63>0,D63-E63,0),IF(G63-H63>0,G63-H63,0),IF(J63-K63>0,J63-K63,0)),\"\")","v":""},null,null,null,null,{"$f":"IF(B63<>\"\",VALUE(IF(ISERROR(VLOOKUP(A63,'1ère partie'!B:F,1,FALSE)),0,VLOOKUP(A63,'1ère partie'!B:F,5,FALSE))+IF(ISERROR(VLOOKUP(A63,'1ère partie'!F:L,1,FALSE)),0,VLOOKUP(A63,'1ère partie'!F:L,7,FALSE))),\"\")","v":""},{"$f":"IF(B63<>\"\",VALUE(IF(ISERROR(VLOOKUP(A63,'2ème partie'!B:F,1,FALSE)),0,VLOOKUP(A63,'2ème partie'!B:F,5,FALSE))+IF(ISERROR(VLOOKUP(A63,'2ème partie'!F:L,1,FALSE)),0,VLOOKUP(A63,'2ème partie'!F:L,7,FALSE))),\"\")","v":""},{"$f":"IF(B63<>\"\",VALUE(IF(ISERROR(VLOOKUP(A63,'3ème partie'!B:F,1,FALSE)),0,VLOOKUP(A63,'3ème partie'!B:F,5,FALSE))+IF(ISERROR(VLOOKUP(A63,'3ème partie'!F:L,1,FALSE)),0,VLOOKUP(A63,'3ème partie'!F:L,7,FALSE))),\"\")","v":""},null,null,60,""]
[61,{"$f":"IF(VLOOKUP(A64,Equipes!A:B,2,FALSE)<>\"\",VLOOKUP(A64,Equipes!A:B,2,FALSE),\"\")","v":""},{"$f":"IF(VLOOKUP(A64,Equipes!A:C,3,FALSE)<>\"\",VLOOKUP(A64,Equipes!A:C,3,FALSE),\"\")","v":""},{"$f":"IF(AND(B64<>\"\",W$1<>0),VALUE(IF(ISERROR(VLOOKUP(A64,'1ère partie'!B:E,1,FALSE)),0,IF(VLOOKUP(A64,'1ère partie'!B:F,5,FALSE)=\"\",13,VLOOKUP(A64,'1ère partie'!B:E,4,FALSE)))+IF(ISERROR(VLOOKUP(A64,'1ère partie'!F:I,1,FALSE)),0,IF(VLOOKUP(A64,'1ère partie'!F:J,5,FALSE)=\"\",13,VLOOKUP(A64,'1ère partie'!F:I,4,FALSE)))),\"\")","v":""},{"$f":"IF(AND(B64<>\"\",W$1<>0),VALUE(IF(ISERROR(VLOOKUP(A64,'1ère partie'!B:E,1,FALSE)),0,IF(VLOOKUP(A64,'1ère partie'!B:F,5,FALSE)=\"\",7,VLOOKUP(A64,'1ère partie'!B:I,8,FALSE)))+IF(ISERROR(VLOOKUP(A64,'1ère partie'!F:I,1,FALSE)),0,IF(VLOOKUP(A64,'1ère partie'!F:J,5,FALSE)=\"\",7,VLOOKUP(A64,'1ère partie'!F:J,5,FALSE)))),\"\")","v":""},null,{"$f":"IF(AND(B64<>\"\",X$1<>0),VALUE(IF(ISERROR(VLOOKUP(A64,'2ème partie'!B:E,1,FALSE)),0,IF(VLOOKUP(A64,'2ème partie'!B:F,5,FALSE)=\"\",13,VLOOKUP(A64,'2ème partie'!B:E,4,FALSE)))+IF(ISERROR(VLOOKUP(A64,'2ème partie'!F:I,1,FALSE)),0,IF(VLOOKUP(A64,'2ème partie'!F:J,5,FALSE)=\"\",13,VLOOKUP(A64,'2ème partie'!F:I,4,FALSE)))),\"\")","v":""},{"$f":"IF(AND(B64<>\"\",X$1<>0),VALUE(IF(ISERROR(VLOOKUP(A64,'2ème partie'!B:E,1,FALSE)),0,IF(VLOOKUP(A64,'2ème partie'!B:F,5,FALSE)=\"\",7,VLOOKUP(A64,'2ème partie'!B:I,8,FALSE)))+IF(ISERROR(VLOOKUP(A64,'2ème partie'!F:I,1,FALSE)),0,IF(VLOOKUP(A64,'2ème partie'!F:J,5,FALSE)=\"\",7,VLOOKUP(A64,'2ème partie'!F:J,5,FALSE)))),\"\")","v":""},null,{"$f":"IF(AND(B64<>\"\",Y$1<>0),VALUE(IF(ISERROR(VLOOKUP(A64,'3ème partie'!B:E,1,FALSE)),0,IF(VLOOKUP(A64,'3ème partie'!B:F,5,FALSE)=\"\",13,VLOOKUP(A64,'3ème partie'!B:E,4,FALSE)))+IF(ISERROR(VLOOKUP(A64,'3ème partie'!F:I,1,FALSE)),0,IF(VLOOKUP(A64,'3ème partie'!F:J,5,FALSE)=\"\",13,VLOOKUP(A64,'3ème partie'!F:I,4,FALSE)))),\"\")","v":""},{"$f":"IF(AND(B64<>\"\",Y$1<>0),VALUE(IF(ISERROR(VLOOKUP(A64,'3ème partie'!B:E,1,FALSE)),0,IF(VLOOKUP(A64,'3ème partie'!B:F,5,FALSE)=\"\",7,VLOOKUP(A64,'3ème partie'!B:I,8,FALSE)))+IF(ISERROR(VLOOKUP(A64,'3ème partie'!F:I,1,FALSE)),0,IF(VLOOKUP(A64,'3ème partie'!F:J,5,FALSE)=\"\",7,VLOOKUP(A64,'3ème partie'!F:J,5,FALSE)))),\"\")","v":""},{"$f":"IF(D64=\"\",\"\",IF(D64-E64>0,1,0)+IF(G64<>\"\",IF(G64-H64>0,1,0),0)+IF(J64<>\"\",IF(J64-K64>0,1,0),0))","v":""},{"$f":"IF(AND(D64<>\"\",G64<>\"\",J64<>\"\"),D64+G64+J64,IF(AND(D64<>\"\",G64<>\"\"),D64+G64,IF(D64<>\"\",D64,\"\")))","v":""},{"$f":"IF(AND(E64<>\"\",H64<>\"\",K64<>\"\"),E64+H64+K64,IF(AND(E64<>\"\",H64<>\"\"),E64+H64,IF(E64<>\"\",E64,\"\")))","v":""},null,null,{"$f":"IF(B64<>\"\",IF(L64=3,0,MIN(IF(E64-D64>0,E64-D64,14),IF(H64-G64>0,H64-G64,14),IF(K64-J64>0,K64-J64,14))),\"\")","v":""},{"$f":"IF(B64<>\"\",MAX(IF(D64-E64>0,D64-E64,0),IF(G64-H64>0,G64-H64,0),IF(J64-K64>0,J64-K64,0)),\"\")","v":""},null,null,null,null,{"$f":"IF(B64<>\"\",VALUE(IF(ISERROR(VLOOKUP(A64,'1ère partie'!B:F,1,FALSE)),0,VLOOKUP(A64,'1ère partie'!B:F,5,FALSE))+IF(ISERROR(VLOOKUP(A64,'1ère partie'!F:L,1,FALSE)),0,VLOOKUP(A64,'1ère partie'!F:L,7,FALSE))),\"\")","v":""},{"$f":"IF(B64<>\"\",VALUE(IF(ISERROR(VLOOKUP(A64,'2ème partie'!B:F,1,FALSE)),0,VLOOKUP(A64,'2ème partie'!B:F,5,FALSE))+IF(ISERROR(VLOOKUP(A64,'2ème partie'!F:L,1,FALSE)),0,VLOOKUP(A64,'2ème partie'!F:L,7,FALSE))),\"\")","v":""},{"$f":"IF(B64<>\"\",VALUE(IF(ISERROR(VLOOKUP(A64,'3ème partie'!B:F,1,FALSE)),0,VLOOKUP(A64,'3ème partie'!B:F,5,FALSE))+IF(ISERROR(VLOOKUP(A64,'3ème partie'!F:L,1,FALSE)),0,VLOOKUP(A64,'3ème partie'!F:L,7,FALSE))),\"\")","v":""},null,null,61,""]
[62,{"$f":"IF(VLOOKUP(A65,Equipes!A:B,2,FALSE)<>\"\",VLOOKUP(A65,Equipes!A:B,2,FALSE),\"\")","v":""},{"$f":"IF(VLOOKUP(A65,Equipes!A:C,3,FALSE)<>\"\",VLOOKUP(A65,Equipes!A:C,3,FALSE),\"\")","v":""},{"$f":"IF(AND(B65<>\"\",W$1<>0),VALUE(IF(ISERROR(VLOOKUP(A65,'1ère partie'!B:E,1,FALSE)),0,IF(VLOOKUP(A65,'1ère partie'!B:F,5,FALSE)=\"\",13,VLOOKUP(A65,'1ère partie'!B:E,4,FALSE)))+IF(ISERROR(VLOOKUP(A65,'1ère partie'!F:I,1,FALSE)),0,IF(VLOOKUP(A65,'1ère partie'!F:J,5,FALSE)=\"\",13,VLOOKUP(A65,'1ère partie'!F:I,4,FALSE)))),\"\")","v":""},{"$f":"IF(AND(B65<>\"\",W$1<>0),VALUE(IF(ISERROR(VLOOKUP(A65,'1ère partie'!B:E,1,FALSE)),0,IF(VLOOKUP(A65,'1ère partie'!B:F,5,FALSE)=\"\",7,VLOOKUP(A65,'1ère partie'!B:I,8,FALSE)))+IF(ISERROR(VLOOKUP(A65,'1ère partie'!F:I,1,FALSE)),0,IF(VLOOKUP(A65,'1ère partie'!F:J,5,FALSE)=\"\",7,VLOOKUP(A65,'1ère partie'!F:J,5,FALSE)))),\"\")","v":""},null,{"$f":"IF(AND(B65<>\"\",X$1<>0),VALUE(IF(ISERROR(VLOOKUP(A65,'2ème partie'!B:E,1,FALSE)),0,IF(VLOOKUP(A65,'2ème partie'!B:F,5,FALSE)=\"\",13,VLOOKUP(A65,'2ème partie'!B:E,4,FALSE)))+IF(ISERROR(VLOOKUP(A65,'2ème partie'!F:I,1,FALSE)),0,IF(VLOOKUP(A65,'2ème partie'!F:J,5,FALSE)=\"\",13,VLOOKUP(A65,'2ème partie'!F:I,4,FALSE)))),\"\")","v":""},{"$f":"IF(AND(B65<>\"\",X$1<>0),VALUE(IF(ISERROR(VLOOKUP(A65,'2ème partie'!B:E,1,FALSE)),0,IF(VLOOKUP(A65,'2ème partie'!B:F,5,FALSE)=\"\",7,VLOOKUP(A65,'2ème partie'!B:I,8,FALSE)))+IF(ISERROR(VLOOKUP(A65,'2ème partie'!F:I,1,FALSE)),0,IF(VLOOKUP(A65,'2ème partie'!F:J,5,FALSE)=\"\",7,VLOOKUP(A65,'2ème partie'!F:J,5,FALSE)))),\"\")","v":""},null,{"$f":"IF(AND(B65<>\"\",Y$1<>0),VALUE(IF(ISERROR(VLOOKUP(A65,'3ème partie'!B:E,1,FALSE)),0,IF(VLOOKUP(A65,'3ème partie'!B:F,5,FALSE)=\"\",13,VLOOKUP(A65,'3ème partie'!B:E,4,FALSE)))+IF(ISERROR(VLOOKUP(A65,'3ème partie'!F:I,1,FALSE)),0,IF(VLOOKUP(A65,'3ème partie'!F:J,5,FALSE)=\"\",13,VLOOKUP(A65,'3ème partie'!F:I,4,FALSE)))),\"\")","v":""},{"$f":"IF(AND(B65<>\"\",Y$1<>0),VALUE(IF(ISERROR(VLOOKUP(A65,'3ème partie'!B:E,1,FALSE)),0,IF(VLOOKUP(A65,'3ème partie'!B:F,5,FALSE)=\"\",7,VLOOKUP(A65,'3ème partie'!B:I,8,FALSE)))+IF(ISERROR(VLOOKUP(A65,'3ème partie'!F:I,1,FALSE)),0,IF(VLOOKUP(A65,'3ème partie'!F:J,5,FALSE)=\"\",7,VLOOKUP(A65,'3ème partie'!F:J,5,FALSE)))),\"\")","v":""},{"$f":"IF(D65=\"\",\"\",IF(D65-E65>0,1,0)+IF(G65<>\"\",IF(G65-H65>0,1,0),0)+IF(J65<>\"\",IF(J65-K65>0,1,0),0))","v":""},{"$f":"IF(AND(D65<>\"\",G65<>\"\",J65<>\"\"),D65+G65+J65,IF(AND(D65<>\"\",G65<>\"\"),D65+G65,IF(D65<>\"\",D65,\"\")))","v":""},{"$f":"IF(AND(E65<>\"\",H65<>\"\",K65<>\"\"),E65+H65+K65,IF(AND(E65<>\"\",H65<>\"\"),E65+H65,IF(E65<>\"\",E65,\"\")))","v":""},null,null,{"$f":"IF(B65<>\"\",IF(L65=3,0,MIN(IF(E65-D65>0,E65-D65,14),IF(H65-G65>0,H65-G65,14),IF(K65-J65>0,K65-J65,14))),\"\")","v":""},{"$f":"IF(B65<>\"\",MAX(IF(D65-E65>0,D65-E65,0),IF(G65-H65>0,G65-H65,0),IF(J65-K65>0,J65-K65,0)),\"\")","v":""},null,null,null,null,{"$f":"IF(B65<>\"\",VALUE(IF(ISERROR(VLOOKUP(A65,'1ère partie'!B:F,1,FALSE)),0,VLOOKUP(A65,'1ère partie'!B:F,5,FALSE))+IF(ISERROR(VLOOKUP(A65,'1ère partie'!F:L,1,FALSE)),0,VLOOKUP(A65,'1ère partie'!F:L,7,FALSE))),\"\")","v":""},{"$f":"IF(B65<>\"\",VALUE(IF(ISERROR(VLOOKUP(A65,'2ème partie'!B:F,1,FALSE)),0,VLOOKUP(A65,'2ème partie'!B:F,5,FALSE))+IF(ISERROR(VLOOKUP(A65,'2ème partie'!F:L,1,FALSE)),0,VLOOKUP(A65,'2ème partie'!F:L,7,FALSE))),\"\")","v":""},{"$f":"IF(B65<>\"\",VALUE(IF(ISERROR(VLOOKUP(A65,'3ème partie'!B:F,1,FALSE)),0,VLOOKUP(A65,'3ème partie'!B:F,5,FALSE))+IF(ISERROR(VLOOKUP(A65,'3ème partie'!F:L,1,FALSE)),0,VLOOKUP(A65,'3ème partie'!F:L,7,FALSE))),\"\")","v":""},null,null,62,""]
[63,{"$f":"IF(VLOOKUP(A66,Equipes!A:B,2,FALSE)<>\"\",VLOOKUP(A66,Equipes!A:B,2,FALSE),\"\")","v":""},{"$f":"IF(VLOOKUP(A66,Equipes!A:C,3,FALSE)<>\"\",VLOOKUP(A66,Equipes!A:C,3,FALSE),\"\")","v":""},{"$f":"IF(AND(B66<>\"\",W$1<>0),VALUE(IF(ISERROR(VLOOKUP(A66,'1ère partie'!B:E,1,FALSE)),0,IF(VLOOKUP(A66,'1ère partie'!B:F,5,FALSE)=\"\",13,VLOOKUP(A66,'1ère partie'!B:E,4,FALSE)))+IF(ISERROR(VLOOKUP(A66,'1ère partie'!F:I,1,FALSE)),0,IF(VLOOKUP(A66,'1ère partie'!F:J,5,FALSE)=\"\",13,VLOOKUP(A66,'1ère partie'!F:I,4,FALSE)))),\"\")","v":""},{"$f":"IF(AND(B66<>\"\",W$1<>0),VALUE(IF(ISERROR(VLOOKUP(A66,'1ère partie'!B:E,1,FALSE)),0,IF(VLOOKUP(A66,'1ère partie'!B:F,5,FALSE)=\"\",7,VLOOKUP(A66,'1ère partie'!B:I,8,FALSE)))+IF(ISERROR(VLOOKUP(A66,'1ère partie'!F:I,1,FALSE)),0,IF(VLOOKUP(A66,'1ère partie'!F:J,5,FALSE)=\"\",7,VLOOKUP(A66,'1ère partie'!F:J,5,FALSE)))),\"\")","v":""},null,{"$f":"IF(AND(B66<>\"\",X$1<>0),VALUE(IF(ISERROR(VLOOKUP(A66,'2ème partie'!B:E,1,FALSE)),0,IF(VLOOKUP(A66,'2ème partie'!B:F,5,FALSE)=\"\",13,VLOOKUP(A66,'2ème partie'!B:E,4,FALSE)))+IF(ISERROR(VLOOKUP(A66,'2ème partie'!F:I,1,FALSE)),0,IF(VLOOKUP(A66,'2ème partie'!F:J,5,FALSE)=\"\",13,VLOOKUP(A66,'2ème partie'!F:I,4,FALSE)))),\"\")","v":""},{"$f":"IF(AND(B66<>\"\",X$1<>0),VALUE(IF(ISERROR(VLOOKUP(A66,'2ème partie'!B:E,1,FALSE)),0,IF(VLOOKUP(A66,'2ème partie'!B:F,5,FALSE)=\"\",7,VLOOKUP(A66,'2ème partie'!B:I,8,FALSE)))+IF(ISERROR(VLOOKUP(A66,'2ème partie'!F:I,1,FALSE)),0,IF(VLOOKUP(A66,'2ème partie'!F:J,5,FALSE)=\"\",7,VLOOKUP(A66,'2ème partie'!F:J,5,FALSE)))),\"\")","v":""},null,{"$f":"IF(AND(B66<>\"\",Y$1<>0),VALUE(IF(ISERROR(VLOOKUP(A66,'3ème partie'!B:E,1,FALSE)),0,IF(VLOOKUP(A66,'3ème partie'!B:F,5,FALSE)=\"\",13,VLOOKUP(A66,'3ème partie'!B:E,4,FALSE)))+IF(ISERROR(VLOOKUP(A66,'3ème partie'!F:I,1,FALSE)),0,IF(VLOOKUP(A66,'3ème partie'!F:J,5,FALSE)=\"\",13,VLOOKUP(A66,'3ème partie'!F:I,4,FALSE)))),\"\")","v":""},{"$f":"IF(AND(B66<>\"\",Y$1<>0),VALUE(IF(ISERROR(VLOOKUP(A66,'3ème partie'!B:E,1,FALSE)),0,IF(VLOOKUP(A66,'3ème partie'!B:F,5,FALSE)=\"\",7,VLOOKUP(A66,'3ème partie'!B:I,8,FALSE)))+IF(ISERROR(VLOOKUP(A66,'3ème partie'!F:I,1,FALSE)),0,IF(VLOOKUP(A66,'3ème partie'!F:J,5,FALSE)=\"\",7,VLOOKUP(A66,'3ème partie'!F:J,5,FALSE)))),\"\")","v":""},{"$f":"IF(D66=\"\",\"\",IF(D66-E66>0,1,0)+IF(G66<>\"\",IF(G66-H66>0,1,0),0)+IF(J66<>\"\",IF(J66-K66>0,1,0),0))","v":""},{"$f":"IF(AND(D66<>\"\",G66<>\"\",J66<>\"\"),D66+G66+J66,IF(AND(D66<>\"\",G66<>\"\"),D66+G66,IF(D66<>\"\",D66,\"\")))","v":""},{"$f":"IF(AND(E66<>\"\",H66<>\"\",K66<>\"\"),E66+H66+K66,IF(AND(E66<>\"\",H66<>\"\"),E66+H66,IF(E66<>\"\",E66,\"\")))","v":""},null,null,{"$f":"IF(B66<>\"\",IF(L66=3,0,MIN(IF(E66-D66>0,E66-D66,14),IF(H66-G66>0,H66-G66,14),IF(K66-J66>0,K66-J66,14))),\"\")","v":""},{"$f":"IF(B66<>\"\",MAX(IF(D66-E66>0,D66-E66,0),IF(G66-H66>0,G66-H66,0),IF(J66-K66>0,J66-K66,0)),\"\")","v":""},null,null,null,null,{"$f":"IF(B66<>\"\",VALUE(IF(ISERROR(VLOOKUP(A66,'1ère partie'!B:F,1,FALSE)),0,VLOOKUP(A66,'1ère partie'!B:F,5,FALSE))+IF(ISERROR(VLOOKUP(A66,'1ère partie'!F:L,1,FALSE)),0,VLOOKUP(A66,'1ère partie'!F:L,7,FALSE))),\"\")","v":""},{"$f":"IF(B66<>\"\",VALUE(IF(ISERROR(VLOOKUP(A66,'2ème partie'!B:F,1,FALSE)),0,VLOOKUP(A66,'2ème partie'!B:F,5,FALSE))+IF(ISERROR(VLOOKUP(A66,'2ème partie'!F:L,1,FALSE)),0,VLOOKUP(A66,'2ème partie'!F:L,7,FALSE))),\"\")","v":""},{"$f":"IF(B66<>\"\",VALUE(IF(ISERROR(VLOOKUP(A66,'3ème partie'!B:F,1,FALSE)),0,VLOOKUP(A66,'3ème partie'!B:F,5,FALSE))+IF(ISERROR(VLOOKUP(A66,'3ème partie'!F:L,1,FALSE)),0,VLOOKUP(A66,'3ème partie'!F:L,7,FALSE))),\"\")","v":""},null,null,63,""]
[64,{"$f":"IF(VLOOKUP(A67,Equipes!A:B,2,FALSE)<>\"\",VLOOKUP(A67,Equipes!A:B,2,FALSE),\"\")","v":""},{"$f":"IF(VLOOKUP(A67,Equipes!A:C,3,FALSE)<>\"\",VLOOKUP(A67,Equipes!A:C,3,FALSE),\"\")","v":""},{"$f":"IF(AND(B67<>\"\",W$1<>0),VALUE(IF(ISERROR(VLOOKUP(A67,'1ère partie'!B:E,1,FALSE)),0,IF(VLOOKUP(A67,'1ère partie'!B:F,5,FALSE)=\"\",13,VLOOKUP(A67,'1ère partie'!B:E,4,FALSE)))+IF(ISERROR(VLOOKUP(A67,'1ère partie'!F:I,1,FALSE)),0,IF(VLOOKUP(A67,'1ère partie'!F:J,5,FALSE)=\"\",13,VLOOKUP(A67,'1ère partie'!F:I,4,FALSE)))),\"\")","v":""},{"$f":"IF(AND(B67<>\"\",W$1<>0),VALUE(IF(ISERROR(VLOOKUP(A67,'1ère partie'!B:E,1,FALSE)),0,IF(VLOOKUP(A67,'1ère partie'!B:F,5,FALSE)=\"\",7,VLOOKUP(A67,'1ère partie'!B:I,8,FALSE)))+IF(ISERROR(VLOOKUP(A67,'1ère partie'!F:I,1,FALSE)),0,IF(VLOOKUP(A67,'1ère partie'!F:J,5,FALSE)=\"\",7,VLOOKUP(A67,'1ère partie'!F:J,5,FALSE)))),\"\")","v":""},null,{"$f":"IF(AND(B67<>\"\",X$1<>0),VALUE(IF(ISERROR(VLOOKUP(A67,'2ème partie'!B:E,1,FALSE)),0,IF(VLOOKUP(A67,'2ème partie'!B:F,5,FALSE)=\"\",13,VLOOKUP(A67,'2ème partie'!B:E,4,FALSE)))+IF(ISERROR(VLOOKUP(A67,'2ème partie'!F:I,1,FALSE)),0,IF(VLOOKUP(A67,'2ème partie'!F:J,5,FALSE)=\"\",13,VLOOKUP(A67,'2ème partie'!F:I,4,FALSE)))),\"\")","v":""},{"$f":"IF(AND(B67<>\"\",X$1<>0),VALUE(IF(ISERROR(VLOOKUP(A67,'2ème partie'!B:E,1,FALSE)),0,IF(VLOOKUP(A67,'2ème partie'!B:F,5,FALSE)=\"\",7,VLOOKUP(A67,'2ème partie'!B:I,8,FALSE)))+IF(ISERROR(VLOOKUP(A67,'2ème partie'!F:I,1,FALSE)),0,IF(VLOOKUP(A67,'2ème partie'!F:J,5,FALSE)=\"\",7,VLOOKUP(A67,'2ème partie'!F:J,5,FALSE)))),\"\")","v":""},null,{"$f":"IF(AND(B67<>\"\",Y$1<>0),VALUE(IF(ISERROR(VLOOKUP(A67,'3ème partie'!B:E,1,FALSE)),0,IF(VLOOKUP(A67,'3ème partie'!B:F,5,FALSE)=\"\",13,VLOOKUP(A67,'3ème partie'!B:E,4,FALSE)))+IF(ISERROR(VLOOKUP(A67,'3ème partie'!F:I,1,FALSE)),0,IF(VLOOKUP(A67,'3ème partie'!F:J,5,FALSE)=\"\",13,VLOOKUP(A67,'3ème partie'!F:I,4,FALSE)))),\"\")","v":""},{"$f":"IF(AND(B67<>\"\",Y$1<>0),VALUE(IF(ISERROR(VLOOKUP(A67,'3ème partie'!B:E,1,FALSE)),0,IF(VLOOKUP(A67,'3ème partie'!B:F,5,FALSE)=\"\",7,VLOOKUP(A67,'3ème partie'!B:I,8,FALSE)))+IF(ISERROR(VLOOKUP(A67,'3ème partie'!F:I,1,FALSE)),0,IF(VLOOKUP(A67,'3ème partie'!F:J,5,FALSE)=\"\",7,VLOOKUP(A67,'3ème partie'!F:J,5,FALSE)))),\"\")","v":""},{"$f":"IF(D67=\"\",\"\",IF(D67-E67>0,1,0)+IF(G67<>\"\",IF(G67-H67>0,1,0),0)+IF(J67<>\"\",IF(J67-K67>0,1,0),0))","v":""},{"$f":"IF(AND(D67<>\"\",G67<>\"\",J67<>\"\"),D67+G67+J67,IF(AND(D67<>\"\",G67<>\"\"),D67+G67,IF(D67<>\"\",D67,\"\")))","v":""},{"$f":"IF(AND(E67<>\"\",H67<>\"\",K67<>\"\"),E67+H67+K67,IF(AND(E67<>\"\",H67<>\"\"),E67+H67,IF(E67<>\"\",E67,\"\")))","v":""},null,null,{"$f":"IF(B67<>\"\",IF(L67=3,0,MIN(IF(E67-D67>0,E67-D67,14),IF(H67-G67>0,H67-G67,14),IF(K67-J67>0,K67-J67,14))),\"\")","v":""},{"$f":"IF(B67<>\"\",MAX(IF(D67-E67>0,D67-E67,0),IF(G67-H67>0,G67-H67,0),IF(J67-K67>0,J67-K67,0)),\"\")","v":""},null,null,null,null,{"$f":"IF(B67<>\"\",VALUE(IF(ISERROR(VLOOKUP(A67,'1ère partie'!B:F,1,FALSE)),0,VLOOKUP(A67,'1ère partie'!B:F,5,FALSE))+IF(ISERROR(VLOOKUP(A67,'1ère partie'!F:L,1,FALSE)),0,VLOOKUP(A67,'1ère partie'!F:L,7,FALSE))),\"\")","v":""},{"$f":"IF(B67<>\"\",VALUE(IF(ISERROR(VLOOKUP(A67,'2ème partie'!B:F,1,FALSE)),0,VLOOKUP(A67,'2ème partie'!B:F,5,FALSE))+IF(ISERROR(VLOOKUP(A67,'2ème partie'!F:L,1,FALSE)),0,VLOOKUP(A67,'2ème partie'!F:L,7,FALSE))),\"\")","v":""},{"$f":"IF(B67<>\"\",VALUE(IF(ISERROR(VLOOKUP(A67,'3ème partie'!B:F,1,FALSE)),0,VLOOKUP(A67,'3ème partie'!B:F,5,FALSE))+IF(ISERROR(VLOOKUP(A67,'3ème partie'!F:L,1,FALSE)),0,VLOOKUP(A67,'3ème partie'!F:L,7,FALSE))),\"\")","v":""},null,null,64,""]

{"sheet":"Jeux","index":8,"n_rows":21,"n_cols":39,"rows_kept":21,"cut":false,"hidden":true,"merged":[[16,19,17,19],[16,20,17,20],[16,21,17,21],[16,22,17,22],[16,23,17,23],[16,28,17,28],[16,29,17,29],[14,24,15,24],[14,25,15,25],[14,26,15,26],[14,27,15,27],[14,28,15,28],[14,29,15,29],[16,25,17,25],[16,26,17,26],[16,27,17,27],[16,24,17,24],[14,19,15,19],[14,20,15,20],[14,21,15,21],[14,22,15,22],[14,23,15,23],[12,29,13,29],[10,24,11,24],[10,25,11,25],[10,26,11,26],[10,27,11,27],[12,24,13,24],[12,25,13,25],[12,26,13,26],[12,27,13,27],[12,28,13,28],[12,19,13,19],[12,20,13,20],[12,21,13,21],[12,22,13,22],[12,23,13,23],[8,19,9,19],[8,20,9,20],[8,21,9,21],[8,22,9,22],[10,29,11,29],[10,28,11,28],[10,19,11,19],[10,20,11,20],[10,21,11,21],[10,22,11,22],[10,23,11,23],[6,19,7,19],[6,20,7,20],[6,21,7,21],[6,22,7,22],[4,29,5,29],[6,23,7,23],[6,25,7,25],[6,24,7,24],[6,29,7,29],[4,19,5,19],[4,20,5,20],[4,21,5,21],[4,22,5,22],[4,27,5,27],[4,24,5,24],[4,25,5,25],[4,23,5,23],[4,28,5,28],[8,29,9,29],[6,26,7,26],[6,27,7,27],[6,28,7,28],[8,26,9,26],[8,27,9,27],[8,28,9,28],[4,26,5,26],[8,23,9,23],[8,24,9,24],[8,25,9,25],[2,29,3,29],[0,1,1,1],[2,19,3,19],[2,20,3,20],[2,21,3,21],[2,22,3,22],[2,28,3,28],[2,27,3,27],[2,23,3,23],[2,24,3,24],[2,25,3,25],[2,26,3,26]]}
[null,"Jeu(x) Restant possible(s)","Jeux déjà utilisés par l'équipe (parties 1 & 2)",null,null,null,null,null,null,null,null,"Jeux disponibles par équipe",null,null,null,null,null,null,null,"Jeux disponibles pour les 2 équipes",null,null,null,null,null,null,null,null,null,null,null,{"$f":"COUNTIF(E3:E18,\"X\")","v":0},{"$f":"IF(Equipes!F4<>\"\",1,0)","v":0}]
["          Jeu\nEquipe",null,1,2,3,4,5,6,7,8,"Class/t",1,2,3,4,{"$f":"IF(O2=\"\",\"\",IF(Equipes!$W$14<>\"\",IF(O2+1>Equipes!$W$14,\"\",O2+1),IF(Jeux!O2+1>Equipes!$W$12/2,\"\",O2+1)))","v":""},{"$f":"IF(P2=\"\",\"\",IF(Equipes!$W$14<>\"\",IF(P2+1>Equipes!$W$14,\"\",P2+1),IF(Jeux!P2+1>Equipes!$W$12/2,\"\",P2+1)))","v":""},{"$f":"IF(Q2=\"\",\"\",IF(Equipes!$W$14<>\"\",IF(Q2+1>Equipes!$W$14,\"\",Q2+1),IF(Jeux!Q2+1>Equipes!$W$12/2,\"\",Q2+1)))","v":""},{"$f":"IF(R2=\"\",\"\",IF(Equipes!$W$14<>\"\",IF(R2+1>Equipes!$W$14,\"\",R2+1),IF(Jeux!R2+1>Equipes!$W$12/2,\"\",R2+1)))","v":""},1,2,3,4,{"$f":"IF(W2=\"\",\"\",IF(Equipes!$W$14<>\"\",IF(W2+1>Equipes!$W$14,\"\",W2+1),IF(Jeux!W2+1>Equipes!$W$12/2,\"\",W2+1)))","v":""},{"$f":"IF(X2=\"\",\"\",IF(Equipes!$W$14<>\"\",IF(X2+1>Equipes!$W$14,\"\",X2+1),IF(Jeux!X2+1>Equipes!$W$12/2,\"\",X2+1)))","v":""},{"$f":"IF(Y2=\"\",\"\",IF(Equipes!$W$14<>\"\",IF(Y2+1>Equipes!$W$14,\"\",Y2+1),IF(Jeux!Y2+1>Equipes!$W$12/2,\"\",Y2+1)))","v":""},{"$f":"IF(Z2=\"\",\"\",IF(Equipes!$W$14<>\"\",IF(Z2+1>Equipes!$W$14,\"\",Z2+1),IF(Jeux!Z2+1>Equipes!$W$12/2,\"\",Z2+1)))","v":""},"nb jeux dispo","N°jeu unique","N°jeu sélec-tionné","jeux déjà testés",null,null,null,null,null,null,null,"nb"]
[{"$f":"IF(ISERROR(VLOOKUP(K3,Feuillettravail!$AA$4:$AB$19,1,FALSE)),\"\",VLOOKUP(K3,Feuillettravail!$AA$4:$AB$19,2,FALSE))","v":""},{"$f":"COUNTIF(L3:S3,\"X\")","v":0},{"$f":"IF($A3=\"\",\"\",IF(VLOOKUP($A3,Feuillettravail!$A$4:$U$19,20,FALSE)=C$2,\"X\",IF(AND($AG$1=1,VLOOKUP($A3,Feuillettravail!$A$4:$U$19,21,FALSE)=C$2),\"X\",\"\")))","v":""},{"$f":"IF($A3=\"\",\"\",IF(VLOOKUP($A3,Feuillettravail!$A$4:$U$19,20,FALSE)=D$2,\"X\",IF(AND($AG$1=1,VLOOKUP($A3,Feuillettravail!$A$4:$U$19,21,FALSE)=D$2),\"X\",\"\")))","v":""},{"$f":"IF($A3=\"\",\"\",IF(VLOOKUP($A3,Feuillettravail!$A$4:$U$19,20,FALSE)=E$2,\"X\",IF(AND($AG$1=1,VLOOKUP($A3,Feuillettravail!$A$4:$U$19,21,FALSE)=E$2),\"X\",\"\")))","v":""},{"$f":"IF($A3=\"\",\"\",IF(VLOOKUP($A3,Feuillettravail!$A$4:$U$19,20,FALSE)=F$2,\"X\",IF(AND($AG$1=1,VLOOKUP($A3,Feuillettravail!$A$4:$U$19,21,FALSE)=F$2),\"X\",\"\")))","v":""},{"$f":"IF($A3=\"\",\"\",IF(VLOOKUP($A3,Feuillettravail!$A$4:$U$19,20,FALSE)=G$2,\"X\",IF(AND($AG$1=1,VLOOKUP($A3,Feuillettravail!$A$4:$U$19,21,FALSE)=G$2),\"X\",\"\")))","v":""},{"$f":"IF($A3=\"\",\"\",IF(VLOOKUP($A3,Feuillettravail!$A$4:$U$19,20,FALSE)=H$2,\"X\",IF(AND($AG$1=1,VLOOKUP($A3,Feuillettravail!$A$4:$U$19,21,FALSE)=H$2),\"X\",\"\")))","v":""},{"$f":"IF($A3=\"\",\"\",IF(VLOOKUP($A3,Feuillettravail!$A$4:$U$19,20,FALSE)=I$2,\"X\",IF(AND($AG$1=1,VLOOKUP($A3,Feuillettravail!$A$4:$U$19,21,FALSE)=I$2),\"X\",\"\")))","v":""},{"$f":"IF($A3=\"\",\"\",IF(VLOOKUP($A3,Feuillettravail!$A$4:$U$19,20,FALSE)=J$2,\"X\",IF(AND($AG$1=1,VLOOKUP($A3,Feuillettravail!$A$4:$U$19,21,FALSE)=J$2),\"X\",\"\")))","v":""},1,{"$f":"IF(AND($A3<>\"\",L$2<>\"\"),IF(C3=\"X\",\"\",\"X\"),\"\")","v":""},"","","","","","","",{"$f":"IF(AND(L3=\"X\",L4=\"X\"),\"X\",\"\")","v":""},{"$f":"IF(AND(M3=\"X\",M4=\"X\"),\"X\",\"\")","v":""},"","","","","","",{"$f":"IF(AND($A3<>\"\",$A4<>\"\"),COUNTIF(T3:AA4,\"X\"),\"\")","v":""},{"$f":"IF(AB3=1,IF(T3=\"X\",T$2,IF(U3=\"X\",U$2,IF(V3=\"X\",V$2,IF(W3=\"X\",W$2,IF(X3=\"X\",X$2,IF(Y3=\"X\",Y$2,IF(Z3=\"X\",Z$2,AA$2))))))),\"\")","v":""},null,null,null,null,null,null,null,null,null,{"$f":"COUNTIF(AE3:AL3,\">0\")","v":0}]
[{"$f":"IF(ISERROR(VLOOKUP(K4,Feuillettravail!$AA$4:$AB$19,1,FALSE)),\"\",VLOOKUP(K4,Feuillettravail!$AA$4:$AB$19,2,FALSE))","v":""},{"$f":"COUNTIF(L4:S4,\"X\")","v":0},{"$f":"IF($A4=\"\",\"\",IF(VLOOKUP($A4,Feuillettravail!$A$4:$U$19,20,FALSE)=C$2,\"X\",IF(AND($AG$1=1,VLOOKUP($A4,Feuillettravail!$A$4:$U$19,21,FALSE)=C$2),\"X\",\"\")))","v":""},{"$f":"IF($A4=\"\",\"\",IF(VLOOKUP($A4,Feuillettravail!$A$4:$U$19,20,FALSE)=D$2,\"X\",IF(AND($AG$1=1,VLOOKUP($A4,Feuillettravail!$A$4:$U$19,21,FALSE)=D$2),\"X\",\"\")))","v":""},{"$f":"IF($A4=\"\",\"\",IF(VLOOKUP($A4,Feuillettravail!$A$4:$U$19,20,FALSE)=E$2,\"X\",IF(AND($AG$1=1,VLOOKUP($A4,Feuillettravail!$A$4:$U$19,21,FALSE)=E$2),\"X\",\"\")))","v":""},{"$f":"IF($A4=\"\",\"\",IF(VLOOKUP($A4,Feuillettravail!$A$4:$U$19,20,FALSE)=F$2,\"X\",IF(AND($AG$1=1,VLOOKUP($A4,Feuillettravail!$A$4:$U$19,21,FALSE)=F$2),\"X\",\"\")))","v":""},{"$f":"IF($A4=\"\",\"\",IF(VLOOKUP($A4,Feuillettravail!$A$4:$U$19,20,FALSE)=G$2,\"X\",IF(AND($AG$1=1,VLOOKUP($A4,Feuillettravail!$A$4:$U$19,21,FALSE)=G$2),\"X\",\"\")))","v":""},{"$f":"IF($A4=\"\",\"\",IF(VLOOKUP($A4,Feuillettravail!$A$4:$U$19,20,FALSE)=H$2,\"X\",IF(AND($AG$1=1,VLOOKUP($A4,Feuillettravail!$A$4:$U$19,21,FALSE)=H$2),\"X\",\"\")))","v":""},{"$f":"IF($A4=\"\",\"\",IF(VLOOKUP($A4,Feuillettravail!$A$4:$U$19,20,FALSE)=I$2,\"X\",IF(AND($AG$1=1,VLOOKUP($A4,Feuillettravail!$A$4:$U$19,21,FALSE)=I$2),\"X\",\"\")))","v":""},{"$f":"IF($A4=\"\",\"\",IF(VLOOKUP($A4,Feuillettravail!$A$4:$U$19,20,FALSE)=J$2,\"X\",IF(AND($AG$1=1,VLOOKUP($A4,Feuillettravail!$A$4:$U$19,21,FALSE)=J$2),\"X\",\"\")))","v":""},2,{"$f":"IF(AND($A4<>\"\",L$2<>\"\"),IF(C4=\"X\",\"\",\"X\"),\"\")","v":""},{"$f":"IF(AND($A4<>\"\",M$2<>\"\"),IF(D4=\"X\",\"\",\"X\"),\"\")","v":""},{"$f":"IF(AND($A4<>\"\",N$2<>\"\"),IF(E4=\"X\",\"\",\"X\"),\"\")","v":""},{"$f":"IF(AND($A4<>\"\",O$2<>\"\"),IF(F4=\"X\",\"\",\"X\"),\"\")","v":""},{"$f":"IF(AND($A4<>\"\",P$2<>\"\"),IF(G4=\"X\",\"\",\"X\"),\"\")","v":""},{"$f":"IF(AND($A4<>\"\",Q$2<>\"\"),IF(H4=\"X\",\"\",\"X\"),\"\")","v":""},{"$f":"IF(AND($A4<>\"\",R$2<>\"\"),IF(I4=\"X\",\"\",\"X\"),\"\")","v":""},{"$f":"IF(AND($A4<>\"\",S$2<>\"\"),IF(J4=\"X\",\"\",\"X\"),\"\")","v":""}]
[{"$f":"IF(ISERROR(VLOOKUP(K5,Feuillettravail!$AA$4:$AB$19,1,FALSE)),\"\",VLOOKUP(K5,Feuillettravail!$AA$4:$AB$19,2,FALSE))","v":""},0,{"$f":"IF($A5=\"\",\"\",IF(VLOOKUP($A5,Feuillettravail!$A$4:$U$19,20,FALSE)=C$2,\"X\",IF(AND($AG$1=1,VLOOKUP($A5,Feuillettravail!$A$4:$U$19,21,FALSE)=C$2),\"X\",\"\")))","v":""},{"$f":"IF($A5=\"\",\"\",IF(VLOOKUP($A5,Feuillettravail!$A$4:$U$19,20,FALSE)=D$2,\"X\",IF(AND($AG$1=1,VLOOKUP($A5,Feuillettravail!$A$4:$U$19,21,FALSE)=D$2),\"X\",\"\")))","v":""},{"$f":"IF($A5=\"\",\"\",IF(VLOOKUP($A5,Feuillettravail!$A$4:$U$19,20,FALSE)=E$2,\"X\",IF(AND($AG$1=1,VLOOKUP($A5,Feuillettravail!$A$4:$U$19,21,FALSE)=E$2),\"X\",\"\")))","v":""},{"$f":"IF($A5=\"\",\"\",IF(VLOOKUP($A5,Feuillettravail!$A$4:$U$19,20,FALSE)=F$2,\"X\",IF(AND($AG$1=1,VLOOKUP($A5,Feuillettravail!$A$4:$U$19,21,FALSE)=F$2),\"X\",\"\")))","v":""},{"$f":"IF($A5=\"\",\"\",IF(VLOOKUP($A5,Feuillettravail!$A$4:$U$19,20,FALSE)=G$2,\"X\",IF(AND($AG$1=1,VLOOKUP($A5,Feuillettravail!$A$4:$U$19,21,FALSE)=G$2),\"X\",\"\")))","v":""},{"$f":"IF($A5=\"\",\"\",IF(VLOOKUP($A5,Feuillettravail!$A$4:$U$19,20,FALSE)=H$2,\"X\",IF(AND($AG$1=1,VLOOKUP($A5,Feuillettravail!$A$4:$U$19,21,FALSE)=H$2),\"X\",\"\")))","v":""},{"$f":"IF($A5=\"\",\"\",IF(VLOOKUP($A5,Feuillettravail!$A$4:$U$19,20,FALSE)=I$2,\"X\",IF(AND($AG$1=1,VLOOKUP($A5,Feuillettravail!$A$4:$U$19,21,FALSE)=I$2),\"X\",\"\")))","v":""},{"$f":"IF($A5=\"\",\"\",IF(VLOOKUP($A5,Feuillettravail!$A$4:$U$19,20,FALSE)=J$2,\"X\",IF(AND($AG$1=1,VLOOKUP($A5,Feuillettravail!$A$4:$U$19,21,FALSE)=J$2),\"X\",\"\")))","v":""},3,"","","","","","","","",{"$f":"IF(AND(L5=\"X\",L6=\"X\"),\"X\",\"\")","v":""},{"$f":"IF(AND(M5=\"X\",M6=\"X\"),\"X\",\"\")","v":""},"","","","","","",{"$f":"IF(AND($A5<>\"\",$A6<>\"\"),COUNTIF(T5:AA6,\"X\"),\"\")","v":""},{"$f":"IF(AB5=1,IF(T5=\"X\",T$2,IF(U5=\"X\",U$2,IF(V5=\"X\",V$2,IF(W5=\"X\",W$2,IF(X5=\"X\",X$2,IF(Y5=\"X\",Y$2,IF(Z5=\"X\",Z$2,AA$2))))))),\"\")","v":""},null,null,null,null,null,null,null,null,null,{"$f":"COUNTIF(AE5:AL5,\">0\")","v":0}]
[{"$f":"IF(ISERROR(VLOOKUP(K6,Feuillettravail!$AA$4:$AB$19,1,FALSE)),\"\",VLOOKUP(K6,Feuillettravail!$AA$4:$AB$19,2,FALSE))","v":""},0,{"$f":"IF($A6=\"\",\"\",IF(VLOOKUP($A6,Feuillettravail!$A$4:$U$19,20,FALSE)=C$2,\"X\",IF(AND($AG$1=1,VLOOKUP($A6,Feuillettravail!$A$4:$U$19,21,FALSE)=C$2),\"X\",\"\")))","v":""},{"$f":"IF($A6=\"\",\"\",IF(VLOOKUP($A6,Feuillettravail!$A$4:$U$19,20,FALSE)=D$2,\"X\",IF(AND($AG$1=1,VLOOKUP($A6,Feuillettravail!$A$4:$U$19,21,FALSE)=D$2),\"X\",\"\")))","v":""},{"$f":"IF($A6=\"\",\"\",IF(VLOOKUP($A6,Feuillettravail!$A$4:$U$19,20,FALSE)=E$2,\"X\",IF(AND($AG$1=1,VLOOKUP($A6,Feuillettravail!$A$4:$U$19,21,FALSE)=E$2),\"X\",\"\")))","v":""},{"$f":"IF($A6=\"\",\"\",IF(VLOOKUP($A6,Feuillettravail!$A$4:$U$19,20,FALSE)=F$2,\"X\",IF(AND($AG$1=1,VLOOKUP($A6,Feuillettravail!$A$4:$U$19,21,FALSE)=F$2),\"X\",\"\")))","v":""},{"$f":"IF($A6=\"\",\"\",IF(VLOOKUP($A6,Feuillettravail!$A$4:$U$19,20,FALSE)=G$2,\"X\",IF(AND($AG$1=1,VLOOKUP($A6,Feuillettravail!$A$4:$U$19,21,FALSE)=G$2),\"X\",\"\")))","v":""},{"$f":"IF($A6=\"\",\"\",IF(VLOOKUP($A6,Feuillettravail!$A$4:$U$19,20,FALSE)=H$2,\"X\",IF(AND($AG$1=1,VLOOKUP($A6,Feuillettravail!$A$4:$U$19,21,FALSE)=H$2),\"X\",\"\")))","v":""},{"$f":"IF($A6=\"\",\"\",IF(VLOOKUP($A6,Feuillettravail!$A$4:$U$19,20,FALSE)=I$2,\"X\",IF(AND($AG$1=1,VLOOKUP($A6,Feuillettravail!$A$4:$U$19,21,FALSE)=I$2),\"X\",\"\")))","v":""},{"$f":"IF($A6=\"\",\"\",IF(VLOOKUP($A6,Feuillettravail!$A$4:$U$19,20,FALSE)=J$2,\"X\",IF(AND($AG$1=1,VLOOKUP($A6,Feuillettravail!$A$4:$U$19,21,FALSE)=J$2),\"X\",\"\")))","v":""},4,"","","","","","","",""]
[{"$f":"IF(ISERROR(VLOOKUP(K7,Feuillettravail!$AA$4:$AB$19,1,FALSE)),\"\",VLOOKUP(K7,Feuillettravail!$AA$4:$AB$19,2,FALSE))","v":""},0,{"$f":"IF($A7=\"\",\"\",IF(VLOOKUP($A7,Feuillettravail!$A$4:$U$19,20,FALSE)=C$2,\"X\",IF(AND($AG$1=1,VLOOKUP($A7,Feuillettravail!$A$4:$U$19,21,FALSE)=C$2),\"X\",\"\")))","v":""},{"$f":"IF($A7=\"\",\"\",IF(VLOOKUP($A7,Feuillettravail!$A$4:$U$19,20,FALSE)=D$2,\"X\",IF(AND($AG$1=1,VLOOKUP($A7,Feuillettravail!$A$4:$U$19,21,FALSE)=D$2),\"X\",\"\")))","v":""},{"$f":"IF($A7=\"\",\"\",IF(VLOOKUP($A7,Feuillettravail!$A$4:$U$19,20,FALSE)=E$2,\"X\",IF(AND($AG$1=1,VLOOKUP($A7,Feuillettravail!$A$4:$U$19,21,FALSE)=E$2),\"X\",\"\")))","v":""},{"$f":"IF($A7=\"\",\"\",IF(VLOOKUP($A7,Feuillettravail!$A$4:$U$19,20,FALSE)=F$2,\"X\",IF(AND($AG$1=1,VLOOKUP($A7,Feuillettravail!$A$4:$U$19,21,FALSE)=F$2),\"X\",\"\")))","v":""},{"$f":"IF($A7=\"\",\"\",IF(VLOOKUP($A7,Feuillettravail!$A$4:$U$19,20,FALSE)=G$2,\"X\",IF(AND($AG$1=1,VLOOKUP($A7,Feuillettravail!$A$4:$U$19,21,FALSE)=G$2),\"X\",\"\")))","v":""},{"$f":"IF($A7=\"\",\"\",IF(VLOOKUP($A7,Feuillettravail!$A$4:$U$19,20,FALSE)=H$2,\"X\",IF(AND($AG$1=1,VLOOKUP($A7,Feuillettravail!$A$4:$U$19,21,FALSE)=H$2),\"X\",\"\")))","v":""},{"$f":"IF($A7=\"\",\"\",IF(VLOOKUP($A7,Feuillettravail!$A$4:$U$19,20,FALSE)=I$2,\"X\",IF(AND($AG$1=1,VLOOKUP($A7,Feuillettravail!$A$4:$U$19,21,FALSE)=I$2),\"X\",\"\")))","v":""},{"$f":"IF($A7=\"\",\"\",IF(VLOOKUP($A7,Feuillettravail!$A$4:$U$19,20,FALSE)=J$2,\"X\",IF(AND($AG$1=1,VLOOKUP($A7,Feuillettravail!$A$4:$U$19,21,FALSE)=J$2),\"X\",\"\")))","v":""},5,"","","","","","","","",{"$f":"IF(AND(L7=\"X\",L8=\"X\"),\"X\",\"\")","v":""},{"$f":"IF(AND(M7=\"X\",M8=\"X\"),\"X\",\"\")","v":""},"","","","","","",{"$f":"IF(AND($A7<>\"\",$A8<>\"\"),COUNTIF(T7:AA8,\"X\"),\"\")","v":""},{"$f":"IF(AB7=1,IF(T7=\"X\",T$2,IF(U7=\"X\",U$2,IF(V7=\"X\",V$2,IF(W7=\"X\",W$2,IF(X7=\"X\",X$2,IF(Y7=\"X\",Y$2,IF(Z7=\"X\",Z$2,AA$2))))))),\"\")","v":""},null,null,null,null,null,null,null,null,null,{"$f":"COUNTIF(AE7:AL7,\">0\")","v":0}]
[{"$f":"IF(ISERROR(VLOOKUP(K8,Feuillettravail!$AA$4:$AB$19,1,FALSE)),\"\",VLOOKUP(K8,Feuillettravail!$AA$4:$AB$19,2,FALSE))","v":""},0,{"$f":"IF($A8=\"\",\"\",IF(VLOOKUP($A8,Feuillettravail!$A$4:$U$19,20,FALSE)=C$2,\"X\",IF(AND($AG$1=1,VLOOKUP($A8,Feuillettravail!$A$4:$U$19,21,FALSE)=C$2),\"X\",\"\")))","v":""},{"$f":"IF($A8=\"\",\"\",IF(VLOOKUP($A8,Feuillettravail!$A$4:$U$19,20,FALSE)=D$2,\"X\",IF(AND($AG$1=1,VLOOKUP($A8,Feuillettravail!$A$4:$U$19,21,FALSE)=D$2),\"X\",\"\")))","v":""},{"$f":"IF($A8=\"\",\"\",IF(VLOOKUP($A8,Feuillettravail!$A$4:$U$19,20,FALSE)=E$2,\"X\",IF(AND($AG$1=1,VLOOKUP($A8,Feuillettravail!$A$4:$U$19,21,FALSE)=E$2),\"X\",\"\")))","v":""},{"$f":"IF($A8=\"\",\"\",IF(VLOOKUP($A8,Feuillettravail!$A$4:$U$19,20,FALSE)=F$2,\"X\",IF(AND($AG$1=1,VLOOKUP($A8,Feuillettravail!$A$4:$U$19,21,FALSE)=F$2),\"X\",\"\")))","v":""},{"$f":"IF($A8=\"\",\"\",IF(VLOOKUP($A8,Feuillettravail!$A$4:$U$19,20,FALSE)=G$2,\"X\",IF(AND($AG$1=1,VLOOKUP($A8,Feuillettravail!$A$4:$U$19,21,FALSE)=G$2),\"X\",\"\")))","v":""},{"$f":"IF($A8=\"\",\"\",IF(VLOOKUP($A8,Feuillettravail!$A$4:$U$19,20,FALSE)=H$2,\"X\",IF(AND($AG$1=1,VLOOKUP($A8,Feuillettravail!$A$4:$U$19,21,FALSE)=H$2),\"X\",\"\")))","v":""},{"$f":"IF($A8=\"\",\"\",IF(VLOOKUP($A8,Feuillettravail!$A$4:$U$19,20,FALSE)=I$2,\"X\",IF(AND($AG$1=1,VLOOKUP($A8,Feuillettravail!$A$4:$U$19,21,FALSE)=I$2),\"X\",\"\")))","v":""},{"$f":"IF($A8=\"\",\"\",IF(VLOOKUP($A8,Feuillettravail!$A$4:$U$19,20,FALSE)=J$2,\"X\",IF(AND($AG$1=1,VLOOKUP($A8,Feuillettravail!$A$4:$U$19,21,FALSE)=J$2),\"X\",\"\")))","v":""},6,"","","","","","","",""]
[{"$f":"IF(ISERROR(VLOOKUP(K9,Feuillettravail!$AA$4:$AB$19,1,FALSE)),\"\",VLOOKUP(K9,Feuillettravail!$AA$4:$AB$19,2,FALSE))","v":""},0,{"$f":"IF($A9=\"\",\"\",IF(VLOOKUP($A9,Feuillettravail!$A$4:$U$19,20,FALSE)=C$2,\"X\",IF(AND($AG$1=1,VLOOKUP($A9,Feuillettravail!$A$4:$U$19,21,FALSE)=C$2),\"X\",\"\")))","v":""},{"$f":"IF($A9=\"\",\"\",IF(VLOOKUP($A9,Feuillettravail!$A$4:$U$19,20,FALSE)=D$2,\"X\",IF(AND($AG$1=1,VLOOKUP($A9,Feuillettravail!$A$4:$U$19,21,FALSE)=D$2),\"X\",\"\")))","v":""},{"$f":"IF($A9=\"\",\"\",IF(VLOOKUP($A9,Feuillettravail!$A$4:$U$19,20,FALSE)=E$2,\"X\",IF(AND($AG$1=1,VLOOKUP($A9,Feuillettravail!$A$4:$U$19,21,FALSE)=E$2),\"X\",\"\")))","v":""},{"$f":"IF($A9=\"\",\"\",IF(VLOOKUP($A9,Feuillettravail!$A$4:$U$19,20,FALSE)=F$2,\"X\",IF(AND($AG$1=1,VLOOKUP($A9,Feuillettravail!$A$4:$U$19,21,FALSE)=F$2),\"X\",\"\")))","v":""},{"$f":"IF($A9=\"\",\"\",IF(VLOOKUP($A9,Feuillettravail!$A$4:$U$19,20,FALSE)=G$2,\"X\",IF(AND($AG$1=1,VLOOKUP($A9,Feuillettravail!$A$4:$U$19,21,FALSE)=G$2),\"X\",\"\")))","v":""},{"$f":"IF($A9=\"\",\"\",IF(VLOOKUP($A9,Feuillettravail!$A$4:$U$19,20,FALSE)=H$2,\"X\",IF(AND($AG$1=1,VLOOKUP($A9,Feuillettravail!$A$4:$U$19,21,FALSE)=H$2),\"X\",\"\")))","v":""},{"$f":"IF($A9=\"\",\"\",IF(VLOOKUP($A9,Feuillettravail!$A$4:$U$19,20,FALSE)=I$2,\"X\",IF(AND($AG$1=1,VLOOKUP($A9,Feuillettravail!$A$4:$U$19,21,FALSE)=I$2),\"X\",\"\")))","v":""},{"$f":"IF($A9=\"\",\"\",IF(VLOOKUP($A9,Feuillettravail!$A$4:$U$19,20,FALSE)=J$2,\"X\",IF(AND($AG$1=1,VLOOKUP($A9,Feuillettravail!$A$4:$U$19,21,FALSE)=J$2),\"X\",\"\")))","v":""},7,"","","","","","","","",{"$f":"IF(AND(L9=\"X\",L10=\"X\"),\"X\",\"\")","v":""},{"$f":"IF(AND(M9=\"X\",M10=\"X\"),\"X\",\"\")","v":""},"","","","","","",{"$f":"IF(AND($A9<>\"\",$A10<>\"\"),COUNTIF(T9:AA10,\"X\"),\"\")","v":""},{"$f":"IF(AB9=1,IF(T9=\"X\",T$2,IF(U9=\"X\",U$2,IF(V9=\"X\",V$2,IF(W9=\"X\",W$2,IF(X9=\"X\",X$2,IF(Y9=\"X\",Y$2,IF(Z9=\"X\",Z$2,AA$2))))))),\"\")","v":""},null,null,null,null,null,null,null,null,null,{"$f":"COUNTIF(AE9:AL9,\">0\")","v":0}]
[{"$f":"IF(ISERROR(VLOOKUP(K10,Feuillettravail!$AA$4:$AB$19,1,FALSE)),\"\",VLOOKUP(K10,Feuillettravail!$AA$4:$AB$19,2,FALSE))","v":""},0,{"$f":"IF($A10=\"\",\"\",IF(VLOOKUP($A10,Feuillettravail!$A$4:$U$19,20,FALSE)=C$2,\"X\",IF(AND($AG$1=1,VLOOKUP($A10,Feuillettravail!$A$4:$U$19,21,FALSE)=C$2),\"X\",\"\")))","v":""},{"$f":"IF($A10=\"\",\"\",IF(VLOOKUP($A10,Feuillettravail!$A$4:$U$19,20,FALSE)=D$2,\"X\",IF(AND($AG$1=1,VLOOKUP($A10,Feuillettravail!$A$4:$U$19,21,FALSE)=D$2),\"X\",\"\")))","v":""},{"$f":"IF($A10=\"\",\"\",IF(VLOOKUP($A10,Feuillettravail!$A$4:$U$19,20,FALSE)=E$2,\"X\",IF(AND($AG$1=1,VLOOKUP($A10,Feuillettravail!$A$4:$U$19,21,FALSE)=E$2),\"X\",\"\")))","v":""},{"$f":"IF($A10=\"\",\"\",IF(VLOOKUP($A10,Feuillettravail!$A$4:$U$19,20,FALSE)=F$2,\"X\",IF(AND($AG$1=1,VLOOKUP($A10,Feuillettravail!$A$4:$U$19,21,FALSE)=F$2),\"X\",\"\")))","v":""},{"$f":"IF($A10=\"\",\"\",IF(VLOOKUP($A10,Feuillettravail!$A$4:$U$19,20,FALSE)=G$2,\"X\",IF(AND($AG$1=1,VLOOKUP($A10,Feuillettravail!$A$4:$U$19,21,FALSE)=G$2),\"X\",\"\")))","v":""},{"$f":"IF($A10=\"\",\"\",IF(VLOOKUP($A10,Feuillettravail!$A$4:$U$19,20,FALSE)=H$2,\"X\",IF(AND($AG$1=1,VLOOKUP($A10,Feuillettravail!$A$4:$U$19,21,FALSE)=H$2),\"X\",\"\")))","v":""},{"$f":"IF($A10=\"\",\"\",IF(VLOOKUP($A10,Feuillettravail!$A$4:$U$19,20,FALSE)=I$2,\"X\",IF(AND($AG$1=1,VLOOKUP($A10,Feuillettravail!$A$4:$U$19,21,FALSE)=I$2),\"X\",\"\")))","v":""},{"$f":"IF($A10=\"\",\"\",IF(VLOOKUP($A10,Feuillettravail!$A$4:$U$19,20,FALSE)=J$2,\"X\",IF(AND($AG$1=1,VLOOKUP($A10,Feuillettravail!$A$4:$U$19,21,FALSE)=J$2),\"X\",\"\")))","v":""},8,"","","","","","","",""]
[{"$f":"IF(ISERROR(VLOOKUP(K11,Feuillettravail!$AA$4:$AB$19,1,FALSE)),\"\",VLOOKUP(K11,Feuillettravail!$AA$4:$AB$19,2,FALSE))","v":""},0,{"$f":"IF($A11=\"\",\"\",IF(VLOOKUP($A11,Feuillettravail!$A$4:$U$19,20,FALSE)=C$2,\"X\",IF(AND($AG$1=1,VLOOKUP($A11,Feuillettravail!$A$4:$U$19,21,FALSE)=C$2),\"X\",\"\")))","v":""},{"$f":"IF($A11=\"\",\"\",IF(VLOOKUP($A11,Feuillettravail!$A$4:$U$19,20,FALSE)=D$2,\"X\",IF(AND($AG$1=1,VLOOKUP($A11,Feuillettravail!$A$4:$U$19,21,FALSE)=D$2),\"X\",\"\")))","v":""},{"$f":"IF($A11=\"\",\"\",IF(VLOOKUP($A11,Feuillettravail!$A$4:$U$19,20,FALSE)=E$2,\"X\",IF(AND($AG$1=1,VLOOKUP($A11,Feuillettravail!$A$4:$U$19,21,FALSE)=E$2),\"X\",\"\")))","v":""},{"$f":"IF($A11=\"\",\"\",IF(VLOOKUP($A11,Feuillettravail!$A$4:$U$19,20,FALSE)=F$2,\"X\",IF(AND($AG$1=1,VLOOKUP($A11,Feuillettravail!$A$4:$U$19,21,FALSE)=F$2),\"X\",\"\")))","v":""},{"$f":"IF($A11=\"\",\"\",IF(VLOOKUP($A11,Feuillettravail!$A$4:$U$19,20,FALSE)=G$2,\"X\",IF(AND($AG$1=1,VLOOKUP($A11,Feuillettravail!$A$4:$U$19,21,FALSE)=G$2),\"X\",\"\")))","v":""},{"$f":"IF($A11=\"\",\"\",IF(VLOOKUP($A11,Feuillettravail!$A$4:$U$19,20,FALSE)=H$2,\"X\",IF(AND($AG$1=1,VLOOKUP($A11,Feuillettravail!$A$4:$U$19,21,FALSE)=H$2),\"X\",\"\")))","v":""},{"$f":"IF($A11=\"\",\"\",IF(VLOOKUP($A11,Feuillettravail!$A$4:$U$19,20,FALSE)=I$2,\"X\",IF(AND($AG$1=1,VLOOKUP($A11,Feuillettravail!$A$4:$U$19,21,FALSE)=I$2),\"X\",\"\")))","v":""},{"$f":"IF($A11=\"\",\"\",IF(VLOOKUP($A11,Feuillettravail!$A$4:$U$19,20,FALSE)=J$2,\"X\",IF(AND($AG$1=1,VLOOKUP($A11,Feuillettravail!$A$4:$U$19,21,FALSE)=J$2),\"X\",\"\")))","v":""},9,"","","","","","","","",{"$f":"IF(AND(L11=\"X\",L12=\"X\"),\"X\",\"\")","v":""},{"$f":"IF(AND(M11=\"X\",M12=\"X\"),\"X\",\"\")","v":""},"","","","","","",{"$f":"IF(AND($A11<>\"\",$A12<>\"\"),COUNTIF(T11:AA12,\"X\"),\"\")","v":""},{"$f":"IF(AB11=1,IF(T11=\"X\",T$2,IF(U11=\"X\",U$2,IF(V11=\"X\",V$2,IF(W11=\"X\",W$2,IF(X11=\"X\",X$2,IF(Y11=\"X\",Y$2,IF(Z11=\"X\",Z$2,AA$2))))))),\"\")","v":""},null,null,null,null,null,null,null,null,null,{"$f":"COUNTIF(AE11:AL11,\">0\")","v":0}]
[{"$f":"IF(ISERROR(VLOOKUP(K12,Feuillettravail!$AA$4:$AB$19,1,FALSE)),\"\",VLOOKUP(K12,Feuillettravail!$AA$4:$AB$19,2,FALSE))","v":""},0,{"$f":"IF($A12=\"\",\"\",IF(VLOOKUP($A12,Feuillettravail!$A$4:$U$19,20,FALSE)=C$2,\"X\",IF(AND($AG$1=1,VLOOKUP($A12,Feuillettravail!$A$4:$U$19,21,FALSE)=C$2),\"X\",\"\")))","v":""},{"$f":"IF($A12=\"\",\"\",IF(VLOOKUP($A12,Feuillettravail!$A$4:$U$19,20,FALSE)=D$2,\"X\",IF(AND($AG$1=1,VLOOKUP($A12,Feuillettravail!$A$4:$U$19,21,FALSE)=D$2),\"X\",\"\")))","v":""},{"$f":"IF($A12=\"\",\"\",IF(VLOOKUP($A12,Feuillettravail!$A$4:$U$19,20,FALSE)=E$2,\"X\",IF(AND($AG$1=1,VLOOKUP($A12,Feuillettravail!$A$4:$U$19,21,FALSE)=E$2),\"X\",\"\")))","v":""},{"$f":"IF($A12=\"\",\"\",IF(VLOOKUP($A12,Feuillettravail!$A$4:$U$19,20,FALSE)=F$2,\"X\",IF(AND($AG$1=1,VLOOKUP($A12,Feuillettravail!$A$4:$U$19,21,FALSE)=F$2),\"X\",\"\")))","v":""},{"$f":"IF($A12=\"\",\"\",IF(VLOOKUP($A12,Feuillettravail!$A$4:$U$19,20,FALSE)=G$2,\"X\",IF(AND($AG$1=1,VLOOKUP($A12,Feuillettravail!$A$4:$U$19,21,FALSE)=G$2),\"X\",\"\")))","v":""},{"$f":"IF($A12=\"\",\"\",IF(VLOOKUP($A12,Feuillettravail!$A$4:$U$19,20,FALSE)=H$2,\"X\",IF(AND($AG$1=1,VLOOKUP($A12,Feuillettravail!$A$4:$U$19,21,FALSE)=H$2),\"X\",\"\")))","v":""},{"$f":"IF($A12=\"\",\"\",IF(VLOOKUP($A12,Feuillettravail!$A$4:$U$19,20,FALSE)=I$2,\"X\",IF(AND($AG$1=1,VLOOKUP($A12,Feuillettravail!$A$4:$U$19,21,FALSE)=I$2),\"X\",\"\")))","v":""},{"$f":"IF($A12=\"\",\"\",IF(VLOOKUP($A12,Feuillettravail!$A$4:$U$19,20,FALSE)=J$2,\"X\",IF(AND($AG$1=1,VLOOKUP($A12,Feuillettravail!$A$4:$U$19,21,FALSE)=J$2),\"X\",\"\")))","v":""},10,"","","","","","","",""]
[{"$f":"IF(ISERROR(VLOOKUP(K13,Feuillettravail!$AA$4:$AB$19,1,FALSE)),\"\",VLOOKUP(K13,Feuillettravail!$AA$4:$AB$19,2,FALSE))","v":""},0,{"$f":"IF($A13=\"\",\"\",IF(VLOOKUP($A13,Feuillettravail!$A$4:$U$19,20,FALSE)=C$2,\"X\",IF(AND($AG$1=1,VLOOKUP($A13,Feuillettravail!$A$4:$U$19,21,FALSE)=C$2),\"X\",\"\")))","v":""},{"$f":"IF($A13=\"\",\"\",IF(VLOOKUP($A13,Feuillettravail!$A$4:$U$19,20,FALSE)=D$2,\"X\",IF(AND($AG$1=1,VLOOKUP($A13,Feuillettravail!$A$4:$U$19,21,FALSE)=D$2),\"X\",\"\")))","v":""},{"$f":"IF($A13=\"\",\"\",IF(VLOOKUP($A13,Feuillettravail!$A$4:$U$19,20,FALSE)=E$2,\"X\",IF(AND($AG$1=1,VLOOKUP($A13,Feuillettravail!$A$4:$U$19,21,FALSE)=E$2),\"X\",\"\")))","v":""},{"$f":"IF($A13=\"\",\"\",IF(VLOOKUP($A13,Feuillettravail!$A$4:$U$19,20,FALSE)=F$2,\"X\",IF(AND($AG$1=1,VLOOKUP($A13,Feuillettravail!$A$4:$U$19,21,FALSE)=F$2),\"X\",\"\")))","v":""},{"$f":"IF($A13=\"\",\"\",IF(VLOOKUP($A13,Feuillettravail!$A$4:$U$19,20,FALSE)=G$2,\"X\",IF(AND($AG$1=1,VLOOKUP($A13,Feuillettravail!$A$4:$U$19,21,FALSE)=G$2),\"X\",\"\")))","v":""},{"$f":"IF($A13=\"\",\"\",IF(VLOOKUP($A13,Feuillettravail!$A$4:$U$19,20,FALSE)=H$2,\"X\",IF(AND($AG$1=1,VLOOKUP($A13,Feuillettravail!$A$4:$U$19,21,FALSE)=H$2),\"X\",\"\")))","v":""},{"$f":"IF($A13=\"\",\"\",IF(VLOOKUP($A13,Feuillettravail!$A$4:$U$19,20,FALSE)=I$2,\"X\",IF(AND($AG$1=1,VLOOKUP($A13,Feuillettravail!$A$4:$U$19,21,FALSE)=I$2),\"X\",\"\")))","v":""},{"$f":"IF($A13=\"\",\"\",IF(VLOOKUP($A13,Feuillettravail!$A$4:$U$19,20,FALSE)=J$2,\"X\",IF(AND($AG$1=1,VLOOKUP($A13,Feuillettravail!$A$4:$U$19,21,FALSE)=J$2),\"X\",\"\")))","v":""},11,"","","","","","","","",{"$f":"IF(AND(L13=\"X\",L14=\"X\"),\"X\",\"\")","v":""},{"$f":"IF(AND(M13=\"X\",M14=\"X\"),\"X\",\"\")","v":""},"","","","","","",{"$f":"IF(AND($A13<>\"\",$A14<>\"\"),COUNTIF(T13:AA14,\"X\"),\"\")","v":""},{"$f":"IF(AB13=1,IF(T13=\"X\",T$2,IF(U13=\"X\",U$2,IF(V13=\"X\",V$2,IF(W13=\"X\",W$2,IF(X13=\"X\",X$2,IF(Y13=\"X\",Y$2,IF(Z13=\"X\",Z$2,AA$2))))))),\"\")","v":""},null,null,null,null,null,null,null,null,null,{"$f":"COUNTIF(AE13:AL13,\">0\")","v":0}]
[{"$f":"IF(ISERROR(VLOOKUP(K14,Feuillettravail!$AA$4:$AB$19,1,FALSE)),\"\",VLOOKUP(K14,Feuillettravail!$AA$4:$AB$19,2,FALSE))","v":""},0,{"$f":"IF($A14=\"\",\"\",IF(VLOOKUP($A14,Feuillettravail!$A$4:$U$19,20,FALSE)=C$2,\"X\",IF(AND($AG$1=1,VLOOKUP($A14,Feuillettravail!$A$4:$U$19,21,FALSE)=C$2),\"X\",\"\")))","v":""},{"$f":"IF($A14=\"\",\"\",IF(VLOOKUP($A14,Feuillettravail!$A$4:$U$19,20,FALSE)=D$2,\"X\",IF(AND($AG$1=1,VLOOKUP($A14,Feuillettravail!$A$4:$U$19,21,FALSE)=D$2),\"X\",\"\")))","v":""},{"$f":"IF($A14=\"\",\"\",IF(VLOOKUP($A14,Feuillettravail!$A$4:$U$19,20,FALSE)=E$2,\"X\",IF(AND($AG$1=1,VLOOKUP($A14,Feuillettravail!$A$4:$U$19,21,FALSE)=E$2),\"X\",\"\")))","v":""},{"$f":"IF($A14=\"\",\"\",IF(VLOOKUP($A14,Feuillettravail!$A$4:$U$19,20,FALSE)=F$2,\"X\",IF(AND($AG$1=1,VLOOKUP($A14,Feuillettravail!$A$4:$U$19,21,FALSE)=F$2),\"X\",\"\")))","v":""},{"$f":"IF($A14=\"\",\"\",IF(VLOOKUP($A14,Feuillettravail!$A$4:$U$19,20,FALSE)=G$2,\"X\",IF(AND($AG$1=1,VLOOKUP($A14,Feuillettravail!$A$4:$U$19,21,FALSE)=G$2),\"X\",\"\")))","v":""},{"$f":"IF($A14=\"\",\"\",IF(VLOOKUP($A14,Feuillettravail!$A$4:$U$19,20,FALSE)=H$2,\"X\",IF(AND($AG$1=1,VLOOKUP($A14,Feuillettravail!$A$4:$U$19,21,FALSE)=H$2),\"X\",\"\")))","v":""},{"$f":"IF($A14=\"\",\"\",IF(VLOOKUP($A14,Feuillettravail!$A$4:$U$19,20,FALSE)=I$2,\"X\",IF(AND($AG$1=1,VLOOKUP($A14,Feuillettravail!$A$4:$U$19,21,FALSE)=I$2),\"X\",\"\")))","v":""},{"$f":"IF($A14=\"\",\"\",IF(VLOOKUP($A14,Feuillettravail!$A$4:$U$19,20,FALSE)=J$2,\"X\",IF(AND($AG$1=1,VLOOKUP($A14,Feuillettravail!$A$4:$U$19,21,FALSE)=J$2),\"X\",\"\")))","v":""},12,"","","","","","","",""]
[{"$f":"IF(ISERROR(VLOOKUP(K15,Feuillettravail!$AA$4:$AB$19,1,FALSE)),\"\",VLOOKUP(K15,Feuillettravail!$AA$4:$AB$19,2,FALSE))","v":""},0,{"$f":"IF($A15=\"\",\"\",IF(VLOOKUP($A15,Feuillettravail!$A$4:$U$19,20,FALSE)=C$2,\"X\",IF(AND($AG$1=1,VLOOKUP($A15,Feuillettravail!$A$4:$U$19,21,FALSE)=C$2),\"X\",\"\")))","v":""},{"$f":"IF($A15=\"\",\"\",IF(VLOOKUP($A15,Feuillettravail!$A$4:$U$19,20,FALSE)=D$2,\"X\",IF(AND($AG$1=1,VLOOKUP($A15,Feuillettravail!$A$4:$U$19,21,FALSE)=D$2),\"X\",\"\")))","v":""},{"$f":"IF($A15=\"\",\"\",IF(VLOOKUP($A15,Feuillettravail!$A$4:$U$19,20,FALSE)=E$2,\"X\",IF(AND($AG$1=1,VLOOKUP($A15,Feuillettravail!$A$4:$U$19,21,FALSE)=E$2),\"X\",\"\")))","v":""},{"$f":"IF($A15=\"\",\"\",IF(VLOOKUP($A15,Feuillettravail!$A$4:$U$19,20,FALSE)=F$2,\"X\",IF(AND($AG$1=1,VLOOKUP($A15,Feuillettravail!$A$4:$U$19,21,FALSE)=F$2),\"X\",\"\")))","v":""},{"$f":"IF($A15=\"\",\"\",IF(VLOOKUP($A15,Feuillettravail!$A$4:$U$19,20,FALSE)=G$2,\"X\",IF(AND($AG$1=1,VLOOKUP($A15,Feuillettravail!$A$4:$U$19,21,FALSE)=G$2),\"X\",\"\")))","v":""},{"$f":"IF($A15=\"\",\"\",IF(VLOOKUP($A15,Feuillettravail!$A$4:$U$19,20,FALSE)=H$2,\"X\",IF(AND($AG$1=1,VLOOKUP($A15,Feuillettravail!$A$4:$U$19,21,FALSE)=H$2),\"X\",\"\")))","v":""},{"$f":"IF($A15=\"\",\"\",IF(VLOOKUP($A15,Feuillettravail!$A$4:$U$19,20,FALSE)=I$2,\"X\",IF(AND($AG$1=1,VLOOKUP($A15,Feuillettravail!$A$4:$U$19,21,FALSE)=I$2),\"X\",\"\")))","v":""},{"$f":"IF($A15=\"\",\"\",IF(VLOOKUP($A15,Feuillettravail!$A$4:$U$19,20,FALSE)=J$2,\"X\",IF(AND($AG$1=1,VLOOKUP($A15,Feuillettravail!$A$4:$U$19,21,FALSE)=J$2),\"X\",\"\")))","v":""},13,"","","","","","","","",{"$f":"IF(AND(L15=\"X\",L16=\"X\"),\"X\",\"\")","v":""},{"$f":"IF(AND(M15=\"X\",M16=\"X\"),\"X\",\"\")","v":""},"","","","","","",{"$f":"IF(AND($A15<>\"\",$A16<>\"\"),COUNTIF(T15:AA16,\"X\"),\"\")","v":""},{"$f":"IF(AB15=1,IF(T15=\"X\",T$2,IF(U15=\"X\",U$2,IF(V15=\"X\",V$2,IF(W15=\"X\",W$2,IF(X15=\"X\",X$2,IF(Y15=\"X\",Y$2,IF(Z15=\"X\",Z$2,AA$2))))))),\"\")","v":""},null,null,null,null,null,null,null,null,null,{"$f":"COUNTIF(AE15:AL15,\">0\")","v":0}]
[{"$f":"IF(ISERROR(VLOOKUP(K16,Feuillettravail!$AA$4:$AB$19,1,FALSE)),\"\",VLOOKUP(K16,Feuillettravail!$AA$4:$AB$19,2,FALSE))","v":""},0,{"$f":"IF($A16=\"\",\"\",IF(VLOOKUP($A16,Feuillettravail!$A$4:$U$19,20,FALSE)=C$2,\"X\",IF(AND($AG$1=1,VLOOKUP($A16,Feuillettravail!$A$4:$U$19,21,FALSE)=C$2),\"X\",\"\")))","v":""},{"$f":"IF($A16=\"\",\"\",IF(VLOOKUP($A16,Feuillettravail!$A$4:$U$19,20,FALSE)=D$2,\"X\",IF(AND($AG$1=1,VLOOKUP($A16,Feuillettravail!$A$4:$U$19,21,FALSE)=D$2),\"X\",\"\")))","v":""},{"$f":"IF($A16=\"\",\"\",IF(VLOOKUP($A16,Feuillettravail!$A$4:$U$19,20,FALSE)=E$2,\"X\",IF(AND($AG$1=1,VLOOKUP($A16,Feuillettravail!$A$4:$U$19,21,FALSE)=E$2),\"X\",\"\")))","v":""},{"$f":"IF($A16=\"\",\"\",IF(VLOOKUP($A16,Feuillettravail!$A$4:$U$19,20,FALSE)=F$2,\"X\",IF(AND($AG$1=1,VLOOKUP($A16,Feuillettravail!$A$4:$U$19,21,FALSE)=F$2),\"X\",\"\")))","v":""},{"$f":"IF($A16=\"\",\"\",IF(VLOOKUP($A16,Feuillettravail!$A$4:$U$19,20,FALSE)=G$2,\"X\",IF(AND($AG$1=1,VLOOKUP($A16,Feuillettravail!$A$4:$U$19,21,FALSE)=G$2),\"X\",\"\")))","v":""},{"$f":"IF($A16=\"\",\"\",IF(VLOOKUP($A16,Feuillettravail!$A$4:$U$19,20,FALSE)=H$2,\"X\",IF(AND($AG$1=1,VLOOKUP($A16,Feuillettravail!$A$4:$U$19,21,FALSE)=H$2),\"X\",\"\")))","v":""},{"$f":"IF($A16=\"\",\"\",IF(VLOOKUP($A16,Feuillettravail!$A$4:$U$19,20,FALSE)=I$2,\"X\",IF(AND($AG$1=1,VLOOKUP($A16,Feuillettravail!$A$4:$U$19,21,FALSE)=I$2),\"X\",\"\")))","v":""},{"$f":"IF($A16=\"\",\"\",IF(VLOOKUP($A16,Feuillettravail!$A$4:$U$19,20,FALSE)=J$2,\"X\",IF(AND($AG$1=1,VLOOKUP($A16,Feuillettravail!$A$4:$U$19,21,FALSE)=J$2),\"X\",\"\")))","v":""},14,"","","","","","","",""]
[{"$f":"IF(ISERROR(VLOOKUP(K17,Feuillettravail!$AA$4:$AB$19,1,FALSE)),\"\",VLOOKUP(K17,Feuillettravail!$AA$4:$AB$19,2,FALSE))","v":""},0,{"$f":"IF($A17=\"\",\"\",IF(VLOOKUP($A17,Feuillettravail!$A$4:$U$19,20,FALSE)=C$2,\"X\",IF(AND($AG$1=1,VLOOKUP($A17,Feuillettravail!$A$4:$U$19,21,FALSE)=C$2),\"X\",\"\")))","v":""},{"$f":"IF($A17=\"\",\"\",IF(VLOOKUP($A17,Feuillettravail!$A$4:$U$19,20,FALSE)=D$2,\"X\",IF(AND($AG$1=1,VLOOKUP($A17,Feuillettravail!$A$4:$U$19,21,FALSE)=D$2),\"X\",\"\")))","v":""},{"$f":"IF($A17=\"\",\"\",IF(VLOOKUP($A17,Feuillettravail!$A$4:$U$19,20,FALSE)=E$2,\"X\",IF(AND($AG$1=1,VLOOKUP($A17,Feuillettravail!$A$4:$U$19,21,FALSE)=E$2),\"X\",\"\")))","v":""},{"$f":"IF($A17=\"\",\"\",IF(VLOOKUP($A17,Feuillettravail!$A$4:$U$19,20,FALSE)=F$2,\"X\",IF(AND($AG$1=1,VLOOKUP($A17,Feuillettravail!$A$4:$U$19,21,FALSE)=F$2),\"X\",\"\")))","v":""},{"$f":"IF($A17=\"\",\"\",IF(VLOOKUP($A17,Feuillettravail!$A$4:$U$19,20,FALSE)=G$2,\"X\",IF(AND($AG$1=1,VLOOKUP($A17,Feuillettravail!$A$4:$U$19,21,FALSE)=G$2),\"X\",\"\")))","v":""},{"$f":"IF($A17=\"\",\"\",IF(VLOOKUP($A17,Feuillettravail!$A$4:$U$19,20,FALSE)=H$2,\"X\",IF(AND($AG$1=1,VLOOKUP($A17,Feuillettravail!$A$4:$U$19,21,FALSE)=H$2),\"X\",\"\")))","v":""},{"$f":"IF($A17=\"\",\"\",IF(VLOOKUP($A17,Feuillettravail!$A$4:$U$19,20,FALSE)=I$2,\"X\",IF(AND($AG$1=1,VLOOKUP($A17,Feuillettravail!$A$4:$U$19,21,FALSE)=I$2),\"X\",\"\")))","v":""},{"$f":"IF($A17=\"\",\"\",IF(VLOOKUP($A17,Feuillettravail!$A$4:$U$19,20,FALSE)=J$2,\"X\",IF(AND($AG$1=1,VLOOKUP($A17,Feuillettravail!$A$4:$U$19,21,FALSE)=J$2),\"X\",\"\")))","v":""},15,"","","","","","","","",{"$f":"IF(AND(L17=\"X\",L18=\"X\"),\"X\",\"\")","v":""},{"$f":"IF(AND(M17=\"X\",M18=\"X\"),\"X\",\"\")","v":""},"","","","","","",{"$f":"IF(AND($A17<>\"\",$A18<>\"\"),COUNTIF(T17:AA18,\"X\"),\"\")","v":""},{"$f":"IF(AB17=1,IF(T17=\"X\",T$2,IF(U17=\"X\",U$2,IF(V17=\"X\",V$2,IF(W17=\"X\",W$2,IF(X17=\"X\",X$2,IF(Y17=\"X\",Y$2,IF(Z17=\"X\",Z$2,AA$2))))))),\"\")","v":""},null,null,null,null,null,null,null,null,null,{"$f":"COUNTIF(AE17:AL17,\">0\")","v":0}]
[{"$f":"IF(ISERROR(VLOOKUP(K18,Feuillettravail!$AA$4:$AB$19,1,FALSE)),\"\",VLOOKUP(K18,Feuillettravail!$AA$4:$AB$19,2,FALSE))","v":""},0,{"$f":"IF($A18=\"\",\"\",IF(VLOOKUP($A18,Feuillettravail!$A$4:$U$19,20,FALSE)=C$2,\"X\",IF(AND($AG$1=1,VLOOKUP($A18,Feuillettravail!$A$4:$U$19,21,FALSE)=C$2),\"X\",\"\")))","v":""},{"$f":"IF($A18=\"\",\"\",IF(VLOOKUP($A18,Feuillettravail!$A$4:$U$19,20,FALSE)=D$2,\"X\",IF(AND($AG$1=1,VLOOKUP($A18,Feuillettravail!$A$4:$U$19,21,FALSE)=D$2),\"X\",\"\")))","v":""},{"$f":"IF($A18=\"\",\"\",IF(VLOOKUP($A18,Feuillettravail!$A$4:$U$19,20,FALSE)=E$2,\"X\",IF(AND($AG$1=1,VLOOKUP($A18,Feuillettravail!$A$4:$U$19,21,FALSE)=E$2),\"X\",\"\")))","v":""},{"$f":"IF($A18=\"\",\"\",IF(VLOOKUP($A18,Feuillettravail!$A$4:$U$19,20,FALSE)=F$2,\"X\",IF(AND($AG$1=1,VLOOKUP($A18,Feuillettravail!$A$4:$U$19,21,FALSE)=F$2),\"X\",\"\")))","v":""},{"$f":"IF($A18=\"\",\"\",IF(VLOOKUP($A18,Feuillettravail!$A$4:$U$19,20,FALSE)=G$2,\"X\",IF(AND($AG$1=1,VLOOKUP($A18,Feuillettravail!$A$4:$U$19,21,FALSE)=G$2),\"X\",\"\")))","v":""},{"$f":"IF($A18=\"\",\"\",IF(VLOOKUP($A18,Feuillettravail!$A$4:$U$19,20,FALSE)=H$2,\"X\",IF(AND($AG$1=1,VLOOKUP($A18,Feuillettravail!$A$4:$U$19,21,FALSE)=H$2),\"X\",\"\")))","v":""},{"$f":"IF($A18=\"\",\"\",IF(VLOOKUP($A18,Feuillettravail!$A$4:$U$19,20,FALSE)=I$2,\"X\",IF(AND($AG$1=1,VLOOKUP($A18,Feuillettravail!$A$4:$U$19,21,FALSE)=I$2),\"X\",\"\")))","v":""},{"$f":"IF($A18=\"\",\"\",IF(VLOOKUP($A18,Feuillettravail!$A$4:$U$19,20,FALSE)=J$2,\"X\",IF(AND($AG$1=1,VLOOKUP($A18,Feuillettravail!$A$4:$U$19,21,FALSE)=J$2),\"X\",\"\")))","v":""},16,"","","","","","","",""]
[null,null,"Jeux déjà attribués à d'autres équipes \npour la 3e partie",null,null,null,null,null,null,null,null,null,null,null,null,null,null,null,null,null,null,null,null,null,null,null,"nb équipes sans jeu possible",{"$f":"COUNTIF(AB3:AB18,0)","v":0}]
[null,null,1,2,3,4,5,6,7,8,null,null,null,null,null,null,null,null,null,null,null,null,null,null,null,null,"nb équipes avec 1 jeu possible",{"$f":"COUNTIF(AB3:AB18,1)","v":0}]
[null,null,{"$f":"IF($AG$1=1,IF(ISERROR(VLOOKUP(C20,Feuillettravail!$V4:$V19,1,FALSE)),\"\",\"X\"),IF(ISERROR(VLOOKUP(C20,Feuillettravail!$U4:$U19,1,FALSE)),\"\",\"X\"))","v":""},{"$f":"IF($AG$1=1,IF(ISERROR(VLOOKUP(D20,Feuillettravail!$V4:$V19,1,FALSE)),\"\",\"X\"),IF(ISERROR(VLOOKUP(D20,Feuillettravail!$U4:$U19,1,FALSE)),\"\",\"X\"))","v":""},{"$f":"IF($AG$1=1,IF(ISERROR(VLOOKUP(E20,Feuillettravail!$V4:$V19,1,FALSE)),\"\",\"X\"),IF(ISERROR(VLOOKUP(E20,Feuillettravail!$U4:$U19,1,FALSE)),\"\",\"X\"))","v":""},{"$f":"IF($AG$1=1,IF(ISERROR(VLOOKUP(F20,Feuillettravail!$V4:$V19,1,FALSE)),\"\",\"X\"),IF(ISERROR(VLOOKUP(F20,Feuillettravail!$U4:$U19,1,FALSE)),\"\",\"X\"))","v":""},{"$f":"IF($AG$1=1,IF(ISERROR(VLOOKUP(G20,Feuillettravail!$V4:$V19,1,FALSE)),\"\",\"X\"),IF(ISERROR(VLOOKUP(G20,Feuillettravail!$U4:$U19,1,FALSE)),\"\",\"X\"))","v":""},{"$f":"IF($AG$1=1,IF(ISERROR(VLOOKUP(H20,Feuillettravail!$V4:$V19,1,FALSE)),\"\",\"X\"),IF(ISERROR(VLOOKUP(H20,Feuillettravail!$U4:$U19,1,FALSE)),\"\",\"X\"))","v":""},{"$f":"IF($AG$1=1,IF(ISERROR(VLOOKUP(I20,Feuillettravail!$V4:$V19,1,FALSE)),\"\",\"X\"),IF(ISERROR(VLOOKUP(I20,Feuillettravail!$U4:$U19,1,FALSE)),\"\",\"X\"))","v":""},{"$f":"IF($AG$1=1,IF(ISERROR(VLOOKUP(J20,Feuillettravail!$V4:$V19,1,FALSE)),\"\",\"X\"),IF(ISERROR(VLOOKUP(J20,Feuillettravail!$U4:$U19,1,FALSE)),\"\",\"X\"))","v":""}]

{"sheet":"Feuil1","index":9,"n_rows":41,"n_cols":6,"rows_kept":41,"cut":false,"hidden":false,"merged":[[1,0,1,1],[1,3,1,4]]}
[{"$f":"\"Tirage partie \" & IF('3ème partie'!C3<>\"\",3, IF('2ème partie'!C3<>\"\",2,IF('1ère partie'!C3<>\"\",1,\"\")))","v":"Tirage partie "}]
["Equipe 1",null,"Jeu","Equipe 2"]
[{"$f":"IF('3ème partie'!$C$3<>\"\",IF('3ème partie'!C3<>\"\",'3ème partie'!C3,\"\"), IF('2ème partie'!$C$3<>\"\",IF('2ème partie'!C3<>\"\",'2ème partie'!C3,\"\"),IF('1ère partie'!$C$3<>\"\",IF('1ère partie'!C3<>\"\",'1ère partie'!C3,\"\"),\"\")))","v":""},{"$f":"IF('3ème partie'!$C$3<>\"\",IF('3ème partie'!C3<>\"\",'3ème partie'!D3,\"\"), IF('2ème partie'!$C$3<>\"\",IF('2ème partie'!C3<>\"\",'2ème partie'!D3,\"\"),IF('1ère partie'!$C$3<>\"\",IF('1ère partie'!C3<>\"\",'1ère partie'!D3,\"\"),\"\")))","v":""},{"$f":"IF(A3<>\"\",ROW()-2,\"\")","v":""},{"$f":"IF('3ème partie'!$G$3<>\"\",IF('3ème partie'!G3<>\"\",'3ème partie'!G3,\"\"), IF('2ème partie'!$G$3<>\"\",IF('2ème partie'!G3<>\"\",'2ème partie'!G3,\"\"),IF('1ère partie'!$G$3<>\"\",IF('1ère partie'!G3<>\"\",'1ère partie'!G3,\"\"),\"\")))","v":""},{"$f":"IF('3ème partie'!$G$3<>\"\",IF('3ème partie'!G3<>\"\",'3ème partie'!H3,\"\"), IF('2ème partie'!$G$3<>\"\",IF('2ème partie'!G3<>\"\",'2ème partie'!H3,\"\"),IF('1ère partie'!$G$3<>\"\",IF('1ère partie'!G3<>\"\",'1ère partie'!H3,\"\"),\"\")))","v":""},{"$f":"IF('3ème partie'!$G$3<>\"\",IF(VLOOKUP(D3,Feuillettravail!B:L,11,FALSE)=2,\"G\",\"\"), IF('2ème partie'!$G$3<>\"\",IF(VLOOKUP(D3,Feuillettravail!B:L,11,FALSE)=1,\"G\",\"\"),\"\"))","v":""}]
[{"$f":"IF('3ème partie'!$C$3<>\"\",IF('3ème partie'!C4<>\"\",'3ème partie'!C4,\"\"), IF('2ème partie'!$C$3<>\"\",IF('2ème partie'!C4<>\"\",'2ème partie'!C4,\"\"),IF('1ère partie'!$C$3<>\"\",IF('1ère partie'!C4<>\"\",'1ère partie'!C4,\"\"),\"\")))","v":""},{"$f":"IF('3ème partie'!$C$3<>\"\",IF('3ème partie'!C4<>\"\",'3ème partie'!D4,\"\"), IF('2ème partie'!$C$3<>\"\",IF('2ème partie'!C4<>\"\",'2ème partie'!D4,\"\"),IF('1ère partie'!$C$3<>\"\",IF('1ère partie'!C4<>\"\",'1ère partie'!D4,\"\"),\"\")))","v":""},{"$f":"IF(A4<>\"\",ROW()-2,\"\")","v":""},{"$f":"IF('3ème partie'!$G$3<>\"\",IF('3ème partie'!G4<>\"\",'3ème partie'!G4,\"\"), IF('2ème partie'!$G$3<>\"\",IF('2ème partie'!G4<>\"\",'2ème partie'!G4,\"\"),IF('1ère partie'!$G$3<>\"\",IF('1ère partie'!G4<>\"\",'1ère partie'!G4,\"\"),\"\")))","v":""},{"$f":"IF('3ème partie'!$G$3<>\"\",IF('3ème partie'!G4<>\"\",'3ème partie'!H4,\"\"), IF('2ème partie'!$G$3<>\"\",IF('2ème partie'!G4<>\"\",'2ème partie'!H4,\"\"),IF('1ère partie'!$G$3<>\"\",IF('1ère partie'!G4<>\"\",'1ère partie'!H4,\"\"),\"\")))","v":""},{"$f":"IF('3ème partie'!$G$3<>\"\",IF(VLOOKUP(D4,Feuillettravail!B:L,11,FALSE)=2,\"G\",\"\"), IF('2ème partie'!$G$3<>\"\",IF(VLOOKUP(D4,Feuillettravail!B:L,11,FALSE)=1,\"G\",\"\"),\"\"))","v":""}]
[{"$f":"IF('3ème partie'!$C$3<>\"\",IF('3ème partie'!C5<>\"\",'3ème partie'!C5,\"\"), IF('2ème partie'!$C$3<>\"\",IF('2ème partie'!C5<>\"\",'2ème partie'!C5,\"\"),IF('1ère partie'!$C$3<>\"\",IF('1ère partie'!C5<>\"\",'1ère partie'!C5,\"\"),\"\")))","v":""},{"$f":"IF('3ème partie'!$C$3<>\"\",IF('3ème partie'!C5<>\"\",'3ème partie'!D5,\"\"), IF('2ème partie'!$C$3<>\"\",IF('2ème partie'!C5<>\"\",'2ème partie'!D5,\"\"),IF('1ère partie'!$C$3<>\"\",IF('1ère partie'!C5<>\"\",'1ère partie'!D5,\"\"),\"\")))","v":""},"",{"$f":"IF('3ème partie'!$G$3<>\"\",IF('3ème partie'!G5<>\"\",'3ème partie'!G5,\"\"), IF('2ème partie'!$G$3<>\"\",IF('2ème partie'!G5<>\"\",'2ème partie'!G5,\"\"),IF('1ère partie'!$G$3<>\"\",IF('1ère partie'!G5<>\"\",'1ère partie'!G5,\"\"),\"\")))","v":""},{"$f":"IF('3ème partie'!$G$3<>\"\",IF('3ème partie'!G5<>\"\",'3ème partie'!H5,\"\"), IF('2ème partie'!$G$3<>\"\",IF('2ème partie'!G5<>\"\",'2ème partie'!H5,\"\"),IF('1ère partie'!$G$3<>\"\",IF('1ère partie'!G5<>\"\",'1ère partie'!H5,\"\"),\"\")))","v":""},{"$f":"IF('3ème partie'!$G$3<>\"\",IF(VLOOKUP(D5,Feuillettravail!B:L,11,FALSE)=2,\"G\",\"\"), IF('2ème partie'!$G$3<>\"\",IF(VLOOKUP(D5,Feuillettravail!B:L,11,FALSE)=1,\"G\",\"\"),\"\"))","v":""}]
[{"$f":"IF('3ème partie'!$C$3<>\"\",IF('3ème partie'!C6<>\"\",'3ème partie'!C6,\"\"), IF('2ème partie'!$C$3<>\"\",IF('2ème partie'!C6<>\"\",'2ème partie'!C6,\"\"),IF('1ère partie'!$C$3<>\"\",IF('1ère partie'!C6<>\"\",'1ère partie'!C6,\"\"),\"\")))","v":""},{"$f":"IF('3ème partie'!$C$3<>\"\",IF('3ème partie'!C6<>\"\",'3ème partie'!D6,\"\"), IF('2ème partie'!$C$3<>\"\",IF('2ème partie'!C6<>\"\",'2ème partie'!D6,\"\"),IF('1ère partie'!$C$3<>\"\",IF('1ère partie'!C6<>\"\",'1ère partie'!D6,\"\"),\"\")))","v":""},"",{"$f":"IF('3ème partie'!$G$3<>\"\",IF('3ème partie'!G6<>\"\",'3ème partie'!G6,\"\"), IF('2ème partie'!$G$3<>\"\",IF('2ème partie'!G6<>\"\",'2ème partie'!G6,\"\"),IF('1ère partie'!$G$3<>\"\",IF('1ère partie'!G6<>\"\",'1ère partie'!G6,\"\"),\"\")))","v":""},{"$f":"IF('3ème partie'!$G$3<>\"\",IF('3ème partie'!G6<>\"\",'3ème partie'!H6,\"\"), IF('2ème partie'!$G$3<>\"\",IF('2ème partie'!G6<>\"\",'2ème partie'!H6,\"\"),IF('1ère partie'!$G$3<>\"\",IF('1ère partie'!G6<>\"\",'1ère partie'!H6,\"\"),\"\")))","v":""},{"$f":"IF('3ème partie'!$G$3<>\"\",IF(VLOOKUP(D6,Feuillettravail!B:L,11,FALSE)=2,\"G\",\"\"), IF('2ème partie'!$G$3<>\"\",IF(VLOOKUP(D6,Feuillettravail!B:L,11,FALSE)=1,\"G\",\"\"),\"\"))","v":""}]
[{"$f":"IF('3ème partie'!$C$3<>\"\",IF('3ème partie'!C7<>\"\",'3ème partie'!C7,\"\"), IF('2ème partie'!$C$3<>\"\",IF('2ème partie'!C7<>\"\",'2ème partie'!C7,\"\"),IF('1ère partie'!$C$3<>\"\",IF('1ère partie'!C7<>\"\",'1ère partie'!C7,\"\"),\"\")))","v":""},{"$f":"IF('3ème partie'!$C$3<>\"\",IF('3ème partie'!C7<>\"\",'3ème partie'!D7,\"\"), IF('2ème partie'!$C$3<>\"\",IF('2ème partie'!C7<>\"\",'2ème partie'!D7,\"\"),IF('1ère partie'!$C$3<>\"\",IF('1ère partie'!C7<>\"\",'1ère partie'!D7,\"\"),\"\")))","v":""},"",{"$f":"IF('3ème partie'!$G$3<>\"\",IF('3ème partie'!G7<>\"\",'3ème partie'!G7,\"\"), IF('2ème partie'!$G$3<>\"\",IF('2ème partie'!G7<>\"\",'2ème partie'!G7,\"\"),IF('1ère partie'!$G$3<>\"\",IF('1ère partie'!G7<>\"\",'1ère partie'!G7,\"\"),\"\")))","v":""},{"$f":"IF('3ème partie'!$G$3<>\"\",IF('3ème partie'!G7<>\"\",'3ème partie'!H7,\"\"), IF('2ème partie'!$G$3<>\"\",IF('2ème partie'!G7<>\"\",'2ème partie'!H7,\"\"),IF('1ère partie'!$G$3<>\"\",IF('1ère partie'!G7<>\"\",'1ère partie'!H7,\"\"),\"\")))","v":""},{"$f":"IF('3ème partie'!$G$3<>\"\",IF(VLOOKUP(D7,Feuillettravail!B:L,11,FALSE)=2,\"G\",\"\"), IF('2ème partie'!$G$3<>\"\",IF(VLOOKUP(D7,Feuillettravail!B:L,11,FALSE)=1,\"G\",\"\"),\"\"))","v":""}]
[{"$f":"IF('3ème partie'!$C$3<>\"\",IF('3ème partie'!C8<>\"\",'3ème partie'!C8,\"\"), IF('2ème partie'!$C$3<>\"\",IF('2ème partie'!C8<>\"\",'2ème partie'!C8,\"\"),IF('1ère partie'!$C$3<>\"\",IF('1ère partie'!C8<>\"\",'1ère partie'!C8,\"\"),\"\")))","v":""},{"$f":"IF('3ème partie'!$C$3<>\"\",IF('3ème partie'!C8<>\"\",'3ème partie'!D8,\"\"), IF('2ème partie'!$C$3<>\"\",IF('2ème partie'!C8<>\"\",'2ème partie'!D8,\"\"),IF('1ère partie'!$C$3<>\"\",IF('1ère partie'!C8<>\"\",'1ère partie'!D8,\"\"),\"\")))","v":""},"",{"$f":"IF('3ème partie'!$G$3<>\"\",IF('3ème partie'!G8<>\"\",'3ème partie'!G8,\"\"), IF('2ème partie'!$G$3<>\"\",IF('2ème partie'!G8<>\"\",'2ème partie'!G8,\"\"),IF('1ère partie'!$G$3<>\"\",IF('1ère partie'!G8<>\"\",'1ère partie'!G8,\"\"),\"\")))","v":""},{"$f":"IF('3ème partie'!$G$3<>\"\",IF('3ème partie'!G8<>\"\",'3ème partie'!H8,\"\"), IF('2ème partie'!$G$3<>\"\",IF('2ème partie'!G8<>\"\",'2ème partie'!H8,\"\"),IF('1ère partie'!$G$3<>\"\",IF('1ère partie'!G8<>\"\",'1ère partie'!H8,\"\"),\"\")))","v":""},{"$f":"IF('3ème partie'!$G$3<>\"\",IF(VLOOKUP(D8,Feuillettravail!B:L,11,FALSE)=2,\"G\",\"\"), IF('2ème partie'!$G$3<>\"\",IF(VLOOKUP(D8,Feuillettravail!B:L,11,FALSE)=1,\"G\",\"\"),\"\"))","v":""}]
[{"$f":"IF('3ème partie'!$C$3<>\"\",IF('3ème partie'!C9<>\"\",'3ème partie'!C9,\"\"), IF('2ème partie'!$C$3<>\"\",IF('2ème partie'!C9<>\"\",'2ème partie'!C9,\"\"),IF('1ère partie'!$C$3<>\"\",IF('1ère partie'!C9<>\"\",'1ère partie'!C9,\"\"),\"\")))","v":""},{"$f":"IF('3ème partie'!$C$3<>\"\",IF('3ème partie'!C9<>\"\",'3ème partie'!D9,\"\"), IF('2ème partie'!$C$3<>\"\",IF('2ème partie'!C9<>\"\",'2ème partie'!D9,\"\"),IF('1ère partie'!$C$3<>\"\",IF('1ère partie'!C9<>\"\",'1ère partie'!D9,\"\"),\"\")))","v":""},"",{"$f":"IF('3ème partie'!$G$3<>\"\",IF('3ème partie'!G9<>\"\",'3ème partie'!G9,\"\"), IF('2ème partie'!$G$3<>\"\",IF('2ème partie'!G9<>\"\",'2ème partie'!G9,\"\"),IF('1ère partie'!$G$3<>\"\",IF('1ère partie'!G9<>\"\",'1ère partie'!G9,\"\"),\"\")))","v":""},{"$f":"IF('3ème partie'!$G$3<>\"\",IF('3ème partie'!G9<>\"\",'3ème partie'!H9,\"\"), IF('2ème partie'!$G$3<>\"\",IF('2ème partie'!G9<>\"\",'2ème partie'!H9,\"\"),IF('1ère partie'!$G$3<>\"\",IF('1ère partie'!G9<>\"\",'1ère partie'!H9,\"\"),\"\")))","v":""},{"$f":"IF('3ème partie'!$G$3<>\"\",IF(VLOOKUP(D9,Feuillettravail!B:L,11,FALSE)=2,\"G\",\"\"), IF('2ème partie'!$G$3<>\"\",IF(VLOOKUP(D9,Feuillettravail!B:L,11,FALSE)=1,\"G\",\"\"),\"\"))","v":""}]
[{"$f":"IF('3ème partie'!$C$3<>\"\",IF('3ème partie'!C10<>\"\",'3ème partie'!C10,\"\"), IF('2ème partie'!$C$3<>\"\",IF('2ème partie'!C10<>\"\",'2ème partie'!C10,\"\"),IF('1ère partie'!$C$3<>\"\",IF('1ère partie'!C10<>\"\",'1ère partie'!C10,\"\"),\"\")))","v":""},{"$f":"IF('3ème partie'!$C$3<>\"\",IF('3ème partie'!C10<>\"\",'3ème partie'!D10,\"\"), IF('2ème partie'!$C$3<>\"\",IF('2ème partie'!C10<>\"\",'2ème partie'!D10,\"\"),IF('1ère partie'!$C$3<>\"\",IF('1ère partie'!C10<>\"\",'1ère partie'!D10,\"\"),\"\")))","v":""},"",{"$f":"IF('3ème partie'!$G$3<>\"\",IF('3ème partie'!G10<>\"\",'3ème partie'!G10,\"\"), IF('2ème partie'!$G$3<>\"\",IF('2ème partie'!G10<>\"\",'2ème partie'!G10,\"\"),IF('1ère partie'!$G$3<>\"\",IF('1ère partie'!G10<>\"\",'1ère partie'!G10,\"\"),\"\")))","v":""},{"$f":"IF('3ème partie'!$G$3<>\"\",IF('3ème partie'!G10<>\"\",'3ème partie'!H10,\"\"), IF('2ème partie'!$G$3<>\"\",IF('2ème partie'!G10<>\"\",'2ème partie'!H10,\"\"),IF('1ère partie'!$G$3<>\"\",IF('1ère partie'!G10<>\"\",'1ère partie'!H10,\"\"),\"\")))","v":""},{"$f":"IF('3ème partie'!$G$3<>\"\",IF(VLOOKUP(D10,Feuillettravail!B:L,11,FALSE)=2,\"G\",\"\"), IF('2ème partie'!$G$3<>\"\",IF(VLOOKUP(D10,Feuillettravail!B:L,11,FALSE)=1,\"G\",\"\"),\"\"))","v":""}]
[{"$f":"IF('3ème partie'!$C$3<>\"\",IF('3ème partie'!C11<>\"\",'3ème partie'!C11,\"\"), IF('2ème partie'!$C$3<>\"\",IF('2ème partie'!C11<>\"\",'2ème partie'!C11,\"\"),IF('1ère partie'!$C$3<>\"\",IF('1ère partie'!C11<>\"\",'1ère partie'!C11,\"\"),\"\")))","v":""},{"$f":"IF('3ème partie'!$C$3<>\"\",IF('3ème partie'!C11<>\"\",'3ème partie'!D11,\"\"), IF('2ème partie'!$C$3<>\"\",IF('2ème partie'!C11<>\"\",'2ème partie'!D11,\"\"),IF('1ère partie'!$C$3<>\"\",IF('1ère partie'!C11<>\"\",'1ère partie'!D11,\"\"),\"\")))","v":""},"",{"$f":"IF('3ème partie'!$G$3<>\"\",IF('3ème partie'!G11<>\"\",'3ème partie'!G11,\"\"), IF('2ème partie'!$G$3<>\"\",IF('2ème partie'!G11<>\"\",'2ème partie'!G11,\"\"),IF('1ère partie'!$G$3<>\"\",IF('1ère partie'!G11<>\"\",'1ère partie'!G11,\"\"),\"\")))","v":""},{"$f":"IF('3ème partie'!$G$3<>\"\",IF('3ème partie'!G11<>\"\",'3ème partie'!H11,\"\"), IF('2ème partie'!$G$3<>\"\",IF('2ème partie'!G11<>\"\",'2ème partie'!H11,\"\"),IF('1ère partie'!$G$3<>\"\",IF('1ère partie'!G11<>\"\",'1ère partie'!H11,\"\"),\"\")))","v":""},{"$f":"IF('3ème partie'!$G$3<>\"\",IF(VLOOKUP(D11,Feuillettravail!B:L,11,FALSE)=2,\"G\",\"\"), IF('2ème partie'!$G$3<>\"\",IF(VLOOKUP(D11,Feuillettravail!B:L,11,FALSE)=1,\"G\",\"\"),\"\"))","v":""}]
[{"$f":"IF('3ème partie'!$C$3<>\"\",IF('3ème partie'!C12<>\"\",'3ème partie'!C12,\"\"), IF('2ème partie'!$C$3<>\"\",IF('2ème partie'!C12<>\"\",'2ème partie'!C12,\"\"),IF('1ère partie'!$C$3<>\"\",IF('1ère partie'!C12<>\"\",'1ère partie'!C12,\"\"),\"\")))","v":""},{"$f":"IF('3ème partie'!$C$3<>\"\",IF('3ème partie'!C12<>\"\",'3ème partie'!D12,\"\"), IF('2ème partie'!$C$3<>\"\",IF('2ème partie'!C12<>\"\",'2ème partie'!D12,\"\"),IF('1ère partie'!$C$3<>\"\",IF('1ère partie'!C12<>\"\",'1ère partie'!D12,\"\"),\"\")))","v":""},"",{"$f":"IF('3ème partie'!$G$3<>\"\",IF('3ème partie'!G12<>\"\",'3ème partie'!G12,\"\"), IF('2ème partie'!$G$3<>\"\",IF('2ème partie'!G12<>\"\",'2ème partie'!G12,\"\"),IF('1ère partie'!$G$3<>\"\",IF('1ère partie'!G12<>\"\",'1ère partie'!G12,\"\"),\"\")))","v":""},{"$f":"IF('3ème partie'!$G$3<>\"\",IF('3ème partie'!G12<>\"\",'3ème partie'!H12,\"\"), IF('2ème partie'!$G$3<>\"\",IF('2ème partie'!G12<>\"\",'2ème partie'!H12,\"\"),IF('1ère partie'!$G$3<>\"\",IF('1ère partie'!G12<>\"\",'1ère partie'!H12,\"\"),\"\")))","v":""},{"$f":"IF('3ème partie'!$G$3<>\"\",IF(VLOOKUP(D12,Feuillettravail!B:L,11,FALSE)=2,\"G\",\"\"), IF('2ème partie'!$G$3<>\"\",IF(VLOOKUP(D12,Feuillettravail!B:L,11,FALSE)=1,\"G\",\"\"),\"\"))","v":""}]
[{"$f":"IF('3ème partie'!$C$3<>\"\",IF('3ème partie'!C13<>\"\",'3ème partie'!C13,\"\"), IF('2ème partie'!$C$3<>\"\",IF('2ème partie'!C13<>\"\",'2ème partie'!C13,\"\"),IF('1ère partie'!$C$3<>\"\",IF('1ère partie'!C13<>\"\",'1ère partie'!C13,\"\"),\"\")))","v":""},{"$f":"IF('3ème partie'!$C$3<>\"\",IF('3ème partie'!C13<>\"\",'3ème partie'!D13,\"\"), IF('2ème partie'!$C$3<>\"\",IF('2ème partie'!C13<>\"\",'2ème partie'!D13,\"\"),IF('1ère partie'!$C$3<>\"\",IF('1ère partie'!C13<>\"\",'1ère partie'!D13,\"\"),\"\")))","v":""},"",{"$f":"IF('3ème partie'!$G$3<>\"\",IF('3ème partie'!G13<>\"\",'3ème partie'!G13,\"\"), IF('2ème partie'!$G$3<>\"\",IF('2ème partie'!G13<>\"\",'2ème partie'!G13,\"\"),IF('1ère partie'!$G$3<>\"\",IF('1ère partie'!G13<>\"\",'1ère partie'!G13,\"\"),\"\")))","v":""},{"$f":"IF('3ème partie'!$G$3<>\"\",IF('3ème partie'!G13<>\"\",'3ème partie'!H13,\"\"), IF('2ème partie'!$G$3<>\"\",IF('2ème partie'!G13<>\"\",'2ème partie'!H13,\"\"),IF('1ère partie'!$G$3<>\"\",IF('1ère partie'!G13<>\"\",'1ère partie'!H13,\"\"),\"\")))","v":""},{"$f":"IF('3ème partie'!$G$3<>\"\",IF(VLOOKUP(D13,Feuillettravail!B:L,11,FALSE)=2,\"G\",\"\"), IF('2ème partie'!$G$3<>\"\",IF(VLOOKUP(D13,Feuillettravail!B:L,11,FALSE)=1,\"G\",\"\"),\"\"))","v":""}]
[{"$f":"IF('3ème partie'!$C$3<>\"\",IF('3ème partie'!C14<>\"\",'3ème partie'!C14,\"\"), IF('2ème partie'!$C$3<>\"\",IF('2ème partie'!C14<>\"\",'2ème partie'!C14,\"\"),IF('1ère partie'!$C$3<>\"\",IF('1ère partie'!C14<>\"\",'1ère partie'!C14,\"\"),\"\")))","v":""},{"$f":"IF('3ème partie'!$C$3<>\"\",IF('3ème partie'!C14<>\"\",'3ème partie'!D14,\"\"), IF('2ème partie'!$C$3<>\"\",IF('2ème partie'!C14<>\"\",'2ème partie'!D14,\"\"),IF('1ère partie'!$C$3<>\"\",IF('1ère partie'!C14<>\"\",'1ère partie'!D14,\"\"),\"\")))","v":""},"",{"$f":"IF('3ème partie'!$G$3<>\"\",IF('3ème partie'!G14<>\"\",'3ème partie'!G14,\"\"), IF('2ème partie'!$G$3<>\"\",IF('2ème partie'!G14<>\"\",'2ème partie'!G14,\"\"),IF('1ère partie'!$G$3<>\"\",IF('1ère partie'!G14<>\"\",'1ère partie'!G14,\"\"),\"\")))","v":""},{"$f":"IF('3ème partie'!$G$3<>\"\",IF('3ème partie'!G14<>\"\",'3ème partie'!H14,\"\"), IF('2ème partie'!$G$3<>\"\",IF('2ème partie'!G14<>\"\",'2ème partie'!H14,\"\"),IF('1ère partie'!$G$3<>\"\",IF('1ère partie'!G14<>\"\",'1ère partie'!H14,\"\"),\"\")))","v":""},{"$f":"IF('3ème partie'!$G$3<>\"\",IF(VLOOKUP(D14,Feuillettravail!B:L,11,FALSE)=2,\"G\",\"\"), IF('2ème partie'!$G$3<>\"\",IF(VLOOKUP(D14,Feuillettravail!B:L,11,FALSE)=1,\"G\",\"\"),\"\"))","v":""}]
[{"$f":"IF('3ème partie'!$C$3<>\"\",IF('3ème partie'!C15<>\"\",'3ème partie'!C15,\"\"), IF('2ème partie'!$C$3<>\"\",IF('2ème partie'!C15<>\"\",'2ème partie'!C15,\"\"),IF('1ère partie'!$C$3<>\"\",IF('1ère partie'!C15<>\"\",'1ère partie'!C15,\"\"),\"\")))","v":""},{"$f":"IF('3ème partie'!$C$3<>\"\",IF('3ème partie'!C15<>\"\",'3ème partie'!D15,\"\"), IF('2ème partie'!$C$3<>\"\",IF('2ème partie'!C15<>\"\",'2ème partie'!D15,\"\"),IF('1ère partie'!$C$3<>\"\",IF('1ère partie'!C15<>\"\",'1ère partie'!D15,\"\"),\"\")))","v":""},"",{"$f":"IF('3ème partie'!$G$3<>\"\",IF('3ème partie'!G15<>\"\",'3ème partie'!G15,\"\"), IF('2ème partie'!$G$3<>\"\",IF('2ème partie'!G15<>\"\",'2ème partie'!G15,\"\"),IF('1ère partie'!$G$3<>\"\",IF('1ère partie'!G15<>\"\",'1ère partie'!G15,\"\"),\"\")))","v":""},{"$f":"IF('3ème partie'!$G$3<>\"\",IF('3ème partie'!G15<>\"\",'3ème partie'!H15,\"\"), IF('2ème partie'!$G$3<>\"\",IF('2ème partie'!G15<>\"\",'2ème partie'!H15,\"\"),IF('1ère partie'!$G$3<>\"\",IF('1ère partie'!G15<>\"\",'1ère partie'!H15,\"\"),\"\")))","v":""},{"$f":"IF('3ème partie'!$G$3<>\"\",IF(VLOOKUP(D15,Feuillettravail!B:L,11,FALSE)=2,\"G\",\"\"), IF('2ème partie'!$G$3<>\"\",IF(VLOOKUP(D15,Feuillettravail!B:L,11,FALSE)=1,\"G\",\"\"),\"\"))","v":""}]
[{"$f":"IF('3ème partie'!$C$3<>\"\",IF('3ème partie'!C16<>\"\",'3ème partie'!C16,\"\"), IF('2ème partie'!$C$3<>\"\",IF('2ème partie'!C16<>\"\",'2ème partie'!C16,\"\"),IF('1ère partie'!$C$3<>\"\",IF('1ère partie'!C16<>\"\",'1ère partie'!C16,\"\"),\"\")))","v":""},{"$f":"IF('3ème partie'!$C$3<>\"\",IF('3ème partie'!C16<>\"\",'3ème partie'!D16,\"\"), IF('2ème partie'!$C$3<>\"\",IF('2ème partie'!C16<>\"\",'2ème partie'!D16,\"\"),IF('1ère partie'!$C$3<>\"\",IF('1ère partie'!C16<>\"\",'1ère partie'!D16,\"\"),\"\")))","v":""},"",{"$f":"IF('3ème partie'!$G$3<>\"\",IF('3ème partie'!G16<>\"\",'3ème partie'!G16,\"\"), IF('2ème partie'!$G$3<>\"\",IF('2ème partie'!G16<>\"\",'2ème partie'!G16,\"\"),IF('1ère partie'!$G$3<>\"\",IF('1ère partie'!G16<>\"\",'1ère partie'!G16,\"\"),\"\")))","v":""},{"$f":"IF('3ème partie'!$G$3<>\"\",IF('3ème partie'!G16<>\"\",'3ème partie'!H16,\"\"), IF('2ème partie'!$G$3<>\"\",IF('2ème partie'!G16<>\"\",'2ème partie'!H16,\"\"),IF('1ère partie'!$G$3<>\"\",IF('1ère partie'!G16<>\"\",'1ère partie'!H16,\"\"),\"\")))","v":""},{"$f":"IF('3ème partie'!$G$3<>\"\",IF(VLOOKUP(D16,Feuillettravail!B:L,11,FALSE)=2,\"G\",\"\"), IF('2ème partie'!$G$3<>\"\",IF(VLOOKUP(D16,Feuillettravail!B:L,11,FALSE)=1,\"G\",\"\"),\"\"))","v":""}]
[{"$f":"IF('3ème partie'!$C$3<>\"\",IF('3ème partie'!C17<>\"\",'3ème partie'!C17,\"\"), IF('2ème partie'!$C$3<>\"\",IF('2ème partie'!C17<>\"\",'2ème partie'!C17,\"\"),IF('1ère partie'!$C$3<>\"\",IF('1ère partie'!C17<>\"\",'1ère partie'!C17,\"\"),\"\")))","v":""},{"$f":"IF('3ème partie'!$C$3<>\"\",IF('3ème partie'!C17<>\"\",'3ème partie'!D17,\"\"), IF('2ème partie'!$C$3<>\"\",IF('2ème partie'!C17<>\"\",'2ème partie'!D17,\"\"),IF('1ère partie'!$C$3<>\"\",IF('1ère partie'!C17<>\"\",'1ère partie'!D17,\"\"),\"\")))","v":""},"",{"$f":"IF('3ème partie'!$G$3<>\"\",IF('3ème partie'!G17<>\"\",'3ème partie'!G17,\"\"), IF('2ème partie'!$G$3<>\"\",IF('2ème partie'!G17<>\"\",'2ème partie'!G17,\"\"),IF('1ère partie'!$G$3<>\"\",IF('1ère partie'!G17<>\"\",'1ère partie'!G17,\"\"),\"\")))","v":""},{"$f":"IF('3ème partie'!$G$3<>\"\",IF('3ème partie'!G17<>\"\",'3ème partie'!H17,\"\"), IF('2ème partie'!$G$3<>\"\",IF('2ème partie'!G17<>\"\",'2ème partie'!H17,\"\"),IF('1ère partie'!$G$3<>\"\",IF('1ère partie'!G17<>\"\",'1ère partie'!H17,\"\"),\"\")))","v":""},{"$f":"IF('3ème partie'!$G$3<>\"\",IF(VLOOKUP(D17,Feuillettravail!B:L,11,FALSE)=2,\"G\",\"\"), IF('2ème partie'!$G$3<>\"\",IF(VLOOKUP(D17,Feuillettravail!B:L,11,FALSE)=1,\"G\",\"\"),\"\"))","v":""}]
[{"$f":"IF('3ème partie'!$C$3<>\"\",IF('3ème partie'!C18<>\"\",'3ème partie'!C18,\"\"), IF('2ème partie'!$C$3<>\"\",IF('2ème partie'!C18<>\"\",'2ème partie'!C18,\"\"),IF('1ère partie'!$C$3<>\"\",IF('1ère partie'!C18<>\"\",'1ère partie'!C18,\"\"),\"\")))","v":""},{"$f":"IF('3ème partie'!$C$3<>\"\",IF('3ème partie'!C18<>\"\",'3ème partie'!D18,\"\"), IF('2ème partie'!$C$3<>\"\",IF('2ème partie'!C18<>\"\",'2ème partie'!D18,\"\"),IF('1ère partie'!$C$3<>\"\",IF('1ère partie'!C18<>\"\",'1ère partie'!D18,\"\"),\"\")))","v":""},"",{"$f":"IF('3ème partie'!$G$3<>\"\",IF('3ème partie'!G18<>\"\",'3ème partie'!G18,\"\"), IF('2ème partie'!$G$3<>\"\",IF('2ème partie'!G18<>\"\",'2ème partie'!G18,\"\"),IF('1ère partie'!$G$3<>\"\",IF('1ère partie'!G18<>\"\",'1ère partie'!G18,\"\"),\"\")))","v":""},{"$f":"IF('3ème partie'!$G$3<>\"\",IF('3ème partie'!G18<>\"\",'3ème partie'!H18,\"\"), IF('2ème partie'!$G$3<>\"\",IF('2ème partie'!G18<>\"\",'2ème partie'!H18,\"\"),IF('1ère partie'!$G$3<>\"\",IF('1ère partie'!G18<>\"\",'1ère partie'!H18,\"\"),\"\")))","v":""},{"$f":"IF('3ème partie'!$G$3<>\"\",IF(VLOOKUP(D18,Feuillettravail!B:L,11,FALSE)=2,\"G\",\"\"), IF('2ème partie'!$G$3<>\"\",IF(VLOOKUP(D18,Feuillettravail!B:L,11,FALSE)=1,\"G\",\"\"),\"\"))","v":""}]
[{"$f":"IF('3ème partie'!$C$3<>\"\",IF('3ème partie'!C19<>\"\",'3ème partie'!C19,\"\"), IF('2ème partie'!$C$3<>\"\",IF('2ème partie'!C19<>\"\",'2ème partie'!C19,\"\"),IF('1ère partie'!$C$3<>\"\",IF('1ère partie'!C19<>\"\",'1ère partie'!C19,\"\"),\"\")))","v":""},{"$f":"IF('3ème partie'!$C$3<>\"\",IF('3ème partie'!C19<>\"\",'3ème partie'!D19,\"\"), IF('2ème partie'!$C$3<>\"\",IF('2ème partie'!C19<>\"\",'2ème partie'!D19,\"\"),IF('1ère partie'!$C$3<>\"\",IF('1ère partie'!C19<>\"\",'1ère partie'!D19,\"\"),\"\")))","v":""},"",{"$f":"IF('3ème partie'!$G$3<>\"\",IF('3ème partie'!G19<>\"\",'3ème partie'!G19,\"\"), IF('2ème partie'!$G$3<>\"\",IF('2ème partie'!G19<>\"\",'2ème partie'!G19,\"\"),IF('1ère partie'!$G$3<>\"\",IF('1ère partie'!G19<>\"\",'1ère partie'!G19,\"\"),\"\")))","v":""},{"$f":"IF('3ème partie'!$G$3<>\"\",IF('3ème partie'!G19<>\"\",'3ème partie'!H19,\"\"), IF('2ème partie'!$G$3<>\"\",IF('2ème partie'!G19<>\"\",'2ème partie'!H19,\"\"),IF('1ère partie'!$G$3<>\"\",IF('1ère partie'!G19<>\"\",'1ère partie'!H19,\"\"),\"\")))","v":""},{"$f":"IF('3ème partie'!$G$3<>\"\",IF(VLOOKUP(D19,Feuillettravail!B:L,11,FALSE)=2,\"G\",\"\"), IF('2ème partie'!$G$3<>\"\",IF(VLOOKUP(D19,Feuillettravail!B:L,11,FALSE)=1,\"G\",\"\"),\"\"))","v":""}]
[{"$f":"IF('3ème partie'!$C$3<>\"\",IF('3ème partie'!C20<>\"\",'3ème partie'!C20,\"\"), IF('2ème partie'!$C$3<>\"\",IF('2ème partie'!C20<>\"\",'2ème partie'!C20,\"\"),IF('1ère partie'!$C$3<>\"\",IF('1ère partie'!C20<>\"\",'1ère partie'!C20,\"\"),\"\")))","v":""},{"$f":"IF('3ème partie'!$C$3<>\"\",IF('3ème partie'!C20<>\"\",'3ème partie'!D20,\"\"), IF('2ème partie'!$C$3<>\"\",IF('2ème partie'!C20<>\"\",'2ème partie'!D20,\"\"),IF('1ère partie'!$C$3<>\"\",IF('1ère partie'!C20<>\"\",'1ère partie'!D20,\"\"),\"\")))","v":""},"",{"$f":"IF('3ème partie'!$G$3<>\"\",IF('3ème partie'!G20<>\"\",'3ème partie'!G20,\"\"), IF('2ème partie'!$G$3<>\"\",IF('2ème partie'!G20<>\"\",'2ème partie'!G20,\"\"),IF('1ère partie'!$G$3<>\"\",IF('1ère partie'!G20<>\"\",'1ère partie'!G20,\"\"),\"\")))","v":""},{"$f":"IF('3ème partie'!$G$3<>\"\",IF('3ème partie'!G20<>\"\",'3ème partie'!H20,\"\"), IF('2ème partie'!$G$3<>\"\",IF('2ème partie'!G20<>\"\",'2ème partie'!H20,\"\"),IF('1ère partie'!$G$3<>\"\",IF('1ère partie'!G20<>\"\",'1ère partie'!H20,\"\"),\"\")))","v":""},{"$f":"IF('3ème partie'!$G$3<>\"\",IF(VLOOKUP(D20,Feuillettravail!B:L,11,FALSE)=2,\"G\",\"\"), IF('2ème partie'!$G$3<>\"\",IF(VLOOKUP(D20,Feuillettravail!B:L,11,FALSE)=1,\"G\",\"\"),\"\"))","v":""}]
[{"$f":"IF('3ème partie'!$C$3<>\"\",IF('3ème partie'!C21<>\"\",'3ème partie'!C21,\"\"), IF('2ème partie'!$C$3<>\"\",IF('2ème partie'!C21<>\"\",'2ème partie'!C21,\"\"),IF('1ère partie'!$C$3<>\"\",IF('1ère partie'!C21<>\"\",'1ère partie'!C21,\"\"),\"\")))","v":""},{"$f":"IF('3ème partie'!$C$3<>\"\",IF('3ème partie'!C21<>\"\",'3ème partie'!D21,\"\"), IF('2ème partie'!$C$3<>\"\",IF('2ème partie'!C21<>\"\",'2ème partie'!D21,\"\"),IF('1ère partie'!$C$3<>\"\",IF('1ère partie'!C21<>\"\",'1ère partie'!D21,\"\"),\"\")))","v":""},"",{"$f":"IF('3ème partie'!$G$3<>\"\",IF('3ème partie'!G21<>\"\",'3ème partie'!G21,\"\"), IF('2ème partie'!$G$3<>\"\",IF('2ème partie'!G21<>\"\",'2ème partie'!G21,\"\"),IF('1ère partie'!$G$3<>\"\",IF('1ère partie'!G21<>\"\",'1ère partie'!G21,\"\"),\"\")))","v":""},{"$f":"IF('3ème partie'!$G$3<>\"\",IF('3ème partie'!G21<>\"\",'3ème partie'!H21,\"\"), IF('2ème partie'!$G$3<>\"\",IF('2ème partie'!G21<>\"\",'2ème partie'!H21,\"\"),IF('1ère partie'!$G$3<>\"\",IF('1ère partie'!G21<>\"\",'1ère partie'!H21,\"\"),\"\")))","v":""},{"$f":"IF('3ème partie'!$G$3<>\"\",IF(VLOOKUP(D21,Feuillettravail!B:L,11,FALSE)=2,\"G\",\"\"), IF('2ème partie'!$G$3<>\"\",IF(VLOOKUP(D21,Feuillettravail!B:L,11,FALSE)=1,\"G\",\"\"),\"\"))","v":""}]
[{"$f":"IF('3ème partie'!$C$3<>\"\",IF('3ème partie'!C22<>\"\",'3ème partie'!C22,\"\"), IF('2ème partie'!$C$3<>\"\",IF('2ème partie'!C22<>\"\",'2ème partie'!C22,\"\"),IF('1ère partie'!$C$3<>\"\",IF('1ère partie'!C22<>\"\",'1ère partie'!C22,\"\"),\"\")))","v":""},{"$f":"IF('3ème partie'!$C$3<>\"\",IF('3ème partie'!C22<>\"\",'3ème partie'!D22,\"\"), IF('2ème partie'!$C$3<>\"\",IF('2ème partie'!C22<>\"\",'2ème partie'!D22,\"\"),IF('1ère partie'!$C$3<>\"\",IF('1ère partie'!C22<>\"\",'1ère partie'!D22,\"\"),\"\")))","v":""},"",{"$f":"IF('3ème partie'!$G$3<>\"\",IF('3ème partie'!G22<>\"\",'3ème partie'!G22,\"\"), IF('2ème partie'!$G$3<>\"\",IF('2ème partie'!G22<>\"\",'2ème partie'!G22,\"\"),IF('1ère partie'!$G$3<>\"\",IF('1ère partie'!G22<>\"\",'1ère partie'!G22,\"\"),\"\")))","v":""},{"$f":"IF('3ème partie'!$G$3<>\"\",IF('3ème partie'!G22<>\"\",'3ème partie'!H22,\"\"), IF('2ème partie'!$G$3<>\"\",IF('2ème partie'!G22<>\"\",'2ème partie'!H22,\"\"),IF('1ère partie'!$G$3<>\"\",IF('1ère partie'!G22<>\"\",'1ère partie'!H22,\"\"),\"\")))","v":""},{"$f":"IF('3ème partie'!$G$3<>\"\",IF(VLOOKUP(D22,Feuillettravail!B:L,11,FALSE)=2,\"G\",\"\"), IF('2ème partie'!$G$3<>\"\",IF(VLOOKUP(D22,Feuillettravail!B:L,11,FALSE)=1,\"G\",\"\"),\"\"))","v":""}]
[{"$f":"IF('3ème partie'!$C$3<>\"\",IF('3ème partie'!C23<>\"\",'3ème partie'!C23,\"\"), IF('2ème partie'!$C$3<>\"\",IF('2ème partie'!C23<>\"\",'2ème partie'!C23,\"\"),IF('1ère partie'!$C$3<>\"\",IF('1ère partie'!C23<>\"\",'1ère partie'!C23,\"\"),\"\")))","v":""},{"$f":"IF('3ème partie'!$C$3<>\"\",IF('3ème partie'!C23<>\"\",'3ème partie'!D23,\"\"), IF('2ème partie'!$C$3<>\"\",IF('2ème partie'!C23<>\"\",'2ème partie'!D23,\"\"),IF('1ère partie'!$C$3<>\"\",IF('1ère partie'!C23<>\"\",'1ère partie'!D23,\"\"),\"\")))","v":""},"",{"$f":"IF('3ème partie'!$G$3<>\"\",IF('3ème partie'!G23<>\"\",'3ème partie'!G23,\"\"), IF('2ème partie'!$G$3<>\"\",IF('2ème partie'!G23<>\"\",'2ème partie'!G23,\"\"),IF('1ère partie'!$G$3<>\"\",IF('1ère partie'!G23<>\"\",'1ère partie'!G23,\"\"),\"\")))","v":""},{"$f":"IF('3ème partie'!$G$3<>\"\",IF('3ème partie'!G23<>\"\",'3ème partie'!H23,\"\"), IF('2ème partie'!$G$3<>\"\",IF('2ème partie'!G23<>\"\",'2ème partie'!H23,\"\"),IF('1ère partie'!$G$3<>\"\",IF('1ère partie'!G23<>\"\",'1ère partie'!H23,\"\"),\"\")))","v":""},{"$f":"IF('3ème partie'!$G$3<>\"\",IF(VLOOKUP(D23,Feuillettravail!B:L,11,FALSE)=2,\"G\",\"\"), IF('2ème partie'!$G$3<>\"\",IF(VLOOKUP(D23,Feuillettravail!B:L,11,FALSE)=1,\"G\",\"\"),\"\"))","v":""}]
[{"$f":"IF('3ème partie'!$C$3<>\"\",IF('3ème partie'!C24<>\"\",'3ème partie'!C24,\"\"), IF('2ème partie'!$C$3<>\"\",IF('2ème partie'!C24<>\"\",'2ème partie'!C24,\"\"),IF('1ère partie'!$C$3<>\"\",IF('1ère partie'!C24<>\"\",'1ère partie'!C24,\"\"),\"\")))","v":""},{"$f":"IF('3ème partie'!$C$3<>\"\",IF('3ème partie'!C24<>\"\",'3ème partie'!D24,\"\"), IF('2ème partie'!$C$3<>\"\",IF('2ème partie'!C24<>\"\",'2ème partie'!D24,\"\"),IF('1ère partie'!$C$3<>\"\",IF('1ère partie'!C24<>\"\",'1ère partie'!D24,\"\"),\"\")))","v":""},"",{"$f":"IF('3ème partie'!$G$3<>\"\",IF('3ème partie'!G24<>\"\",'3ème partie'!G24,\"\"), IF('2ème partie'!$G$3<>\"\",IF('2ème partie'!G24<>\"\",'2ème partie'!G24,\"\"),IF('1ère partie'!$G$3<>\"\",IF('1ère partie'!G24<>\"\",'1ère partie'!G24,\"\"),\"\")))","v":""},{"$f":"IF('3ème partie'!$G$3<>\"\",IF('3ème partie'!G24<>\"\",'3ème partie'!H24,\"\"), IF('2ème partie'!$G$3<>\"\",IF('2ème partie'!G24<>\"\",'2ème partie'!H24,\"\"),IF('1ère partie'!$G$3<>\"\",IF('1ère partie'!G24<>\"\",'1ère partie'!H24,\"\"),\"\")))","v":""},{"$f":"IF('3ème partie'!$G$3<>\"\",IF(VLOOKUP(D24,Feuillettravail!B:L,11,FALSE)=2,\"G\",\"\"), IF('2ème partie'!$G$3<>\"\",IF(VLOOKUP(D24,Feuillettravail!B:L,11,FALSE)=1,\"G\",\"\"),\"\"))","v":""}]
[{"$f":"IF('3ème partie'!$C$3<>\"\",IF('3ème partie'!C25<>\"\",'3ème partie'!C25,\"\"), IF('2ème partie'!$C$3<>\"\",IF('2ème partie'!C25<>\"\",'2ème partie'!C25,\"\"),IF('1ère partie'!$C$3<>\"\",IF('1ère partie'!C25<>\"\",'1ère partie'!C25,\"\"),\"\")))","v":""},{"$f":"IF('3ème partie'!$C$3<>\"\",IF('3ème partie'!C25<>\"\",'3ème partie'!D25,\"\"), IF('2ème partie'!$C$3<>\"\",IF('2ème partie'!C25<>\"\",'2ème partie'!D25,\"\"),IF('1ère partie'!$C$3<>\"\",IF('1ère partie'!C25<>\"\",'1ère partie'!D25,\"\"),\"\")))","v":""},"",{"$f":"IF('3ème partie'!$G$3<>\"\",IF('3ème partie'!G25<>\"\",'3ème partie'!G25,\"\"), IF('2ème partie'!$G$3<>\"\",IF('2ème partie'!G25<>\"\",'2ème partie'!G25,\"\"),IF('1ère partie'!$G$3<>\"\",IF('1ère partie'!G25<>\"\",'1ère partie'!G25,\"\"),\"\")))","v":""},{"$f":"IF('3ème partie'!$G$3<>\"\",IF('3ème partie'!G25<>\"\",'3ème partie'!H25,\"\"), IF('2ème partie'!$G$3<>\"\",IF('2ème partie'!G25<>\"\",'2ème partie'!H25,\"\"),IF('1ère partie'!$G$3<>\"\",IF('1ère partie'!G25<>\"\",'1ère partie'!H25,\"\"),\"\")))","v":""},{"$f":"IF('3ème partie'!$G$3<>\"\",IF(VLOOKUP(D25,Feuillettravail!B:L,11,FALSE)=2,\"G\",\"\"), IF('2ème partie'!$G$3<>\"\",IF(VLOOKUP(D25,Feuillettravail!B:L,11,FALSE)=1,\"G\",\"\"),\"\"))","v":""}]
[{"$f":"IF('3ème partie'!$C$3<>\"\",IF('3ème partie'!C26<>\"\",'3ème partie'!C26,\"\"), IF('2ème partie'!$C$3<>\"\",IF('2ème partie'!C26<>\"\",'2ème partie'!C26,\"\"),IF('1ère partie'!$C$3<>\"\",IF('1ère partie'!C26<>\"\",'1ère partie'!C26,\"\"),\"\")))","v":""},{"$f":"IF('3ème partie'!$C$3<>\"\",IF('3ème partie'!C26<>\"\",'3ème partie'!D26,\"\"), IF('2ème partie'!$C$3<>\"\",IF('2ème partie'!C26<>\"\",'2ème partie'!D26,\"\"),IF('1ère partie'!$C$3<>\"\",IF('1ère partie'!C26<>\"\",'1ère partie'!D26,\"\"),\"\")))","v":""},"",{"$f":"IF('3ème partie'!$G$3<>\"\",IF('3ème partie'!G26<>\"\",'3ème partie'!G26,\"\"), IF('2ème partie'!$G$3<>\"\",IF('2ème partie'!G26<>\"\",'2ème partie'!G26,\"\"),IF('1ère partie'!$G$3<>\"\",IF('1ère partie'!G26<>\"\",'1ère partie'!G26,\"\"),\"\")))","v":""},{"$f":"IF('3ème partie'!$G$3<>\"\",IF('3ème partie'!G26<>\"\",'3ème partie'!H26,\"\"), IF('2ème partie'!$G$3<>\"\",IF('2ème partie'!G26<>\"\",'2ème partie'!H26,\"\"),IF('1ère partie'!$G$3<>\"\",IF('1ère partie'!G26<>\"\",'1ère partie'!H26,\"\"),\"\")))","v":""},{"$f":"IF('3ème partie'!$G$3<>\"\",IF(VLOOKUP(D26,Feuillettravail!B:L,11,FALSE)=2,\"G\",\"\"), IF('2ème partie'!$G$3<>\"\",IF(VLOOKUP(D26,Feuillettravail!B:L,11,FALSE)=1,\"G\",\"\"),\"\"))","v":""}]
[{"$f":"IF('3ème partie'!$C$3<>\"\",IF('3ème partie'!C27<>\"\",'3ème partie'!C27,\"\"), IF('2ème partie'!$C$3<>\"\",IF('2ème partie'!C27<>\"\",'2ème partie'!C27,\"\"),IF('1ère partie'!$C$3<>\"\",IF('1ère partie'!C27<>\"\",'1ère partie'!C27,\"\"),\"\")))","v":""},{"$f":"IF('3ème partie'!$C$3<>\"\",IF('3ème partie'!C27<>\"\",'3ème partie'!D27,\"\"), IF('2ème partie'!$C$3<>\"\",IF('2ème partie'!C27<>\"\",'2ème partie'!D27,\"\"),IF('1ère partie'!$C$3<>\"\",IF('1ère partie'!C27<>\"\",'1ère partie'!D27,\"\"),\"\")))","v":""},"",{"$f":"IF('3ème partie'!$G$3<>\"\",IF('3ème partie'!G27<>\"\",'3ème partie'!G27,\"\"), IF('2ème partie'!$G$3<>\"\",IF('2ème partie'!G27<>\"\",'2ème partie'!G27,\"\"),IF('1ère partie'!$G$3<>\"\",IF('1ère partie'!G27<>\"\",'1ère partie'!G27,\"\"),\"\")))","v":""},{"$f":"IF('3ème partie'!$G$3<>\"\",IF('3ème partie'!G27<>\"\",'3ème partie'!H27,\"\"), IF('2ème partie'!$G$3<>\"\",IF('2ème partie'!G27<>\"\",'2ème partie'!H27,\"\"),IF('1ère partie'!$G$3<>\"\",IF('1ère partie'!G27<>\"\",'1ère partie'!H27,\"\"),\"\")))","v":""},{"$f":"IF('3ème partie'!$G$3<>\"\",IF(VLOOKUP(D27,Feuillettravail!B:L,11,FALSE)=2,\"G\",\"\"), IF('2ème partie'!$G$3<>\"\",IF(VLOOKUP(D27,Feuillettravail!B:L,11,FALSE)=1,\"G\",\"\"),\"\"))","v":""}]
[{"$f":"IF('3ème partie'!$C$3<>\"\",IF('3ème partie'!C28<>\"\",'3ème partie'!C28,\"\"), IF('2ème partie'!$C$3<>\"\",IF('2ème partie'!C28<>\"\",'2ème partie'!C28,\"\"),IF('1ère partie'!$C$3<>\"\",IF('1ère partie'!C28<>\"\",'1ère partie'!C28,\"\"),\"\")))","v":""},{"$f":"IF('3ème partie'!$C$3<>\"\",IF('3ème partie'!C28<>\"\",'3ème partie'!D28,\"\"), IF('2ème partie'!$C$3<>\"\",IF('2ème partie'!C28<>\"\",'2ème partie'!D28,\"\"),IF('1ère partie'!$C$3<>\"\",IF('1ère partie'!C28<>\"\",'1ère partie'!D28,\"\"),\"\")))","v":""},"",{"$f":"IF('3ème partie'!$G$3<>\"\",IF('3ème partie'!G28<>\"\",'3ème partie'!G28,\"\"), IF('2ème partie'!$G$3<>\"\",IF('2ème partie'!G28<>\"\",'2ème partie'!G28,\"\"),IF('1ère partie'!$G$3<>\"\",IF('1ère partie'!G28<>\"\",'1ère partie'!G28,\"\"),\"\")))","v":""},{"$f":"IF('3ème partie'!$G$3<>\"\",IF('3ème partie'!G28<>\"\",'3ème partie'!H28,\"\"), IF('2ème partie'!$G$3<>\"\",IF('2ème partie'!G28<>\"\",'2ème partie'!H28,\"\"),IF('1ère partie'!$G$3<>\"\",IF('1ère partie'!G28<>\"\",'1ère partie'!H28,\"\"),\"\")))","v":""},{"$f":"IF('3ème partie'!$G$3<>\"\",IF(VLOOKUP(D28,Feuillettravail!B:L,11,FALSE)=2,\"G\",\"\"), IF('2ème partie'!$G$3<>\"\",IF(VLOOKUP(D28,Feuillettravail!B:L,11,FALSE)=1,\"G\",\"\"),\"\"))","v":""}]
[{"$f":"IF('3ème partie'!$C$3<>\"\",IF('3ème partie'!C29<>\"\",'3ème partie'!C29,\"\"), IF('2ème partie'!$C$3<>\"\",IF('2ème partie'!C29<>\"\",'2ème partie'!C29,\"\"),IF('1ère partie'!$C$3<>\"\",IF('1ère partie'!C29<>\"\",'1ère partie'!C29,\"\"),\"\")))","v":""},{"$f":"IF('3ème partie'!$C$3<>\"\",IF('3ème partie'!C29<>\"\",'3ème partie'!D29,\"\"), IF('2ème partie'!$C$3<>\"\",IF('2ème partie'!C29<>\"\",'2ème partie'!D29,\"\"),IF('1ère partie'!$C$3<>\"\",IF('1ère partie'!C29<>\"\",'1ère partie'!D29,\"\"),\"\")))","v":""},"",{"$f":"IF('3ème partie'!$G$3<>\"\",IF('3ème partie'!G29<>\"\",'3ème partie'!G29,\"\"), IF('2ème partie'!$G$3<>\"\",IF('2ème partie'!G29<>\"\",'2ème partie'!G29,\"\"),IF('1ère partie'!$G$3<>\"\",IF('1ère partie'!G29<>\"\",'1ère partie'!G29,\"\"),\"\")))","v":""},{"$f":"IF('3ème partie'!$G$3<>\"\",IF('3ème partie'!G29<>\"\",'3ème partie'!H29,\"\"), IF('2ème partie'!$G$3<>\"\",IF('2ème partie'!G29<>\"\",'2ème partie'!H29,\"\"),IF('1ère partie'!$G$3<>\"\",IF('1ère partie'!G29<>\"\",'1ère partie'!H29,\"\"),\"\")))","v":""},{"$f":"IF('3ème partie'!$G$3<>\"\",IF(VLOOKUP(D29,Feuillettravail!B:L,11,FALSE)=2,\"G\",\"\"), IF('2ème partie'!$G$3<>\"\",IF(VLOOKUP(D29,Feuillettravail!B:L,11,FALSE)=1,\"G\",\"\"),\"\"))","v":""}]
[{"$f":"IF('3ème partie'!$C$3<>\"\",IF('3ème partie'!C30<>\"\",'3ème partie'!C30,\"\"), IF('2ème partie'!$C$3<>\"\",IF('2ème partie'!C30<>\"\",'2ème partie'!C30,\"\"),IF('1ère partie'!$C$3<>\"\",IF('1ère partie'!C30<>\"\",'1ère partie'!C30,\"\"),\"\")))","v":""},{"$f":"IF('3ème partie'!$C$3<>\"\",IF('3ème partie'!C30<>\"\",'3ème partie'!D30,\"\"), IF('2ème partie'!$C$3<>\"\",IF('2ème partie'!C30<>\"\",'2ème partie'!D30,\"\"),IF('1ère partie'!$C$3<>\"\",IF('1ère partie'!C30<>\"\",'1ère partie'!D30,\"\"),\"\")))","v":""},"",{"$f":"IF('3ème partie'!$G$3<>\"\",IF('3ème partie'!G30<>\"\",'3ème partie'!G30,\"\"), IF('2ème partie'!$G$3<>\"\",IF('2ème partie'!G30<>\"\",'2ème partie'!G30,\"\"),IF('1ère partie'!$G$3<>\"\",IF('1ère partie'!G30<>\"\",'1ère partie'!G30,\"\"),\"\")))","v":""},{"$f":"IF('3ème partie'!$G$3<>\"\",IF('3ème partie'!G30<>\"\",'3ème partie'!H30,\"\"), IF('2ème partie'!$G$3<>\"\",IF('2ème partie'!G30<>\"\",'2ème partie'!H30,\"\"),IF('1ère partie'!$G$3<>\"\",IF('1ère partie'!G30<>\"\",'1ère partie'!H30,\"\"),\"\")))","v":""},{"$f":"IF('3ème partie'!$G$3<>\"\",IF(VLOOKUP(D30,Feuillettravail!B:L,11,FALSE)=2,\"G\",\"\"), IF('2ème partie'!$G$3<>\"\",IF(VLOOKUP(D30,Feuillettravail!B:L,11,FALSE)=1,\"G\",\"\"),\"\"))","v":""}]
[{"$f":"IF('3ème partie'!$C$3<>\"\",IF('3ème partie'!C31<>\"\",'3ème partie'!C31,\"\"), IF('2ème partie'!$C$3<>\"\",IF('2ème partie'!C31<>\"\",'2ème partie'!C31,\"\"),IF('1ère partie'!$C$3<>\"\",IF('1ère partie'!C31<>\"\",'1ère partie'!C31,\"\"),\"\")))","v":""},{"$f":"IF('3ème partie'!$C$3<>\"\",IF('3ème partie'!C31<>\"\",'3ème partie'!D31,\"\"), IF('2ème partie'!$C$3<>\"\",IF('2ème partie'!C31<>\"\",'2ème partie'!D31,\"\"),IF('1ère partie'!$C$3<>\"\",IF('1ère partie'!C31<>\"\",'1ère partie'!D31,\"\"),\"\")))","v":""},"",{"$f":"IF('3ème partie'!$G$3<>\"\",IF('3ème partie'!G31<>\"\",'3ème partie'!G31,\"\"), IF('2ème partie'!$G$3<>\"\",IF('2ème partie'!G31<>\"\",'2ème partie'!G31,\"\"),IF('1ère partie'!$G$3<>\"\",IF('1ère partie'!G31<>\"\",'1ère partie'!G31,\"\"),\"\")))","v":""},{"$f":"IF('3ème partie'!$G$3<>\"\",IF('3ème partie'!G31<>\"\",'3ème partie'!H31,\"\"), IF('2ème partie'!$G$3<>\"\",IF('2ème partie'!G31<>\"\",'2ème partie'!H31,\"\"),IF('1ère partie'!$G$3<>\"\",IF('1ère partie'!G31<>\"\",'1ère partie'!H31,\"\"),\"\")))","v":""},{"$f":"IF('3ème partie'!$G$3<>\"\",IF(VLOOKUP(D31,Feuillettravail!B:L,11,FALSE)=2,\"G\",\"\"), IF('2ème partie'!$G$3<>\"\",IF(VLOOKUP(D31,Feuillettravail!B:L,11,FALSE)=1,\"G\",\"\"),\"\"))","v":""}]
[{"$f":"IF('3ème partie'!$C$3<>\"\",IF('3ème partie'!C32<>\"\",'3ème partie'!C32,\"\"), IF('2ème partie'!$C$3<>\"\",IF('2ème partie'!C32<>\"\",'2ème partie'!C32,\"\"),IF('1ère partie'!$C$3<>\"\",IF('1ère partie'!C32<>\"\",'1ère partie'!C32,\"\"),\"\")))","v":""},{"$f":"IF('3ème partie'!$C$3<>\"\",IF('3ème partie'!C32<>\"\",'3ème partie'!D32,\"\"), IF('2ème partie'!$C$3<>\"\",IF('2ème partie'!C32<>\"\",'2ème partie'!D32,\"\"),IF('1ère partie'!$C$3<>\"\",IF('1ère partie'!C32<>\"\",'1ère partie'!D32,\"\"),\"\")))","v":""},"",{"$f":"IF('3ème partie'!$G$3<>\"\",IF('3ème partie'!G32<>\"\",'3ème partie'!G32,\"\"), IF('2ème partie'!$G$3<>\"\",IF('2ème partie'!G32<>\"\",'2ème partie'!G32,\"\"),IF('1ère partie'!$G$3<>\"\",IF('1ère partie'!G32<>\"\",'1ère partie'!G32,\"\"),\"\")))","v":""},{"$f":"IF('3ème partie'!$G$3<>\"\",IF('3ème partie'!G32<>\"\",'3ème partie'!H32,\"\"), IF('2ème partie'!$G$3<>\"\",IF('2ème partie'!G32<>\"\",'2ème partie'!H32,\"\"),IF('1ère partie'!$G$3<>\"\",IF('1ère partie'!G32<>\"\",'1ère partie'!H32,\"\"),\"\")))","v":""},{"$f":"IF('3ème partie'!$G$3<>\"\",IF(VLOOKUP(D32,Feuillettravail!B:L,11,FALSE)=2,\"G\",\"\"), IF('2ème partie'!$G$3<>\"\",IF(VLOOKUP(D32,Feuillettravail!B:L,11,FALSE)=1,\"G\",\"\"),\"\"))","v":""}]
[{"$f":"IF('3ème partie'!$C$3<>\"\",IF('3ème partie'!C33<>\"\",'3ème partie'!C33,\"\"), IF('2ème partie'!$C$3<>\"\",IF('2ème partie'!C33<>\"\",'2ème partie'!C33,\"\"),IF('1ère partie'!$C$3<>\"\",IF('1ère partie'!C33<>\"\",'1ère partie'!C33,\"\"),\"\")))","v":""},{"$f":"IF('3ème partie'!$C$3<>\"\",IF('3ème partie'!C33<>\"\",'3ème partie'!D33,\"\"), IF('2ème partie'!$C$3<>\"\",IF('2ème partie'!C33<>\"\",'2ème partie'!D33,\"\"),IF('1ère partie'!$C$3<>\"\",IF('1ère partie'!C33<>\"\",'1ère partie'!D33,\"\"),\"\")))","v":""},"",{"$f":"IF('3ème partie'!$G$3<>\"\",IF('3ème partie'!G33<>\"\",'3ème partie'!G33,\"\"), IF('2ème partie'!$G$3<>\"\",IF('2ème partie'!G33<>\"\",'2ème partie'!G33,\"\"),IF('1ère partie'!$G$3<>\"\",IF('1ère partie'!G33<>\"\",'1ère partie'!G33,\"\"),\"\")))","v":""},{"$f":"IF('3ème partie'!$G$3<>\"\",IF('3ème partie'!G33<>\"\",'3ème partie'!H33,\"\"), IF('2ème partie'!$G$3<>\"\",IF('2ème partie'!G33<>\"\",'2ème partie'!H33,\"\"),IF('1ère partie'!$G$3<>\"\",IF('1ère partie'!G33<>\"\",'1ère partie'!H33,\"\"),\"\")))","v":""},{"$f":"IF('3ème partie'!$G$3<>\"\",IF(VLOOKUP(D33,Feuillettravail!B:L,11,FALSE)=2,\"G\",\"\"), IF('2ème partie'!$G$3<>\"\",IF(VLOOKUP(D33,Feuillettravail!B:L,11,FALSE)=1,\"G\",\"\"),\"\"))","v":""}]
[{"$f":"IF('3ème partie'!$C$3<>\"\",IF('3ème partie'!C34<>\"\",'3ème partie'!C34,\"\"), IF('2ème partie'!$C$3<>\"\",IF('2ème partie'!C34<>\"\",'2ème partie'!C34,\"\"),IF('1ère partie'!$C$3<>\"\",IF('1ère partie'!C34<>\"\",'1ère partie'!C34,\"\"),\"\")))","v":""},{"$f":"IF('3ème partie'!$C$3<>\"\",IF('3ème partie'!C34<>\"\",'3ème partie'!D34,\"\"), IF('2ème partie'!$C$3<>\"\",IF('2ème partie'!C34<>\"\",'2ème partie'!D34,\"\"),IF('1ère partie'!$C$3<>\"\",IF('1ère partie'!C34<>\"\",'1ère partie'!D34,\"\"),\"\")))","v":""},"",{"$f":"IF('3ème partie'!$G$3<>\"\",IF('3ème partie'!G34<>\"\",'3ème partie'!G34,\"\"), IF('2ème partie'!$G$3<>\"\",IF('2ème partie'!G34<>\"\",'2ème partie'!G34,\"\"),IF('1ère partie'!$G$3<>\"\",IF('1ère partie'!G34<>\"\",'1ère partie'!G34,\"\"),\"\")))","v":""},{"$f":"IF('3ème partie'!$G$3<>\"\",IF('3ème partie'!G34<>\"\",'3ème partie'!H34,\"\"), IF('2ème partie'!$G$3<>\"\",IF('2ème partie'!G34<>\"\",'2ème partie'!H34,\"\"),IF('1ère partie'!$G$3<>\"\",IF('1ère partie'!G34<>\"\",'1ère partie'!H34,\"\"),\"\")))","v":""},{"$f":"IF('3ème partie'!$G$3<>\"\",IF(VLOOKUP(D34,Feuillettravail!B:L,11,FALSE)=2,\"G\",\"\"), IF('2ème partie'!$G$3<>\"\",IF(VLOOKUP(D34,Feuillettravail!B:L,11,FALSE)=1,\"G\",\"\"),\"\"))","v":""}]
[{"$f":"IF('3ème partie'!C35<>\"\",'3ème partie'!C35, IF('2ème partie'!C35<>\"\",'2ème partie'!C35,IF('1ère partie'!C35<>\"\",'1ère partie'!C35,\"\")))","v":""}]
[{"$f":"IF('3ème partie'!C36<>\"\",'3ème partie'!C36, IF('2ème partie'!C36<>\"\",'2ème partie'!C36,IF('1ère partie'!C36<>\"\",'1ère partie'!C36,\"\")))","v":""}]
[{"$f":"IF('3ème partie'!C37<>\"\",'3ème partie'!C37, IF('2ème partie'!C37<>\"\",'2ème partie'!C37,IF('1ère partie'!C37<>\"\",'1ère partie'!C37,\"\")))","v":""}]
[{"$f":"IF('3ème partie'!C38<>\"\",'3ème partie'!C38, IF('2ème partie'!C38<>\"\",'2ème partie'!C38,IF('1ère partie'!C38<>\"\",'1ère partie'!C38,\"\")))","v":""}]
[{"$f":"IF('3ème partie'!C39<>\"\",'3ème partie'!C39, IF('2ème partie'!C39<>\"\",'2ème partie'!C39,IF('1ère partie'!C39<>\"\",'1ère partie'!C39,\"\")))","v":""}]
[{"$f":"IF('3ème partie'!C40<>\"\",'3ème partie'!C40, IF('2ème partie'!C40<>\"\",'2ème partie'!C40,IF('1ère partie'!C40<>\"\",'1ère partie'!C40,\"\")))","v":""}]
[{"$f":"IF('3ème partie'!C41<>\"\",'3ème partie'!C41, IF('2ème partie'!C41<>\"\",'2ème partie'!C41,IF('1ère partie'!C41<>\"\",'1ère partie'!C41,\"\")))","v":""}]